{"text_format":"1","workbook":"xlsx","n_sheets":19,"sheets":["Содержание","Техно","Комплекты Eco Line","Детали Eco Line","Сборки Eco Line","Наценка Eco Line","Детали Praktisch","Детали Lager","Наценка Stahler","Сборки Praktisch","Сборки сетчатых стел","Сборки Lager","Аксессуары","Оргстекло","Детали и аксессуары  KAISER","Сборки KAISER","Кассовые боксы","Лист1","Лист2"],"not_rendered":{"charts":0,"images":124,"macros":0,"external_links":7,"defined_names":108,"comments":1,"pivot_tables":0},"unopened":[],"bounds":{"document_bytes":16777216,"sheet_cells":100000,"rows_first":2000,"rows_last":500,"rows_between":2000,"halvings":0,"cell_chars":16384,"cell_head_chars":4096},"cells_cut":0,"cells_raw":0,"read":"whole","date_system":"1900"}

{"sheet":"Содержание","index":0,"n_rows":16,"n_cols":3,"rows_kept":16,"cut":false,"hidden":false,"merged":[[3,1,15,1]]}
[null,null,"ЗАВОД «ОПК»\nТел.: +7 (496) 704-52-11\ne-mail:manager@ozpk.ru\nсайт: ozpk.ru"]
["Ваша скидка","-",0]
["НДС","-"]
["Стеллажные системы"]
["Eco Line",null,"Аксессуары"]
["Комплекты Eco Line",null,"Аксессуары"]
["Детали Eco Line",null,"Оргстекло"]
["Сборки Eco Line",null,"Кассовые модули KAISER (NEW)"]
["Наценка Eco Line",null,"Детали и аксессуары  KAISER"]
["Stahler",null,"Сборки KAISER"]
["Детали Praktisch",null,"Кассовые боксы (NEW)"]
["Детали Lager/Lager LX",null,"Кассовые боксы"]
["Наценка Stahler"]
["Сборки Praktisch"]
["Сборки сетчатых стеллажей"]
["Сборки Lager"]

{"sheet":"Техно","index":1,"n_rows":116,"n_cols":49,"rows_kept":116,"cut":false,"hidden":true,"merged":[[6,48,6,49],[6,20,6,21],[6,22,6,23],[6,30,6,31],[6,28,6,29],[6,26,6,27],[6,24,6,25],[6,32,6,33],[6,34,6,35],[6,42,6,43],[6,44,6,45],[6,46,6,47],[6,18,6,19],[6,8,6,9],[6,10,6,11],[6,12,6,13],[6,14,6,15],[6,16,6,17]]}
["ДЛ/ГЛУ",null,"Высота","Кол полок"]
[]
[150]
[200]
[250]
[300]
[350,null,600,null,"СП",250,500,null,null,null,null,null,null,null,null,null,null,null,null,null,"Стол закрытый",null,"Стол закрытый с ванной",null,null,null,null,null,null,null,"Рукомойник",null,"Столы под рыбу",null,null,null,null,null,null,null,null,null,"Полки,шкафы закрытые",null,"Зонты пристенные",null,"Зонты островные",null,"Подставки"]
[{"$f":"A7+50","v":400},null,{"$f":"C7+50","v":650},1,"СП2Б",300,{"$f":"G7+10","v":510},"У",null,0.78500000000000003,null,0.78500000000000003,null,0.78500000000000003,null,0.78500000000000003,null,0.78500000000000003,null,0.78500000000000003,null,null,null,null,null,0.78500000000000003,null,0.78500000000000003,null,0.78500000000000003,null,null,null,null,null,0.78500000000000003,null,0.78500000000000003,null,0.78500000000000003,null,0.78500000000000003]
[450,null,{"$f":"C8+50","v":700},2,"СП3Б",null,{"$f":"G8+10","v":520}]
[500,null,{"$f":"C9+50","v":750},3,null,null,530,null,1,94.17,1,94.17,1,94.17,1,94.17,1,94.17,1,94.17,null,null,null,2060,1,94.17,1,94.17,1,94.17,null,null,null,null,1,94.17,1,94.17,1,94.17,1,94.17]
[550,null,{"$f":"C10+50","v":800},4,"ОБ",null,540,null,0.8,101.63,0.8,101.63,0.8,101.63,0.8,101.63,0.8,101.63,0.8,101.63,null,null,null,2995,0.8,101.63,0.8,101.63,0.8,101.63,null,null,null,null,0.8,101.63,0.8,101.63,0.8,101.63,0.8,101.63]
[600,null,{"$f":"C11+50","v":850},5,"СП",null,550,null,0.8,90.09,0.8,90.09,0.8,90.09,0.8,90.09,0.8,90.09,0.8,90.09,null,null,null,null,0.8,90.09,0.8,90.09,0.8,90.09,null,null,null,null,0.8,90.09,0.8,90.09,0.8,90.09,0.8,90.09]
[650,null,870,6,null,null,560,null,0.5,92.76,0.5,92.76,0.5,92.76,0.5,92.76,0.5,92.76,0.5,92.76,null,null,null,null,0.5,92.76,0.5,92.76,0.5,92.76,null,null,null,null,0.5,92.76,0.5,92.76,0.5,92.76,0.5,92.76]
[700,null,900,7,"ОБ",null,570,null,1.5,94.41,1.5,94.41,1.5,94.41,1.5,94.41,1.5,94.41,1.5,94.41,null,null,null,null,1.5,94.41,1.5,94.41,1.5,94.41,null,null,null,null,1.5,94.41,1.5,94.41,1.5,94.41,1.5,94.41]
[750,null,950,8,"ОБ2Б",null,580,null,1.5,51,1.5,51,1.5,51,1.5,51,1.5,51,1.5,51,null,null,null,null,1.5,51,1.5,51,1.5,51,null,null,null,null,1.5,51,1.5,51,1.5,51,1.5,51]
[800,null,1000,null,null,null,590,null,0.45,49.4,0.45,49.4,0.45,49.4,0.45,49.4,0.45,49.4,0.45,49.4,null,null,null,null,0.45,49.4,0.45,49.4,0.45,49.4,null,null,null,null,0.45,49.4,0.45,49.4,0.45,49.4,0.45,49.4]
[850,null,null,null,null,null,600,null,0.8,49.19,0.8,49.19,0.8,49.19,0.8,49.19,0.8,49.19,0.8,49.19,null,null,null,null,0.8,49.19,0.8,49.19,0.8,49.19,null,null,null,null,0.8,49.19,0.8,49.19,0.8,49.19,0.8,49.19]
[900,null,700,null,"ОБ",null,610,null,null,136.99,null,136.99,null,136.99,null,136.99,null,136.99,null,136.99,null,null,null,null,null,136.99,null,136.99,null,136.99,null,null,null,null,null,136.99,null,136.99,null,136.99,null,136.99]
[950,null,750,null,"Н",null,620,null,null,199.64,null,199.64,null,199.64,null,199.64,null,199.64,null,199.64,null,null,null,null,null,199.64,null,199.64,null,199.64,null,null,null,null,null,199.64,null,199.64,null,199.64,null,199.64]
[1000,null,770,null,null,null,630,null,null,184.32,null,184.32,null,184.32,null,184.32,null,184.32,null,184.32,null,null,null,null,null,184.32,null,184.32,null,184.32,null,null,null,null,null,184.32,null,184.32,null,184.32,null,184.32]
[1050,null,800,null,null,null,640,null,null,63.56,null,63.56,null,63.56,null,63.56,null,63.56,null,63.56,null,null,null,null,null,63.56,null,63.56,null,63.56,null,null,null,null,null,63.56,null,63.56,null,63.56,null,63.56]
[1100,null,null,null,null,null,650,null,null,125.76,null,125.76,null,125.76,null,125.76,null,125.76,null,125.76,null,null,null,null,null,125.76,null,125.76,null,125.76,null,null,null,null,null,125.76,null,125.76,null,125.76,null,125.76]
[1150,null,null,null,null,null,660]
[1200,null,null,null,null,null,670,null,null,650,null,650,null,650,null,null,null,null,null,650,null,null,null,null,null,650,null,650]
[1250,null,null,null,null,null,680,null,null,1000,null,1000,null,1000,null,1000,null,1000,null,1000,null,null,null,null,null,1000,null,1000,null,1000,null,null,null,null,null,1000,null,1000,null,1000,null,1000]
[1300,null,null,null,null,null,690,null,null,215,null,215,null,215,null,215,null,215,null,215,null,null,null,null,null,215,null,215,null,215,null,null,null,null,null,215,null,215,null,215,null,215]
[1350,null,null,null,null,null,700,null,null,{"$f":"J26*0.33","v":70.95},null,{"$f":"L26*0.33","v":70.95},null,{"$f":"N26*0.33","v":70.95},null,{"$f":"P26*0.33","v":70.95},null,{"$f":"R26*0.33","v":70.95},null,{"$f":"T26*0.33","v":70.95},null,null,null,null,null,{"$f":"Z26*0.33","v":70.95},null,{"$f":"AB26*0.33","v":70.95},null,{"$f":"AD26*0.33","v":70.95},null,null,null,null,null,{"$f":"AJ26*0.33","v":70.95},null,{"$f":"AL26*0.33","v":70.95},null,{"$f":"AN26*0.33","v":70.95},null,{"$f":"AP26*0.33","v":70.95}]
[1400,null,null,null,null,null,710]
[1450,null,null,null,null,null,720,null,null,2060,null,2060,null,2060,null,5568,null,5568,null,2060,null,null,null,null,null,2060,null,2060,null,2060]
[1500,null,null,null,null,null,730,null,null,2995,null,2995,null,2995,null,33314,null,33314,null,2995,null,null,null,null,null,2995,null,2995,null,2995]
[1550,null,null,null,null,null,740]
[1600,null,null,null,null,null,750]
[1650,null,null,null,null,null,760]
[1700,null,null,null,null,null,770]
[1750,null,null,null,null,null,780]
[1800,null,null,null,null,null,790]
[1850,null,null,null,null,null,800]
[1900,null,null,null,null,null,810]
[1950,null,null,null,null,null,820]
[2000,null,null,null,null,null,830]
[2050,null,null,null,null,null,840]
[2100,null,null,null,null,null,850]
[2150,null,null,null,null,null,860]
[2200,null,null,null,null,null,870]
[2250,null,null,null,null,null,880]
[2300,null,null,null,null,null,890]
[2350,null,null,null,null,null,900]
[2400,null,null,null,null,null,910]
[2450,null,null,null,null,null,920]
[2500,null,null,null,null,null,930]
[null,null,null,null,null,null,940]
[null,null,null,null,null,null,950]
[530]
[550]
[600]
[630]
[650]
[700]
[750]
[{"$f":"A59+50","v":800}]
[850]
[900]
[950]
[1000]
[1050]
[1100]
[1150]
[1200]
[1250]
[1300]
[1350]
[1400]
[1450]
[1500]
[1550]
[1600]
[1650]
[1700]
[1750]
[1800]
[]
[]
[]
[]
[]
[]
[]
[]
[]
[]
[]
[]
["ВМПНS1"]
["ВМПНSЛ1"]
["ВМПНSП1"]
["ВМЦНS1"]
["ВМЦНSЛП1"]
["ВМПНS2"]
["ВМПНSЛ2"]
["ВМПНSП2"]
["ВМЦНS2"]
["ВМЦНSЛП2"]
["ВМПНS3"]
["ВМЦНS3"]
["ВМПЦS1"]
["ВМПЦSЛ1"]
["ВМПЦSП1"]
["ВМЦЦS1"]
["ВМЦЦSЛП1"]
["ВМПЦS2"]
["ВМПЦSЛ2"]
["ВМПЦSП2"]
["ВМЦЦS2"]
["ВМЦЦSЛП2"]
["ВМПЦS3"]
["ВМЦЦS3"]

{"sheet":"Комплекты Eco Line","index":2,"n_rows":324,"n_cols":9,"rows_kept":324,"cut":false,"hidden":false,"merged":[[6,0,7,0],[6,4,7,4],[6,5,6,6],[1,1,1,2],[2,1,2,2],[3,1,3,2],[6,1,7,1],[6,2,7,2],[6,3,7,3]]}
[null,"Комплекты торговых стеллажей ECO LINE ",null,null,null,null,null,null,"На главную"]
[]
[null,"Ваша скидка:",null,{"$f":"Содержание!C2","v":0}]
[null,"НДС:",null,{"$f":"IF(Лист2!A1=TRUE,\"С НДС\",\"БЕЗ НДС\")","v":"С НДС"}]
[]
[]
["Код 1с","Артикул",null,"Наименование","Кол-во  в сборке, шт.","Базовая цена, руб. (с НДС)",null,{"$f":"[7]Лист2!$A$5","v":"Ваша цена, руб."}]
[null,null,null,null,null,"за элемент в сборке","за сборку","за комплект"]
["З0000098473","Стойка1ЕCO370",null,"Стойка ЕCO односторонняяя H=1600 G=370",null,null,1378,{"$f":"ROUND(G9*(1-$D$3)/Лист2!$A$6,0)","v":1378}]
[null,"E-LT 16037160",null,"Стойка сварная с двухсторонней перфорацией (60х30) G=370 H=1600 L-образная",1,{"$f":"VLOOKUP(B10,'Детали Eco Line'!B$8:D$113,3,0)","v":1378},1378,{"$f":"ROUND(G10*(1-$D$3)/Лист2!$A$6,0)","v":1378}]
["З0000098474","Стойка2ЕCO370",null,"Стойка ЕCO двусторонняя H=1600 G=370",null,"  ",1998,{"$f":"ROUND(G11*(1-$D$3)/Лист2!$A$6,0)","v":1998}]
[null,"E-LT 26037160",null,"Стойка сварная с двухсторонней перфорацией (60х30) G=370 H=1600 Т-образная",1,{"$f":"VLOOKUP(B12,'Детали Eco Line'!B$8:D$113,3,0)","v":1998},1998,{"$f":"ROUND(G12*(1-$D$3)/Лист2!$A$6,0)","v":1998}]
["З0000098473","Стойка1ЕCO370",null,"Стойка ЕCO односторонняя H=2100 G=370",null,"  ",1643,{"$f":"ROUND(G13*(1-$D$3)/Лист2!$A$6,0)","v":1643}]
[null,"E-LT 16037210",null,"Стойка сварная с двухсторонней перфорацией (60х30) G=370 H=2100 L-образная",1,{"$f":"VLOOKUP(B14,'Детали Eco Line'!B$8:D$113,3,0)","v":1643},1643,{"$f":"ROUND(G14*(1-$D$3)/Лист2!$A$6,0)","v":1643}]
["З0000098473","Стойка1ЕCO370",null,"Стойка ЕCO односторонняя H=2250 G=370",null,"  ",1697,{"$f":"ROUND(G15*(1-$D$3)/Лист2!$A$6,0)","v":1697}]
[null,"E-LT 16037225",null,"Стойка сварная с двухсторонней перфорацией (60х30) G=370 H=2250 L-образная",1,{"$f":"VLOOKUP(B16,'Детали Eco Line'!B$8:D$113,3,0)","v":1697},1697,{"$f":"ROUND(G16*(1-$D$3)/Лист2!$A$6,0)","v":1697}]
["b0000002519","Стойка.1 ЕCO",null,"Стойка ЕCO односторонняя H=1600",null,"  ",1614,{"$f":"ROUND(G17*(1-$D$3)/Лист2!$A$6,0)","v":1614}]
[null,"E-LT 02601600","E-LT 02601600","E-LT 02601600-30_Стойка свар с двух пер ECO (60х30) Н=1600 с баз (RAL 9016,глян)",1,{"$f":"VLOOKUP(B18,'Детали Eco Line'!B$8:D$113,3,0)","v":1614},1614,{"$f":"ROUND(G18*(1-$D$3)/Лист2!$A$6,0)","v":1614}]
["b0000002494","Стойка.2 ЕCO",null,"Стойка ЕCO двусторонняя H=1600",null,"  ",2315,{"$f":"ROUND(G19*(1-$D$3)/Лист2!$A$6,0)","v":2315}]
[null,"E-LT 82471600","E-LT 82471600","E-LT 82471600-30_Стойка сварная с двухст перф.ECO (60х30) Н=1600 (RAL9016,глянц)",1,{"$f":"VLOOKUP(B20,'Детали Eco Line'!B$8:D$113,3,0)","v":2315},2315,{"$f":"ROUND(G20*(1-$D$3)/Лист2!$A$6,0)","v":2315}]
["b0000002519","Стойка.1 ЕCO",null,"Стойка ЕCO односторонняя H=1800",null,"  ",1696,{"$f":"ROUND(G21*(1-$D$3)/Лист2!$A$6,0)","v":1696}]
[null,"E-LT 02601800",null,"E-LT 02601800-30_Стойка свар с двух пер ECO (60х30) Н=1800 с баз (RAL 9016,глян)",1,{"$f":"VLOOKUP(B22,'Детали Eco Line'!B$8:D$113,3,0)","v":1696},1696,{"$f":"ROUND(G22*(1-$D$3)/Лист2!$A$6,0)","v":1696}]
["b0000002494","Стойка.2 ЕCO",null,"Стойка ЕCO двусторонняя H=1800",null,"  ",2393,{"$f":"ROUND(G23*(1-$D$3)/Лист2!$A$6,0)","v":2393}]
[null,"E-LT 82471800",null,"E-LT 82471800-30_Стойка сварная с двухст перф.ECO (60х30) Н=1800 (RAL9016,глянц)",1,{"$f":"VLOOKUP(B24,'Детали Eco Line'!B$8:D$113,3,0)","v":2393},2393,{"$f":"ROUND(G24*(1-$D$3)/Лист2!$A$6,0)","v":2393}]
["b0000002519","Стойка.1 ЕCO","Стойка ЕCO односторонняя H=2100","Стойка ЕCO односторонняя H=2100",null,"  ",1812,{"$f":"ROUND(G25*(1-$D$3)/Лист2!$A$6,0)","v":1812}]
[null,"E-LT 02602100",null,"Стойка сварная с двухстор.перф. L-образная Н=2100",1,{"$f":"VLOOKUP(B26,'Детали Eco Line'!B$8:D$113,3,0)","v":1812},1812,{"$f":"ROUND(G26*(1-$D$3)/Лист2!$A$6,0)","v":1812}]
["b0000002494","Стойка.2 ЕCO",null,"Стойка ЕCO двусторонняя H=2100",null,"  ",2497,{"$f":"ROUND(G27*(1-$D$3)/Лист2!$A$6,0)","v":2497}]
[null,"E-LT 82472100","E-LT 82472250","E-LT 82472100-30_Стойка свар с дв.пер ECO (60х30) Н=2100 с 2 баз (RAL 9016,глян)",1,{"$f":"VLOOKUP(B28,'Детали Eco Line'!B$8:D$113,3,0)","v":2497},2497,{"$f":"ROUND(G28*(1-$D$3)/Лист2!$A$6,0)","v":2497}]
["b0000002519","Стойка.1 ЕCO",null,"Стойка ЕCO односторонняя H=2250",null,"  ",1878,{"$f":"ROUND(G29*(1-$D$3)/Лист2!$A$6,0)","v":1878}]
[null,"E-LT 02602250","E-LT 02602250","E-LT 02602250-30_Стойка свар с двух пер ECO (60х30) Н=2250 с баз (RAL 9016,глян)",1,{"$f":"VLOOKUP(B30,'Детали Eco Line'!B$8:D$113,3,0)","v":1878},1878,{"$f":"ROUND(G30*(1-$D$3)/Лист2!$A$6,0)","v":1878}]
["b0000002494","Стойка.2 ЕCO",null,"Стойка ЕCO двусторонняя H=2250",null,"  ",2587,{"$f":"ROUND(G31*(1-$D$3)/Лист2!$A$6,0)","v":2587}]
[null,"E-LT 82472250","E-LT 82472250","E-LT 82472250-30_Стойка свар с дв.пер ECO (60х30) Н=2250 с 2 баз (RAL 9016,глян)",1,{"$f":"VLOOKUP(B32,'Детали Eco Line'!B$8:D$113,3,0)","v":2587},2587,{"$f":"ROUND(G32*(1-$D$3)/Лист2!$A$6,0)","v":2587}]
["b0000002594","Полка ЕСО",null,"Полка ECO 1000х310 с кроншт",null,"  ",817,{"$f":"ROUND(G33*(1-$D$3)/Лист2!$A$6,0)","v":817}]
[null,"E-BS 01000310","E-BS 01000310","E-BS 01000310-30_Кронштейн G=310 (комплект) (RAL 9016 глянц)",1,{"$f":"VLOOKUP(B34,'Детали Eco Line'!B$8:D$113,3,0)","v":199},199,{"$f":"ROUND(G34*(1-$D$3)/Лист2!$A$6,0)","v":199}]
[null,"E-ST 01311000","E-ST 01311000","E-ST 01311000-30_Полка L=1000 G=310 (RAL 9016 глянц)",1,{"$f":"VLOOKUP(B35,'Детали Eco Line'!B$8:D$113,3,0)","v":618},618,{"$f":"ROUND(G35*(1-$D$3)/Лист2!$A$6,0)","v":618}]
["b0000002594","Полка ЕСО",null,"Полка ECO 1000х370 с кроншт",null,"  ",1061,{"$f":"ROUND(G36*(1-$D$3)/Лист2!$A$6,0)","v":1061}]
[null,"E-BS 01000370","E-BS 01000370","E-BS 01000370-30_Кронштейн G=370 (комплект) (RAL 9016 глянц)",1,{"$f":"VLOOKUP(B37,'Детали Eco Line'!B$8:D$113,3,0)","v":250},250,{"$f":"ROUND(G37*(1-$D$3)/Лист2!$A$6,0)","v":250}]
[null,"E-ST 01371000","E-ST 01371000","E-ST 01371000-30_Полка L=1000 G=370 (RAL 9016 глянц)",1,{"$f":"VLOOKUP(B38,'Детали Eco Line'!B$8:D$113,3,0)","v":811},811,{"$f":"ROUND(G38*(1-$D$3)/Лист2!$A$6,0)","v":811}]
["b0000002594","Полка ЕСО",null,"Полка ECO 1000х470 с кроншт",null,"  ",1386,{"$f":"ROUND(G39*(1-$D$3)/Лист2!$A$6,0)","v":1386}]
[null,"E-BS 01000470","E-BS 01000470","E-BS 01000470-30_Кронштейн G=470 (комплект) (RAL 9016 глянц)",1,{"$f":"VLOOKUP(B40,'Детали Eco Line'!B$8:D$113,3,0)","v":451},451,{"$f":"ROUND(G40*(1-$D$3)/Лист2!$A$6,0)","v":451}]
[null,"E-ST 01471000","E-ST 01471000","E-ST 01471000-30_Полка L=1000 G=470 (RAL 9016 глянц)",1,{"$f":"VLOOKUP(B41,'Детали Eco Line'!B$8:D$113,3,0)","v":934},934,{"$f":"ROUND(G41*(1-$D$3)/Лист2!$A$6,0)","v":934}]
["b0000002594","Полка ЕСО",null,"Полка ECO 1250х310 с кроншт",null,"  ",951,{"$f":"ROUND(G42*(1-$D$3)/Лист2!$A$6,0)","v":951}]
[null,"E-BS 01000310","E-BS 01000310","E-BS 01000310-30_Кронштейн G=310 (комплект) (RAL 9016 глянц)",1,{"$f":"VLOOKUP(B43,'Детали Eco Line'!B$8:D$113,3,0)","v":199},199,{"$f":"ROUND(G43*(1-$D$3)/Лист2!$A$6,0)","v":199}]
[null,"E-ST 01311250","E-ST 01311250","E-ST 01311250-30_Полка L=1250 G=310 (RAL 9016, глянц)",1,{"$f":"VLOOKUP(B44,'Детали Eco Line'!B$8:D$113,3,0)","v":751},751,{"$f":"ROUND(G44*(1-$D$3)/Лист2!$A$6,0)","v":751}]
["b0000002594","Полка ЕСО",null,"Полка ECO 1250х370 с кроншт",null,"  ",1141,{"$f":"ROUND(G45*(1-$D$3)/Лист2!$A$6,0)","v":1141}]
[null,"E-BS 01000370","E-BS 01000370","E-BS 01000370-30_Кронштейн G=370 (комплект) (RAL 9016 глянц)",1,{"$f":"VLOOKUP(B46,'Детали Eco Line'!B$8:D$113,3,0)","v":250},250,{"$f":"ROUND(G46*(1-$D$3)/Лист2!$A$6,0)","v":250}]
[null,"E-ST 01371250","E-ST 01371250","E-ST 01371250-30_Полка L=1250 G=370 (RAL 9016, глянц)",1,{"$f":"VLOOKUP(B47,'Детали Eco Line'!B$8:D$113,3,0)","v":891},891,{"$f":"ROUND(G47*(1-$D$3)/Лист2!$A$6,0)","v":891}]
["b0000002594","Полка ЕСО",null,"Полка ECO 1250х470 с кроншт",null,"  ",1565,{"$f":"ROUND(G48*(1-$D$3)/Лист2!$A$6,0)","v":1565}]
[null,"E-BS 01000470","E-BS 01000470","E-BS 01000470-30_Кронштейн G=470 (комплект) (RAL 9016 глянц)",1,{"$f":"VLOOKUP(B49,'Детали Eco Line'!B$8:D$113,3,0)","v":451},451,{"$f":"ROUND(G49*(1-$D$3)/Лист2!$A$6,0)","v":451}]
[null,"E-ST 01471250","E-ST 01471250","E-ST 01471250-30_Полка L=1250 G=470 (RAL 9016, глянц)",1,{"$f":"VLOOKUP(B50,'Детали Eco Line'!B$8:D$113,3,0)","v":1113},1113,{"$f":"ROUND(G50*(1-$D$3)/Лист2!$A$6,0)","v":1113}]
["b0000002594","Полка ЕСО",null,"Полка ECO 665х310 с кроншт",null,"  ",653,{"$f":"ROUND(G51*(1-$D$3)/Лист2!$A$6,0)","v":653}]
[null,"E-BS 01000310","E-BS 01000310","E-BS 01000310-30_Кронштейн G=310 (комплект) (RAL 9016 глянц)",1,{"$f":"VLOOKUP(B52,'Детали Eco Line'!B$8:D$113,3,0)","v":199},199,{"$f":"ROUND(G52*(1-$D$3)/Лист2!$A$6,0)","v":199}]
[null,"E-ST 01310665","E-ST 01310665","E-ST 01310665-30_Полка L=665 G=310 (RAL 9016, глянц)",1,{"$f":"VLOOKUP(B53,'Детали Eco Line'!B$8:D$113,3,0)","v":453},453,{"$f":"ROUND(G53*(1-$D$3)/Лист2!$A$6,0)","v":453}]
["b0000002594","Полка ЕСО",null,"Полка ECO 665х370 с кроншт",null,"  ",789,{"$f":"ROUND(G54*(1-$D$3)/Лист2!$A$6,0)","v":789}]
[null,"E-BS 01000370","E-BS 01000370","E-BS 01000370-30_Кронштейн G=370 (комплект) (RAL 9016 глянц)",1,{"$f":"VLOOKUP(B55,'Детали Eco Line'!B$8:D$113,3,0)","v":250},250,{"$f":"ROUND(G55*(1-$D$3)/Лист2!$A$6,0)","v":250}]
[null,"E-ST 01370665","E-ST 01370665","E-ST 01370665-30_Полка L=665 G=370 (RAL 9016, глянц)",1,{"$f":"VLOOKUP(B56,'Детали Eco Line'!B$8:D$113,3,0)","v":539},539,{"$f":"ROUND(G56*(1-$D$3)/Лист2!$A$6,0)","v":539}]
["b0000002594","Полка ЕСО",null,"Полка ECO 665х470 с кроншт",null,"  ",1106,{"$f":"ROUND(G57*(1-$D$3)/Лист2!$A$6,0)","v":1106}]
[null,"E-BS 01000470","E-BS 01000470","E-BS 01000470-30_Кронштейн G=470 (комплект) (RAL 9016 глянц)",1,{"$f":"VLOOKUP(B58,'Детали Eco Line'!B$8:D$113,3,0)","v":451},451,{"$f":"ROUND(G58*(1-$D$3)/Лист2!$A$6,0)","v":451}]
[null,"E-ST 01470665","E-ST 01470665","E-ST 01470665-30_Полка L=665 G=470 (RAL 9016, глянц)",1,{"$f":"VLOOKUP(B59,'Детали Eco Line'!B$8:D$113,3,0)","v":655},655,{"$f":"ROUND(G59*(1-$D$3)/Лист2!$A$6,0)","v":655}]
["З0000002900","Полка IC ЕСО",null,"Полка ECO угл. вн. 310 с кроншт",null,"  ",921,{"$f":"ROUND(G60*(1-$D$3)/Лист2!$A$6,0)","v":921}]
[null,"E-BS 01000310","E-BS 01000310","E-BS 01000310-30_Кронштейн G=310 (комплект) (RAL 9016 глянц)",1,{"$f":"VLOOKUP(B61,'Детали Eco Line'!B$8:D$113,3,0)","v":199},199,{"$f":"ROUND(G61*(1-$D$3)/Лист2!$A$6,0)","v":199}]
[null,"E-ST 05000310","E-ST 05000310","E-ST 05000310-30_Полка угловая внутренняя G=310 (RAL 9016, глянц)",1,{"$f":"VLOOKUP(B62,'Детали Eco Line'!B$8:D$113,3,0)","v":722},722,{"$f":"ROUND(G62*(1-$D$3)/Лист2!$A$6,0)","v":722}]
["З0000002900","Полка IC ЕСО",null,"Полка ECO угл. вн. 370 с кроншт",null,"  ",1108,{"$f":"ROUND(G63*(1-$D$3)/Лист2!$A$6,0)","v":1108}]
[null,"E-BS 01000370","E-BS 01000370","E-BS 01000370-30_Кронштейн G=370 (комплект) (RAL 9016 глянц)",1,{"$f":"VLOOKUP(B64,'Детали Eco Line'!B$8:D$113,3,0)","v":250},250,{"$f":"ROUND(G64*(1-$D$3)/Лист2!$A$6,0)","v":250}]
[null,"E-ST 05000370","E-ST 05000370","E-ST 05000370-30_Полка угловая внутренняя G=370 (RAL 9016, глянц)",1,{"$f":"VLOOKUP(B65,'Детали Eco Line'!B$8:D$113,3,0)","v":858},858,{"$f":"ROUND(G65*(1-$D$3)/Лист2!$A$6,0)","v":858}]
["З0000002900","Полка IC ЕСО",null,"Полка ECO угл. вн. 470 с кроншт",null,"  ",1394,{"$f":"ROUND(G66*(1-$D$3)/Лист2!$A$6,0)","v":1394}]
[null,"E-BS 01000470","E-BS 01000470","E-BS 01000470-30_Кронштейн G=470 (комплект) (RAL 9016 глянц)",1,{"$f":"VLOOKUP(B67,'Детали Eco Line'!B$8:D$113,3,0)","v":451},451,{"$f":"ROUND(G67*(1-$D$3)/Лист2!$A$6,0)","v":451}]
[null,"E-ST 05000470","E-ST 05000470","E-ST 05000470-30_Полка угловая внутренняя G=470 (RAL 9016, глянц)",1,{"$f":"VLOOKUP(B68,'Детали Eco Line'!B$8:D$113,3,0)","v":942},942,{"$f":"ROUND(G68*(1-$D$3)/Лист2!$A$6,0)","v":942}]
["З0000002901","Полка OC ECO",null,"Полка ECO угл. внеш. 310 с кроншт",null,"  ",804,{"$f":"ROUND(G69*(1-$D$3)/Лист2!$A$6,0)","v":804}]
[null,"E-BS 01000310","E-BS 01000310","E-BS 01000310-30_Кронштейн G=310 (комплект) (RAL 9016 глянц)",1,{"$f":"VLOOKUP(B70,'Детали Eco Line'!B$8:D$113,3,0)","v":199},199,{"$f":"ROUND(G70*(1-$D$3)/Лист2!$A$6,0)","v":199}]
[null,"E-ST 06000310","E-ST 06000310","E-ST 06000310-30_Полка угловая внешняя G=310 (RAL 9016 глянц)",1,{"$f":"VLOOKUP(B71,'Детали Eco Line'!B$8:D$113,3,0)","v":605},605,{"$f":"ROUND(G71*(1-$D$3)/Лист2!$A$6,0)","v":605}]
["З0000002901","Полка OC ECO",null,"Полка ECO угл. внеш. 370 с кроншт",null,"  ",1024,{"$f":"ROUND(G72*(1-$D$3)/Лист2!$A$6,0)","v":1024}]
[null,"E-BS 01000370","E-BS 01000370","E-BS 01000370-30_Кронштейн G=370 (комплект) (RAL 9016 глянц)",1,{"$f":"VLOOKUP(B73,'Детали Eco Line'!B$8:D$113,3,0)","v":250},250,{"$f":"ROUND(G73*(1-$D$3)/Лист2!$A$6,0)","v":250}]
[null,"E-ST 06000370","E-ST 06000370","E-ST 06000370-30_Полка угловая внешняя G=370 (RAL 9016 глянц)",1,{"$f":"VLOOKUP(B74,'Детали Eco Line'!B$8:D$113,3,0)","v":774},774,{"$f":"ROUND(G74*(1-$D$3)/Лист2!$A$6,0)","v":774}]
["З0000002901","Полка OC ECO",null,"Полка ECO угл. внеш. 470 с кроншт",null,"  ",1360,{"$f":"ROUND(G75*(1-$D$3)/Лист2!$A$6,0)","v":1360}]
[null,"E-BS 01000470","E-BS 01000470","E-BS 01000470-30_Кронштейн G=470 (комплект) (RAL 9016 глянц)",1,{"$f":"VLOOKUP(B76,'Детали Eco Line'!B$8:D$113,3,0)","v":451},451,{"$f":"ROUND(G76*(1-$D$3)/Лист2!$A$6,0)","v":451}]
[null,"E-ST 06000470","E-ST 06000470","E-ST 06000470-30_Полка угловая внешняя G=470 (RAL 9016 глянц)",1,{"$f":"VLOOKUP(B77,'Детали Eco Line'!B$8:D$113,3,0)","v":909},909,{"$f":"ROUND(G77*(1-$D$3)/Лист2!$A$6,0)","v":909}]
["З0000009624","Полка рееч.ECO",null,"Полка реечная (э) ЕСО G=470 H=80 L=1000",null,"  ",2849,{"$f":"ROUND(G78*(1-$D$3)/Лист2!$A$6,0)","v":2849}]
[null,"E-BW 13081000","E-BW 13081000","E-BW 13081000_Полка реечная (э) G=470 H=80 L=1000(массив листвен)",1,{"$f":"VLOOKUP(B79,'Детали Eco Line'!B$8:D$119,3,0)","v":2849},2849,{"$f":"ROUND(G79*(1-$D$3)/Лист2!$A$6,0)","v":2849}]
["З0000002898","ПЛ ECO РВ",null,"Полка реечная высокая (э) ЕСО G=470 H=250 L=1000",null,"  ",3410,{"$f":"ROUND(G80*(1-$D$3)/Лист2!$A$6,0)","v":3410}]
[null,"E-BW 12251000","E-BW 12251000","E-BW 12251000_Полка реечная высокая (э) G=470 H=250 L=1000(массив листвен)",1,{"$f":"VLOOKUP(B81,'Детали Eco Line'!B$8:D$119,3,0)","v":3410},3410,{"$f":"ROUND(G81*(1-$D$3)/Лист2!$A$6,0)","v":3410}]
["З0000002899","Накоп.рееч.ECО",null,"Накопитель реечный (э) ЕСО G=470 H=500 L=1000",null,"  ",4331,{"$f":"ROUND(G82*(1-$D$3)/Лист2!$A$6,0)","v":4331}]
[null,"E-BW 11501000","E-BW 11501000","E-BW 11501000_Накопитель реечн (э) G=470 H=500 L=1000 (массив листвен)",1,{"$f":"VLOOKUP(B83,'Детали Eco Line'!B$8:D$119,3,0)","v":4331},4331,{"$f":"ROUND(G83*(1-$D$3)/Лист2!$A$6,0)","v":4331}]
["З0000098472","БазаОЕСО370",null,"База островного стеллажа ECO L=1000 G=370 H=1600",null,"  ",6150,{"$f":"ROUND(G84*(1-$D$3)/Лист2!$A$6,0)","v":6150}]
[null,"E-BP 01151000",null,"E-BP 01151000-30_Панель задняя ECO L=1000 H=150 (RAL 9016 глянц)",4,{"$f":"VLOOKUP(B85,'Детали Eco Line'!B$8:D$119,3,0)","v":267},1070,{"$f":"ROUND(G85*(1-$D$3)/Лист2!$A$6,0)","v":1070}]
[null,"E-BP 01401000",null,"E-BP 01401000-30_Панель задняя ECO L=1000 H=400 (RAL 9016 глянц)",6,{"$f":"VLOOKUP(B86,'Детали Eco Line'!B$8:D$119,3,0)","v":535},3209,{"$f":"ROUND(G86*(1-$D$3)/Лист2!$A$6,0)","v":3209}]
[null,"E-ST 01371000",null,"E-ST 01371000-30_Полка L=1000 G= 370 (RAL 9016 глянц)",2,{"$f":"VLOOKUP(B87,'Детали Eco Line'!B$8:D$119,3,0)","v":811},1623,{"$f":"ROUND(G87*(1-$D$3)/Лист2!$A$6,0)","v":1623}]
[null,"E-TC 01601000",null,"E-TC 01601000-30_Крышка стеллажа L=1000 ECO (60х30) (RAL 9016, глянц)",1,{"$f":"VLOOKUP(B88,'Детали Eco Line'!B$8:D$119,3,0)","v":249},249,{"$f":"ROUND(G88*(1-$D$3)/Лист2!$A$6,0)","v":249}]
["З0000098472","БазаОЕСО370",null,"База островного стеллажа ECO L=1250 G=370 H=1600",null,"  ",7288,{"$f":"ROUND(G89*(1-$D$3)/Лист2!$A$6,0)","v":7288}]
[null,"E-BP 01151250",null,"E-BP 01151250-30_Панель задняя ECO L=1250 H=150 (RAL 9016, глянц)",4,{"$f":"VLOOKUP(B90,'Детали Eco Line'!B$8:D$119,3,0)","v":320},1281,{"$f":"ROUND(G90*(1-$D$3)/Лист2!$A$6,0)","v":1281}]
[null,"E-BP 01401250",null,"E-BP 01401250-30_Панель задняя ECO L=1250 H=400 (RAL 9016, глянц)",6,{"$f":"VLOOKUP(B91,'Детали Eco Line'!B$8:D$119,3,0)","v":653},3916,{"$f":"ROUND(G91*(1-$D$3)/Лист2!$A$6,0)","v":3916}]
[null,"E-ST 01371250",null,"E-ST 01371250-30_Полка L=1250 G=370 (RAL 9016, глянц)",2,{"$f":"VLOOKUP(B92,'Детали Eco Line'!B$8:D$119,3,0)","v":891},1781,{"$f":"ROUND(G92*(1-$D$3)/Лист2!$A$6,0)","v":1781}]
[null,"E-TC 01601250",null,"E-TC 01601250-30_Крышка стеллажа L=1250 ECO (60х30) (RAL 9016, глянц)",1,{"$f":"VLOOKUP(B93,'Детали Eco Line'!B$8:D$119,3,0)","v":310},310,{"$f":"ROUND(G93*(1-$D$3)/Лист2!$A$6,0)","v":310}]
["b0000002676","База.О ЕСО",null,"База островного стеллажа ECO L=1000  H=1600",null,"  ",6396,{"$f":"ROUND(G94*(1-$D$3)/Лист2!$A$6,0)","v":6396}]
[null,"E-BP 01151000","E-BP 01151000","E-BP 01151000-30_Панель задняя ECO L=1000 H=150 (RAL 9016 глянц)",4,{"$f":"VLOOKUP(B95,'Детали Eco Line'!B$8:D$119,3,0)","v":267},1070,{"$f":"ROUND(G95*(1-$D$3)/Лист2!$A$6,0)","v":1070}]
[null,"E-BP 01401000","E-BP 01401000","E-BP 01401000-30_Панель задняя ECO L=1000 H=400 (RAL 9016 глянц)",6,{"$f":"VLOOKUP(B96,'Детали Eco Line'!B$8:D$119,3,0)","v":535},3209,{"$f":"ROUND(G96*(1-$D$3)/Лист2!$A$6,0)","v":3209}]
[null,"E-ST 01471000","E-ST 01471000","E-ST 01471000-30_Полка L=1000 G=470 (RAL 9016 глянц)",2,{"$f":"VLOOKUP(B97,'Детали Eco Line'!B$8:D$119,3,0)","v":934},1869,{"$f":"ROUND(G97*(1-$D$3)/Лист2!$A$6,0)","v":1869}]
[null,"E-TC 01601000","E-TC 01601000","E-TC 01601000-30_Крышка стеллажа L=1000 ECO (60х30) (RAL 9016, глянц)",1,{"$f":"VLOOKUP(B98,'Детали Eco Line'!B$8:D$119,3,0)","v":249},249,{"$f":"ROUND(G98*(1-$D$3)/Лист2!$A$6,0)","v":249}]
["b0000002676","База.О ЕСО",null,"База островного стеллажа ECO L=1250  H=1600",null,"  ",7734,{"$f":"ROUND(G99*(1-$D$3)/Лист2!$A$6,0)","v":7734}]
[null,"E-BP 01151250","E-BP 01151250","E-BP 01151250-30_Панель задняя ECO L=1250 H=150 (RAL 9016, глянц)",4,{"$f":"VLOOKUP(B100,'Детали Eco Line'!B$8:D$119,3,0)","v":320},1281,{"$f":"ROUND(G100*(1-$D$3)/Лист2!$A$6,0)","v":1281}]
[null,"E-BP 01401250","E-BP 01401250","E-BP 01401250-30_Панель задняя ECO L=1250 H=400 (RAL 9016, глянц)",6,{"$f":"VLOOKUP(B101,'Детали Eco Line'!B$8:D$119,3,0)","v":653},3916,{"$f":"ROUND(G101*(1-$D$3)/Лист2!$A$6,0)","v":3916}]
[null,"E-ST 01471250","E-ST 01471250","E-ST 01471250-30_Полка L=1250 G=470 (RAL 9016, глянц)",2,{"$f":"VLOOKUP(B102,'Детали Eco Line'!B$8:D$119,3,0)","v":1113},2227,{"$f":"ROUND(G102*(1-$D$3)/Лист2!$A$6,0)","v":2227}]
[null,"E-TC 01601250","E-TC 01601250","E-TC 01601250-30_Крышка стеллажа L=1250 ECO (60х30) (RAL 9016, глянц)",1,{"$f":"VLOOKUP(B103,'Детали Eco Line'!B$8:D$119,3,0)","v":310},310,{"$f":"ROUND(G103*(1-$D$3)/Лист2!$A$6,0)","v":310}]
["b0000002676","База.О ЕСО",null,"База островного стеллажа ECO L=665  H=1600",null,"  ",4604,{"$f":"ROUND(G104*(1-$D$3)/Лист2!$A$6,0)","v":4604}]
[null,"E-BP 01150665","E-BP 01150665","E-BP 01150665-30_Панель задняя ECO L=665 H=150 (RAL 9016, глянц)",4,{"$f":"VLOOKUP(B105,'Детали Eco Line'!B$8:D$119,3,0)","v":221},882,{"$f":"ROUND(G105*(1-$D$3)/Лист2!$A$6,0)","v":882}]
[null,"E-BP 01400665","E-BP 01400665","E-BP 01400665-30_Панель задняя ECO L=665 H=400 (RAL 9016, глянц)",6,{"$f":"VLOOKUP(B106,'Детали Eco Line'!B$8:D$119,3,0)","v":371},2227,{"$f":"ROUND(G106*(1-$D$3)/Лист2!$A$6,0)","v":2227}]
[null,"E-ST 01470665","E-ST 01470665","E-ST 01470665-30_Полка L=665 G=470 (RAL 9016, глянц)",2,{"$f":"VLOOKUP(B107,'Детали Eco Line'!B$8:D$119,3,0)","v":655},1309,{"$f":"ROUND(G107*(1-$D$3)/Лист2!$A$6,0)","v":1309}]
[null,"E-TC 01600665","E-TC 01600665","E-TC 01600665-30_Крышка стеллажа L=665 ECO (60х30)  (RAL 9016, глянц)",1,{"$f":"VLOOKUP(B108,'Детали Eco Line'!B$8:D$119,3,0)","v":186},186,{"$f":"ROUND(G108*(1-$D$3)/Лист2!$A$6,0)","v":186}]
["З0000098471","БазаПерОЕСО370",null,"База островного перфорирован стеллажа ECO L=1000 G=370 H=1600",null,"  ",8391,{"$f":"ROUND(G109*(1-$D$3)/Лист2!$A$6,0)","v":8391}]
[null,"E-BP 01151000",null,"E-BP 01151000-30_Панель задняя ECO L=1000 H=150 (RAL 9016 глянц)",2,{"$f":"VLOOKUP(B110,'Детали Eco Line'!B$8:D$119,3,0)","v":267},535,{"$f":"ROUND(G110*(1-$D$3)/Лист2!$A$6,0)","v":535}]
[null,"E-BP 02151000",null,"E-BP 02151000-30_Панель перфорированная ECO L=1000 H=150 (RAL 9016, глянц)",2,{"$f":"VLOOKUP(B111,'Детали Eco Line'!B$8:D$119,3,0)","v":543},1086,{"$f":"ROUND(G111*(1-$D$3)/Лист2!$A$6,0)","v":1086}]
[null,"E-BP 02401000",null,"E-BP 02401000-30_Панель перфорированная ECO L=1000 H=400 (RAL 9016, глянц)",6,{"$f":"VLOOKUP(B112,'Детали Eco Line'!B$8:D$119,3,0)","v":816},4898,{"$f":"ROUND(G112*(1-$D$3)/Лист2!$A$6,0)","v":4898}]
[null,"E-ST 01371000",null,"E-ST 01371000-30_Полка L=1000 G= 370 (RAL 9016 глянц)",2,{"$f":"VLOOKUP(B113,'Детали Eco Line'!B$8:D$119,3,0)","v":811},1623,{"$f":"ROUND(G113*(1-$D$3)/Лист2!$A$6,0)","v":1623}]
[null,"E-TC 01601000",null,"E-TC 01601000-30_Крышка стеллажа L=1000 ECO (60х30) (RAL 9016, глянц)",1,{"$f":"VLOOKUP(B114,'Детали Eco Line'!B$8:D$119,3,0)","v":249},249,{"$f":"ROUND(G114*(1-$D$3)/Лист2!$A$6,0)","v":249}]
["З0000089849","База.Пер О ЕСО",null,"База островного перфорирован стеллажа ECO L=1000 H=1600",null,"  ",8637,{"$f":"ROUND(G115*(1-$D$3)/Лист2!$A$6,0)","v":8637}]
[null,"E-BP 01151000",null,"E-BP 01151000-30_Панель задняя ECO L=1000 H=150 (RAL 9016 глянц)",2,{"$f":"VLOOKUP(B116,'Детали Eco Line'!B$8:D$119,3,0)","v":267},535,{"$f":"ROUND(G116*(1-$D$3)/Лист2!$A$6,0)","v":535}]
[null,"E-BP 02151000",null,"E-BP 02151000-30_Панель перфорированная ECO L=1000 H=150 (RAL 9016, глянц)",2,{"$f":"VLOOKUP(B117,'Детали Eco Line'!B$8:D$119,3,0)","v":543},1086,{"$f":"ROUND(G117*(1-$D$3)/Лист2!$A$6,0)","v":1086}]
[null,"E-BP 02401000",null,"E-BP 02401000-30_Панель перфорированная ECO L=1000 H=400 (RAL 9016, глянц)",6,{"$f":"VLOOKUP(B118,'Детали Eco Line'!B$8:D$119,3,0)","v":816},4898,{"$f":"ROUND(G118*(1-$D$3)/Лист2!$A$6,0)","v":4898}]
[null,"E-ST 01471000",null,"E-ST 01471000-30_Полка L=1000 G= 470 (RAL 9016 глянц)",2,{"$f":"VLOOKUP(B119,'Детали Eco Line'!B$8:D$119,3,0)","v":934},1869,{"$f":"ROUND(G119*(1-$D$3)/Лист2!$A$6,0)","v":1869}]
[null,"E-TC 01601000",null,"E-TC 01601000-30_Крышка стеллажа L=1000 ECO (60х30) (RAL 9016, глянц)",1,{"$f":"VLOOKUP(B120,'Детали Eco Line'!B$8:D$119,3,0)","v":249},249,{"$f":"ROUND(G120*(1-$D$3)/Лист2!$A$6,0)","v":249}]
["З0000089849","База.Пер О ЕСО",null,"База островного перфорирован стеллажа ECO L=1250 H=1600",null,"  ",10542,{"$f":"ROUND(G121*(1-$D$3)/Лист2!$A$6,0)","v":10542}]
[null,"E-BP 01151250",null,"E-BP 01151250-30_Панель задняя ECO L=1250 H=150 (RAL 9016, глянц)",2,{"$f":"VLOOKUP(B122,'Детали Eco Line'!B$8:D$119,3,0)","v":320},641,{"$f":"ROUND(G122*(1-$D$3)/Лист2!$A$6,0)","v":641}]
[null,"E-BP 02151250",null,"E-BP 02151250-30_Панель перфорированная ECO L=1250 H=150 (RAL 9016, глянц)",2,{"$f":"VLOOKUP(B123,'Детали Eco Line'!B$8:D$119,3,0)","v":651},1301,{"$f":"ROUND(G123*(1-$D$3)/Лист2!$A$6,0)","v":1301}]
[null,"E-BP 02401250",null,"E-BP 02401250-30_Панель перфорированная ECO L=1250 H=400 (RAL 9016, глянц)",6,{"$f":"VLOOKUP(B124,'Детали Eco Line'!B$8:D$119,3,0)","v":1011},6063,{"$f":"ROUND(G124*(1-$D$3)/Лист2!$A$6,0)","v":6063}]
[null,"E-ST 01471250",null,"E-ST 01471250-30_Полка L=1250 G=470 (RAL 9016, глянц)",2,{"$f":"VLOOKUP(B125,'Детали Eco Line'!B$8:D$119,3,0)","v":1113},2227,{"$f":"ROUND(G125*(1-$D$3)/Лист2!$A$6,0)","v":2227}]
[null,"E-TC 01601250",null,"E-TC 01601250-30_Крышка стеллажа L=1250 ECO (60х30) (RAL 9016, глянц)",1,{"$f":"VLOOKUP(B126,'Детали Eco Line'!B$8:D$119,3,0)","v":310},310,{"$f":"ROUND(G126*(1-$D$3)/Лист2!$A$6,0)","v":310}]
["З0000089849","База.Пер О ЕСО",null,"База островного перфорирован стеллажа ECO L=665 H=1600",null,"  ",6178,{"$f":"ROUND(G127*(1-$D$3)/Лист2!$A$6,0)","v":6178}]
[null,"E-BP 01150665",null,"E-BP 01150665-30_Панель задняя ECO L=665 H=150 (RAL 9016, глянц)",2,{"$f":"VLOOKUP(B128,'Детали Eco Line'!B$8:D$119,3,0)","v":221},441,{"$f":"ROUND(G128*(1-$D$3)/Лист2!$A$6,0)","v":441}]
[null,"E-BP 02150665",null,"E-BP 02150665-30_Панель перфорированная ECO L=665 H=150 (RAL 9016, глянц)",2,{"$f":"VLOOKUP(B129,'Детали Eco Line'!B$8:D$119,3,0)","v":431},862,{"$f":"ROUND(G129*(1-$D$3)/Лист2!$A$6,0)","v":862}]
[null,"E-BP 02400665",null,"E-BP 02400665-30_Панель перфорированная ECO L=665 H=400 (RAL 9016, глянц)",6,{"$f":"VLOOKUP(B130,'Детали Eco Line'!B$8:D$119,3,0)","v":563},3379,{"$f":"ROUND(G130*(1-$D$3)/Лист2!$A$6,0)","v":3379}]
[null,"E-ST 01470665",null,"E-ST 01470665-30_Полка L=665 G=470 (RAL 9016, глянц)",2,{"$f":"VLOOKUP(B131,'Детали Eco Line'!B$8:D$119,3,0)","v":655},1309,{"$f":"ROUND(G131*(1-$D$3)/Лист2!$A$6,0)","v":1309}]
[null,"E-TC 01600665",null,"E-TC 01600665-30_Крышка стеллажа L=665 ECO (60х30)  (RAL 9016, глянц)",1,{"$f":"VLOOKUP(B132,'Детали Eco Line'!B$8:D$119,3,0)","v":186},186,{"$f":"ROUND(G132*(1-$D$3)/Лист2!$A$6,0)","v":186}]
["b0000002676","База.О ЕСО",null,"База островного стеллажа ECO L=1000  H=1800",null,"  ",6916,{"$f":"ROUND(G133*(1-$D$3)/Лист2!$A$6,0)","v":6916}]
[null,"E-BP 01101000",null,"E-BP 01101000-30_Панель задняя ECO L=1000 H=100 (RAL 9016 глянц)",2,{"$f":"VLOOKUP(B134,'Детали Eco Line'!B$8:D$119,3,0)","v":260},521,{"$f":"ROUND(G134*(1-$D$3)/Лист2!$A$6,0)","v":521}]
[null,"E-BP 01401000",null,"E-BP 01401000-30_Панель задняя ECO L=1000 H=400 (RAL 9016 глянц)",8,{"$f":"VLOOKUP(B135,'Детали Eco Line'!B$8:D$119,3,0)","v":535},4278,{"$f":"ROUND(G135*(1-$D$3)/Лист2!$A$6,0)","v":4278}]
[null,"E-ST 01471000",null,"E-ST 01471000-30_Полка L=1000 G=470 (RAL 9016 глянц)",2,{"$f":"VLOOKUP(B136,'Детали Eco Line'!B$8:D$119,3,0)","v":934},1869,{"$f":"ROUND(G136*(1-$D$3)/Лист2!$A$6,0)","v":1869}]
[null,"E-TC 01601000",null,"E-TC 01601000-30_Крышка стеллажа L=1000 ECO (60х30) (RAL 9016, глянц)",1,{"$f":"VLOOKUP(B137,'Детали Eco Line'!B$8:D$119,3,0)","v":249},249,{"$f":"ROUND(G137*(1-$D$3)/Лист2!$A$6,0)","v":249}]
["b0000002676","База.О ЕСО",null,"База островного стеллажа ECO L=1250  H=1800",null,"  ",8360,{"$f":"ROUND(G138*(1-$D$3)/Лист2!$A$6,0)","v":8360}]
[null,"E-BP 01101250",null,"E-BP 01101250-30_Панель задняя ECO L=1250 H=100 (RAL 9016, глянц)",2,{"$f":"VLOOKUP(B139,'Детали Eco Line'!B$8:D$119,3,0)","v":301},602,{"$f":"ROUND(G139*(1-$D$3)/Лист2!$A$6,0)","v":602}]
[null,"E-BP 01401250",null,"E-BP 01401250-30_Панель задняя ECO L=1250 H=400 (RAL 9016, глянц)",8,{"$f":"VLOOKUP(B140,'Детали Eco Line'!B$8:D$119,3,0)","v":653},5222,{"$f":"ROUND(G140*(1-$D$3)/Лист2!$A$6,0)","v":5222}]
[null,"E-ST 01471250",null,"E-ST 01471250-30_Полка L=1250 G=470 (RAL 9016, глянц)",2,{"$f":"VLOOKUP(B141,'Детали Eco Line'!B$8:D$119,3,0)","v":1113},2227,{"$f":"ROUND(G141*(1-$D$3)/Лист2!$A$6,0)","v":2227}]
[null,"E-TC 01601250",null,"E-TC 01601250-30_Крышка стеллажа L=1250 ECO (60х30) (RAL 9016, глянц)",1,{"$f":"VLOOKUP(B142,'Детали Eco Line'!B$8:D$119,3,0)","v":310},310,{"$f":"ROUND(G142*(1-$D$3)/Лист2!$A$6,0)","v":310}]
["b0000002676","База.О ЕСО",null,"База островного стеллажа ECO L=665  H=1800",null,"  ",4871,{"$f":"ROUND(G143*(1-$D$3)/Лист2!$A$6,0)","v":4871}]
[null,"E-BP 01100665",null,"E-BP 01100665-30_Панель задняя ECO L=665 H=100 (RAL 9016, глянц)",2,{"$f":"VLOOKUP(B144,'Детали Eco Line'!B$8:D$119,3,0)","v":203},407,{"$f":"ROUND(G144*(1-$D$3)/Лист2!$A$6,0)","v":407}]
[null,"E-BP 01400665",null,"E-BP 01400665-30_Панель задняя ECO L=665 H=400 (RAL 9016, глянц)",8,{"$f":"VLOOKUP(B145,'Детали Eco Line'!B$8:D$119,3,0)","v":371},2969,{"$f":"ROUND(G145*(1-$D$3)/Лист2!$A$6,0)","v":2969}]
[null,"E-ST 01470665",null,"E-ST 01471250-30_Полка L=665 G=470 (RAL 9016, глянц)",2,{"$f":"VLOOKUP(B146,'Детали Eco Line'!B$8:D$119,3,0)","v":655},1309,{"$f":"ROUND(G146*(1-$D$3)/Лист2!$A$6,0)","v":1309}]
[null,"E-TC 01600665",null,"E-TC 01601250-30_Крышка стеллажа L=665 ECO (60х30) (RAL 9016, глянц)",1,{"$f":"VLOOKUP(B147,'Детали Eco Line'!B$8:D$119,3,0)","v":186},186,{"$f":"ROUND(G147*(1-$D$3)/Лист2!$A$6,0)","v":186}]
["З0000089849","База.Пер О ЕСО",null,"База островного перфорирован стеллажа ECO L=1000 H=1800",null,"  ",9169,{"$f":"ROUND(G148*(1-$D$3)/Лист2!$A$6,0)","v":9169}]
[null,"E-BP 01101000",null,"E-BP 01101000-30_Панель задняя ECO L=1000 H=100 (RAL 9016 глянц)",2,{"$f":"VLOOKUP(B149,'Детали Eco Line'!B$8:D$119,3,0)","v":260},521,{"$f":"ROUND(G149*(1-$D$3)/Лист2!$A$6,0)","v":521}]
[null,"E-BP 02401000",null,"E-BP 02401000-30_Панель перфорированная ECO L=1000 H=400 (RAL 9016, глянц)",8,{"$f":"VLOOKUP(B150,'Детали Eco Line'!B$8:D$119,3,0)","v":816},6531,{"$f":"ROUND(G150*(1-$D$3)/Лист2!$A$6,0)","v":6531}]
[null,"E-ST 01471000",null,"E-ST 01471000-30_Полка L=1000 G= 470 (RAL 9016 глянц)",2,{"$f":"VLOOKUP(B151,'Детали Eco Line'!B$8:D$119,3,0)","v":934},1869,{"$f":"ROUND(G151*(1-$D$3)/Лист2!$A$6,0)","v":1869}]
[null,"E-TC 01601000",null,"E-TC 01601000-30_Крышка стеллажа L=1000 ECO (60х30) (RAL 9016, глянц)",1,{"$f":"VLOOKUP(B152,'Детали Eco Line'!B$8:D$119,3,0)","v":249},249,{"$f":"ROUND(G152*(1-$D$3)/Лист2!$A$6,0)","v":249}]
["З0000089849","База.Пер О ЕСО",null,"База островного перфорирован стеллажа ECO L=1250 H=1800",null,"  ",11223,{"$f":"ROUND(G153*(1-$D$3)/Лист2!$A$6,0)","v":11223}]
[null,"E-BP 01101250",null,"E-BP 01101250-30_Панель задняя ECO L=1250 H=100 (RAL 9016, глянц)",2,{"$f":"VLOOKUP(B154,'Детали Eco Line'!B$8:D$119,3,0)","v":301},602,{"$f":"ROUND(G154*(1-$D$3)/Лист2!$A$6,0)","v":602}]
[null,"E-BP 02401250",null,"E-BP 02401250-30_Панель перфорированная ECO L=1250 H=400 (RAL 9016, глянц)",8,{"$f":"VLOOKUP(B155,'Детали Eco Line'!B$8:D$119,3,0)","v":1011},8085,{"$f":"ROUND(G155*(1-$D$3)/Лист2!$A$6,0)","v":8085}]
[null,"E-ST 01471250",null,"E-ST 01471250-30_Полка L=1250 G=470 (RAL 9016, глянц)",2,{"$f":"VLOOKUP(B156,'Детали Eco Line'!B$8:D$119,3,0)","v":1113},2227,{"$f":"ROUND(G156*(1-$D$3)/Лист2!$A$6,0)","v":2227}]
[null,"E-TC 01601250",null,"E-TC 01601250-30_Крышка стеллажа L=1250 ECO (60х30) (RAL 9016, глянц)",1,{"$f":"VLOOKUP(B157,'Детали Eco Line'!B$8:D$119,3,0)","v":310},310,{"$f":"ROUND(G157*(1-$D$3)/Лист2!$A$6,0)","v":310}]
["З0000089849","База.Пер О ЕСО",null,"База островного перфорирован стеллажа ECO L=665 H=1800",null,"  ",6408,{"$f":"ROUND(G158*(1-$D$3)/Лист2!$A$6,0)","v":6408}]
[null,"E-BP 01100665",null,"E-BP 01100665-30_Панель задняя ECO L=665 H=100 (RAL 9016, глянц)",2,{"$f":"VLOOKUP(B159,'Детали Eco Line'!B$8:D$119,3,0)","v":203},407,{"$f":"ROUND(G159*(1-$D$3)/Лист2!$A$6,0)","v":407}]
[null,"E-BP 02400665",null,"E-BP 02400665-30_Панель перфорированная ECO L=665 H=400 (RAL 9016, глянц)",8,{"$f":"VLOOKUP(B160,'Детали Eco Line'!B$8:D$119,3,0)","v":563},4506,{"$f":"ROUND(G160*(1-$D$3)/Лист2!$A$6,0)","v":4506}]
[null,"E-ST 01470665",null,"E-ST 01470665-30_Полка L=665 G=470 (RAL 9016, глянц)",2,{"$f":"VLOOKUP(B161,'Детали Eco Line'!B$8:D$119,3,0)","v":655},1309,{"$f":"ROUND(G161*(1-$D$3)/Лист2!$A$6,0)","v":1309}]
[null,"E-TC 01600665",null,"E-TC 01600665-30_Крышка стеллажа L=665 ECO (60х30)  (RAL 9016, глянц)",1,{"$f":"VLOOKUP(B162,'Детали Eco Line'!B$8:D$119,3,0)","v":186},186,{"$f":"ROUND(G162*(1-$D$3)/Лист2!$A$6,0)","v":186}]
["b0000002676","База.О ЕСО",null,"База островного стеллажа ECO L=1000 H=2250",null,"  ",7751,{"$f":"ROUND(G163*(1-$D$3)/Лист2!$A$6,0)","v":7751}]
[null,"E-BP 01151000","E-BP 01151000","E-BP 01151000-30_Панель задняя ECO L=1000 H=150 (RAL 9016 глянц)",2,{"$f":"VLOOKUP(B164,'Детали Eco Line'!B$8:D$119,3,0)","v":267},535,{"$f":"ROUND(G164*(1-$D$3)/Лист2!$A$6,0)","v":535}]
[null,"E-BP 01401000","E-BP 01401000","E-BP 01401000-30_Панель задняя ECO L=1000 H=400 (RAL 9016 глянц)",10,{"$f":"VLOOKUP(B165,'Детали Eco Line'!B$8:D$119,3,0)","v":535},5348,{"$f":"ROUND(G165*(1-$D$3)/Лист2!$A$6,0)","v":5348}]
[null,"E-ST 01471000","E-ST 01471000","E-ST 01471000-30_Полка L=1000 G=470 (RAL 9016 глянц)",2,{"$f":"VLOOKUP(B166,'Детали Eco Line'!B$8:D$119,3,0)","v":934},1869,{"$f":"ROUND(G166*(1-$D$3)/Лист2!$A$6,0)","v":1869}]
["b0000002676","База.О ЕСО",null,"База островного стеллажа ECO L=1250 H=2250",null,"  ",9394,{"$f":"ROUND(G167*(1-$D$3)/Лист2!$A$6,0)","v":9394}]
[null,"E-BP 01151250","E-BP 01151250","E-BP 01151250-30_Панель задняя ECO L=1250 H=150 (RAL 9016, глянц)",2,{"$f":"VLOOKUP(B168,'Детали Eco Line'!B$8:D$119,3,0)","v":320},641,{"$f":"ROUND(G168*(1-$D$3)/Лист2!$A$6,0)","v":641}]
[null,"E-BP 01401250","E-BP 01401250","E-BP 01401250-30_Панель задняя ECO L=1250 H=400 (RAL 9016, глянц)",10,{"$f":"VLOOKUP(B169,'Детали Eco Line'!B$8:D$119,3,0)","v":653},6527,{"$f":"ROUND(G169*(1-$D$3)/Лист2!$A$6,0)","v":6527}]
[null,"E-ST 01471250","E-ST 01471250","E-ST 01471250-30_Полка L=1250 G=470 (RAL 9016, глянц)",2,{"$f":"VLOOKUP(B170,'Детали Eco Line'!B$8:D$119,3,0)","v":1113},2227,{"$f":"ROUND(G170*(1-$D$3)/Лист2!$A$6,0)","v":2227}]
["b0000002676","База.О ЕСО",null,"База островного стеллажа ECO L=665 H=2250",null,"  ",5462,{"$f":"ROUND(G171*(1-$D$3)/Лист2!$A$6,0)","v":5462}]
[null,"E-BP 01150665","E-BP 01150665","E-BP 01150665-30_Панель задняя ECO L=665 H=150 (RAL 9016, глянц)",2,{"$f":"VLOOKUP(B172,'Детали Eco Line'!B$8:D$119,3,0)","v":221},441,{"$f":"ROUND(G172*(1-$D$3)/Лист2!$A$6,0)","v":441}]
[null,"E-BP 01400665","E-BP 01400665","E-BP 01400665-30_Панель задняя ECO L=665 H=400 (RAL 9016, глянц)",10,{"$f":"VLOOKUP(B173,'Детали Eco Line'!B$8:D$119,3,0)","v":371},3711,{"$f":"ROUND(G173*(1-$D$3)/Лист2!$A$6,0)","v":3711}]
[null,"E-ST 01470665","E-ST 01470665","E-ST 01470665-30_Полка L=665 G=470 (RAL 9016, глянц)",2,{"$f":"VLOOKUP(B174,'Детали Eco Line'!B$8:D$119,3,0)","v":655},1309,{"$f":"ROUND(G174*(1-$D$3)/Лист2!$A$6,0)","v":1309}]
["З0000098470","БазаПрЕСО370",null,"База пристенного стеллажа ECO L=1000 G=370 H=2250",null,"  ",3753,{"$f":"ROUND(G175*(1-$D$3)/Лист2!$A$6,0)","v":3753}]
[null,"E-BP 01151000",null,"E-BP 01151000-30_Панель задняя ECO L=1000 H=150 (RAL 9016 глянц)",1,{"$f":"VLOOKUP(B176,'Детали Eco Line'!B$8:D$119,3,0)","v":267},267,{"$f":"ROUND(G176*(1-$D$3)/Лист2!$A$6,0)","v":267}]
[null,"E-BP 01401000",null,"E-BP 01401000-30_Панель задняя ECO L=1000 H=400 (RAL 9016 глянц)",5,{"$f":"VLOOKUP(B177,'Детали Eco Line'!B$8:D$119,3,0)","v":535},2674,{"$f":"ROUND(G177*(1-$D$3)/Лист2!$A$6,0)","v":2674}]
[null,"E-ST 01371000",null,"E-ST 01371000-30_Полка L=1000 G= 370 (RAL 9016 глянц)",1,{"$f":"VLOOKUP(B178,'Детали Eco Line'!B$8:D$119,3,0)","v":811},811,{"$f":"ROUND(G178*(1-$D$3)/Лист2!$A$6,0)","v":811}]
["b0000002685","База.Пр ЕСО",null,"База пристенного стеллажа ECO L=1000  H=2250",null,"  ",3876,{"$f":"ROUND(G179*(1-$D$3)/Лист2!$A$6,0)","v":3876}]
[null,"E-BP 01151000","E-BP 01151000","E-BP 01151000-30_Панель задняя ECO L=1000 H=150 (RAL 9016 глянц)",1,{"$f":"VLOOKUP(B180,'Детали Eco Line'!B$8:D$119,3,0)","v":267},267,{"$f":"ROUND(G180*(1-$D$3)/Лист2!$A$6,0)","v":267}]
[null,"E-BP 01401000","E-BP 01401000","E-BP 01401000-30_Панель задняя ECO L=1000 H=400 (RAL 9016 глянц)",5,{"$f":"VLOOKUP(B181,'Детали Eco Line'!B$8:D$119,3,0)","v":535},2674,{"$f":"ROUND(G181*(1-$D$3)/Лист2!$A$6,0)","v":2674}]
[null,"E-ST 01471000","E-ST 01471000","E-ST 01471000-30_Полка L=1000 G=470 (RAL 9016 глянц)",1,{"$f":"VLOOKUP(B182,'Детали Eco Line'!B$8:D$119,3,0)","v":934},934,{"$f":"ROUND(G182*(1-$D$3)/Лист2!$A$6,0)","v":934}]
["З0000098470","БазаПрЕСО370",null,"База пристенного стеллажа ECO L=1250 G=370 H=2250",null,"  ",4474,{"$f":"ROUND(G183*(1-$D$3)/Лист2!$A$6,0)","v":4474}]
[null,"E-BP 01151250",null,"E-BP 01151250-30_Панель задняя ECO L=1250 H=150 (RAL 9016, глянц)",1,{"$f":"VLOOKUP(B184,'Детали Eco Line'!B$8:D$119,3,0)","v":320},320,{"$f":"ROUND(G184*(1-$D$3)/Лист2!$A$6,0)","v":320}]
[null,"E-BP 01401250",null,"E-BP 01401250-30_Панель задняя ECO L=1250 H=400 (RAL 9016, глянц)",5,{"$f":"VLOOKUP(B185,'Детали Eco Line'!B$8:D$119,3,0)","v":653},3264,{"$f":"ROUND(G185*(1-$D$3)/Лист2!$A$6,0)","v":3264}]
[null,"E-ST 01371250",null,"E-ST 01371250-30_Полка L=1250 G=370 (RAL 9016, глянц)",1,{"$f":"VLOOKUP(B186,'Детали Eco Line'!B$8:D$119,3,0)","v":891},891,{"$f":"ROUND(G186*(1-$D$3)/Лист2!$A$6,0)","v":891}]
["b0000002685","База.Пр ЕСО",null,"База пристенного стеллажа ECO L=1250  H=2250",null,"  ",4697,{"$f":"ROUND(G187*(1-$D$3)/Лист2!$A$6,0)","v":4697}]
[null,"E-BP 01151250","E-BP 01151250","E-BP 01151250-30_Панель задняя ECO L=1250 H=150 (RAL 9016, глянц)",1,{"$f":"VLOOKUP(B188,'Детали Eco Line'!B$8:D$119,3,0)","v":320},320,{"$f":"ROUND(G188*(1-$D$3)/Лист2!$A$6,0)","v":320}]
[null,"E-BP 01401250","E-BP 01401250","E-BP 01401250-30_Панель задняя ECO L=1250 H=400 (RAL 9016, глянц)",5,{"$f":"VLOOKUP(B189,'Детали Eco Line'!B$8:D$119,3,0)","v":653},3264,{"$f":"ROUND(G189*(1-$D$3)/Лист2!$A$6,0)","v":3264}]
[null,"E-ST 01471250","E-ST 01471250","E-ST 01471250-30_Полка L=1250 G=470 (RAL 9016, глянц)",1,{"$f":"VLOOKUP(B190,'Детали Eco Line'!B$8:D$119,3,0)","v":1113},1113,{"$f":"ROUND(G190*(1-$D$3)/Лист2!$A$6,0)","v":1113}]
["З0000098470","БазаПрЕСО370",null,"База пристенного стеллажа ECO L=665 G=370 H=2250",null,"  ",2615,{"$f":"ROUND(G191*(1-$D$3)/Лист2!$A$6,0)","v":2615}]
[null,"E-BP 01150665",null,"E-BP 01150665-30_Панель задняя ECO L=665 H=150 (RAL 9016, глянц)",1,{"$f":"VLOOKUP(B192,'Детали Eco Line'!B$8:D$119,3,0)","v":221},221,{"$f":"ROUND(G192*(1-$D$3)/Лист2!$A$6,0)","v":221}]
[null,"E-BP 01400665",null,"E-BP 01400665-30_Панель задняя ECO L=665 H=400 (RAL 9016, глянц)",5,{"$f":"VLOOKUP(B193,'Детали Eco Line'!B$8:D$119,3,0)","v":371},1855,{"$f":"ROUND(G193*(1-$D$3)/Лист2!$A$6,0)","v":1855}]
[null,"E-ST 01370665",null,"E-ST 01370665-30_Полка L=665 G=370 (RAL 9016, глянц)",1,{"$f":"VLOOKUP(B194,'Детали Eco Line'!B$8:D$119,3,0)","v":539},539,{"$f":"ROUND(G194*(1-$D$3)/Лист2!$A$6,0)","v":539}]
["b0000002685","База.Пр ЕСО",null,"База пристенного стеллажа ECO L=665 H=2250",null,"  ",2731,{"$f":"ROUND(G195*(1-$D$3)/Лист2!$A$6,0)","v":2731}]
[null,"E-BP 01150665","E-BP 01150665","E-BP 01150665-30_Панель задняя ECO L=665 H=150 (RAL 9016, глянц)",1,{"$f":"VLOOKUP(B196,'Детали Eco Line'!B$8:D$119,3,0)","v":221},221,{"$f":"ROUND(G196*(1-$D$3)/Лист2!$A$6,0)","v":221}]
[null,"E-BP 01400665","E-BP 01400665","E-BP 01400665-30_Панель задняя ECO L=665 H=400 (RAL 9016, глянц)",5,{"$f":"VLOOKUP(B197,'Детали Eco Line'!B$8:D$119,3,0)","v":371},1855,{"$f":"ROUND(G197*(1-$D$3)/Лист2!$A$6,0)","v":1855}]
[null,"E-ST 01470665","E-ST 01470665","E-ST 01470665-30_Полка L=665 G=470 (RAL 9016, глянц)",1,{"$f":"VLOOKUP(B198,'Детали Eco Line'!B$8:D$119,3,0)","v":655},655,{"$f":"ROUND(G198*(1-$D$3)/Лист2!$A$6,0)","v":655}]
["b0000002685","База.Пр ЕСО",null,"База пристенного стеллажа ECO L=1000 H=1600",null,"  ",3073,{"$f":"ROUND(G199*(1-$D$3)/Лист2!$A$6,0)","v":3073}]
[null,"E-BP 01151000",null,"E-BP 01151000-30_Панель задняя ECO L=1000 H=150 (RAL 9016 глянц)",2,{"$f":"VLOOKUP(B200,'Детали Eco Line'!B$8:D$119,3,0)","v":267},535,{"$f":"ROUND(G200*(1-$D$3)/Лист2!$A$6,0)","v":535}]
[null,"E-BP 01401000",null,"E-BP 01401000-30_Панель задняя ECO L=1000 H=400 (RAL 9016 глянц)",3,{"$f":"VLOOKUP(B201,'Детали Eco Line'!B$8:D$119,3,0)","v":535},1604,{"$f":"ROUND(G201*(1-$D$3)/Лист2!$A$6,0)","v":1604}]
[null,"E-ST 01471000",null,"E-ST 01471000-30_Полка L=1000 G= 470 (RAL 9016 глянц)",1,{"$f":"VLOOKUP(B202,'Детали Eco Line'!B$8:D$119,3,0)","v":934},934,{"$f":"ROUND(G202*(1-$D$3)/Лист2!$A$6,0)","v":934}]
["b0000002685","База.Пр ЕСО",null,"База пристенного стеллажа ECO L=1000 H=1800",null,"  ",3334,{"$f":"ROUND(G203*(1-$D$3)/Лист2!$A$6,0)","v":3334}]
[null,"E-BP 01101000",null,"E-BP 01101000-30_Панель задняя ECO L=1000 H=100 (RAL 9016 глянц)",1,{"$f":"VLOOKUP(B204,'Детали Eco Line'!B$8:D$119,3,0)","v":260},260,{"$f":"ROUND(G204*(1-$D$3)/Лист2!$A$6,0)","v":260}]
[null,"E-BP 01401000",null,"E-BP 01401000-30_Панель задняя ECO L=1000 H=400 (RAL 9016 глянц)",4,{"$f":"VLOOKUP(B205,'Детали Eco Line'!B$8:D$119,3,0)","v":535},2139,{"$f":"ROUND(G205*(1-$D$3)/Лист2!$A$6,0)","v":2139}]
[null,"E-ST 01471000",null,"E-ST 01471000-30_Полка L=1000 G= 470 (RAL 9016 глянц)",1,{"$f":"VLOOKUP(B206,'Детали Eco Line'!B$8:D$119,3,0)","v":934},934,{"$f":"ROUND(G206*(1-$D$3)/Лист2!$A$6,0)","v":934}]
["b0000002685","База.Пр ЕСО",null,"База пристенного стеллажа ECO L=1000 H=2100",null,"  ",3608,{"$f":"ROUND(G207*(1-$D$3)/Лист2!$A$6,0)","v":3608}]
[null,"E-BP 01401000",null,"E-BP 01401000-30_Панель задняя ECO L=1000 H=400 (RAL 9016 глянц)",5,{"$f":"VLOOKUP(B208,'Детали Eco Line'!B$8:D$119,3,0)","v":535},2674,{"$f":"ROUND(G208*(1-$D$3)/Лист2!$A$6,0)","v":2674}]
[null,"E-ST 01471000",null,"E-ST 01471000-30_Полка L=1000 G= 470 (RAL 9016 глянц)",1,{"$f":"VLOOKUP(B209,'Детали Eco Line'!B$8:D$119,3,0)","v":934},934,{"$f":"ROUND(G209*(1-$D$3)/Лист2!$A$6,0)","v":934}]
["b0000002685","База.Пр ЕСО",null,"База пристенного стеллажа ECO L=1250 H=1800",null,"  ",4025,{"$f":"ROUND(G210*(1-$D$3)/Лист2!$A$6,0)","v":4025}]
[null,"E-BP 01101250",null,"E-BP 01101250-30_Панель задняя ECO L=1250 H=100 (RAL 9016 глянц)",1,{"$f":"VLOOKUP(B211,'Детали Eco Line'!B$8:D$119,3,0)","v":301},301,{"$f":"ROUND(G211*(1-$D$3)/Лист2!$A$6,0)","v":301}]
[null,"E-BP 01401250",null,"E-BP 01401250-30_Панель задняя ECO L=1250 H=400 (RAL 9016, глянц)",4,{"$f":"VLOOKUP(B212,'Детали Eco Line'!B$8:D$119,3,0)","v":653},2611,{"$f":"ROUND(G212*(1-$D$3)/Лист2!$A$6,0)","v":2611}]
[null,"E-ST 01471250",null,"E-ST 01471250-30_Полка L=1250 G=470 (RAL 9016, глянц)",1,{"$f":"VLOOKUP(B213,'Детали Eco Line'!B$8:D$119,3,0)","v":1113},1113,{"$f":"ROUND(G213*(1-$D$3)/Лист2!$A$6,0)","v":1113}]
["b0000002685","База.Пр ЕСО",null,"База пристенного стеллажа ECO L=665 H=1800",null,"  ",2342,{"$f":"ROUND(G214*(1-$D$3)/Лист2!$A$6,0)","v":2342}]
[null,"E-BP 01100665",null,"E-BP 01100665-30_Панель задняя ECO L=665 H=100 (RAL 9016, глянц)",1,{"$f":"VLOOKUP(B215,'Детали Eco Line'!B$8:D$119,3,0)","v":203},203,{"$f":"ROUND(G215*(1-$D$3)/Лист2!$A$6,0)","v":203}]
[null,"E-BP 01400665",null,"E-BP 01400665-30_Панель задняя ECO L=665 H=400 (RAL 9016, глянц)",4,{"$f":"VLOOKUP(B216,'Детали Eco Line'!B$8:D$119,3,0)","v":371},1484,{"$f":"ROUND(G216*(1-$D$3)/Лист2!$A$6,0)","v":1484}]
[null,"E-ST 01470665",null,"E-ST 01470665-30_Полка L=665 G=470 (RAL 9016, глянц)",1,{"$f":"VLOOKUP(B217,'Детали Eco Line'!B$8:D$119,3,0)","v":655},655,{"$f":"ROUND(G217*(1-$D$3)/Лист2!$A$6,0)","v":655}]
["b0000002685","База.Пр ЕСО",null,"База пристенного стеллажа ECO L=1250 H=2100",null,"  ",4377,{"$f":"ROUND(G218*(1-$D$3)/Лист2!$A$6,0)","v":4377}]
[null,"E-BP 01401250",null,"E-BP 01401250-30_Панель задняя ECO L=1250 H=400 (RAL 9016, глянц)",5,{"$f":"VLOOKUP(B219,'Детали Eco Line'!B$8:D$119,3,0)","v":653},3264,{"$f":"ROUND(G219*(1-$D$3)/Лист2!$A$6,0)","v":3264}]
[null,"E-ST 01471250",null,"E-ST 01471250-30_Полка L=1250 G=470 (RAL 9016, глянц)",1,{"$f":"VLOOKUP(B220,'Детали Eco Line'!B$8:D$119,3,0)","v":1113},1113,{"$f":"ROUND(G220*(1-$D$3)/Лист2!$A$6,0)","v":1113}]
["b0000002685","База.Пр ЕСО",null,"База пристенного стеллажа ECO L=665 H=2100",null,"  ",2510,{"$f":"ROUND(G221*(1-$D$3)/Лист2!$A$6,0)","v":2510}]
[null,"E-BP 01400665",null,"E-BP 01400665-30_Панель задняя ECO L=665 H=400 (RAL 9016, глянц)",5,{"$f":"VLOOKUP(B222,'Детали Eco Line'!B$8:D$119,3,0)","v":371},1855,{"$f":"ROUND(G222*(1-$D$3)/Лист2!$A$6,0)","v":1855}]
[null,"E-ST 01470665",null,"E-ST 01470665-30_Полка L=665 G=470 (RAL 9016, глянц)",1,{"$f":"VLOOKUP(B223,'Детали Eco Line'!B$8:D$119,3,0)","v":655},655,{"$f":"ROUND(G223*(1-$D$3)/Лист2!$A$6,0)","v":655}]
["З0000098465","БазаПерЕСО370","База пристенного перфориров стел ECO L=1000 G=370  H=2250","База пристенного перфориров стел ECO L=1000 G=370  H=2250",null,"  ",5161,{"$f":"ROUND(G224*(1-$D$3)/Лист2!$A$6,0)","v":5161}]
[null,"E-BP 01151000",null,"E-BP 01151000-30_Панель задняя ECO L=1000 H=150(RAL 9016, глянц)",1,{"$f":"VLOOKUP(B225,'Детали Eco Line'!B$8:D$119,3,0)","v":267},267,{"$f":"ROUND(G225*(1-$D$3)/Лист2!$A$6,0)","v":267}]
[null,"E-BP 02401000",null,"E-BP 02401000-30_Панель перфорированная ECO L=1000 H=400 (RAL 9016, глянц)",5,{"$f":"VLOOKUP(B226,'Детали Eco Line'!B$8:D$119,3,0)","v":816},4082,{"$f":"ROUND(G226*(1-$D$3)/Лист2!$A$6,0)","v":4082}]
[null,"E-ST 01371000",null,"E-ST 01371000-30_Полка L=1000 G= 370 (RAL 9016 глянц)",1,{"$f":"VLOOKUP(B227,'Детали Eco Line'!B$8:D$119,3,0)","v":811},811,{"$f":"ROUND(G227*(1-$D$3)/Лист2!$A$6,0)","v":811}]
["b0000002690","База.Пер ЕСО",null,"База пристенного перфориров стел ECO L=1000  H=2250",null,"  ",5284,{"$f":"ROUND(G228*(1-$D$3)/Лист2!$A$6,0)","v":5284}]
[null,"E-BP 01151000","E-BP 01151000","E-BP 01151000-30_Панель задняя ECO L=1000 H=150 (RAL 9016 глянц)",1,{"$f":"VLOOKUP(B229,'Детали Eco Line'!B$8:D$119,3,0)","v":267},267,{"$f":"ROUND(G229*(1-$D$3)/Лист2!$A$6,0)","v":267}]
[null,"E-BP 02401000","E-BP 02401000","E-BP 02401000-30_Панель перфорированная ECO L=1000 H=400 (RAL 9016, глянц)",5,{"$f":"VLOOKUP(B230,'Детали Eco Line'!B$8:D$119,3,0)","v":816},4082,{"$f":"ROUND(G230*(1-$D$3)/Лист2!$A$6,0)","v":4082}]
[null,"E-ST 01471000","E-ST 01471000","E-ST 01471000-30_Полка L=1000 G=470 (RAL 9016 глянц)",1,{"$f":"VLOOKUP(B231,'Детали Eco Line'!B$8:D$119,3,0)","v":934},934,{"$f":"ROUND(G231*(1-$D$3)/Лист2!$A$6,0)","v":934}]
["b0000002690","База.Пер ЕСО",null,"База пристенного перфориров стел ECO L=1000  H=1600",null,"  ",4194,{"$f":"ROUND(G232*(1-$D$3)/Лист2!$A$6,0)","v":4194}]
[null,"E-BP 01151000",null,"E-BP 01151000-30_Панель задняя ECO L=1000 H=150 (RAL 9016, глянц)",1,{"$f":"VLOOKUP(B233,'Детали Eco Line'!B$8:D$119,3,0)","v":267},267,{"$f":"ROUND(G233*(1-$D$3)/Лист2!$A$6,0)","v":267}]
[null,"E-BP 02151000",null,"E-BP 02151000-30_Панель перфорированная ECO L=1000 H=150 (RAL 9016, глянц)",1,{"$f":"VLOOKUP(B234,'Детали Eco Line'!B$8:D$119,3,0)","v":543},543,{"$f":"ROUND(G234*(1-$D$3)/Лист2!$A$6,0)","v":543}]
[null,"E-BP 02401000",null,"E-BP 02401000-30_Панель перфорированная ECO L=1000 H=400 (RAL 9016, глянц)",3,{"$f":"VLOOKUP(B235,'Детали Eco Line'!B$8:D$119,3,0)","v":816},2449,{"$f":"ROUND(G235*(1-$D$3)/Лист2!$A$6,0)","v":2449}]
[null,"E-ST 01471000",null,"E-ST 01471000-30_Полка L=1000 G= 470 (RAL 9016 глянц)",1,{"$f":"VLOOKUP(B236,'Детали Eco Line'!B$8:D$119,3,0)","v":934},934,{"$f":"ROUND(G236*(1-$D$3)/Лист2!$A$6,0)","v":934}]
["b0000002690","База.Пер ЕСО",null,"База пристенного перфориров стел ECO L=1000  H=1800",null,"  ",4460,{"$f":"ROUND(G237*(1-$D$3)/Лист2!$A$6,0)","v":4460}]
[null,"E-BP 01101000",null,"E-BP 01151000-30_Панель задняя ECO L=1000 H=100(RAL 9016, глянц)",1,{"$f":"VLOOKUP(B238,'Детали Eco Line'!B$8:D$119,3,0)","v":260},260,{"$f":"ROUND(G238*(1-$D$3)/Лист2!$A$6,0)","v":260}]
[null,"E-BP 02401000",null,"E-BP 02401000-30_Панель перфорированная ECO L=1000 H=400 (RAL 9016, глянц)",4,{"$f":"VLOOKUP(B239,'Детали Eco Line'!B$8:D$119,3,0)","v":816},3266,{"$f":"ROUND(G239*(1-$D$3)/Лист2!$A$6,0)","v":3266}]
[null,"E-ST 01471000",null,"E-ST 01471000-30_Полка L=1000 G= 470 (RAL 9016 глянц)",1,{"$f":"VLOOKUP(B240,'Детали Eco Line'!B$8:D$119,3,0)","v":934},934,{"$f":"ROUND(G240*(1-$D$3)/Лист2!$A$6,0)","v":934}]
["b0000002690","База.Пер ЕСО",null,"База пристенного перфориров стел ECO L=1000  H=2100",null,"  ",5016,{"$f":"ROUND(G241*(1-$D$3)/Лист2!$A$6,0)","v":5016}]
[null,"E-BP 02401000",null,"E-BP 02401000-30_Панель перфорированная ECO L=1000 H=400 (RAL 9016, глянц)",5,{"$f":"VLOOKUP(B242,'Детали Eco Line'!B$8:D$119,3,0)","v":816},4082,{"$f":"ROUND(G242*(1-$D$3)/Лист2!$A$6,0)","v":4082}]
[null,"E-ST 01471000",null,"E-ST 01471000-30_Полка L=1000 G= 470 (RAL 9016 глянц)",1,{"$f":"VLOOKUP(B243,'Детали Eco Line'!B$8:D$119,3,0)","v":934},934,{"$f":"ROUND(G243*(1-$D$3)/Лист2!$A$6,0)","v":934}]
["b0000002690","База.Пер ЕСО",null,"База пристенного перфориров стел ECO L=1250  H=2250",null,"  ",6486,{"$f":"ROUND(G244*(1-$D$3)/Лист2!$A$6,0)","v":6486}]
[null,"E-BP 01151250","E-BP 01151250","E-BP 01151250-30_Панель задняя ECO L=1250 H=150 (RAL 9016, глянц)",1,{"$f":"VLOOKUP(B245,'Детали Eco Line'!B$8:D$119,3,0)","v":320},320,{"$f":"ROUND(G245*(1-$D$3)/Лист2!$A$6,0)","v":320}]
[null,"E-BP 02401250","E-BP 02401250","E-BP 02401250-30_Панель перфорированная ECO L=1250 H=400 (RAL 9016, глянц)",5,{"$f":"VLOOKUP(B246,'Детали Eco Line'!B$8:D$119,3,0)","v":1011},5053,{"$f":"ROUND(G246*(1-$D$3)/Лист2!$A$6,0)","v":5053}]
[null,"E-ST 01471250","E-ST 01471250","E-ST 01471250-30_Полка L=1250 G=470 (RAL 9016, глянц)",1,{"$f":"VLOOKUP(B247,'Детали Eco Line'!B$8:D$119,3,0)","v":1113},1113,{"$f":"ROUND(G247*(1-$D$3)/Лист2!$A$6,0)","v":1113}]
["b0000002690","База.Пер ЕСО",null,"База пристенного перфориров стел ECO L=665 H=2100",null,"  ",3471,{"$f":"ROUND(G248*(1-$D$3)/Лист2!$A$6,0)","v":3471}]
[null,"E-BP 02400665","E-BP 02400665","E-BP 02400665-30_Панель перфорированная ECO L=665 H=400 (RAL 9016, глянц)",5,{"$f":"VLOOKUP(B249,'Детали Eco Line'!B$8:D$119,3,0)","v":563},2816,{"$f":"ROUND(G249*(1-$D$3)/Лист2!$A$6,0)","v":2816}]
[null,"E-ST 01470665","E-ST 01470665","E-ST 01470665-30_Полка L=665 G=470 (RAL 9016, глянц)",1,{"$f":"VLOOKUP(B250,'Детали Eco Line'!B$8:D$119,3,0)","v":655},655,{"$f":"ROUND(G250*(1-$D$3)/Лист2!$A$6,0)","v":655}]
["b0000002690","База.Пер ЕСО",null,"База пристенного перфориров стел ECO L=665 H=2250",null,"  ",3692,{"$f":"ROUND(G251*(1-$D$3)/Лист2!$A$6,0)","v":3692}]
[null,"E-BP 01150665","E-BP 01150665","E-BP 01150665-30_Панель задняя ECO L=665 H=150 (RAL 9016, глянц)",1,{"$f":"VLOOKUP(B252,'Детали Eco Line'!B$8:D$119,3,0)","v":221},221,{"$f":"ROUND(G252*(1-$D$3)/Лист2!$A$6,0)","v":221}]
[null,"E-BP 02400665","E-BP 02400665","E-BP 02400665-30_Панель перфорированная ECO L=665 H=400 (RAL 9016, глянц)",5,{"$f":"VLOOKUP(B253,'Детали Eco Line'!B$8:D$119,3,0)","v":563},2816,{"$f":"ROUND(G253*(1-$D$3)/Лист2!$A$6,0)","v":2816}]
[null,"E-ST 01470665","E-ST 01470665","E-ST 01470665-30_Полка L=665 G=470 (RAL 9016, глянц)",1,{"$f":"VLOOKUP(B254,'Детали Eco Line'!B$8:D$119,3,0)","v":655},655,{"$f":"ROUND(G254*(1-$D$3)/Лист2!$A$6,0)","v":655}]
["З0000089850","Компзадпан ЕСО",null,"Комплект задних панелей ECO L=1000  H=1600",null,"  ",2388,{"$f":"ROUND(G255*(1-$D$3)/Лист2!$A$6,0)","v":2388}]
[null,"E-BP 01151000",null,"E-BP 01151000-30_Панель задняя ECO L=1000 H=150 (RAL 9016 глянц)",2,{"$f":"VLOOKUP(B256,'Детали Eco Line'!B$8:D$119,3,0)","v":267},535,{"$f":"ROUND(G256*(1-$D$3)/Лист2!$A$6,0)","v":535}]
[null,"E-BP 01401000",null,"E-BP 01401000-30_Панель задняя ECO L=1000 H=400 (RAL 9016 глянц)",3,{"$f":"VLOOKUP(B257,'Детали Eco Line'!B$8:D$119,3,0)","v":535},1604,{"$f":"ROUND(G257*(1-$D$3)/Лист2!$A$6,0)","v":1604}]
[null,"E-TC 01601000",null,"E-TC 01601000-30_Крышка стеллажа L=1000 ECO (60х30) (RAL 9016, глянц)",1,{"$f":"VLOOKUP(B258,'Детали Eco Line'!B$8:D$119,3,0)","v":249},249,{"$f":"ROUND(G258*(1-$D$3)/Лист2!$A$6,0)","v":249}]
["З0000089850","Компзадпан ЕСО",null,"Комплект задних панелей ECO L=1000  H=1800",null,"  ",2648,{"$f":"ROUND(G259*(1-$D$3)/Лист2!$A$6,0)","v":2648}]
[null,"E-BP 01101000",null,"E-BP 01101000-30_Панель задняя ECO L=1000 H=100 (RAL 9016 глянц)",1,{"$f":"VLOOKUP(B260,'Детали Eco Line'!B$8:D$119,3,0)","v":260},260,{"$f":"ROUND(G260*(1-$D$3)/Лист2!$A$6,0)","v":260}]
[null,"E-BP 01401000",null,"E-BP 01401000-30_Панель задняя ECO L=1000 H=400 (RAL 9016 глянц)",4,{"$f":"VLOOKUP(B261,'Детали Eco Line'!B$8:D$119,3,0)","v":535},2139,{"$f":"ROUND(G261*(1-$D$3)/Лист2!$A$6,0)","v":2139}]
[null,"E-TC 01601000",null,"E-TC 01601000-30_Крышка стеллажа L=1000 ECO (60х30) (RAL 9016, глянц)",1,{"$f":"VLOOKUP(B262,'Детали Eco Line'!B$8:D$119,3,0)","v":249},249,{"$f":"ROUND(G262*(1-$D$3)/Лист2!$A$6,0)","v":249}]
["З0000098467","БазаOCECO370",null,"База углового стел (внешний) ECO G=370 H=2250",null,"  ",2132,{"$f":"ROUND(G263*(1-$D$3)/Лист2!$A$6,0)","v":2132}]
[null,"E-BP 06900150",null,"E-BP 06900150-30_Панель угловая внешняя H=150 (RAL 9016, глянц)",1,{"$f":"VLOOKUP(B264,'Детали Eco Line'!B$8:D$119,3,0)","v":148},148,{"$f":"ROUND(G264*(1-$D$3)/Лист2!$A$6,0)","v":148}]
[null,"E-BP 06900400",null,"E-BP 06900400-30_Панель угловая внешняя H=400 (RAL 9016, глянц)",5,{"$f":"VLOOKUP(B265,'Детали Eco Line'!B$8:D$119,3,0)","v":242},1210,{"$f":"ROUND(G265*(1-$D$3)/Лист2!$A$6,0)","v":1210}]
[null,"E-ST 06000370",null,"E-ST 06000370-30_Полка угловая внешняя G=370 (RAL 9016, глянц)",1,{"$f":"VLOOKUP(B266,'Детали Eco Line'!B$8:D$119,3,0)","v":774},774,{"$f":"ROUND(G266*(1-$D$3)/Лист2!$A$6,0)","v":774}]
["b0000003429","База.OC ECO",null,"База углового стел (внешний) ECO H=2250",null,"  ",2267,{"$f":"ROUND(G267*(1-$D$3)/Лист2!$A$6,0)","v":2267}]
[null,"E-BP 06900150","E-BP 06900150","E-BP 06900150-30_Панель угловая внешняя H=150 (RAL 9016, глянц)",1,{"$f":"VLOOKUP(B268,'Детали Eco Line'!B$8:D$119,3,0)","v":148},148,{"$f":"ROUND(G268*(1-$D$3)/Лист2!$A$6,0)","v":148}]
[null,"E-BP 06900400","E-BP 06900400","E-BP 06900400-30_Панель угловая внешняя H=400 (RAL 9016, глянц)",5,{"$f":"VLOOKUP(B269,'Детали Eco Line'!B$8:D$119,3,0)","v":242},1210,{"$f":"ROUND(G269*(1-$D$3)/Лист2!$A$6,0)","v":1210}]
[null,"E-ST 06000470","E-ST 06000470","E-ST 06000470-30_Полка угловая внешняя G=470 (RAL 9016, глянц)",1,{"$f":"VLOOKUP(B270,'Детали Eco Line'!B$8:D$119,3,0)","v":909},909,{"$f":"ROUND(G270*(1-$D$3)/Лист2!$A$6,0)","v":909}]
["b0000003270","База.IC ECO",null,"База углового стел (внутренний) ECO H=2100",null,"  ",4064,{"$f":"ROUND(G271*(1-$D$3)/Лист2!$A$6,0)","v":4064}]
[null,"E-BP 05900400",null,"E-BP 05900400-30_Панель угловая внутренняя H=400 (RAL 9016, глянц)",5,{"$f":"VLOOKUP(B272,'Детали Eco Line'!B$8:D$119,3,0)","v":624},3121,{"$f":"ROUND(G272*(1-$D$3)/Лист2!$A$6,0)","v":3121}]
[null,"E-ST 05000470",null,"E-ST 05000470-30_Полка угловая внутренняя G=470 (RAL 9016, глянц)",1,{"$f":"VLOOKUP(B273,'Детали Eco Line'!B$8:D$119,3,0)","v":942},942,{"$f":"ROUND(G273*(1-$D$3)/Лист2!$A$6,0)","v":942}]
["З0000098468","БазаICECO370",null,"База углового стел (внутренний) ECO G=370 H=2250",null,"  ",4282,{"$f":"ROUND(G274*(1-$D$3)/Лист2!$A$6,0)","v":4282}]
[null,"E-BP 05900150",null,"E-BP 05900150-30_Панель угловая внутренняя H=150 (RAL 9016, глянц)",1,{"$f":"VLOOKUP(B275,'Детали Eco Line'!B$8:D$119,3,0)","v":303},303,{"$f":"ROUND(G275*(1-$D$3)/Лист2!$A$6,0)","v":303}]
[null,"E-BP 05900400",null,"E-BP 05900400-30_Панель угловая внутренняя H=400 (RAL 9016, глянц)",5,{"$f":"VLOOKUP(B276,'Детали Eco Line'!B$8:D$119,3,0)","v":624},3121,{"$f":"ROUND(G276*(1-$D$3)/Лист2!$A$6,0)","v":3121}]
[null,"E-ST 05000370",null,"E-ST 05000370-30_Полка угловая внутренняя G=370 (RAL 9016, глянц)",1,{"$f":"VLOOKUP(B277,'Детали Eco Line'!B$8:D$119,3,0)","v":858},858,{"$f":"ROUND(G277*(1-$D$3)/Лист2!$A$6,0)","v":858}]
["b0000003270","База.IC ECO",null,"База углового стел (внутренний) ECO H=2250",null,"  ",4367,{"$f":"ROUND(G278*(1-$D$3)/Лист2!$A$6,0)","v":4367}]
[null,"E-BP 05900150","E-BP 05900150","E-BP 05900150-30_Панель угловая внутренняя H=150 (RAL 9016, глянц)",1,{"$f":"VLOOKUP(B279,'Детали Eco Line'!B$8:D$119,3,0)","v":303},303,{"$f":"ROUND(G279*(1-$D$3)/Лист2!$A$6,0)","v":303}]
[null,"E-BP 05900400","E-BP 05900400","E-BP 05900400-30_Панель угловая внутренняя H=400 (RAL 9016, глянц)",5,{"$f":"VLOOKUP(B280,'Детали Eco Line'!B$8:D$119,3,0)","v":624},3121,{"$f":"ROUND(G280*(1-$D$3)/Лист2!$A$6,0)","v":3121}]
[null,"E-ST 05000470","E-ST 05000470","E-ST 05000470-30_Полка угловая внутренняя G=470 (RAL 9016, глянц)",1,{"$f":"VLOOKUP(B281,'Детали Eco Line'!B$8:D$119,3,0)","v":942},942,{"$f":"ROUND(G281*(1-$D$3)/Лист2!$A$6,0)","v":942}]
["З0000098469","БазаТЕСО370",null,"База торцевого стел ECO L=1000 G=370 H=1600",null,"  ",5339,{"$f":"ROUND(G282*(1-$D$3)/Лист2!$A$6,0)","v":5339}]
[null,"E-BP 01151000",null,"E-BP 01151000-30_Панель задняя ECO L=1000 H=150 (RAL 9016 глянц)",4,{"$f":"VLOOKUP(B283,'Детали Eco Line'!B$8:D$119,3,0)","v":267},1070,{"$f":"ROUND(G283*(1-$D$3)/Лист2!$A$6,0)","v":1070}]
[null,"E-BP 01401000",null,"E-BP 01401000-30_Панель задняя ECO L=1000 H=400 (RAL 9016 глянц)",6,{"$f":"VLOOKUP(B284,'Детали Eco Line'!B$8:D$119,3,0)","v":535},3209,{"$f":"ROUND(G284*(1-$D$3)/Лист2!$A$6,0)","v":3209}]
[null,"E-ST 01371000",null,"E-ST 01371000-30_Полка L=1000 G= 370 (RAL 9016 глянц)",1,{"$f":"VLOOKUP(B285,'Детали Eco Line'!B$8:D$119,3,0)","v":811},811,{"$f":"ROUND(G285*(1-$D$3)/Лист2!$A$6,0)","v":811}]
[null,"E-TC 01601000",null,"E-TC 01601000-30_Крышка стеллажа L=1000 ECO (60х30) (RAL 9016, глянц)",1,{"$f":"VLOOKUP(B286,'Детали Eco Line'!B$8:D$119,3,0)","v":249},249,{"$f":"ROUND(G286*(1-$D$3)/Лист2!$A$6,0)","v":249}]
["b0000002695","База.Т ЕСО",null,"База торцевого стел ECO L=1000 H=1600",null,"  ",5462,{"$f":"ROUND(G287*(1-$D$3)/Лист2!$A$6,0)","v":5462}]
[null,"E-BP 01151000","E-BP 01151000","E-BP 01151000-30_Панель задняя ECO L=1000 H=150 (RAL 9016 глянц)",4,{"$f":"VLOOKUP(B288,'Детали Eco Line'!B$8:D$119,3,0)","v":267},1070,{"$f":"ROUND(G288*(1-$D$3)/Лист2!$A$6,0)","v":1070}]
[null,"E-BP 01401000","E-BP 01401000","E-BP 01401000-30_Панель задняя ECO L=1000 H=400 (RAL 9016 глянц)",6,{"$f":"VLOOKUP(B289,'Детали Eco Line'!B$8:D$119,3,0)","v":535},3209,{"$f":"ROUND(G289*(1-$D$3)/Лист2!$A$6,0)","v":3209}]
[null,"E-ST 01471000","E-ST 01471000","E-ST 01471000-30_Полка L=1000 G=470 (RAL 9016 глянц)",1,{"$f":"VLOOKUP(B290,'Детали Eco Line'!B$8:D$119,3,0)","v":934},934,{"$f":"ROUND(G290*(1-$D$3)/Лист2!$A$6,0)","v":934}]
[null,"E-TC 01601000","E-TC 01601000","E-TC 01601000-30_Крышка стеллажа L=1000 ECO (60х30) (RAL 9016, глянц)",1,{"$f":"VLOOKUP(B291,'Детали Eco Line'!B$8:D$119,3,0)","v":249},249,{"$f":"ROUND(G291*(1-$D$3)/Лист2!$A$6,0)","v":249}]
["b0000002695","База.Т ЕСО",null,"База торцевого стел ECO L=1000 H=1800",null,"  ",5982,{"$f":"ROUND(G292*(1-$D$3)/Лист2!$A$6,0)","v":5982}]
[null,"E-BP 01101000",null,"E-BP 01101000-30_Панель задняя ECO L=1000 H=100 (RAL 9016 глянц)",2,{"$f":"VLOOKUP(B293,'Детали Eco Line'!B$8:D$119,3,0)","v":260},521,{"$f":"ROUND(G293*(1-$D$3)/Лист2!$A$6,0)","v":521}]
[null,"E-BP 01401000",null,"E-BP 01401000-30_Панель задняя ECO L=1000 H=400 (RAL 9016 глянц)",8,{"$f":"VLOOKUP(B294,'Детали Eco Line'!B$8:D$119,3,0)","v":535},4278,{"$f":"ROUND(G294*(1-$D$3)/Лист2!$A$6,0)","v":4278}]
[null,"E-ST 01471000",null,"E-ST 01471000-30_Полка L=1000 G= 470 (RAL 9016 глянц)",1,{"$f":"VLOOKUP(B295,'Детали Eco Line'!B$8:D$119,3,0)","v":934},934,{"$f":"ROUND(G295*(1-$D$3)/Лист2!$A$6,0)","v":934}]
[null,"E-TC 01601000",null,"E-TC 01601000-30_Крышка стеллажа L=1000 ECO (60х30) (RAL 9016, глянц)",1,{"$f":"VLOOKUP(B296,'Детали Eco Line'!B$8:D$119,3,0)","v":249},249,{"$f":"ROUND(G296*(1-$D$3)/Лист2!$A$6,0)","v":249}]
["b0000002695","База.Т ЕСО",null,"База торцевого стел ECO L=1000 H=2250",null,"  ",6817,{"$f":"ROUND(G297*(1-$D$3)/Лист2!$A$6,0)","v":6817}]
[null,"E-BP 01151000","E-BP 01151000","E-BP 01151000-30_Панель задняя ECO L=1000 H=150 (RAL 9016 глянц)",2,{"$f":"VLOOKUP(B298,'Детали Eco Line'!B$8:D$119,3,0)","v":267},535,{"$f":"ROUND(G298*(1-$D$3)/Лист2!$A$6,0)","v":535}]
[null,"E-BP 01401000","E-BP 01401000","E-BP 01401000-30_Панель задняя ECO L=1000 H=400 (RAL 9016 глянц)",10,{"$f":"VLOOKUP(B299,'Детали Eco Line'!B$8:D$119,3,0)","v":535},5348,{"$f":"ROUND(G299*(1-$D$3)/Лист2!$A$6,0)","v":5348}]
[null,"E-ST 01471000","E-ST 01471000","E-ST 01471000-30_Полка L=1000 G=470 (RAL 9016 глянц)",1,{"$f":"VLOOKUP(B300,'Детали Eco Line'!B$8:D$119,3,0)","v":934},934,{"$f":"ROUND(G300*(1-$D$3)/Лист2!$A$6,0)","v":934}]
["З0000013281","БУС Н OC ЕСО ",null,"База  углового стел (внешний) под навес ЕСО H=2250",null,"  ",2119,{"$f":"ROUND(G301*(1-$D$3)/Лист2!$A$6,0)","v":2119}]
[null,"E-BP 06900400","E-BP 06900400","E-BP 06900400-30_Панель угловая внешняя H=400 (RAL 9016, глянц)",5,{"$f":"VLOOKUP(B302,'Детали Eco Line'!B$8:D$119,3,0)","v":242},1210,{"$f":"ROUND(G302*(1-$D$3)/Лист2!$A$6,0)","v":1210}]
[null,"E-ST 06000470","E-ST 06000470","E-ST 06000470-30_Полка угловая внешняя G=470 (RAL 9016, глянц)",1,{"$f":"VLOOKUP(B303,'Детали Eco Line'!B$8:D$119,3,0)","v":909},909,{"$f":"ROUND(G303*(1-$D$3)/Лист2!$A$6,0)","v":909}]
["З0000013295","БУС Н IC ЕСО ",null,"База углового стел (внутренний) под навес ЕСО H=2250",null,"  ",4064,{"$f":"ROUND(G304*(1-$D$3)/Лист2!$A$6,0)","v":4064}]
[null,"E-BP 05900400","E-BP 05900400","E-BP 05900400-30_Панель угловая внутренняя H=400 (RAL 9016, глянц)",5,{"$f":"VLOOKUP(B305,'Детали Eco Line'!B$8:D$119,3,0)","v":624},3121,{"$f":"ROUND(G305*(1-$D$3)/Лист2!$A$6,0)","v":3121}]
[null,"E-ST 05000470","E-ST 05000470","E-ST 05000470-30_Полка угловая внутренняя G=470 (RAL 9016, глянц)",1,{"$f":"VLOOKUP(B306,'Детали Eco Line'!B$8:D$119,3,0)","v":942},942,{"$f":"ROUND(G306*(1-$D$3)/Лист2!$A$6,0)","v":942}]
["b0000003584","Навес/пд ECO",null,"Навес прямой с подсветкой ECO G=470 L=665 (без передней панели)",null,"  ",2492,{"$f":"ROUND(G307*(1-$D$3)/Лист2!$A$6,0)","v":2492}]
[null,"E-TP 03470665","E-TP 03470665","E-TP 03470665-30_Навес прям с подсв G=470L=665 (без перед панел)(RAL 9016 глнц)",1,{"$f":"VLOOKUP(B308,'Детали Eco Line'!B$8:D$119,3,0)","v":2492},2492,{"$f":"ROUND(G308*(1-$D$3)/Лист2!$A$6,0)","v":2492}]
["b0000003584","Навес/пд ECO",null,"Навес прямой с подсветкой ECO G=470 L=1000 (без передней панели)",null,"  ",3085,{"$f":"ROUND(G309*(1-$D$3)/Лист2!$A$6,0)","v":3085}]
[null,"E-TP 03471000","E-TP 03471000","E-TP 03471000-30_Навес прям с подсвG=470L=1000 (без перед панели)(RAL 9016 глнц)",1,{"$f":"VLOOKUP(B310,'Детали Eco Line'!B$8:D$119,3,0)","v":3085},3085,{"$f":"ROUND(G310*(1-$D$3)/Лист2!$A$6,0)","v":3085}]
["b0000003584","Навес/пд ECO",null,"Навес прямой с подсветкой ЕСО G=470 L=1250 (без передней панели)",null,"  ",4013,{"$f":"ROUND(G311*(1-$D$3)/Лист2!$A$6,0)","v":4013}]
[null,"E-TP 03471250","E-TP 03471250","E-TP 03471250-30_Навес прямс подсвG=470L=1000 (без перед панели)(RAL 9016 глнц)",1,{"$f":"VLOOKUP(B312,'Детали Eco Line'!B$8:D$119,3,0)","v":4013},4013,{"$f":"ROUND(G312*(1-$D$3)/Лист2!$A$6,0)","v":4013}]
["b0000003961","Навес IC/пдECO",null,"Навес прямой угл. вн с подсветкой ЕСО G=470",null,"  ",1952,{"$f":"ROUND(G313*(1-$D$3)/Лист2!$A$6,0)","v":1952}]
[null,"E-TP 02470010","E-TP 02470010","E-TP 02470010-30_Навес прямой угл. вн с подсветкой ЕСО G=470 (RAL 9016, глянц)",1,{"$f":"VLOOKUP(B314,'Детали Eco Line'!B$8:D$119,3,0)","v":1952},1952,{"$f":"ROUND(G314*(1-$D$3)/Лист2!$A$6,0)","v":1952}]
["b0000003930","Навес OC/пдECO",null,"Навес прямой угл. внеш подсветкой ЕСО G=470",null,"  ",2882,{"$f":"ROUND(G315*(1-$D$3)/Лист2!$A$6,0)","v":2882}]
[null,"E-TP 02470020","E-TP 02470020","E-TP 02470020-30_Навес прямой угл. внеш подсветкой ЕСО G=470 (RAL 9016, глянц)",1,{"$f":"VLOOKUP(B316,'Детали Eco Line'!B$8:D$119,3,0)","v":2882},2882,{"$f":"ROUND(G316*(1-$D$3)/Лист2!$A$6,0)","v":2882}]
[null,"Загл.стойкиЕСО30х60",null,"Заглушка стойки 30x60 (для плинт с одним зацеп)",null,"  ",120,{"$f":"ROUND(G317*(1-$D$3)/Лист2!$A$6,0)","v":120}]
[null,"N-LC 01003060",null,"N-LC 01003060_Заглушка стойки 30x60 (для плинт с одним зацеп)",1,{"$f":"VLOOKUP(B318,'Детали Eco Line'!B$8:D$119,3,0)","v":120},120,{"$f":"ROUND(G318*(1-$D$3)/Лист2!$A$6,0)","v":120}]
[null,"Плинт.стойкиЕСО665",null,"Плинтус с одним зацепом (для стойки Эколайн),L=665",null,"  ",230,{"$f":"ROUND(G319*(1-$D$3)/Лист2!$A$6,0)","v":230}]
[null,"N-PT 00200665",null,"N-PT 00200665_Плинтус с одним зацепом (для стойки Эколайн),L=665",1,{"$f":"VLOOKUP(B320,'Детали Eco Line'!B$8:D$119,3,0)","v":230},230,{"$f":"ROUND(G320*(1-$D$3)/Лист2!$A$6,0)","v":230}]
[null,"Плинт.стойкиЕСО1000",null,"Плинтус с одним зацепом (для стойки Эколайн),L=1000",null,"  ",280,{"$f":"ROUND(G321*(1-$D$3)/Лист2!$A$6,0)","v":280}]
[null,"N-PT 00201000",null,"N-PT 00201000_Плинтус с одним зацепом (для стойки Эколайн),L=1000",1,{"$f":"VLOOKUP(B322,'Детали Eco Line'!B$8:D$119,3,0)","v":280},280,{"$f":"ROUND(G322*(1-$D$3)/Лист2!$A$6,0)","v":280}]
[null,"Плинт.стойкиЕСО1250",null,"Плинтус с одним зацепом (для стойки Эколайн),L=1250",null,"  ",377,{"$f":"ROUND(G323*(1-$D$3)/Лист2!$A$6,0)","v":377}]
[null,"N-PT 00201250",null,"N-PT 00201250_Плинтус с одним зацепом (для стойки Эколайн),L=1250",1,{"$f":"VLOOKUP(B324,'Детали Eco Line'!B$8:D$119,3,0)","v":377},{"$f":"F324*E324","v":377},null,{"$f":"ROUND(G324*#REF!,0)","v":{"$error":"#REF!"}}]

{"sheet":"Детали Eco Line","index":3,"n_rows":124,"n_cols":5,"rows_kept":124,"cut":false,"hidden":false,"merged":[[122,0,122,2],[6,3,7,3],[6,4,7,4],[121,0,121,1],[1,0,1,1],[2,0,2,1],[3,0,3,1],[6,0,7,0],[6,1,7,1],[6,2,7,2]]}
["Детали торговых стеллажей ECO LINE ","Детали торговых стеллажей Eco Line"]
[]
["Ваша скидка:",null,{"$f":"Содержание!C2","v":0}]
["НДС:",null,{"$f":"IF(Лист2!A1=TRUE,\"С НДС\",\"БЕЗ НДС\")","v":"С НДС"}]
[]
[null,null,"Новинки"]
["N","Артикул","Наименование","Базовая цена, руб. (с НДС)",{"$f":"[7]Лист2!$A$5","v":"Ваша цена, руб."}]
[null,null,null,null,{"$f":"[7]Лист2!$A$5","v":"Ваша цена, руб."}]
[1,"E-BP 01100665","Панель задняя ECO L=665 H=100",203,{"$f":"ROUND(D9*(1-$C$3)/Лист2!$A$6,0)","v":203}]
[2,"E-BP 01101000","Панель задняя ECO L=1000 H=100",260,{"$f":"ROUND(D10*(1-$C$3)/Лист2!$A$6,0)","v":260}]
[3,"E-BP 01101250","Панель задняя ECO L=1250 H=100",301,{"$f":"ROUND(D11*(1-$C$3)/Лист2!$A$6,0)","v":301}]
[4,"E-BP 01150665","Панель задняя ECO L=665 H=150",221,{"$f":"ROUND(D12*(1-$C$3)/Лист2!$A$6,0)","v":221}]
[5,"E-BP 01151000","Панель задняя ECO L=1000 H=150",267,{"$f":"ROUND(D13*(1-$C$3)/Лист2!$A$6,0)","v":267}]
[6,"E-BP 01151250","Панель задняя ECO L=1250 H=150",320,{"$f":"ROUND(D14*(1-$C$3)/Лист2!$A$6,0)","v":320}]
[7,"E-BP 01400665","Панель задняя ECO L=665 H=400",371,{"$f":"ROUND(D15*(1-$C$3)/Лист2!$A$6,0)","v":371}]
[8,"E-BP 01401000","Панель задняя ECO L=1000 H=400",535,{"$f":"ROUND(D16*(1-$C$3)/Лист2!$A$6,0)","v":535}]
[9,"E-BP 01401250","Панель задняя ECO L=1250 H=400",653,{"$f":"ROUND(D17*(1-$C$3)/Лист2!$A$6,0)","v":653}]
[10,"E-BP 02150665","Панель перфорированная ECO L=665 H=150",431,{"$f":"ROUND(D18*(1-$C$3)/Лист2!$A$6,0)","v":431}]
[11,"E-BP 02151000","Панель перфорированная ECO L=1000 H=150",543,{"$f":"ROUND(D19*(1-$C$3)/Лист2!$A$6,0)","v":543}]
[12,"E-BP 02151250","Панель перфорированная ECO L=1250 H=150",651,{"$f":"ROUND(D20*(1-$C$3)/Лист2!$A$6,0)","v":651}]
[13,"E-BP 02400665","Панель перфорированная ECO L=665 H=400",563,{"$f":"ROUND(D21*(1-$C$3)/Лист2!$A$6,0)","v":563}]
[14,"E-BP 02401000","Панель перфорированная ECO L=1000 H=400",816,{"$f":"ROUND(D22*(1-$C$3)/Лист2!$A$6,0)","v":816}]
[15,"E-BP 02401250","Панель перфорированная ECO L=1250 H=400",1011,{"$f":"ROUND(D23*(1-$C$3)/Лист2!$A$6,0)","v":1011}]
[16,"E-BP 05900150","Панель угловая внутренняя H=150",303,{"$f":"ROUND(D24*(1-$C$3)/Лист2!$A$6,0)","v":303}]
[17,"E-BP 05900400","Панель угловая внутренняя H=400",624,{"$f":"ROUND(D25*(1-$C$3)/Лист2!$A$6,0)","v":624}]
[18,"E-BP 06900150","Панель угловая внешняя H=150",148,{"$f":"ROUND(D26*(1-$C$3)/Лист2!$A$6,0)","v":148}]
[19,"E-BP 06900400","Панель угловая внешняя H=400",242,{"$f":"ROUND(D27*(1-$C$3)/Лист2!$A$6,0)","v":242}]
[20,"E-BS 01000310","Кронштейн G=310 (комплект)",199,{"$f":"ROUND(D28*(1-$C$3)/Лист2!$A$6,0)","v":199}]
[21,"E-BS 01000370","Кронштейн G=370 (комплект)",250,{"$f":"ROUND(D29*(1-$C$3)/Лист2!$A$6,0)","v":250}]
[22,"E-BS 01000470","Кронштейн G=470 (комплект)",451,{"$f":"ROUND(D30*(1-$C$3)/Лист2!$A$6,0)","v":451}]
[23,"E-BS 15020210","Кроншт для торц полукр полок комп с адапт стойк60х30с торц баз, G=210",970,{"$f":"ROUND(D31*(1-$C$3)/Лист2!$A$6,0)","v":970}]
[24,"E-BS 15020310","Кроншт для торц полукр полок комп с адапт стойк60х30с торц баз, G=310",1074,{"$f":"ROUND(D32*(1-$C$3)/Лист2!$A$6,0)","v":1074}]
[25,"E-BS 15020370","Кроншт для торц полукр полок комп с адапт стойк60х30с торц баз, G=370",1164,{"$f":"ROUND(D33*(1-$C$3)/Лист2!$A$6,0)","v":1164}]
[26,"E-BS 15020470","Кроншт для торц полукр полок комп с адапт стойк60х30с торц баз, G=470",1586,{"$f":"ROUND(D34*(1-$C$3)/Лист2!$A$6,0)","v":1586}]
[27,"E-LT 16037150","Стойка сварная с двухст перф (60х30)L-образ H=1500, G=370",1344,{"$f":"ROUND(D35*(1-$C$3)/Лист2!$A$6,0)","v":1344}]
[28,"E-LT 16037160","Стойка сварная с двухст перф (60х30)L-образ H=1600, G=370",1378,{"$f":"ROUND(D36*(1-$C$3)/Лист2!$A$6,0)","v":1378}]
[29,"E-LT 16037180","Стойка сварная с двухст перф (60х30)L-образ H=1800, G=370",1472,{"$f":"ROUND(D37*(1-$C$3)/Лист2!$A$6,0)","v":1472}]
[30,"E-LT 16037210","Стойка сварная с двухст перф (60х30)L-образ H=2100, G=370",1643,{"$f":"ROUND(D38*(1-$C$3)/Лист2!$A$6,0)","v":1643}]
[31,"E-LT 16037225","Стойка сварная с двухст перф (60х30)L-образ H=2250, G=370",1697,{"$f":"ROUND(D39*(1-$C$3)/Лист2!$A$6,0)","v":1697}]
[32,"E-LT 22371600","Стойка сварн 80х30 с базой 60х30 L-образ H=1600, G=370",1939,{"$f":"ROUND(D40*(1-$C$3)/Лист2!$A$6,0)","v":1939}]
[33,"E-LT 22371800","Стойка сварн 80х30 с базой 60х30 L-образ H=1800, G=370",2109,{"$f":"ROUND(D41*(1-$C$3)/Лист2!$A$6,0)","v":2109}]
[34,"E-LT 22372100","Стойка сварн 80х30 с базой 60х30 L-образ H=2100, G=370",2205,{"$f":"ROUND(D42*(1-$C$3)/Лист2!$A$6,0)","v":2205}]
[35,"E-LT 22372250","Стойка сварн 80х30 с базой 60х30 L-образ H=2250, G=370",2451,{"$f":"ROUND(D43*(1-$C$3)/Лист2!$A$6,0)","v":2451}]
[36,"E-LT 22471600","Стойка сварн 80х30 с базой 60х30 L-образ H=1600, G=470",1989,{"$f":"ROUND(D44*(1-$C$3)/Лист2!$A$6,0)","v":1989}]
[37,"E-LT 22471800","Стойка сварн 80х30 с базой 60х30 L-образ H=1800, G=470",2142,{"$f":"ROUND(D45*(1-$C$3)/Лист2!$A$6,0)","v":2142}]
[38,"E-LT 22472100","Стойка сварн 80х30 с базой 60х30 L-образ H=2100, G=470",2269,{"$f":"ROUND(D46*(1-$C$3)/Лист2!$A$6,0)","v":2269}]
[39,"E-LT 22472250","Стойка сварн 80х30 с базой 60х30 L-образ H=2250, G=470",2411,{"$f":"ROUND(D47*(1-$C$3)/Лист2!$A$6,0)","v":2411}]
[40,"E-LT 02601500","Стойка сварная с двухстор.перф. L-образная Н=1500",1561,{"$f":"ROUND(D48*(1-$C$3)/Лист2!$A$6,0)","v":1561}]
[41,"E-LT 02601600","Стойка сварная с двухстор.перф. L-образная Н=1600",1614,{"$f":"ROUND(D49*(1-$C$3)/Лист2!$A$6,0)","v":1614}]
[42,"E-LT 02601700","Стойка сварная с двухстор.перф. L-образная Н=1700",1653,{"$f":"ROUND(D50*(1-$C$3)/Лист2!$A$6,0)","v":1653}]
[43,"E-LT 02601800","Стойка сварная с двухстор.перф. L-образная Н=1800",1696,{"$f":"ROUND(D51*(1-$C$3)/Лист2!$A$6,0)","v":1696}]
[44,"E-LT 02602000","Стойка сварная с двухстор.перф. L-образная Н=2000",1773,{"$f":"ROUND(D52*(1-$C$3)/Лист2!$A$6,0)","v":1773}]
[45,"E-LT 02602100","Стойка сварная с двухстор.перф. L-образная Н=2100",1812,{"$f":"ROUND(D53*(1-$C$3)/Лист2!$A$6,0)","v":1812}]
[46,"E-LT 02602250","Стойка сварная с двухстор.перф. L-образная Н=2250",1878,{"$f":"ROUND(D54*(1-$C$3)/Лист2!$A$6,0)","v":1878}]
[47,"E-LT 26037150","Стойка сварная с двухст перф (60х30)Т-образ H=1500, G=370х2",1834,{"$f":"ROUND(D55*(1-$C$3)/Лист2!$A$6,0)","v":1834}]
[48,"E-LT 26037160","Стойка сварная с двухст перф (60х30)Т-образ H=1600, G=370х2",1998,{"$f":"ROUND(D56*(1-$C$3)/Лист2!$A$6,0)","v":1998}]
[49,"E-LT 26037180","Стойка сварная с двухст перф (60х30)Т-образ H=1800, G=370х2",2161,{"$f":"ROUND(D57*(1-$C$3)/Лист2!$A$6,0)","v":2161}]
[null,"E-LT 26037225","Стойка сварная с двухст перф (60х30)Т-образ H=2250, G=370х2",2391,{"$f":"ROUND(D58*(1-$C$3)/Лист2!$A$6,0)","v":2391}]
[50,"E-LT 86371600","Стойка сварн 80х30 с базой 60х30 Т-образ H=1600, G=370",2472,{"$f":"ROUND(D59*(1-$C$3)/Лист2!$A$6,0)","v":2472}]
[51,"E-LT 86371800","Стойка сварн 80х30 с базой 60х30 Т-образ H=1800, G=370",2630,{"$f":"ROUND(D60*(1-$C$3)/Лист2!$A$6,0)","v":2630}]
[52,"E-LT 86372100","Стойка сварн 80х30 с базой 60х30 Т-образ H=2100, G=370",2784,{"$f":"ROUND(D61*(1-$C$3)/Лист2!$A$6,0)","v":2784}]
[53,"E-LT 86372250","Стойка сварн 80х30 с базой 60х30 Т-образ H=2250, G=370",2925,{"$f":"ROUND(D62*(1-$C$3)/Лист2!$A$6,0)","v":2925}]
[54,"E-LT 86471600","Стойка сварн 80х30 с базой 60х30 Т-образ H=1600, G=470",2669,{"$f":"ROUND(D63*(1-$C$3)/Лист2!$A$6,0)","v":2669}]
[55,"E-LT 86471800","Стойка сварн 80х30 с базой 60х30 Т-образ H=1800, G=470",2742,{"$f":"ROUND(D64*(1-$C$3)/Лист2!$A$6,0)","v":2742}]
[56,"E-LT 86472100","Стойка сварн 80х30 с базой 60х30 Т-образ H=2100, G=470",2943,{"$f":"ROUND(D65*(1-$C$3)/Лист2!$A$6,0)","v":2943}]
[57,"E-LT 86472250","Стойка сварн 80х30 с базой 60х30 Т-образ H=2250, G=470",3076,{"$f":"ROUND(D66*(1-$C$3)/Лист2!$A$6,0)","v":3076}]
[58,"E-LT 82471500","Стойка сварная с двухстор.перф. T-образная Н=1500",2279,{"$f":"ROUND(D67*(1-$C$3)/Лист2!$A$6,0)","v":2279}]
[59,"E-LT 82471600","Стойка сварная с двухстор.перф. T-образная Н=1600",2315,{"$f":"ROUND(D68*(1-$C$3)/Лист2!$A$6,0)","v":2315}]
[60,"E-LT 82471700","Стойка сварная с двухстор.перф. T-образная Н=1700",2356,{"$f":"ROUND(D69*(1-$C$3)/Лист2!$A$6,0)","v":2356}]
[61,"E-LT 82471800","Стойка сварная с двухстор.перф. T-образная Н=1800",2393,{"$f":"ROUND(D70*(1-$C$3)/Лист2!$A$6,0)","v":2393}]
[62,"E-LT 82472100","Стойка сварная с двухстор.перф. T-образная Н=2100",2497,{"$f":"ROUND(D71*(1-$C$3)/Лист2!$A$6,0)","v":2497}]
[63,"E-LT 82472250","Стойка сварная с двухстор.перф. T-образная Н=2250",2587,{"$f":"ROUND(D72*(1-$C$3)/Лист2!$A$6,0)","v":2587}]
[64,"T-LT 81371600","Стойка 30х60 с торцевой базой, G=370 Н = 1600",4886,{"$f":"ROUND(D73*(1-$C$3)/Лист2!$A$6,0)","v":4886}]
[65,"T-LT 81371800","Стойка 30х60 с торцевой базой, G=370 Н = 1800",4931,{"$f":"ROUND(D74*(1-$C$3)/Лист2!$A$6,0)","v":4931}]
[66,"T-LT 81372250","Стойка 30х60 с торцевой базой, G=370 Н = 2250",5013,{"$f":"ROUND(D75*(1-$C$3)/Лист2!$A$6,0)","v":5013}]
[67,"T-LT 81471600","Стойка 30х60 с торцевой базой, G=470 Н = 1600",5016,{"$f":"ROUND(D76*(1-$C$3)/Лист2!$A$6,0)","v":5016}]
[68,"T-LT 81471800","Стойка 30х60 с торцевой базой, G=470 Н = 1800",5062,{"$f":"ROUND(D77*(1-$C$3)/Лист2!$A$6,0)","v":5062}]
[69,"T-LT 81472250","Стойка 30х60 с торцевой базой, G=470 Н = 2250",5150,{"$f":"ROUND(D78*(1-$C$3)/Лист2!$A$6,0)","v":5150}]
[70,"E-ST 01310665","Полка L=665 G=310",453,{"$f":"ROUND(D79*(1-$C$3)/Лист2!$A$6,0)","v":453}]
[71,"E-ST 01311000","Полка L=1000 G=310",618,{"$f":"ROUND(D80*(1-$C$3)/Лист2!$A$6,0)","v":618}]
[72,"E-ST 01311250","Полка L=1250 G=310",751,{"$f":"ROUND(D81*(1-$C$3)/Лист2!$A$6,0)","v":751}]
[73,"E-ST 01370665","Полка L=665 G=370",539,{"$f":"ROUND(D82*(1-$C$3)/Лист2!$A$6,0)","v":539}]
[74,"E-ST 01371000","Полка L=1000 G=370",811,{"$f":"ROUND(D83*(1-$C$3)/Лист2!$A$6,0)","v":811}]
[75,"E-ST 01371250","Полка L=1250 G=370",891,{"$f":"ROUND(D84*(1-$C$3)/Лист2!$A$6,0)","v":891}]
[76,"E-ST 01470665","Полка L=665 G=470",655,{"$f":"ROUND(D85*(1-$C$3)/Лист2!$A$6,0)","v":655}]
[77,"E-ST 01471000","Полка L=1000 G=470",934,{"$f":"ROUND(D86*(1-$C$3)/Лист2!$A$6,0)","v":934}]
[78,"E-ST 01471250","Полка L=1250 G=470",1113,{"$f":"ROUND(D87*(1-$C$3)/Лист2!$A$6,0)","v":1113}]
[79,"E-ST 05000310","Полка угловая внутренняя G=310",722,{"$f":"ROUND(D88*(1-$C$3)/Лист2!$A$6,0)","v":722}]
[80,"E-ST 05000370","Полка угловая внутренняя G=370",858,{"$f":"ROUND(D89*(1-$C$3)/Лист2!$A$6,0)","v":858}]
[81,"E-ST 05000470","Полка угловая внутренняя G=470",942,{"$f":"ROUND(D90*(1-$C$3)/Лист2!$A$6,0)","v":942}]
[82,"E-ST 06000310","Полка угловая внешняя G=310",605,{"$f":"ROUND(D91*(1-$C$3)/Лист2!$A$6,0)","v":605}]
[83,"E-ST 06000370","Полка угловая внешняя G=370",774,{"$f":"ROUND(D92*(1-$C$3)/Лист2!$A$6,0)","v":774}]
[84,"E-ST 06000470","Полка угловая внешняя G=470",909,{"$f":"ROUND(D93*(1-$C$3)/Лист2!$A$6,0)","v":909}]
[85,"E-TC 01600665","Крышка стеллажа L=665 ECO (60х30)",186,{"$f":"ROUND(D94*(1-$C$3)/Лист2!$A$6,0)","v":186}]
[86,"E-TC 01601000","Крышка стеллажа L=1000 ECO (60х30)",249,{"$f":"ROUND(D95*(1-$C$3)/Лист2!$A$6,0)","v":249}]
[87,"E-TC 01601250","Крышка стеллажа L=1250 ECO (60х30)",310,{"$f":"ROUND(D96*(1-$C$3)/Лист2!$A$6,0)","v":310}]
[88,"E-TP 03470665","Навес прямой с подсветкой G=470 L=665 (без передней панели)",2492,{"$f":"ROUND(D97*(1-$C$3)/Лист2!$A$6,0)","v":2492}]
[89,"E-TP 03471000","Навес прямой с подсветкой G=470 L=1000 (без передней панели)",3085,{"$f":"ROUND(D98*(1-$C$3)/Лист2!$A$6,0)","v":3085}]
[90,"E-TP 03471250","Навес прямой с подсветкой G=470 L=1250 (без передней панели)",4013,{"$f":"ROUND(D99*(1-$C$3)/Лист2!$A$6,0)","v":4013}]
[91,"E-TP 02470010","Навес прямой угловой внутренний с подсветкой G=470",1952,{"$f":"ROUND(D100*(1-$C$3)/Лист2!$A$6,0)","v":1952}]
[92,"E-TP 02470020","Навес прямой угловой внешний с подсветкой G=470",2882,{"$f":"ROUND(D101*(1-$C$3)/Лист2!$A$6,0)","v":2882}]
[93,"N-LC 01003060","Заглушка стойки 30x60 (для плинт с одним зацеп)",120,{"$f":"ROUND(D102*(1-$C$3)/Лист2!$A$6,0)","v":120}]
[94,"N-PT 00200665","Плинтус с одним зацепом (для стойки Эколайн),L=665",230,{"$f":"ROUND(D103*(1-$C$3)/Лист2!$A$6,0)","v":230}]
[95,"N-PT 00201000","Плинтус с одним зацепом (для стойки Эколайн),L=1000",280,{"$f":"ROUND(D104*(1-$C$3)/Лист2!$A$6,0)","v":280}]
[96,"N-PT 00201250","Плинтус с одним зацепом (для стойки Эколайн),L=1250",377,{"$f":"ROUND(D105*(1-$C$3)/Лист2!$A$6,0)","v":377}]
[97,"N-PT 00200370","Плинтус с одним зацеп угол внутр (для стойки Эколайн), G=370",323,{"$f":"ROUND(D106*(1-$C$3)/Лист2!$A$6,0)","v":323}]
[98,"N-PT 00200470","Плинтус с одним зацеп угол внутр (для стойки Эколайн), G=470",309,{"$f":"ROUND(D107*(1-$C$3)/Лист2!$A$6,0)","v":309}]
[99,"N-PT 00210370","Плинтус с одним зацеп угол внеш (для стойки Эколайн), G=370",420,{"$f":"ROUND(D108*(1-$C$3)/Лист2!$A$6,0)","v":420}]
[100,"N-PT 00210470","Плинтус с одним зацеп угол внеш (для стойки Эколайн), G=470",434,{"$f":"ROUND(D109*(1-$C$3)/Лист2!$A$6,0)","v":434}]
[101,"E-ST 02300210","Полка торцевая полукруглая под ограничитель G=210",816,{"$f":"ROUND(D110*(1-$C$3)/Лист2!$A$6,0)","v":816}]
[102,"E-ST 02300310","Полка торцевая полукруглая под ограничитель G=310",1169,{"$f":"ROUND(D111*(1-$C$3)/Лист2!$A$6,0)","v":1169}]
[103,"E-ST 02300370","Полка торцевая полукруглая под ограничитель G=370",1418,{"$f":"ROUND(D112*(1-$C$3)/Лист2!$A$6,0)","v":1418}]
[104,"E-ST 02300470","Полка торцевая полукруглая под ограничитель G=470",1880,{"$f":"ROUND(D113*(1-$C$3)/Лист2!$A$6,0)","v":1880}]
[105,"E-BW 13081000","Полка реечная (э) G=470 H=80 L=1000(массив листвен)",2849,{"$f":"ROUND(D114*(1-$C$3)/Лист2!$A$6,0)","v":2849}]
[106,"E-BW 12251000","Полка реечная высокая (э) G=470 H=250 L=1000(массив листвен)",3410,{"$f":"ROUND(D115*(1-$C$3)/Лист2!$A$6,0)","v":3410}]
[107,"E-BW 11501000","Накопитель реечн (э) G=470 H=500 L=1000 (массив листвен)",4331,{"$f":"ROUND(D116*(1-$C$3)/Лист2!$A$6,0)","v":4331}]
[108,"E-SS 03471600","Боковина сетчатая Eco, H=1600, G=470",3717,{"$f":"ROUND(D117*(1-$C$3)/Лист2!$A$6,0)","v":3717}]
[109,"E-SS 03471800","Боковина сетчатая Eco, H=1800, G=470",4026,{"$f":"ROUND(D118*(1-$C$3)/Лист2!$A$6,0)","v":4026}]
[110,"E-SS 03472250","Боковина сетчатая Eco, H=2250, G=470",4641,{"$f":"ROUND(D119*(1-$C$3)/Лист2!$A$6,0)","v":4641}]
[111,"T-FT 03000070","Опора регулируемая М10х45 (КДАБ.301319.008-01) ",57,{"$f":"ROUND(D120*(1-$C$3)/Лист2!$A$6,0)","v":57}]
[]
["Примечание:"]
["Деталь N-PT 00200 Плинтус с одним зацепом (для стойки Эколайн) может использоваться только с изделием:"]
[null,"N-LC 01003060","Заглушка стойки 30x60 (для плинт с одним зацеп)"]

{"sheet":"Сборки Eco Line","index":4,"n_rows":137,"n_cols":8,"rows_kept":137,"cut":false,"hidden":false,"merged":[[2,0,2,1],[3,0,3,1],[5,0,6,0],[5,1,6,1],[5,2,6,2],[5,3,6,3],[5,4,5,5],[7,1,7,3],[7,5,11,5],[7,6,11,6],[8,0,11,0],[12,1,12,3],[12,5,16,5],[12,6,16,6],[13,0,16,0],[25,1,25,3],[25,5,27,5],[25,6,27,6],[26,0,27,0],[28,1,28,3],[28,5,30,5],[28,6,30,6],[29,0,30,0],[17,1,17,3],[17,5,21,5],[17,6,21,6],[18,0,21,0],[22,1,22,3],[22,5,24,5],[22,6,24,6],[23,0,24,0],[41,1,41,3],[41,5,45,5],[41,6,45,6],[42,0,45,0],[46,1,46,3],[46,5,50,5],[46,6,50,6],[47,0,50,0],[31,1,31,3],[31,5,35,5],[31,6,35,6],[32,0,35,0],[36,1,36,3],[36,5,40,5],[36,6,40,6],[37,0,40,0],[61,1,61,3],[61,5,65,5],[61,6,65,6],[62,0,65,0],[66,1,66,3],[66,5,70,5],[66,6,70,6],[67,0,70,0],[51,1,51,3],[51,5,55,5],[51,6,55,6],[52,0,55,0],[56,1,56,3],[56,5,60,5],[56,6,60,6],[57,0,60,0],[81,1,81,3],[81,5,85,5],[81,6,85,6],[82,0,85,0],[86,1,86,3],[86,5,90,5],[86,6,90,6],[87,0,90,0],[71,1,71,3],[71,5,75,5],[71,6,75,6],[72,0,75,0],[76,1,76,3],[76,5,80,5],[76,6,80,6],[77,0,80,0],[103,1,103,3],[103,5,108,5],[103,6,108,6],[104,0,108,0],[109,1,109,3],[109,5,114,5],[109,6,114,6],[110,0,114,0],[91,1,91,3],[91,5,96,5],[91,6,96,6],[92,0,96,0],[97,1,97,3],[97,5,102,5],[97,6,102,6],[98,0,102,0],[125,1,125,3],[125,5,130,5],[125,6,130,6],[126,0,130,0],[131,1,131,3],[131,5,136,5],[131,6,136,6],[132,0,136,0],[115,1,115,3],[115,5,119,5],[115,6,119,6],[116,0,119,0],[120,1,120,3],[120,5,124,5],[120,6,124,6],[121,0,124,0]]}
["Cборки торговых стеллажей ECO LINE ",null,null,null,null,null,null,"На главную"]
[]
["Ваша скидка:",null,{"$f":"Содержание!C2","v":0}]
["НДС:",null,{"$f":"IF(Лист2!A1=TRUE,\"С НДС\",\"БЕЗ НДС\")","v":"С НДС"}]
[]
["Изображение","Артикул","Наименование","Кол-во  в сборке, шт.","Базовая цена, руб. (с НДС)",null,{"$f":"[7]Лист2!$A$5","v":"Ваша цена, руб."}]
[null,null,null,null,"за элемент в сборке","за сборку","за сборку"]
[1,"Пристенный стеллаж L=665 мм H=2250 мм",null,null,null,{"$f":"SUMPRODUCT(D9:D12,E9:E12)","v":7493},{"$f":"ROUND(F8*(1-$C$3)/Лист2!$A$6,0)","v":7493}]
[null,"Стойка.1 ЕCO","Стойка ЕCO односторонняя H=2250",1,{"$f":"INDEX('Комплекты Eco Line'!$G$9:$G$314,MATCH('Сборки Eco Line'!C9,'Комплекты Eco Line'!$D$9:$D$323,))","v":1878}]
[null,"Полка ЕСО","Полка ECO 665х310 с кроншт",2,{"$f":"INDEX('Комплекты Eco Line'!$G$9:$G$314,MATCH('Сборки Eco Line'!C10,'Комплекты Eco Line'!$D$9:$D$323,))","v":653}]
[null,"Полка ЕСО","Полка ECO 665х370 с кроншт",2,{"$f":"INDEX('Комплекты Eco Line'!$G$9:$G$314,MATCH('Сборки Eco Line'!C11,'Комплекты Eco Line'!$D$9:$D$323,))","v":789}]
[null,"База.Пр ЕСО","База пристенного стеллажа ECO L=665 H=2250",1,{"$f":"INDEX('Комплекты Eco Line'!$G$9:$G$314,MATCH('Сборки Eco Line'!C12,'Комплекты Eco Line'!$D$9:$D$323,))","v":2731}]
[2,"Пристенный стеллаж L=1000 мм H=2250 мм",null,null,null,{"$f":"SUMPRODUCT(D14:D17,E14:E17)","v":9510},{"$f":"ROUND(F13*(1-$C$3)/Лист2!$A$6,0)","v":9510}]
[null,"Стойка.1 ЕCO","Стойка ЕCO односторонняя H=2250",1,{"$f":"INDEX('Комплекты Eco Line'!$G$9:$G$314,MATCH('Сборки Eco Line'!C14,'Комплекты Eco Line'!$D$9:$D$323,))","v":1878}]
[null,"Полка ЕСО","Полка ECO 1000х310 с кроншт",2,{"$f":"INDEX('Комплекты Eco Line'!$G$9:$G$314,MATCH('Сборки Eco Line'!C15,'Комплекты Eco Line'!$D$9:$D$323,))","v":817}]
[null,"Полка ЕСО","Полка ECO 1000х370 с кроншт",2,{"$f":"INDEX('Комплекты Eco Line'!$G$9:$G$314,MATCH('Сборки Eco Line'!C16,'Комплекты Eco Line'!$D$9:$D$323,))","v":1061}]
[null,"База.Пр ЕСО","База пристенного стеллажа ECO L=1000  H=2250",1,{"$f":"INDEX('Комплекты Eco Line'!$G$9:$G$314,MATCH('Сборки Eco Line'!C17,'Комплекты Eco Line'!$D$9:$D$323,))","v":3876}]
[3,"Пристенный стеллаж L=1250 мм H=2250 мм",null,null,null,{"$f":"SUMPRODUCT(D19:D22,E19:E22)","v":10759},{"$f":"ROUND(F18*(1-$C$3)/Лист2!$A$6,0)","v":10759}]
[null,"Стойка.1 ЕCO","Стойка ЕCO односторонняя H=2250",1,{"$f":"INDEX('Комплекты Eco Line'!$G$9:$G$314,MATCH('Сборки Eco Line'!C19,'Комплекты Eco Line'!$D$9:$D$323,))","v":1878}]
[null,"Полка ЕСО","Полка ECO 1250х310 с кроншт",2,{"$f":"INDEX('Комплекты Eco Line'!$G$9:$G$314,MATCH('Сборки Eco Line'!C20,'Комплекты Eco Line'!$D$9:$D$323,))","v":951}]
[null,"Полка ЕСО","Полка ECO 1250х370 с кроншт",2,{"$f":"INDEX('Комплекты Eco Line'!$G$9:$G$314,MATCH('Сборки Eco Line'!C21,'Комплекты Eco Line'!$D$9:$D$323,))","v":1141}]
[null,"База.Пр ЕСО","База пристенного стеллажа ECO L=1250  H=2250",1,{"$f":"INDEX('Комплекты Eco Line'!$G$9:$G$314,MATCH('Сборки Eco Line'!C22,'Комплекты Eco Line'!$D$9:$D$323,))","v":4697}]
[4,"Пристенный перфорированный стеллаж L=665 мм H=2250 мм",null,null,null,{"$f":"SUMPRODUCT(D24:D25,E24:E25)","v":5570},{"$f":"ROUND(F23*(1-$C$3)/Лист2!$A$6,0)","v":5570}]
[null,"Стойка.1 ЕCO","Стойка ЕCO односторонняя H=2250",1,{"$f":"INDEX('Комплекты Eco Line'!$G$9:$G$314,MATCH('Сборки Eco Line'!C24,'Комплекты Eco Line'!$D$9:$D$323,))","v":1878}]
[null,"База.Пер ЕСО","База пристенного перфориров стел ECO L=665 H=2250",1,{"$f":"INDEX('Комплекты Eco Line'!$G$9:$G$314,MATCH('Сборки Eco Line'!C25,'Комплекты Eco Line'!$D$9:$D$323,))","v":3692}]
[5,"Пристенный перфорированный стеллаж L=1000 мм H=2250 мм",null,null,null,{"$f":"SUMPRODUCT(D27:D28,E27:E28)","v":7162},{"$f":"ROUND(F26*(1-$C$3)/Лист2!$A$6,0)","v":7162}]
[null,"Стойка.1 ЕCO","Стойка ЕCO односторонняя H=2250",1,{"$f":"INDEX('Комплекты Eco Line'!$G$9:$G$314,MATCH('Сборки Eco Line'!C27,'Комплекты Eco Line'!$D$9:$D$323,))","v":1878}]
[null,"База.Пер ЕСО","База пристенного перфориров стел ECO L=1000  H=2250",1,{"$f":"INDEX('Комплекты Eco Line'!$G$9:$G$314,MATCH('Сборки Eco Line'!C28,'Комплекты Eco Line'!$D$9:$D$323,))","v":5284}]
[6,"Пристенный перфорированный стеллаж L=1250 мм H=2250 мм",null,null,null,{"$f":"SUMPRODUCT(D30:D31,E30:E31)","v":8364},{"$f":"ROUND(F29*(1-$C$3)/Лист2!$A$6,0)","v":8364}]
[null,"Стойка.1 ЕCO","Стойка ЕCO односторонняя H=2250",1,{"$f":"INDEX('Комплекты Eco Line'!$G$9:$G$314,MATCH('Сборки Eco Line'!C30,'Комплекты Eco Line'!$D$9:$D$323,))","v":1878}]
[null,"База.Пер ЕСО","База пристенного перфориров стел ECO L=1250  H=2250",1,{"$f":"INDEX('Комплекты Eco Line'!$G$9:$G$314,MATCH('Сборки Eco Line'!C31,'Комплекты Eco Line'!$D$9:$D$323,))","v":6486}]
[7,"Островной стеллаж L=665 мм H=1600 мм",null,null,null,{"$f":"SUMPRODUCT(D33:D36,E33:E36)","v":11381},{"$f":"ROUND(F32*(1-$C$3)/Лист2!$A$6,0)","v":11381}]
[null,"Стойка.2 ЕCO","Стойка ЕCO двусторонняя H=1600",1,{"$f":"INDEX('Комплекты Eco Line'!$G$9:$G$314,MATCH('Сборки Eco Line'!C33,'Комплекты Eco Line'!$D$9:$D$323,))","v":2315}]
[null,"Полка ЕСО","Полка ECO 665х310 с кроншт",2,{"$f":"INDEX('Комплекты Eco Line'!$G$9:$G$314,MATCH('Сборки Eco Line'!C34,'Комплекты Eco Line'!$D$9:$D$323,))","v":653}]
[null,"Полка ЕСО","Полка ECO 665х370 с кроншт",4,{"$f":"INDEX('Комплекты Eco Line'!$G$9:$G$314,MATCH('Сборки Eco Line'!C35,'Комплекты Eco Line'!$D$9:$D$323,))","v":789}]
[null,"База.О ЕСО","База островного стеллажа ECO L=665  H=1600",1,{"$f":"INDEX('Комплекты Eco Line'!$G$9:$G$314,MATCH('Сборки Eco Line'!C36,'Комплекты Eco Line'!$D$9:$D$323,))","v":4604}]
[8,"Островной стеллаж L=1000 мм H=1600 мм",null,null,null,{"$f":"SUMPRODUCT(D38:D41,E38:E41)","v":14589},{"$f":"ROUND(F37*(1-$C$3)/Лист2!$A$6,0)","v":14589}]
[null,"Стойка.2 ЕCO","Стойка ЕCO двусторонняя H=1600",1,{"$f":"INDEX('Комплекты Eco Line'!$G$9:$G$314,MATCH('Сборки Eco Line'!C38,'Комплекты Eco Line'!$D$9:$D$323,))","v":2315}]
[null,"Полка ЕСО","Полка ECO 1000х310 с кроншт",2,{"$f":"INDEX('Комплекты Eco Line'!$G$9:$G$314,MATCH('Сборки Eco Line'!C39,'Комплекты Eco Line'!$D$9:$D$323,))","v":817}]
[null,"Полка ЕСО","Полка ECO 1000х370 с кроншт",4,{"$f":"INDEX('Комплекты Eco Line'!$G$9:$G$314,MATCH('Сборки Eco Line'!C40,'Комплекты Eco Line'!$D$9:$D$323,))","v":1061}]
[null,"База.О ЕСО","База островного стеллажа ECO L=1000  H=1600",1,{"$f":"INDEX('Комплекты Eco Line'!$G$9:$G$314,MATCH('Сборки Eco Line'!C41,'Комплекты Eco Line'!$D$9:$D$323,))","v":6396}]
[9,"Островной стеллаж L=1250 мм H=1600 мм",null,null,null,{"$f":"SUMPRODUCT(D43:D46,E43:E46)","v":16515},{"$f":"ROUND(F42*(1-$C$3)/Лист2!$A$6,0)","v":16515}]
[null,"Стойка.2 ЕCO","Стойка ЕCO двусторонняя H=1600",1,{"$f":"INDEX('Комплекты Eco Line'!$G$9:$G$314,MATCH('Сборки Eco Line'!C43,'Комплекты Eco Line'!$D$9:$D$323,))","v":2315}]
[null,"Полка ЕСО","Полка ECO 1250х310 с кроншт",2,{"$f":"INDEX('Комплекты Eco Line'!$G$9:$G$314,MATCH('Сборки Eco Line'!C44,'Комплекты Eco Line'!$D$9:$D$323,))","v":951}]
[null,"Полка ЕСО","Полка ECO 1250х370 с кроншт",4,{"$f":"INDEX('Комплекты Eco Line'!$G$9:$G$314,MATCH('Сборки Eco Line'!C45,'Комплекты Eco Line'!$D$9:$D$323,))","v":1141}]
[null,"База.О ЕСО","База островного стеллажа ECO L=1250  H=1600",1,{"$f":"INDEX('Комплекты Eco Line'!$G$9:$G$314,MATCH('Сборки Eco Line'!C46,'Комплекты Eco Line'!$D$9:$D$323,))","v":7734}]
[10,"Островной стеллаж L=665 мм H=1800 мм",null,null,null,{"$f":"SUMPRODUCT(D48:D51,E48:E51)","v":11726},{"$f":"ROUND(F47*(1-$C$3)/Лист2!$A$6,0)","v":11726}]
[null,"Стойка.2 ЕCO","Стойка ЕCO двусторонняя H=1800",1,{"$f":"INDEX('Комплекты Eco Line'!$G$9:$G$314,MATCH('Сборки Eco Line'!C48,'Комплекты Eco Line'!$D$9:$D$323,))","v":2393}]
[null,"Полка ЕСО","Полка ECO 665х310 с кроншт",2,{"$f":"INDEX('Комплекты Eco Line'!$G$9:$G$314,MATCH('Сборки Eco Line'!C49,'Комплекты Eco Line'!$D$9:$D$323,))","v":653}]
[null,"Полка ЕСО","Полка ECO 665х370 с кроншт",4,{"$f":"INDEX('Комплекты Eco Line'!$G$9:$G$314,MATCH('Сборки Eco Line'!C50,'Комплекты Eco Line'!$D$9:$D$323,))","v":789}]
[null,"База.О ЕСО","База островного стеллажа ECO L=665  H=1800",1,{"$f":"INDEX('Комплекты Eco Line'!$G$9:$G$314,MATCH('Сборки Eco Line'!C51,'Комплекты Eco Line'!$D$9:$D$323,))","v":4871}]
[11,"Островной стеллаж L=1000 мм H=1800 мм",null,null,null,{"$f":"SUMPRODUCT(D53:D56,E53:E56)","v":15187},{"$f":"ROUND(F52*(1-$C$3)/Лист2!$A$6,0)","v":15187}]
[null,"Стойка.2 ЕCO","Стойка ЕCO двусторонняя H=1800",1,{"$f":"INDEX('Комплекты Eco Line'!$G$9:$G$314,MATCH('Сборки Eco Line'!C53,'Комплекты Eco Line'!$D$9:$D$323,))","v":2393}]
[null,"Полка ЕСО","Полка ECO 1000х310 с кроншт",2,{"$f":"INDEX('Комплекты Eco Line'!$G$9:$G$314,MATCH('Сборки Eco Line'!C54,'Комплекты Eco Line'!$D$9:$D$323,))","v":817}]
[null,"Полка ЕСО","Полка ECO 1000х370 с кроншт",4,{"$f":"INDEX('Комплекты Eco Line'!$G$9:$G$314,MATCH('Сборки Eco Line'!C55,'Комплекты Eco Line'!$D$9:$D$323,))","v":1061}]
[null,"База.О ЕСО","База островного стеллажа ECO L=1000  H=1800",1,{"$f":"INDEX('Комплекты Eco Line'!$G$9:$G$314,MATCH('Сборки Eco Line'!C56,'Комплекты Eco Line'!$D$9:$D$323,))","v":6916}]
[12,"Островной стеллаж L=1250 мм H=1800 мм",null,null,null,{"$f":"SUMPRODUCT(D58:D61,E58:E61)","v":17219},{"$f":"ROUND(F57*(1-$C$3)/Лист2!$A$6,0)","v":17219}]
[null,"Стойка.2 ЕCO","Стойка ЕCO двусторонняя H=1800",1,{"$f":"INDEX('Комплекты Eco Line'!$G$9:$G$314,MATCH('Сборки Eco Line'!C58,'Комплекты Eco Line'!$D$9:$D$323,))","v":2393}]
[null,"Полка ЕСО","Полка ECO 1250х310 с кроншт",2,{"$f":"INDEX('Комплекты Eco Line'!$G$9:$G$314,MATCH('Сборки Eco Line'!C59,'Комплекты Eco Line'!$D$9:$D$323,))","v":951}]
[null,"Полка ЕСО","Полка ECO 1250х370 с кроншт",4,{"$f":"INDEX('Комплекты Eco Line'!$G$9:$G$314,MATCH('Сборки Eco Line'!C60,'Комплекты Eco Line'!$D$9:$D$323,))","v":1141}]
[null,"База.О ЕСО","База островного стеллажа ECO L=1250  H=1800",1,{"$f":"INDEX('Комплекты Eco Line'!$G$9:$G$314,MATCH('Сборки Eco Line'!C61,'Комплекты Eco Line'!$D$9:$D$323,))","v":8360}]
[13,"Островной стеллаж L=665 мм H=2250 мм",null,null,null,{"$f":"SUMPRODUCT(D63:D66,E63:E66)","v":13817},{"$f":"ROUND(F62*(1-$C$3)/Лист2!$A$6,0)","v":13817}]
[null,"Стойка.2 ЕCO","Стойка ЕCO двусторонняя H=2250",1,{"$f":"INDEX('Комплекты Eco Line'!$G$9:$G$314,MATCH('Сборки Eco Line'!C63,'Комплекты Eco Line'!$D$9:$D$323,))","v":2587}]
[null,"Полка ЕСО","Полка ECO 665х310 с кроншт",4,{"$f":"INDEX('Комплекты Eco Line'!$G$9:$G$314,MATCH('Сборки Eco Line'!C64,'Комплекты Eco Line'!$D$9:$D$323,))","v":653}]
[null,"Полка ЕСО","Полка ECO 665х370 с кроншт",4,{"$f":"INDEX('Комплекты Eco Line'!$G$9:$G$314,MATCH('Сборки Eco Line'!C65,'Комплекты Eco Line'!$D$9:$D$323,))","v":789}]
[null,"База.О ЕСО","База островного стеллажа ECO L=665 H=2250",1,{"$f":"INDEX('Комплекты Eco Line'!$G$9:$G$314,MATCH('Сборки Eco Line'!C66,'Комплекты Eco Line'!$D$9:$D$323,))","v":5462}]
[14,"Островной стеллаж L=1000 мм H=2250 мм",null,null,null,{"$f":"SUMPRODUCT(D68:D71,E68:E71)","v":17850},{"$f":"ROUND(F67*(1-$C$3)/Лист2!$A$6,0)","v":17850}]
[null,"Стойка.2 ЕCO","Стойка ЕCO двусторонняя H=2250",1,{"$f":"INDEX('Комплекты Eco Line'!$G$9:$G$314,MATCH('Сборки Eco Line'!C68,'Комплекты Eco Line'!$D$9:$D$323,))","v":2587}]
[null,"Полка ЕСО","Полка ECO 1000х310 с кроншт",4,{"$f":"INDEX('Комплекты Eco Line'!$G$9:$G$314,MATCH('Сборки Eco Line'!C69,'Комплекты Eco Line'!$D$9:$D$323,))","v":817}]
[null,"Полка ЕСО","Полка ECO 1000х370 с кроншт",4,{"$f":"INDEX('Комплекты Eco Line'!$G$9:$G$314,MATCH('Сборки Eco Line'!C70,'Комплекты Eco Line'!$D$9:$D$323,))","v":1061}]
[null,"База.О ЕСО","База островного стеллажа ECO L=1000 H=2250",1,{"$f":"INDEX('Комплекты Eco Line'!$G$9:$G$314,MATCH('Сборки Eco Line'!C71,'Комплекты Eco Line'!$D$9:$D$323,))","v":7751}]
[15,"Островной стеллаж L=1250 мм H=2250 мм",null,null,null,{"$f":"SUMPRODUCT(D73:D76,E73:E76)","v":20349},{"$f":"ROUND(F72*(1-$C$3)/Лист2!$A$6,0)","v":20349}]
[null,"Стойка.2 ЕCO","Стойка ЕCO двусторонняя H=2250",1,{"$f":"INDEX('Комплекты Eco Line'!$G$9:$G$314,MATCH('Сборки Eco Line'!C73,'Комплекты Eco Line'!$D$9:$D$323,))","v":2587}]
[null,"Полка ЕСО","Полка ECO 1250х310 с кроншт",4,{"$f":"INDEX('Комплекты Eco Line'!$G$9:$G$314,MATCH('Сборки Eco Line'!C74,'Комплекты Eco Line'!$D$9:$D$323,))","v":951}]
[null,"Полка ЕСО","Полка ECO 1250х370 с кроншт",4,{"$f":"INDEX('Комплекты Eco Line'!$G$9:$G$314,MATCH('Сборки Eco Line'!C75,'Комплекты Eco Line'!$D$9:$D$323,))","v":1141}]
[null,"База.О ЕСО","База островного стеллажа ECO L=1250 H=2250",1,{"$f":"INDEX('Комплекты Eco Line'!$G$9:$G$314,MATCH('Сборки Eco Line'!C76,'Комплекты Eco Line'!$D$9:$D$323,))","v":9394}]
[16,"Торцевой  стеллаж L=1000 мм H=1600 мм",null,null,null,{"$f":"SUMPRODUCT(D78:D81,E78:E81)","v":11629},{"$f":"ROUND(F77*(1-$C$3)/Лист2!$A$6,0)","v":11629}]
[null,"Стойка.1 ЕCO","Стойка ЕCO односторонняя H=1600",2,{"$f":"INDEX('Комплекты Eco Line'!$G$9:$G$314,MATCH('Сборки Eco Line'!C78,'Комплекты Eco Line'!$D$9:$D$323,))","v":1614}]
[null,"Полка ЕСО","Полка ECO 1000х310 с кроншт",1,{"$f":"INDEX('Комплекты Eco Line'!$G$9:$G$314,MATCH('Сборки Eco Line'!C79,'Комплекты Eco Line'!$D$9:$D$323,))","v":817}]
[null,"Полка ЕСО","Полка ECO 1000х370 с кроншт",2,{"$f":"INDEX('Комплекты Eco Line'!$G$9:$G$314,MATCH('Сборки Eco Line'!C80,'Комплекты Eco Line'!$D$9:$D$323,))","v":1061}]
[null,"База.Т ЕСО","База торцевого стел ECO L=1000 H=1600",1,{"$f":"INDEX('Комплекты Eco Line'!$G$9:$G$314,MATCH('Сборки Eco Line'!C81,'Комплекты Eco Line'!$D$9:$D$323,))","v":5462}]
[17,"Торцевой  стеллаж L=1000 мм H=1800 мм",null,null,null,{"$f":"SUMPRODUCT(D83:D86,E83:E86)","v":12313},{"$f":"ROUND(F82*(1-$C$3)/Лист2!$A$6,0)","v":12313}]
[null,"Стойка.1 ЕCO","Стойка ЕCO односторонняя H=1800",2,{"$f":"INDEX('Комплекты Eco Line'!$G$9:$G$314,MATCH('Сборки Eco Line'!C83,'Комплекты Eco Line'!$D$9:$D$323,))","v":1696}]
[null,"Полка ЕСО","Полка ECO 1000х310 с кроншт",1,{"$f":"INDEX('Комплекты Eco Line'!$G$9:$G$314,MATCH('Сборки Eco Line'!C84,'Комплекты Eco Line'!$D$9:$D$323,))","v":817}]
[null,"Полка ЕСО","Полка ECO 1000х370 с кроншт",2,{"$f":"INDEX('Комплекты Eco Line'!$G$9:$G$314,MATCH('Сборки Eco Line'!C85,'Комплекты Eco Line'!$D$9:$D$323,))","v":1061}]
[null,"База.Т ЕСО","База торцевого стел ECO L=1000 H=1800",1,{"$f":"INDEX('Комплекты Eco Line'!$G$9:$G$314,MATCH('Сборки Eco Line'!C86,'Комплекты Eco Line'!$D$9:$D$323,))","v":5982}]
[18,"Торцевой стеллаж L=1000 мм H=2250 мм",null,null,null,{"$f":"SUMPRODUCT(D88:D91,E88:E91)","v":14329},{"$f":"ROUND(F87*(1-$C$3)/Лист2!$A$6,0)","v":14329}]
[null,"Стойка.1 ЕCO","Стойка ЕCO односторонняя H=2250",2,{"$f":"INDEX('Комплекты Eco Line'!$G$9:$G$314,MATCH('Сборки Eco Line'!C88,'Комплекты Eco Line'!$D$9:$D$323,))","v":1878}]
[null,"Полка ЕСО","Полка ECO 1000х310 с кроншт",2,{"$f":"INDEX('Комплекты Eco Line'!$G$9:$G$314,MATCH('Сборки Eco Line'!C89,'Комплекты Eco Line'!$D$9:$D$323,))","v":817}]
[null,"Полка ЕСО","Полка ECO 1000х370 с кроншт",2,{"$f":"INDEX('Комплекты Eco Line'!$G$9:$G$314,MATCH('Сборки Eco Line'!C90,'Комплекты Eco Line'!$D$9:$D$323,))","v":1061}]
[null,"База.Т ЕСО","База торцевого стел ECO L=1000 H=2250",1,{"$f":"INDEX('Комплекты Eco Line'!$G$9:$G$314,MATCH('Сборки Eco Line'!C91,'Комплекты Eco Line'!$D$9:$D$323,))","v":6817}]
[19,"Пристенный стеллаж L=665 мм H=2250 мм с навесом с подсветкой",null,null,null,{"$f":"SUMPRODUCT(D93:D97,E93:E97)","v":9985},{"$f":"ROUND(F92*(1-$C$3)/Лист2!$A$6,0)","v":9985}]
[null,"Стойка.1 ЕCO","Стойка ЕCO односторонняя H=2250",1,{"$f":"INDEX('Комплекты Eco Line'!$G$9:$G$314,MATCH('Сборки Eco Line'!C93,'Комплекты Eco Line'!$D$9:$D$323,))","v":1878}]
[null,"Полка ЕСО","Полка ECO 665х310 с кроншт",2,{"$f":"INDEX('Комплекты Eco Line'!$G$9:$G$314,MATCH('Сборки Eco Line'!C94,'Комплекты Eco Line'!$D$9:$D$323,))","v":653}]
[null,"Полка ЕСО","Полка ECO 665х370 с кроншт",2,{"$f":"INDEX('Комплекты Eco Line'!$G$9:$G$314,MATCH('Сборки Eco Line'!C95,'Комплекты Eco Line'!$D$9:$D$323,))","v":789}]
[null,"База.Пр ЕСО","База пристенного стеллажа ECO L=665 H=2250",1,{"$f":"INDEX('Комплекты Eco Line'!$G$9:$G$314,MATCH('Сборки Eco Line'!C96,'Комплекты Eco Line'!$D$9:$D$323,))","v":2731}]
[null,"Навес/пд ECO","Навес прямой с подсветкой ECO G=470 L=665 (без передней панели)",1,{"$f":"INDEX('Комплекты Eco Line'!$G$9:$G$314,MATCH('Сборки Eco Line'!C97,'Комплекты Eco Line'!$D$9:$D$323,))","v":2492}]
[20,"Пристенный стеллаж L=1000 мм H=2250 мм с навесом с подсветкой",null,null,null,{"$f":"SUMPRODUCT(D99:D103,E99:E103)","v":12595},{"$f":"ROUND(F98*(1-$C$3)/Лист2!$A$6,0)","v":12595}]
[null,"Стойка.1 ЕCO","Стойка ЕCO односторонняя H=2250",1,{"$f":"INDEX('Комплекты Eco Line'!$G$9:$G$314,MATCH('Сборки Eco Line'!C99,'Комплекты Eco Line'!$D$9:$D$323,))","v":1878}]
[null,"Полка ЕСО","Полка ECO 1000х310 с кроншт",2,{"$f":"INDEX('Комплекты Eco Line'!$G$9:$G$314,MATCH('Сборки Eco Line'!C100,'Комплекты Eco Line'!$D$9:$D$323,))","v":817}]
[null,"Полка ЕСО","Полка ECO 1000х370 с кроншт",2,{"$f":"INDEX('Комплекты Eco Line'!$G$9:$G$314,MATCH('Сборки Eco Line'!C101,'Комплекты Eco Line'!$D$9:$D$323,))","v":1061}]
[null,"База.Пр ЕСО","База пристенного стеллажа ECO L=1000  H=2250",1,{"$f":"INDEX('Комплекты Eco Line'!$G$9:$G$314,MATCH('Сборки Eco Line'!C102,'Комплекты Eco Line'!$D$9:$D$323,))","v":3876}]
[null,"Навес/пд ECO","Навес прямой с подсветкой ECO G=470 L=1000 (без передней панели)",1,{"$f":"INDEX('Комплекты Eco Line'!$G$9:$G$314,MATCH('Сборки Eco Line'!C103,'Комплекты Eco Line'!$D$9:$D$323,))","v":3085}]
[21,"Пристенный стеллаж L=1250 мм H=2250 мм с навесом с подсветкой",null,null,null,{"$f":"SUMPRODUCT(D105:D109,E105:E109)","v":14772},{"$f":"ROUND(F104*(1-$C$3)/Лист2!$A$6,0)","v":14772}]
[null,"Стойка.1 ЕCO","Стойка ЕCO односторонняя H=2250",1,{"$f":"INDEX('Комплекты Eco Line'!$G$9:$G$314,MATCH('Сборки Eco Line'!C105,'Комплекты Eco Line'!$D$9:$D$323,))","v":1878}]
[null,"Полка ЕСО","Полка ECO 1250х310 с кроншт",2,{"$f":"INDEX('Комплекты Eco Line'!$G$9:$G$314,MATCH('Сборки Eco Line'!C106,'Комплекты Eco Line'!$D$9:$D$323,))","v":951}]
[null,"Полка ЕСО","Полка ECO 1250х370 с кроншт",2,{"$f":"INDEX('Комплекты Eco Line'!$G$9:$G$314,MATCH('Сборки Eco Line'!C107,'Комплекты Eco Line'!$D$9:$D$323,))","v":1141}]
[null,"База.Пр ЕСО","База пристенного стеллажа ECO L=1250  H=2250",1,{"$f":"INDEX('Комплекты Eco Line'!$G$9:$G$314,MATCH('Сборки Eco Line'!C108,'Комплекты Eco Line'!$D$9:$D$323,))","v":4697}]
[null,"Навес/пд ECO","Навес прямой с подсветкой ЕСО G=470 L=1250 (без передней панели)",1,{"$f":"INDEX('Комплекты Eco Line'!$G$9:$G$314,MATCH('Сборки Eco Line'!C109,'Комплекты Eco Line'!$D$9:$D$323,))","v":4013}]
[22,"Пристенный стеллаж L=1000 мм H=2250 мм c хлебными полками",null,null,null,{"$f":"SUMPRODUCT(D111:D115,E111:E115)","v":19754},{"$f":"ROUND(F110*(1-$C$3)/Лист2!$A$6,0)","v":19754}]
[null,"Стойка.1 ЕCO","Стойка ЕCO односторонняя H=2250",1,{"$f":"INDEX('Комплекты Eco Line'!$G$9:$G$314,MATCH('Сборки Eco Line'!C111,'Комплекты Eco Line'!$D$9:$D$323,))","v":1878}]
[null,"Полка рееч.ECO","Полка реечная (э) ЕСО G=470 H=80 L=1000",1,{"$f":"INDEX('Комплекты Eco Line'!$G$9:$G$314,MATCH('Сборки Eco Line'!C112,'Комплекты Eco Line'!$D$9:$D$323,))","v":2849}]
[null,"ПЛ ECO РВ","Полка реечная высокая (э) ЕСО G=470 H=250 L=1000",2,{"$f":"INDEX('Комплекты Eco Line'!$G$9:$G$314,MATCH('Сборки Eco Line'!C113,'Комплекты Eco Line'!$D$9:$D$323,))","v":3410}]
[null,"Накоп.рееч.ECО","Накопитель реечный (э) ЕСО G=470 H=500 L=1000",1,{"$f":"INDEX('Комплекты Eco Line'!$G$9:$G$314,MATCH('Сборки Eco Line'!C114,'Комплекты Eco Line'!$D$9:$D$323,))","v":4331}]
[null,"База.Пр ЕСО","База пристенного стеллажа ECO L=1000  H=2250",1,{"$f":"INDEX('Комплекты Eco Line'!$G$9:$G$314,MATCH('Сборки Eco Line'!C115,'Комплекты Eco Line'!$D$9:$D$323,))","v":3876}]
[23,"Пристенный стеллаж угловой внешний H=2250 мм",null,null,null,{"$f":"SUMPRODUCT(D117:D120,E117:E120)","v":7801},{"$f":"ROUND(F116*(1-$C$3)/Лист2!$A$6,0)","v":7801}]
[null,"Стойка.1 ЕCO","Стойка ЕCO односторонняя H=2250",1,{"$f":"INDEX('Комплекты Eco Line'!$G$9:$G$314,MATCH('Сборки Eco Line'!C117,'Комплекты Eco Line'!$D$9:$D$323,))","v":1878}]
[null,"Полка OC ECO","Полка ECO угл. внеш. 310 с кроншт",2,{"$f":"INDEX('Комплекты Eco Line'!$G$9:$G$314,MATCH('Сборки Eco Line'!C118,'Комплекты Eco Line'!$D$9:$D$323,))","v":804}]
[null,"Полка OC ECO","Полка ECO угл. внеш. 370 с кроншт",2,{"$f":"INDEX('Комплекты Eco Line'!$G$9:$G$314,MATCH('Сборки Eco Line'!C119,'Комплекты Eco Line'!$D$9:$D$323,))","v":1024}]
[null,"База.OC ECO","База углового стел (внешний) ECO H=2250",1,{"$f":"INDEX('Комплекты Eco Line'!$G$9:$G$314,MATCH('Сборки Eco Line'!C120,'Комплекты Eco Line'!$D$9:$D$323,))","v":2267}]
[24,"Пристенный стеллаж угловой внутренний H=2250 мм",null,null,null,{"$f":"SUMPRODUCT(D122:D125,E122:E125)","v":10303},{"$f":"ROUND(F121*(1-$C$3)/Лист2!$A$6,0)","v":10303}]
[null,"Стойка.1 ЕCO","Стойка ЕCO односторонняя H=2250",1,{"$f":"INDEX('Комплекты Eco Line'!$G$9:$G$314,MATCH('Сборки Eco Line'!C122,'Комплекты Eco Line'!$D$9:$D$323,))","v":1878}]
[null,"Полка IC ЕСО","Полка ECO угл. вн. 310 с кроншт",2,{"$f":"INDEX('Комплекты Eco Line'!$G$9:$G$314,MATCH('Сборки Eco Line'!C123,'Комплекты Eco Line'!$D$9:$D$323,))","v":921}]
[null,"Полка IC ЕСО","Полка ECO угл. вн. 370 с кроншт",2,{"$f":"INDEX('Комплекты Eco Line'!$G$9:$G$314,MATCH('Сборки Eco Line'!C124,'Комплекты Eco Line'!$D$9:$D$323,))","v":1108}]
[null,"Баз.уг.вн. ECO","База углового стел (внутренний) ECO H=2250",1,{"$f":"INDEX('Комплекты Eco Line'!$G$9:$G$314,MATCH('Сборки Eco Line'!C125,'Комплекты Eco Line'!$D$9:$D$323,))","v":4367}]
[25,"Пристенный стеллаж угловой внешний с навесом с подсветкой H=2250 мм",null,null,null,{"$f":"SUMPRODUCT(D127:D131,E127:E131)","v":9943},{"$f":"ROUND(F126*(1-$C$3)/Лист2!$A$6,0)","v":9943}]
[null,"Стойка.1 ЕCO","Стойка ЕCO односторонняя H=2250",1,{"$f":"INDEX('Комплекты Eco Line'!$G$9:$G$314,MATCH('Сборки Eco Line'!C127,'Комплекты Eco Line'!$D$9:$D$323,))","v":1878}]
[null,"Полка OC ECO","Полка ECO угл. внеш. 310 с кроншт",2,{"$f":"INDEX('Комплекты Eco Line'!$G$9:$G$314,MATCH('Сборки Eco Line'!C128,'Комплекты Eco Line'!$D$9:$D$323,))","v":804}]
[null,"Полка OC ECO","Полка ECO угл. внеш. 370 с кроншт",2,{"$f":"INDEX('Комплекты Eco Line'!$G$9:$G$314,MATCH('Сборки Eco Line'!C129,'Комплекты Eco Line'!$D$9:$D$323,))","v":1024}]
[null,"База.OC ECO","База углового стел (внешний) ECO H=2250",1,{"$f":"INDEX('Комплекты Eco Line'!$G$9:$G$314,MATCH('Сборки Eco Line'!C130,'Комплекты Eco Line'!$D$9:$D$323,))","v":2267}]
[null,"Навес OC/пдECO","Навес прямой угл. внеш подсветкой ЕСО G=470",1,2142]
[26,"Пристенный стеллаж угловой (внутренний) с навесом с подсветкой H=2250 мм",null,null,null,{"$f":"SUMPRODUCT(D133:D137,E133:E137)","v":12255},{"$f":"ROUND(F132*(1-$C$3)/Лист2!$A$6,0)","v":12255}]
[null,"Стойка.1 ЕCO","Стойка ЕCO односторонняя H=2250",1,{"$f":"INDEX('Комплекты Eco Line'!$G$9:$G$314,MATCH('Сборки Eco Line'!C133,'Комплекты Eco Line'!$D$9:$D$323,))","v":1878}]
[null,"Полка IC ЕСО","Полка ECO угл. вн. 310 с кроншт",2,{"$f":"INDEX('Комплекты Eco Line'!$G$9:$G$314,MATCH('Сборки Eco Line'!C134,'Комплекты Eco Line'!$D$9:$D$323,))","v":921}]
[null,"Полка IC ЕСО","Полка ECO угл. вн. 370 с кроншт",2,{"$f":"INDEX('Комплекты Eco Line'!$G$9:$G$314,MATCH('Сборки Eco Line'!C135,'Комплекты Eco Line'!$D$9:$D$323,))","v":1108}]
[null,"База.IC ECO","База углового стел (внутренний) ECO H=2250",1,{"$f":"INDEX('Комплекты Eco Line'!$G$9:$G$314,MATCH('Сборки Eco Line'!C136,'Комплекты Eco Line'!$D$9:$D$323,))","v":4367}]
[null,"Навес IC/пдECO","Навес прямой угл. вн с подсветкой ЕСО G=470",1,{"$f":"INDEX('Комплекты Eco Line'!$G$9:$G$314,MATCH('Сборки Eco Line'!C137,'Комплекты Eco Line'!$D$9:$D$323,))","v":1952}]

{"sheet":"Наценка Eco Line","index":5,"n_rows":48,"n_cols":4,"rows_kept":48,"cut":false,"hidden":false,"merged":[[1,0,1,1],[5,0,6,0],[5,1,6,1],[5,2,6,2]]}
["Наценка при покраске деталей серии ECO LINE ",null,null,"На главную"]
[]
[]
[]
[]
["Ral","Структура","наценка, % "]
["RAL","Вид поверхности","наценка , % "]
[1001,"глянец",11]
[1013,"шагрень глянцевая",8]
[1013,"глянец",15]
[1013,"муар Маго",4]
[1015,"глянец",13]
[1018,"глянец",5]
[2004,"глянец",6]
[2008,"глянец",5]
[3000,"глянец",5]
[3002,"глянец",6]
[5005,"глянец",2]
[6018,"глянец",5]
[6029,"глянец",4]
[7011,"глянец",2]
[7016,"структурная муар",2]
[7016,"глянец",15]
[7021,"глянец",7]
[7021,"матовая",6]
[7024,"структурная муар",3]
[7035,"шагрень глянцевая",2]
[7035,"глянец",2]
[7035,"гладкая полуматовая",13]
[7035,"структурная муар",8]
[7040,"матовая",11]
[7040,"структурная муар",3]
[7040,"глянец",2]
[7042,"глянец",2]
[7043,"глянец",4]
[8017,"глянец",8]
[8017,"структурная муар",5]
[9002,"полуматовая",8]
[9005,"шагрень глянцевая",0]
[9005,"глянец",5]
[9005,"матовая",11]
[9005,"структурная муар",1]
[9006,"глянец",5]
[9006,"матовая",4]
[9007,"полуматовая",11]
[9010,"муар",3]
[9010,"матовая",9]
[9016,"глянец",0]

{"sheet":"Детали Praktisch","index":6,"n_rows":2094,"n_cols":5,"rows_kept":2094,"cut":false,"hidden":false,"merged":[[2091,0,2091,1],[2092,0,2092,1],[9,3,10,3],[2088,0,2088,1],[2,0,2,1],[3,0,3,1],[5,0,5,1],[9,0,10,0],[9,1,10,1],[9,2,10,2]]}
["Детали торговых стеллажей Praktisch",null,null,null,"На главную"]
[]
["Ваша скидка:",null,{"$f":"Содержание!C2","v":0}]
["НДС:",null,{"$f":"IF(Лист2!A1=TRUE,\"С НДС\",\"БЕЗ НДС\")","v":"С НДС"}]
[]
["Стандартная окраска:"]
[null," - металл, цвет RAL 9010 стуктурная муар"]
[null,"- ЛДСП цвет Орех, Клен, Дуб Сонома"]
[null,"Новинки"]
["Артикул","Наименование","Базовая цена, руб. (с НДС)",{"$f":"[7]Лист2!$A$5","v":"Ваша цена, руб."}]
[null,null,null,{"$f":"[7]Лист2!$A$5","v":"Ваша цена, руб."}]
["T-LT 02801000","Стойка  80х30 с двухсторонней перфорацией Н = 1000",970,{"$f":"ROUND(C12*(1-$C$3)/Лист2!$A$6,0)","v":970}]
["T-LT 02801100","Стойка  80х30 с двухсторонней перфорацией Н = 1100",1031,{"$f":"ROUND(C13*(1-$C$3)/Лист2!$A$6,0)","v":1031}]
["T-LT 02801150","Стойка  80х30 с двухсторонней перфорацией Н = 1150",1058,{"$f":"ROUND(C14*(1-$C$3)/Лист2!$A$6,0)","v":1058}]
["T-LT 02801200","Стойка  80х30 с двухсторонней перфорацией Н = 1200",1084,{"$f":"ROUND(C15*(1-$C$3)/Лист2!$A$6,0)","v":1084}]
["T-LT 02801250","Стойка  80х30 с двухсторонней перфорацией Н = 1250",1106,{"$f":"ROUND(C16*(1-$C$3)/Лист2!$A$6,0)","v":1106}]
["T-LT 02801300","Стойка  80х30 с двухсторонней перфорацией Н = 1300",1132,{"$f":"ROUND(C17*(1-$C$3)/Лист2!$A$6,0)","v":1132}]
["T-LT 02801350","Стойка  80х30 с двухсторонней перфорацией Н = 1350",1164,{"$f":"ROUND(C18*(1-$C$3)/Лист2!$A$6,0)","v":1164}]
["T-LT 02801400","Стойка  80х30 с двухсторонней перфорацией Н = 1400",1200,{"$f":"ROUND(C19*(1-$C$3)/Лист2!$A$6,0)","v":1200}]
["T-LT 02801450","Стойка  80х30 с двухсторонней перфорацией Н = 1450",1238,{"$f":"ROUND(C20*(1-$C$3)/Лист2!$A$6,0)","v":1238}]
["T-LT 02801500","Стойка  80х30 с двухсторонней перфорацией Н = 1500",1268,{"$f":"ROUND(C21*(1-$C$3)/Лист2!$A$6,0)","v":1268}]
["T-LT 02801550","Стойка  80х30 с двухсторонней перфорацией Н = 1550",1299,{"$f":"ROUND(C22*(1-$C$3)/Лист2!$A$6,0)","v":1299}]
["T-LT 02801600","Стойка  80х30 с двухсторонней перфорацией Н = 1600",1330,{"$f":"ROUND(C23*(1-$C$3)/Лист2!$A$6,0)","v":1330}]
["T-LT 02801650","Стойка  80х30 с двухсторонней перфорацией Н = 1650",1361,{"$f":"ROUND(C24*(1-$C$3)/Лист2!$A$6,0)","v":1361}]
["T-LT 02801700","Стойка  80х30 с двухсторонней перфорацией Н = 1700",1389,{"$f":"ROUND(C25*(1-$C$3)/Лист2!$A$6,0)","v":1389}]
["T-LT 02801750","Стойка  80х30 с двухсторонней перфорацией Н = 1750",1418,{"$f":"ROUND(C26*(1-$C$3)/Лист2!$A$6,0)","v":1418}]
["T-LT 02801800","Стойка  80х30 с двухсторонней перфорацией Н = 1800",1456,{"$f":"ROUND(C27*(1-$C$3)/Лист2!$A$6,0)","v":1456}]
["T-LT 02801850","Стойка  80х30 с двухсторонней перфорацией Н = 1850",1475,{"$f":"ROUND(C28*(1-$C$3)/Лист2!$A$6,0)","v":1475}]
["T-LT 02801900","Стойка  80х30 с двухсторонней перфорацией Н = 1900",1512,{"$f":"ROUND(C29*(1-$C$3)/Лист2!$A$6,0)","v":1512}]
["T-LT 02801950","Стойка  80х30 с двухсторонней перфорацией Н = 1950",1540,{"$f":"ROUND(C30*(1-$C$3)/Лист2!$A$6,0)","v":1540}]
["T-LT 02802000","Стойка  80х30 с двухсторонней перфорацией Н = 2000",1570,{"$f":"ROUND(C31*(1-$C$3)/Лист2!$A$6,0)","v":1570}]
["T-LT 02802050","Стойка  80х30 с двухсторонней перфорацией Н = 2050",1600,{"$f":"ROUND(C32*(1-$C$3)/Лист2!$A$6,0)","v":1600}]
["T-LT 02802100","Стойка  80х30 с двухсторонней перфорацией Н = 2100",1634,{"$f":"ROUND(C33*(1-$C$3)/Лист2!$A$6,0)","v":1634}]
["T-LT 02802150","Стойка  80х30 с двухсторонней перфорацией Н = 2150",1661,{"$f":"ROUND(C34*(1-$C$3)/Лист2!$A$6,0)","v":1661}]
["T-LT 02802200","Стойка  80х30 с двухсторонней перфорацией Н = 2200",1697,{"$f":"ROUND(C35*(1-$C$3)/Лист2!$A$6,0)","v":1697}]
["T-LT 02802250","Стойка  80х30 с двухсторонней перфорацией Н = 2250",1726,{"$f":"ROUND(C36*(1-$C$3)/Лист2!$A$6,0)","v":1726}]
["T-LT 02802300","Стойка  80х30 с двухсторонней перфорацией Н = 2300",1753,{"$f":"ROUND(C37*(1-$C$3)/Лист2!$A$6,0)","v":1753}]
["T-LT 02802350","Стойка  80х30 с двухсторонней перфорацией Н = 2350",1788,{"$f":"ROUND(C38*(1-$C$3)/Лист2!$A$6,0)","v":1788}]
["T-LT 02802400","Стойка  80х30 с двухсторонней перфорацией Н = 2400",1832,{"$f":"ROUND(C39*(1-$C$3)/Лист2!$A$6,0)","v":1832}]
["T-LT 02802450","Стойка  80х30 с двухсторонней перфорацией Н = 2450",1864,{"$f":"ROUND(C40*(1-$C$3)/Лист2!$A$6,0)","v":1864}]
["T-LT 02802500","Стойка  80х30 с двухсторонней перфорацией Н = 2500",1892,{"$f":"ROUND(C41*(1-$C$3)/Лист2!$A$6,0)","v":1892}]
["T-LT 02802550","Стойка  80х30 с двухсторонней перфорацией Н = 2550",1923,{"$f":"ROUND(C42*(1-$C$3)/Лист2!$A$6,0)","v":1923}]
["T-LT 02802600","Стойка  80х30 с двухсторонней перфорацией Н = 2600",1956,{"$f":"ROUND(C43*(1-$C$3)/Лист2!$A$6,0)","v":1956}]
["T-LT 02802650","Стойка  80х30 с двухсторонней перфорацией Н = 2650",1989,{"$f":"ROUND(C44*(1-$C$3)/Лист2!$A$6,0)","v":1989}]
["T-LT 02802700","Стойка  80х30 с двухсторонней перфорацией Н = 2700",2041,{"$f":"ROUND(C45*(1-$C$3)/Лист2!$A$6,0)","v":2041}]
["T-LT 02802750","Стойка  80х30 с двухсторонней перфорацией Н = 2750",2067,{"$f":"ROUND(C46*(1-$C$3)/Лист2!$A$6,0)","v":2067}]
["T-LT 02802800","Стойка  80х30 с двухсторонней перфорацией Н = 2800",2097,{"$f":"ROUND(C47*(1-$C$3)/Лист2!$A$6,0)","v":2097}]
["T-LT 02802850","Стойка  80х30 с двухсторонней перфорацией Н = 2850",2124,{"$f":"ROUND(C48*(1-$C$3)/Лист2!$A$6,0)","v":2124}]
["T-LT 02802900","Стойка  80х30 с двухсторонней перфорацией Н = 2900",2151,{"$f":"ROUND(C49*(1-$C$3)/Лист2!$A$6,0)","v":2151}]
["T-LT 02802950","Стойка  80х30 с двухсторонней перфорацией Н = 2950",2192,{"$f":"ROUND(C50*(1-$C$3)/Лист2!$A$6,0)","v":2192}]
["T-LT 02803000","Стойка  80х30 с двухсторонней перфорацией Н = 3000",2263,{"$f":"ROUND(C51*(1-$C$3)/Лист2!$A$6,0)","v":2263}]
["T-LT 02803100","Стойка  80х30 с двухсторонней перфорацией H = 3100",2431,{"$f":"ROUND(C52*(1-$C$3)/Лист2!$A$6,0)","v":2431}]
["T-LT 02803500","Стойка  80х30 с двухсторонней перфорацией Н = 3500",2672,{"$f":"ROUND(C53*(1-$C$3)/Лист2!$A$6,0)","v":2672}]
["T-LT 02301050","Cтойка 30х30 c двухсторонней перфорацией ( для усиленного стеллажа) Н = 1050 ",590,{"$f":"ROUND(C54*(1-$C$3)/Лист2!$A$6,0)","v":590}]
["T-LT 02301100","Cтойка 30х30 c двухсторонней перфорацией ( для усиленного стеллажа) Н = 1100 ",608,{"$f":"ROUND(C55*(1-$C$3)/Лист2!$A$6,0)","v":608}]
["T-LT 02301150","Cтойка 30х30 c двухсторонней перфорацией ( для усиленного стеллажа) Н = 1150 ",621,{"$f":"ROUND(C56*(1-$C$3)/Лист2!$A$6,0)","v":621}]
["T-LT 02301200","Cтойка 30х30 c двухсторонней перфорацией ( для усиленного стеллажа) Н = 1200 ",644,{"$f":"ROUND(C57*(1-$C$3)/Лист2!$A$6,0)","v":644}]
["T-LT 02301250","Cтойка 30х30 c двухсторонней перфорацией ( для усиленного стеллажа) Н = 1250 ",678,{"$f":"ROUND(C58*(1-$C$3)/Лист2!$A$6,0)","v":678}]
["T-LT 02301300","Cтойка 30х30 c двухсторонней перфорацией ( для усиленного стеллажа) Н = 1300 ",706,{"$f":"ROUND(C59*(1-$C$3)/Лист2!$A$6,0)","v":706}]
["T-LT 02301350","Cтойка 30х30 c двухсторонней перфорацией ( для усиленного стеллажа) Н = 1350 ",724,{"$f":"ROUND(C60*(1-$C$3)/Лист2!$A$6,0)","v":724}]
["T-LT 02301400","Cтойка 30х30 c двухсторонней перфорацией ( для усиленного стеллажа) Н = 1400 ",755,{"$f":"ROUND(C61*(1-$C$3)/Лист2!$A$6,0)","v":755}]
["T-LT 02301450","Cтойка 30х30 c двухсторонней перфорацией ( для усиленного стеллажа) Н = 1450 ",782,{"$f":"ROUND(C62*(1-$C$3)/Лист2!$A$6,0)","v":782}]
["T-LT 02301500","Cтойка 30х30 c двухсторонней перфорацией ( для усиленного стеллажа) Н = 1500 ",808,{"$f":"ROUND(C63*(1-$C$3)/Лист2!$A$6,0)","v":808}]
["T-LT 02301550","Cтойка 30х30 c двухсторонней перфорацией ( для усиленного стеллажа) Н = 1550 ",848,{"$f":"ROUND(C64*(1-$C$3)/Лист2!$A$6,0)","v":848}]
["T-LT 02301600","Cтойка 30х30 c двухсторонней перфорацией ( для усиленного стеллажа) Н = 1600 ",875,{"$f":"ROUND(C65*(1-$C$3)/Лист2!$A$6,0)","v":875}]
["T-LT 02301650","Cтойка 30х30 c двухсторонней перфорацией ( для усиленного стеллажа) Н = 1650 ",901,{"$f":"ROUND(C66*(1-$C$3)/Лист2!$A$6,0)","v":901}]
["T-LT 02301700","Cтойка 30х30 c двухсторонней перфорацией ( для усиленного стеллажа) Н = 1700 ",924,{"$f":"ROUND(C67*(1-$C$3)/Лист2!$A$6,0)","v":924}]
["T-LT 02301750","Стойка 30х30 c двухсторонней перфорацией ( для усиленного стеллажа) Н = 1750 ",950,{"$f":"ROUND(C68*(1-$C$3)/Лист2!$A$6,0)","v":950}]
["T-LT 02301800","Cтойка 30х30 c двухсторонней перфорацией ( для усиленного стеллажа) Н = 1800 ",979,{"$f":"ROUND(C69*(1-$C$3)/Лист2!$A$6,0)","v":979}]
["T-LT 02301850","Cтойка 30х30 c двухсторонней перфорацией ( для усиленного стеллажа) Н = 1850 ",1013,{"$f":"ROUND(C70*(1-$C$3)/Лист2!$A$6,0)","v":1013}]
["T-LT 02301900","Cтойка 30х30 c двухсторонней перфорацией ( для усиленного стеллажа) Н = 1900 ",1048,{"$f":"ROUND(C71*(1-$C$3)/Лист2!$A$6,0)","v":1048}]
["T-LT 02301950","Cтойка 30х30 c двухсторонней перфорацией ( для усиленного стеллажа) Н = 1950 ",1073,{"$f":"ROUND(C72*(1-$C$3)/Лист2!$A$6,0)","v":1073}]
["T-LT 02302000","Cтойка 30х30 c двухсторонней перфорацией ( для усиленного стеллажа) Н = 2000 ",1100,{"$f":"ROUND(C73*(1-$C$3)/Лист2!$A$6,0)","v":1100}]
["T-LT 02302050","Cтойка 30х30 c двухсторонней перфорацией ( для усиленного стеллажа) Н = 2050 ",1120,{"$f":"ROUND(C74*(1-$C$3)/Лист2!$A$6,0)","v":1120}]
["T-LT 02302100","Cтойка 30х30 c двухсторонней перфорацией ( для усиленного стеллажа) Н = 2100 ",1149,{"$f":"ROUND(C75*(1-$C$3)/Лист2!$A$6,0)","v":1149}]
["T-LT 02302150","Cтойка 30х30 c двухсторонней перфорацией ( для усиленного стеллажа) Н = 2150 ",1176,{"$f":"ROUND(C76*(1-$C$3)/Лист2!$A$6,0)","v":1176}]
["T-LT 02302200","Cтойка 30х30 c двухсторонней перфорацией ( для усиленного стеллажа) Н = 2200 ",1203,{"$f":"ROUND(C77*(1-$C$3)/Лист2!$A$6,0)","v":1203}]
["T-LT 02302250","Cтойка 30х30 c двухсторонней перфорацией ( для усиленного стеллажа) Н = 2250 ",1233,{"$f":"ROUND(C78*(1-$C$3)/Лист2!$A$6,0)","v":1233}]
["T-LT 02302300","Cтойка 30х30 c двухсторонней перфорацией ( для усиленного стеллажа) Н = 2300 ",1263,{"$f":"ROUND(C79*(1-$C$3)/Лист2!$A$6,0)","v":1263}]
["T-LT 02302350","Cтойка 30х30 c двухсторонней перфорацией ( для усиленного стеллажа) Н = 2350 ",1288,{"$f":"ROUND(C80*(1-$C$3)/Лист2!$A$6,0)","v":1288}]
["T-LT 02302400","Cтойка 30х30 c двухсторонней перфорацией ( для усиленного стеллажа) Н = 2400 ",1303,{"$f":"ROUND(C81*(1-$C$3)/Лист2!$A$6,0)","v":1303}]
["T-LT 02302450","Cтойка 30х30 c двухсторонней перфорацией ( для усиленного стеллажа) Н = 2450 ",1320,{"$f":"ROUND(C82*(1-$C$3)/Лист2!$A$6,0)","v":1320}]
["T-LT 02302500","Cтойка 30х30 c двухсторонней перфорацией ( для усиленного стеллажа) Н = 2500 ",1334,{"$f":"ROUND(C83*(1-$C$3)/Лист2!$A$6,0)","v":1334}]
["T-LT 12801100","Стойка 30х80 с двухсторонней перфорацией для траверс H=1100",1260,{"$f":"ROUND(C84*(1-$C$3)/Лист2!$A$6,0)","v":1260}]
["T-LT 12801150","Стойка 30х80 с двухсторонней перфорацией для траверс H=1150",1288,{"$f":"ROUND(C85*(1-$C$3)/Лист2!$A$6,0)","v":1288}]
["T-LT 12801200","Стойка 30х80 с двухсторонней перфорацией для траверс H=1200",1313,{"$f":"ROUND(C86*(1-$C$3)/Лист2!$A$6,0)","v":1313}]
["T-LT 12801250","Стойка 30х80 с двухсторонней перфорацией для траверс H=1250",1344,{"$f":"ROUND(C87*(1-$C$3)/Лист2!$A$6,0)","v":1344}]
["T-LT 12801300","Стойка 30х80 с двухсторонней перфорацией для траверс H=1300",1371,{"$f":"ROUND(C88*(1-$C$3)/Лист2!$A$6,0)","v":1371}]
["T-LT 12801350","Стойка 30х80 с двухсторонней перфорацией для траверс H=1350",1439,{"$f":"ROUND(C89*(1-$C$3)/Лист2!$A$6,0)","v":1439}]
["T-LT 12801400","Стойка 30х80 с двухсторонней перфорацией для траверс H=1400",1512,{"$f":"ROUND(C90*(1-$C$3)/Лист2!$A$6,0)","v":1512}]
["T-LT 12801450","Стойка 30х80 с двухсторонней перфорацией для траверс H=1450",1542,{"$f":"ROUND(C91*(1-$C$3)/Лист2!$A$6,0)","v":1542}]
["T-LT 12801500","Стойка 30х80 с двухсторонней перфорацией для траверс H=1500",1569,{"$f":"ROUND(C92*(1-$C$3)/Лист2!$A$6,0)","v":1569}]
["T-LT 12801550","Стойка 30х80 с двухсторонней перфорацией для траверс H=1550",1595,{"$f":"ROUND(C93*(1-$C$3)/Лист2!$A$6,0)","v":1595}]
["T-LT 12801600","Стойка 30х80 с двухсторонней перфорацией для траверс H=1600",1628,{"$f":"ROUND(C94*(1-$C$3)/Лист2!$A$6,0)","v":1628}]
["T-LT 12801650","Стойка 30х80 с двухсторонней перфорацией для траверс H=1650",1723,{"$f":"ROUND(C95*(1-$C$3)/Лист2!$A$6,0)","v":1723}]
["T-LT 12801700","Стойка 30х80 с двухсторонней перфорацией для траверс H=1700",1825,{"$f":"ROUND(C96*(1-$C$3)/Лист2!$A$6,0)","v":1825}]
["T-LT 12801750","Стойка 30х80 с двухсторонней перфорацией для траверс H=1750",1864,{"$f":"ROUND(C97*(1-$C$3)/Лист2!$A$6,0)","v":1864}]
["T-LT 12801800","Стойка 30х80 с двухсторонней перфорацией для траверс H=1800",1894,{"$f":"ROUND(C98*(1-$C$3)/Лист2!$A$6,0)","v":1894}]
["T-LT 12801850","Стойка 30х80 с двухсторонней перфорацией для траверс H=1850",1920,{"$f":"ROUND(C99*(1-$C$3)/Лист2!$A$6,0)","v":1920}]
["T-LT 12801900","Стойка 30х80 с двухсторонней перфорацией для траверс H=1900",1953,{"$f":"ROUND(C100*(1-$C$3)/Лист2!$A$6,0)","v":1953}]
["T-LT 12801950","Стойка 30х80 с двухсторонней перфорацией для траверс H=1950",1992,{"$f":"ROUND(C101*(1-$C$3)/Лист2!$A$6,0)","v":1992}]
["T-LT 12802000","Стойка 30х80 с двухсторонней перфорацией для траверс H=2000",2061,{"$f":"ROUND(C102*(1-$C$3)/Лист2!$A$6,0)","v":2061}]
["T-LT 12802050","Стойка 30х80 с двухсторонней перфорацией для траверс H=2050",2118,{"$f":"ROUND(C103*(1-$C$3)/Лист2!$A$6,0)","v":2118}]
["T-LT 12802100","Стойка 30х80 с двухсторонней перфорацией для траверс H=2100",2149,{"$f":"ROUND(C104*(1-$C$3)/Лист2!$A$6,0)","v":2149}]
["T-LT 12802150","Стойка 30х80 с двухсторонней перфорацией для траверс H=2150",2189,{"$f":"ROUND(C105*(1-$C$3)/Лист2!$A$6,0)","v":2189}]
["T-LT 12802200","Стойка 30х80 с двухсторонней перфорацией для траверс H=2200",2229,{"$f":"ROUND(C106*(1-$C$3)/Лист2!$A$6,0)","v":2229}]
["T-LT 12802250","Стойка 30х80 с двухсторонней перфорацией для траверс H=2250",2265,{"$f":"ROUND(C107*(1-$C$3)/Лист2!$A$6,0)","v":2265}]
["T-LT 12802300","Стойка 30х80 с двухсторонней перфорацией для траверс H=2300",2299,{"$f":"ROUND(C108*(1-$C$3)/Лист2!$A$6,0)","v":2299}]
["T-LT 12802350","Стойка 30х80 с двухсторонней перфорацией для траверс H=2350",2330,{"$f":"ROUND(C109*(1-$C$3)/Лист2!$A$6,0)","v":2330}]
["T-LT 12802400","Стойка 30х80 с двухсторонней перфорацией для траверс H=2400",2586,{"$f":"ROUND(C110*(1-$C$3)/Лист2!$A$6,0)","v":2586}]
["T-LT 12802450","Стойка 30х80 с двухсторонней перфорацией для траверс H=2450",2873,{"$f":"ROUND(C111*(1-$C$3)/Лист2!$A$6,0)","v":2873}]
["T-LT 12802500","Стойка 30х80 с двухсторонней перфорацией для траверс H=2500",2934,{"$f":"ROUND(C112*(1-$C$3)/Лист2!$A$6,0)","v":2934}]
["T-LT 12802600","Стойка 30х80 с двухсторонней перфорацией для траверс H=2600",2994,{"$f":"ROUND(C113*(1-$C$3)/Лист2!$A$6,0)","v":2994}]
["T-LT 12802700","Стойка 30х80 с двухсторонней перфорацией для траверс H=2700",3087,{"$f":"ROUND(C114*(1-$C$3)/Лист2!$A$6,0)","v":3087}]
["T-LT 12803100","Стойка 30х80 с двухсторонней перфорацией для траверс H=3100",3429,{"$f":"ROUND(C115*(1-$C$3)/Лист2!$A$6,0)","v":3429}]
["T-LT 62301600","Стойка дополнительная 30х30 с двухсторонней перфорацией H=1600",1124,{"$f":"ROUND(C116*(1-$C$3)/Лист2!$A$6,0)","v":1124}]
["T-LT 62301400","Стойка дополнительная 30х30 с двухсторонней перфорацией H=1400",1080,{"$f":"ROUND(C117*(1-$C$3)/Лист2!$A$6,0)","v":1080}]
["T-LT 62301650","Стойка дополнительная 30х30 с двухсторонней перфорацией H=1650",1145,{"$f":"ROUND(C118*(1-$C$3)/Лист2!$A$6,0)","v":1145}]
["T-LT 62301800","Стойка дополнительная 30х30 с двухсторонней перфорацией H=1800",1181,{"$f":"ROUND(C119*(1-$C$3)/Лист2!$A$6,0)","v":1181}]
["T-LT 62301900","Стойка дополнительная 30х30 с двухсторонней перфорацией H=1900",1199,{"$f":"ROUND(C120*(1-$C$3)/Лист2!$A$6,0)","v":1199}]
["T-LT 62302050","Стойка дополнительная 30х30 с двухсторонней перфорацией H=2050",1276,{"$f":"ROUND(C121*(1-$C$3)/Лист2!$A$6,0)","v":1276}]
["T-LT 62302150","Стойка дополнительная 30х30 с двухсторонней перфорацией H=2150",1303,{"$f":"ROUND(C122*(1-$C$3)/Лист2!$A$6,0)","v":1303}]
["T-LT 62302200","Стойка дополнительная 30х30 с двухсторонней перфорацией H=2200",1326,{"$f":"ROUND(C123*(1-$C$3)/Лист2!$A$6,0)","v":1326}]
["T-LT 62302300","Стойка дополнительная 30х30 с двухсторонней перфорацией H=2300",1357,{"$f":"ROUND(C124*(1-$C$3)/Лист2!$A$6,0)","v":1357}]
["T-LT 62302450","Стойка дополнительная 30х30 с двухсторонней перфорацией H=2450",1406,{"$f":"ROUND(C125*(1-$C$3)/Лист2!$A$6,0)","v":1406}]
["T-LT 62302500","Стойка дополнительная 30х30 с двухсторонней перфорацией H=2500",1439,{"$f":"ROUND(C126*(1-$C$3)/Лист2!$A$6,0)","v":1439}]
["T-DL 02800050","Надставка стойки 80х30  Н=50",706,{"$f":"ROUND(C127*(1-$C$3)/Лист2!$A$6,0)","v":706}]
["T-DL 02800150","Надставка стойки 80х30  Н=150",863,{"$f":"ROUND(C128*(1-$C$3)/Лист2!$A$6,0)","v":863}]
["T-DL 02800200","Надставка стойки 80х30  Н=200",897,{"$f":"ROUND(C129*(1-$C$3)/Лист2!$A$6,0)","v":897}]
["T-DL 02800300","Надставка стойки 80х30  Н=300",1017,{"$f":"ROUND(C130*(1-$C$3)/Лист2!$A$6,0)","v":1017}]
["T-DL 02800400","Надставка стойки 80х30  Н=400",1073,{"$f":"ROUND(C131*(1-$C$3)/Лист2!$A$6,0)","v":1073}]
["T-DL 02800500","Надставка стойки 80х30  Н=500",1148,{"$f":"ROUND(C132*(1-$C$3)/Лист2!$A$6,0)","v":1148}]
["T-LT 22471600","Стойка 80x30 с базой L-образная G=470  Н = 1600 ",2198,{"$f":"ROUND(C133*(1-$C$3)/Лист2!$A$6,0)","v":2198}]
["T-LT 22471650","Стойка 80x30 с базой L-образная G=470 Н = 1650 ",2240,{"$f":"ROUND(C134*(1-$C$3)/Лист2!$A$6,0)","v":2240}]
["T-LT 22471700","Стойка 80x30 с базой L-образная G=470  Н = 1700 ",2274,{"$f":"ROUND(C135*(1-$C$3)/Лист2!$A$6,0)","v":2274}]
["T-LT 22471750","Стойка 80x30 с базой L-образная G=470  Н = 1750 ",2315,{"$f":"ROUND(C136*(1-$C$3)/Лист2!$A$6,0)","v":2315}]
["T-LT 22471800","Стойка 80x30 с базой L-образная G=470  Н = 1800",2358,{"$f":"ROUND(C137*(1-$C$3)/Лист2!$A$6,0)","v":2358}]
["T-LT 22471850","Стойка 80x30 с базой L-образная G=470  Н = 1850 ",2393,{"$f":"ROUND(C138*(1-$C$3)/Лист2!$A$6,0)","v":2393}]
["T-LT 22471900","Стойка 80x30 с базой L-образная G=470 Н = 1900 ",2428,{"$f":"ROUND(C139*(1-$C$3)/Лист2!$A$6,0)","v":2428}]
["T-LT 22471950","Стойка 80x30 с базой L-образная G=470  Н = 1950 ",2467,{"$f":"ROUND(C140*(1-$C$3)/Лист2!$A$6,0)","v":2467}]
["T-LT 22472000","Стойка 80x30 с базой L-образная G=470  Н = 2000 ",2505,{"$f":"ROUND(C141*(1-$C$3)/Лист2!$A$6,0)","v":2505}]
["T-LT 22472050","Стойка 80x30 с базой L-образная G=470  Н = 2050 ",2543,{"$f":"ROUND(C142*(1-$C$3)/Лист2!$A$6,0)","v":2543}]
["T-LT 22472100","Стойка 80x30 с базой L-образная G=470  Н = 2100 ",2579,{"$f":"ROUND(C143*(1-$C$3)/Лист2!$A$6,0)","v":2579}]
["T-LT 22472150","Стойка 80x30 с базой L-образная G=470  Н = 2150 ",2618,{"$f":"ROUND(C144*(1-$C$3)/Лист2!$A$6,0)","v":2618}]
["T-LT 22472200","Стойка 80x30 с базой L-образная G=470  Н = 2200 ",2657,{"$f":"ROUND(C145*(1-$C$3)/Лист2!$A$6,0)","v":2657}]
["T-LT 22472250","Стойка 80x30 с базой L-образная G=470  Н = 2250 ",2694,{"$f":"ROUND(C146*(1-$C$3)/Лист2!$A$6,0)","v":2694}]
["T-LT 22472300","Стойка 80x30 с базой L-образная G=470 Н = 2300 ",2729,{"$f":"ROUND(C147*(1-$C$3)/Лист2!$A$6,0)","v":2729}]
["T-LT 22571600","Стойка 80x30 с базой L-образная G=570 Н = 1600 ",2425,{"$f":"ROUND(C148*(1-$C$3)/Лист2!$A$6,0)","v":2425}]
["T-LT 22571650","Стойка 80x30 с базой L-образная G=570 Н = 1650 ",2462,{"$f":"ROUND(C149*(1-$C$3)/Лист2!$A$6,0)","v":2462}]
["T-LT 22571700","Стойка 80x30 с базой L-образная G=570 Н = 1700 ",2505,{"$f":"ROUND(C150*(1-$C$3)/Лист2!$A$6,0)","v":2505}]
["T-LT 22571750","Стойка 80x30 с базой L-образная G=570 Н = 1750 ",2548,{"$f":"ROUND(C151*(1-$C$3)/Лист2!$A$6,0)","v":2548}]
["T-LT 22571800","Стойка 80x30 с базой L-образная G=570 Н = 1800 ",2587,{"$f":"ROUND(C152*(1-$C$3)/Лист2!$A$6,0)","v":2587}]
["T-LT 22571850","Стойка 80x30 с базой L-образная G=570 Н = 1850 ",2634,{"$f":"ROUND(C153*(1-$C$3)/Лист2!$A$6,0)","v":2634}]
["T-LT 22571900","Стойка 80x30 с базой L-образная G=570 Н = 1900 ",2672,{"$f":"ROUND(C154*(1-$C$3)/Лист2!$A$6,0)","v":2672}]
["T-LT 22571950","Стойка 80x30 с базой L-образная G=570 Н = 1950 ",2712,{"$f":"ROUND(C155*(1-$C$3)/Лист2!$A$6,0)","v":2712}]
["T-LT 22572000","Стойка 80x30 с базой L-образная G=570 Н = 2000 ",2758,{"$f":"ROUND(C156*(1-$C$3)/Лист2!$A$6,0)","v":2758}]
["T-LT 22572050","Стойка 80x30 с базой L-образная G=570 Н = 2050 ",2795,{"$f":"ROUND(C157*(1-$C$3)/Лист2!$A$6,0)","v":2795}]
["T-LT 22572100","Стойка 80x30 с базой L-образная G=570 Н = 2100 ",2841,{"$f":"ROUND(C158*(1-$C$3)/Лист2!$A$6,0)","v":2841}]
["T-LT 22572150","Стойка 80x30 с базой L-образная G=570 Н = 2150 ",2882,{"$f":"ROUND(C159*(1-$C$3)/Лист2!$A$6,0)","v":2882}]
["T-LT 22572200","Стойка 80x30 с базой L-образная G=570 Н = 2200 ",2922,{"$f":"ROUND(C160*(1-$C$3)/Лист2!$A$6,0)","v":2922}]
["T-LT 22572250","Стойка 80x30 с базой L-образная G=570 Н = 2250 ",2965,{"$f":"ROUND(C161*(1-$C$3)/Лист2!$A$6,0)","v":2965}]
["T-LT 22572300","Стойка 80x30 с базой L-образная G=570  Н = 2300 ",3004,{"$f":"ROUND(C162*(1-$C$3)/Лист2!$A$6,0)","v":3004}]
["T-LT 22572350","Стойка 80x30 с базой L-образная G=570 Н = 2350 ",3050,{"$f":"ROUND(C163*(1-$C$3)/Лист2!$A$6,0)","v":3050}]
["T-LT 22572400","Стойка 80x30 с базой L-образная G=570 Н = 2400 ",3089,{"$f":"ROUND(C164*(1-$C$3)/Лист2!$A$6,0)","v":3089}]
["T-LT 32471600","Стойка 80x30 с базой Т-образная G=2х470 Н = 1600 ",3359,{"$f":"ROUND(C165*(1-$C$3)/Лист2!$A$6,0)","v":3359}]
["T-LT 32471650","Стойка 80x30 с базой Т-образная G=2х470 Н = 1650 ",3396,{"$f":"ROUND(C166*(1-$C$3)/Лист2!$A$6,0)","v":3396}]
["T-LT 32471700","Стойка 80x30 с базой Т-образная G=2х470  Н = 1700 ",3434,{"$f":"ROUND(C167*(1-$C$3)/Лист2!$A$6,0)","v":3434}]
["T-LT 32471750","Стойка 80x30 с базой Т-образная G=2х470  Н = 1750",3474,{"$f":"ROUND(C168*(1-$C$3)/Лист2!$A$6,0)","v":3474}]
["T-LT 32471800","Стойка 80x30 с базой Т-образная G=2х470  Н = 1800 ",3508,{"$f":"ROUND(C169*(1-$C$3)/Лист2!$A$6,0)","v":3508}]
["T-LT 32471850","Стойка 80x30 с базой Т-образная G=2х470  Н = 1850 ",3548,{"$f":"ROUND(C170*(1-$C$3)/Лист2!$A$6,0)","v":3548}]
["T-LT 32471900","Стойка 80x30 с базой Т-образная G=2х470  Н = 1900 ",3586,{"$f":"ROUND(C171*(1-$C$3)/Лист2!$A$6,0)","v":3586}]
["T-LT 32471950","Стойка 80x30 с базой Т-образная G=2х470 Н = 1950 ",3623,{"$f":"ROUND(C172*(1-$C$3)/Лист2!$A$6,0)","v":3623}]
["T-LT 32472000","Стойка 80x30 с базой Т-образная G=2х470 Н = 2000 ",3660,{"$f":"ROUND(C173*(1-$C$3)/Лист2!$A$6,0)","v":3660}]
["T-LT 32472050","Стойка 80x30 с базой Т-образная G=2х470 Н = 2050 ",3702,{"$f":"ROUND(C174*(1-$C$3)/Лист2!$A$6,0)","v":3702}]
["T-LT 32472100","Стойка 80x30 с базой Т-образная G=2х470 Н = 2100 ",3738,{"$f":"ROUND(C175*(1-$C$3)/Лист2!$A$6,0)","v":3738}]
["T-LT 32472100","Стойка 80x30 с базой Т-образная G=2х470 Н = 2150 ",3776,{"$f":"ROUND(C176*(1-$C$3)/Лист2!$A$6,0)","v":3776}]
["T-LT 32472200","Стойка 80x30 с базой Т-образная G=2х470 Н = 2200 ",3816,{"$f":"ROUND(C177*(1-$C$3)/Лист2!$A$6,0)","v":3816}]
["T-LT 32472250","Стойка 80x30 с базой Т-образная G=2х470 Н = 2250 ",3851,{"$f":"ROUND(C178*(1-$C$3)/Лист2!$A$6,0)","v":3851}]
["T-LT 32472300","Стойка 80x30 с базой Т-образная G=2х470 Н = 2300 ",3891,{"$f":"ROUND(C179*(1-$C$3)/Лист2!$A$6,0)","v":3891}]
["T-LT 32571600","Стойка 80x30 с базой Т-образная G=2х570 Н = 1600 ",3693,{"$f":"ROUND(C180*(1-$C$3)/Лист2!$A$6,0)","v":3693}]
["T-LT 32571650","Стойка 80x30 с базой Т-образная G=2х570 Н = 1650 ",3738,{"$f":"ROUND(C181*(1-$C$3)/Лист2!$A$6,0)","v":3738}]
["T-LT 32571700","Стойка 80x30 с базой Т-образная G=2х570 Н = 1700 ",3776,{"$f":"ROUND(C182*(1-$C$3)/Лист2!$A$6,0)","v":3776}]
["T-LT 32571750","Стойка 80x30 с базой Т-образная G=2х570 Н = 1750 ",3824,{"$f":"ROUND(C183*(1-$C$3)/Лист2!$A$6,0)","v":3824}]
["T-LT 32571800","Стойка 80x30 с базой Т-образная G=2х570 Н = 1800 ",3864,{"$f":"ROUND(C184*(1-$C$3)/Лист2!$A$6,0)","v":3864}]
["T-LT 32571850","Стойка 80x30 с базой Т-образная G=2х570 Н = 1850 ",3899,{"$f":"ROUND(C185*(1-$C$3)/Лист2!$A$6,0)","v":3899}]
["T-LT 32571900","Стойка 80x30 с базой Т-образная G=2х570 Н = 1900 ",3947,{"$f":"ROUND(C186*(1-$C$3)/Лист2!$A$6,0)","v":3947}]
["T-LT 32571950","Стойка 80x30 с базой Т-образная G=2х570 Н = 1950 ",3987,{"$f":"ROUND(C187*(1-$C$3)/Лист2!$A$6,0)","v":3987}]
["T-LT 32572000","Стойка 80x30 с базой Т-образная G=2х570 Н = 2000 ",4028,{"$f":"ROUND(C188*(1-$C$3)/Лист2!$A$6,0)","v":4028}]
["T-LT 32572050","Стойка 80x30 с базой Т-образная G=2х570 Н = 2050 ",4070,{"$f":"ROUND(C189*(1-$C$3)/Лист2!$A$6,0)","v":4070}]
["T-LT 32572100","Стойка 80x30 с базой Т-образная G=2х570 Н = 2100 ",4110,{"$f":"ROUND(C190*(1-$C$3)/Лист2!$A$6,0)","v":4110}]
["T-LT 32572150","Стойка 80x30 с базой Т-образная G=2х570 Н = 2150 ",4152,{"$f":"ROUND(C191*(1-$C$3)/Лист2!$A$6,0)","v":4152}]
["T-LT 32572200","Стойка 80x30 с базой Т-образная G=2х570 Н = 2200 ",4193,{"$f":"ROUND(C192*(1-$C$3)/Лист2!$A$6,0)","v":4193}]
["T-LT 32572250","Стойка 80x30 с базой Т-образная G=2х570 Н = 2250 ",4238,{"$f":"ROUND(C193*(1-$C$3)/Лист2!$A$6,0)","v":4238}]
["T-LT 32572300","Стойка 80x30 с базой Т-образная G=2х570 Н = 2300 ",4279,{"$f":"ROUND(C194*(1-$C$3)/Лист2!$A$6,0)","v":4279}]
["N-LT 22471220","Стойка 60х30 L-обр (30х30),H=2200, G=470 (30х30)",2235,{"$f":"ROUND(C195*(1-$C$3)/Лист2!$A$6,0)","v":2235}]
["N-LT 32470160","Стойка 60х30 Т-образная (30х30),H=1600, G=2х470",1835,{"$f":"ROUND(C196*(1-$C$3)/Лист2!$A$6,0)","v":1835}]
["N-LT 32471160","Стойка 60х30 Т-обр.(30х30)(для траверс),H=1600, G=2х470",2066,{"$f":"ROUND(C197*(1-$C$3)/Лист2!$A$6,0)","v":2066}]
["N-LT 22471160","Стойка 60х30 L-обр (для траверс) H=1600, G=470 (30х30)",2599,{"$f":"ROUND(C198*(1-$C$3)/Лист2!$A$6,0)","v":2599}]
["N-LT 22470160","Стойка 60х30 L-образ со смещ осн (для трав)(комп) H=1600, G=470 ",3720,{"$f":"ROUND(C199*(1-$C$3)/Лист2!$A$6,0)","v":3720}]
["N-LT 22470180","Стойка 60х30 L-образ со смещ осн (для трав)(комп),H=1800, G=470",4047,{"$f":"ROUND(C200*(1-$C$3)/Лист2!$A$6,0)","v":4047}]
["N-LT 22470190","Стойка 60х30 L-образ со смещ осн (для трав)(комп),H=1900, G=470",4104,{"$f":"ROUND(C201*(1-$C$3)/Лист2!$A$6,0)","v":4104}]
["N-LT 22470195","Стойка 60х30 L-образ со смещ осн (для трав)(комп),H=1950, G=470",4207,{"$f":"ROUND(C202*(1-$C$3)/Лист2!$A$6,0)","v":4207}]
["N-LT 22470205","Стойка 60х30 L-образ со смещ осн (для трав)(комп),H=2050, G=470",4413,{"$f":"ROUND(C203*(1-$C$3)/Лист2!$A$6,0)","v":4413}]
["N-LT 22470225  ","Стойка 60х30 L-образ со смещ осн (для трав)(комп) H=2250 G=470",4722,{"$f":"ROUND(C204*(1-$C$3)/Лист2!$A$6,0)","v":4722}]
["T-FT 03000070","Опора регулируемая М10х45 (КДАБ.301319.008-01) ",57,{"$f":"ROUND(C205*(1-$C$3)/Лист2!$A$6,0)","v":57}]
["T-OS 00003080","Опора стойки 30х80 съемная",211,{"$f":"ROUND(C206*(1-$C$3)/Лист2!$A$6,0)","v":211}]
["T-BT 01000310","База стеллажа G=310",1148,{"$f":"ROUND(C207*(1-$C$3)/Лист2!$A$6,0)","v":1148}]
["T-BT 01000370","База стеллажа G=370",1151,{"$f":"ROUND(C208*(1-$C$3)/Лист2!$A$6,0)","v":1151}]
["T-BT 01000470","База стеллажа G=470",1171,{"$f":"ROUND(C209*(1-$C$3)/Лист2!$A$6,0)","v":1171}]
["T-BT 01000570","База стеллажа G=570",1215,{"$f":"ROUND(C210*(1-$C$3)/Лист2!$A$6,0)","v":1215}]
["T-BT 01000670","База стеллажа G=670",1271,{"$f":"ROUND(C211*(1-$C$3)/Лист2!$A$6,0)","v":1271}]
["T-BT 01000770","База стеллажа G=770",1330,{"$f":"ROUND(C212*(1-$C$3)/Лист2!$A$6,0)","v":1330}]
["T-BT 11000470","База усиленного стеллажа G=470",1289,{"$f":"ROUND(C213*(1-$C$3)/Лист2!$A$6,0)","v":1289}]
["T-BT 11000570","База усиленного стеллажа G=570",1344,{"$f":"ROUND(C214*(1-$C$3)/Лист2!$A$6,0)","v":1344}]
["T-BT 11000770","База усиленного стеллажа G=770",1516,{"$f":"ROUND(C215*(1-$C$3)/Лист2!$A$6,0)","v":1516}]
["T-BT 02000370","База полки торцевой G=370",2378,{"$f":"ROUND(C216*(1-$C$3)/Лист2!$A$6,0)","v":2378}]
["T-BT 02000470","База полки торцевой G=470",3130,{"$f":"ROUND(C217*(1-$C$3)/Лист2!$A$6,0)","v":3130}]
["T-BT 02000570","База полки торцевой G=570",3441,{"$f":"ROUND(C218*(1-$C$3)/Лист2!$A$6,0)","v":3441}]
["T-BT 02020570","База полки торцевой полукруглой G=570",3441,{"$f":"ROUND(C219*(1-$C$3)/Лист2!$A$6,0)","v":3441}]
["T-BT 01010310","База полки  ДСП G=310",1238,{"$f":"ROUND(C220*(1-$C$3)/Лист2!$A$6,0)","v":1238}]
["T-BT 01010370","База полки  ДСП G=370",1248,{"$f":"ROUND(C221*(1-$C$3)/Лист2!$A$6,0)","v":1248}]
["T-BT 01010470","База полки  ДСП G=470",1415,{"$f":"ROUND(C222*(1-$C$3)/Лист2!$A$6,0)","v":1415}]
["T-BT 01010570","База полки  ДСП G=570",1558,{"$f":"ROUND(C223*(1-$C$3)/Лист2!$A$6,0)","v":1558}]
["T-BT 01010670","База полки  ДСП G=670",1673,{"$f":"ROUND(C224*(1-$C$3)/Лист2!$A$6,0)","v":1673}]
["T-BT 01010770","База полки  ДСП G=770",1848,{"$f":"ROUND(C225*(1-$C$3)/Лист2!$A$6,0)","v":1848}]
["N-BT 05018030","База со смещенным основанием под лари для стойки 80х30 (левая)",1271,{"$f":"ROUND(C226*(1-$C$3)/Лист2!$A$6,0)","v":1271}]
["N-BT 05118030","База со смещенным основанием под лари для стойки 80х30 (правая)",1271,{"$f":"ROUND(C227*(1-$C$3)/Лист2!$A$6,0)","v":1271}]
["N-BT 06408030","База с низким основанием под лари G=400",1315,{"$f":"ROUND(C228*(1-$C$3)/Лист2!$A$6,0)","v":1315}]
["N-PT 01000333","Плинтус L = 333",168,{"$f":"ROUND(C229*(1-$C$3)/Лист2!$A$6,0)","v":168}]
["T-PT 01000665","Плинтус L = 665",230,{"$f":"ROUND(C230*(1-$C$3)/Лист2!$A$6,0)","v":230}]
["N-PT 01000850","Плинтус L = 850",282,{"$f":"ROUND(C231*(1-$C$3)/Лист2!$A$6,0)","v":282}]
["T-PT 01001000","Плинтус L = 1000",287,{"$f":"ROUND(C232*(1-$C$3)/Лист2!$A$6,0)","v":287}]
["T-PT 01001250","Плинтус L = 1250",345,{"$f":"ROUND(C233*(1-$C$3)/Лист2!$A$6,0)","v":345}]
["T-PT 01001330","Плинтус L = 1330",456,{"$f":"ROUND(C234*(1-$C$3)/Лист2!$A$6,0)","v":456}]
["N-PT 00100665","Плинтус с одним зацепом,L=665, H=100",226,{"$f":"ROUND(C235*(1-$C$3)/Лист2!$A$6,0)","v":226}]
["N-PT 00101000","Плинтус с одним зацепом,L=1000, H=100",276,{"$f":"ROUND(C236*(1-$C$3)/Лист2!$A$6,0)","v":276}]
["N-PT 00101250","Плинтус с одним зацепом,L=1250, H=100",373,{"$f":"ROUND(C237*(1-$C$3)/Лист2!$A$6,0)","v":373}]
["N-PT 01190470","Плинтус с одним зацепом угол внеш, H=100, G=470",450,{"$f":"ROUND(C238*(1-$C$3)/Лист2!$A$6,0)","v":450}]
["N-PT 00190470","Плинтус с одним зацепом угол внут, H=100, G=470",323,{"$f":"ROUND(C239*(1-$C$3)/Лист2!$A$6,0)","v":323}]
["T-PT 03000370","Плинтус угла внутреннего L=370",237,{"$f":"ROUND(C240*(1-$C$3)/Лист2!$A$6,0)","v":237}]
["T-PT 03000470","Плинтус угла внутреннего L=470",203,{"$f":"ROUND(C241*(1-$C$3)/Лист2!$A$6,0)","v":203}]
["T-PT 03000570","Плинтус угла внутреннего L=570",179,{"$f":"ROUND(C242*(1-$C$3)/Лист2!$A$6,0)","v":179}]
["T-PT 03000670","Плинтус угла внутреннего L=670",163,{"$f":"ROUND(C243*(1-$C$3)/Лист2!$A$6,0)","v":163}]
["T-PT 04000370","Плинтус угла внешнего L=370",276,{"$f":"ROUND(C244*(1-$C$3)/Лист2!$A$6,0)","v":276}]
["T-PT 04000470","Плинтус угла внешнего L=470",301,{"$f":"ROUND(C245*(1-$C$3)/Лист2!$A$6,0)","v":301}]
["T-PT 04000570","Плинтус угла внешнего L=570",325,{"$f":"ROUND(C246*(1-$C$3)/Лист2!$A$6,0)","v":325}]
["T-PT 04000670","Плинтус угла внешнего L=670",395,{"$f":"ROUND(C247*(1-$C$3)/Лист2!$A$6,0)","v":395}]
["T-PT 05000370","Плинтус торцевой в комплекте L=370",569,{"$f":"ROUND(C248*(1-$C$3)/Лист2!$A$6,0)","v":569}]
["T-PT 05000470","Плинтус торцевой в комплекте L=470",662,{"$f":"ROUND(C249*(1-$C$3)/Лист2!$A$6,0)","v":662}]
["T-PT 05000570","Плинтус торцевой в комплекте L=570",752,{"$f":"ROUND(C250*(1-$C$3)/Лист2!$A$6,0)","v":752}]
["T-PT 05000670","Плинтус торцевой в комплекте L=670",834,{"$f":"ROUND(C251*(1-$C$3)/Лист2!$A$6,0)","v":834}]
["T-PT 09000665","Плинтус стеллажа с дополн стойкой L=665",257,{"$f":"ROUND(C252*(1-$C$3)/Лист2!$A$6,0)","v":257}]
["T-PT 09000850","Плинтус стеллажа с дополн стойкой L=850",287,{"$f":"ROUND(C253*(1-$C$3)/Лист2!$A$6,0)","v":287}]
["T-PT 09001000","Плинтус стеллажа с дополн стойкой L=1000",317,{"$f":"ROUND(C254*(1-$C$3)/Лист2!$A$6,0)","v":317}]
["T-PT 09001250","Плинтус стеллажа с дополн стойкой L=1250",391,{"$f":"ROUND(C255*(1-$C$3)/Лист2!$A$6,0)","v":391}]
["T-PT 09001330","Плинтус стеллажа с дополн стойкой L=1330",498,{"$f":"ROUND(C256*(1-$C$3)/Лист2!$A$6,0)","v":498}]
["T-PT 09010370","Плинтус угла внутр стеллажа с доп стойк G=370",0]
["T-PT 09010470","Плинтус угла внутр стеллажа с доп стойк G=470",223,{"$f":"ROUND(C258*(1-$C$3)/Лист2!$A$6,0)","v":223}]
["T-PT 09010570","Плинтус угла внутр стеллажа с доп стойк G=570",0]
["T-PT 06000370","Плинтус торцевой полукруглый  G=370",761,{"$f":"ROUND(C260*(1-$C$3)/Лист2!$A$6,0)","v":761}]
["T-PT 06000470","Плинтус торцевой полукруглый  G=470",966,{"$f":"ROUND(C261*(1-$C$3)/Лист2!$A$6,0)","v":966}]
["T-PT 06000570","Плинтус торцевой полукруглый  G=570",1207,{"$f":"ROUND(C262*(1-$C$3)/Лист2!$A$6,0)","v":1207}]
["T-TC 01600665","Крышка стеллажа А=60 L=665",266,{"$f":"ROUND(C263*(1-$C$3)/Лист2!$A$6,0)","v":266}]
["N-TC 01060850","Крышка стеллажа А=60 L=850",294,{"$f":"ROUND(C264*(1-$C$3)/Лист2!$A$6,0)","v":294}]
["T-TC 01601000","Крышка стеллажа А=60 L=1000",326,{"$f":"ROUND(C265*(1-$C$3)/Лист2!$A$6,0)","v":326}]
["T-TC 01601250","Крышка стеллажа А=60 L=1250",360,{"$f":"ROUND(C266*(1-$C$3)/Лист2!$A$6,0)","v":360}]
["T-TC 01601330","Крышка стеллажа А=60 L=1330",377,{"$f":"ROUND(C267*(1-$C$3)/Лист2!$A$6,0)","v":377}]
["T-TC 01800665","Крышка стеллажа А=80 L=665",282,{"$f":"ROUND(C268*(1-$C$3)/Лист2!$A$6,0)","v":282}]
["N-TC 01080850","Крышка стеллажа А=80 L=850",324,{"$f":"ROUND(C269*(1-$C$3)/Лист2!$A$6,0)","v":324}]
["T-TC 01801000","Крышка стеллажа А=80 L=1000",359,{"$f":"ROUND(C270*(1-$C$3)/Лист2!$A$6,0)","v":359}]
["T-TC 01801250","Крышка стеллажа А=80 L=1250",405,{"$f":"ROUND(C271*(1-$C$3)/Лист2!$A$6,0)","v":405}]
["T-TC 01801330","Крышка стеллажа А=80 L=1330",425,{"$f":"ROUND(C272*(1-$C$3)/Лист2!$A$6,0)","v":425}]
["T-BP 01100665","Панель сплошная H=100 L = 665",235,{"$f":"ROUND(C273*(1-$C$3)/Лист2!$A$6,0)","v":235}]
["N-BP 05100850 ","Панель сплошная H=100 L = 850",263,{"$f":"ROUND(C274*(1-$C$3)/Лист2!$A$6,0)","v":263}]
["T-BP 01101000","Панель сплошная H=100 L = 1000",291,{"$f":"ROUND(C275*(1-$C$3)/Лист2!$A$6,0)","v":291}]
["T-BP 01101250","Панель сплошная H=100 L = 1250",342,{"$f":"ROUND(C276*(1-$C$3)/Лист2!$A$6,0)","v":342}]
["T-BP 01101330","Панель сплошная H=100 L = 1330",375,{"$f":"ROUND(C277*(1-$C$3)/Лист2!$A$6,0)","v":375}]
["N-BP 01150333","Панель сплошная H=150 L = 333",168,{"$f":"ROUND(C278*(1-$C$3)/Лист2!$A$6,0)","v":168}]
["T-BP 01150665","Панель сплошная H=150 L = 665",241,{"$f":"ROUND(C279*(1-$C$3)/Лист2!$A$6,0)","v":241}]
["N-BP 05150850 ","Панель сплошная H=150 L = 850",294,{"$f":"ROUND(C280*(1-$C$3)/Лист2!$A$6,0)","v":294}]
["T-BP 01151000","Панель сплошная H=150 L = 1000",300,{"$f":"ROUND(C281*(1-$C$3)/Лист2!$A$6,0)","v":300}]
["T-BP 01151250","Панель сплошная H=150 L = 1250",360,{"$f":"ROUND(C282*(1-$C$3)/Лист2!$A$6,0)","v":360}]
["T-BP 01151330","Панель сплошная H=150 L = 1330",480,{"$f":"ROUND(C283*(1-$C$3)/Лист2!$A$6,0)","v":480}]
["N-BP 01200333","Панель сплошная H=200 L = 333",209,{"$f":"ROUND(C284*(1-$C$3)/Лист2!$A$6,0)","v":209}]
["T-BP 01200665","Панель сплошная H=200 L = 665",287,{"$f":"ROUND(C285*(1-$C$3)/Лист2!$A$6,0)","v":287}]
["N-BP 05200850 ","Панель сплошная H=200 L = 850",343,{"$f":"ROUND(C286*(1-$C$3)/Лист2!$A$6,0)","v":343}]
["T-BP 01201000","Панель сплошная H=200 L = 1000",369,{"$f":"ROUND(C287*(1-$C$3)/Лист2!$A$6,0)","v":369}]
["T-BP 01201250","Панель сплошная H=200 L = 1250",428,{"$f":"ROUND(C288*(1-$C$3)/Лист2!$A$6,0)","v":428}]
["T-BP 01201330","Панель сплошная H=200 L = 1330",593,{"$f":"ROUND(C289*(1-$C$3)/Лист2!$A$6,0)","v":593}]
["N-BP 01300333","Панель сплошная H=300 L = 333",275,{"$f":"ROUND(C290*(1-$C$3)/Лист2!$A$6,0)","v":275}]
["T-BP 01300665","Панель сплошная H=300 L = 665",379,{"$f":"ROUND(C291*(1-$C$3)/Лист2!$A$6,0)","v":379}]
["N-BP 05300850 ","Панель сплошная H=300 L = 850",435,{"$f":"ROUND(C292*(1-$C$3)/Лист2!$A$6,0)","v":435}]
["T-BP 01301000","Панель сплошная H=300 L = 1000",483,{"$f":"ROUND(C293*(1-$C$3)/Лист2!$A$6,0)","v":483}]
["T-BP 01301250","Панель сплошная H=300 L = 1250",576,{"$f":"ROUND(C294*(1-$C$3)/Лист2!$A$6,0)","v":576}]
["T-BP 01301330","Панель сплошная H=300 L = 1330",745,{"$f":"ROUND(C295*(1-$C$3)/Лист2!$A$6,0)","v":745}]
["N-BP 01400333","Панель сплошная H=400 L = 333",336,{"$f":"ROUND(C296*(1-$C$3)/Лист2!$A$6,0)","v":336}]
["T-BP 01400665","Панель сплошная H=400 L = 665",440,{"$f":"ROUND(C297*(1-$C$3)/Лист2!$A$6,0)","v":440}]
["N-BP 05400850 ","Панель сплошная H=400 L = 850",556,{"$f":"ROUND(C298*(1-$C$3)/Лист2!$A$6,0)","v":556}]
["T-BP 01401000","Панель сплошная H=400 L = 1000",576,{"$f":"ROUND(C299*(1-$C$3)/Лист2!$A$6,0)","v":576}]
["T-BP 01401250","Панель сплошная H=400 L = 1250",724,{"$f":"ROUND(C300*(1-$C$3)/Лист2!$A$6,0)","v":724}]
["T-BP 01401330","Панель сплошная H=400 L = 1330",892,{"$f":"ROUND(C301*(1-$C$3)/Лист2!$A$6,0)","v":892}]
["T-BP 16900100","Панель сплошная угловая внешняя 45º H=100",100,{"$f":"ROUND(C302*(1-$C$3)/Лист2!$A$6,0)","v":100}]
["T-BP 16900150","Панель сплошная угловая внешняя 45º H=150",118,{"$f":"ROUND(C303*(1-$C$3)/Лист2!$A$6,0)","v":118}]
["T-BP 16900200","Панель сплошная угловая внешняя 45º H=200",145,{"$f":"ROUND(C304*(1-$C$3)/Лист2!$A$6,0)","v":145}]
["T-BP 16900300","Панель сплошная угловая внешняя 45º H=300",170,{"$f":"ROUND(C305*(1-$C$3)/Лист2!$A$6,0)","v":170}]
["T-BP 16900400","Панель сплошная угловая внешняя 45º H=400",191,{"$f":"ROUND(C306*(1-$C$3)/Лист2!$A$6,0)","v":191}]
["T-BP 02100665","Панель перфорированная H=100 L = 665",371,{"$f":"ROUND(C307*(1-$C$3)/Лист2!$A$6,0)","v":371}]
["T-BP 02101000","Панель перфорированная H=100 L = 1000",461,{"$f":"ROUND(C308*(1-$C$3)/Лист2!$A$6,0)","v":461}]
["T-BP 02101250","Панель перфорированная H=100 L = 1250",515,{"$f":"ROUND(C309*(1-$C$3)/Лист2!$A$6,0)","v":515}]
["T-BP 02101330","Панель перфорированная H=100 L = 1330",549,{"$f":"ROUND(C310*(1-$C$3)/Лист2!$A$6,0)","v":549}]
["T-BP 02150665","Панель перфорированная H=150 L = 665",504,{"$f":"ROUND(C311*(1-$C$3)/Лист2!$A$6,0)","v":504}]
["N-BP 06100850","Панель перфорированная H=150 L = 850",582,{"$f":"ROUND(C312*(1-$C$3)/Лист2!$A$6,0)","v":582}]
["T-BP 02151000","Панель перфорированная H=150 L = 1000",644,{"$f":"ROUND(C313*(1-$C$3)/Лист2!$A$6,0)","v":644}]
["T-BP 02151250","Панель перфорированная H=150 L = 1250",772,{"$f":"ROUND(C314*(1-$C$3)/Лист2!$A$6,0)","v":772}]
["T-BP 02151330","Панель перфорированная H=150 L = 1330",827,{"$f":"ROUND(C315*(1-$C$3)/Лист2!$A$6,0)","v":827}]
["T-BP 02200665","Панель перфорированная H=200 L = 665",563,{"$f":"ROUND(C316*(1-$C$3)/Лист2!$A$6,0)","v":563}]
["N-BP 06200850","Панель перфорированная H=200 L = 850",660,{"$f":"ROUND(C317*(1-$C$3)/Лист2!$A$6,0)","v":660}]
["T-BP 02201000","Панель перфорированная H=200 L = 1000",731,{"$f":"ROUND(C318*(1-$C$3)/Лист2!$A$6,0)","v":731}]
["T-BP 02201250","Панель перфорированная H=200 L = 1250",876,{"$f":"ROUND(C319*(1-$C$3)/Лист2!$A$6,0)","v":876}]
["T-BP 02201330","Панель перфорированная H=200 L = 1330",937,{"$f":"ROUND(C320*(1-$C$3)/Лист2!$A$6,0)","v":937}]
["T-BP 02300665","Панель перфорированная H=300 L = 665",660,{"$f":"ROUND(C321*(1-$C$3)/Лист2!$A$6,0)","v":660}]
["T-BP 02301000","Панель перфорированная H=300 L = 1000",937,{"$f":"ROUND(C322*(1-$C$3)/Лист2!$A$6,0)","v":937}]
["T-BP 02301250","Панель перфорированная H=300 L = 1250",1134,{"$f":"ROUND(C323*(1-$C$3)/Лист2!$A$6,0)","v":1134}]
["T-BP 02301330","Панель перфорированная H=300 L = 1330",1208,{"$f":"ROUND(C324*(1-$C$3)/Лист2!$A$6,0)","v":1208}]
["T-BP 02400665","Панель перфорированная H=400 L = 665",702,{"$f":"ROUND(C325*(1-$C$3)/Лист2!$A$6,0)","v":702}]
["N-BP 06400850","Панель перфорированная H=400 L = 850",817,{"$f":"ROUND(C326*(1-$C$3)/Лист2!$A$6,0)","v":817}]
["T-BP 02401000","Панель перфорированная H=400 L = 1000",952,{"$f":"ROUND(C327*(1-$C$3)/Лист2!$A$6,0)","v":952}]
["T-BP 02401250","Панель перфорированная H=400 L = 1250",1155,{"$f":"ROUND(C328*(1-$C$3)/Лист2!$A$6,0)","v":1155}]
["T-BP 02401330","Панель перфорированная H=400 L = 1330",1244,{"$f":"ROUND(C329*(1-$C$3)/Лист2!$A$6,0)","v":1244}]
["N-BR 01500600","Панель перфорированная настенная  H=600 L=500",929,{"$f":"ROUND(C330*(1-$C$3)/Лист2!$A$6,0)","v":929}]
["N-BP 01451000","Панель перфорированная настенная  H=1000 L = 450",1603,{"$f":"ROUND(C331*(1-$C$3)/Лист2!$A$6,0)","v":1603}]
["T-BP 05900100","Панель сплошная угловая внутренняя  Н = 100",284,{"$f":"ROUND(C332*(1-$C$3)/Лист2!$A$6,0)","v":284}]
["T-BP 05900150","Панель сплошная угловая внутренняя  Н = 150",331,{"$f":"ROUND(C333*(1-$C$3)/Лист2!$A$6,0)","v":331}]
["T-BP 05900200","Панель сплошная угловая внутренняя  Н = 200",403,{"$f":"ROUND(C334*(1-$C$3)/Лист2!$A$6,0)","v":403}]
["T-BP 05900300","Панель сплошная угловая внутренняя  Н = 300",511,{"$f":"ROUND(C335*(1-$C$3)/Лист2!$A$6,0)","v":511}]
["T-BP 05900400","Панель сплошная угловая внутренняя  Н = 400",621,{"$f":"ROUND(C336*(1-$C$3)/Лист2!$A$6,0)","v":621}]
["T-BP 06900100","Панель сплошная угловая внешняя  Н = 100",169,{"$f":"ROUND(C337*(1-$C$3)/Лист2!$A$6,0)","v":169}]
["T-BP 06900150","Панель сплошная угловая внешняя  Н = 150",183,{"$f":"ROUND(C338*(1-$C$3)/Лист2!$A$6,0)","v":183}]
["T-BP 06900200","Панель сплошная угловая внешняя  Н = 200",204,{"$f":"ROUND(C339*(1-$C$3)/Лист2!$A$6,0)","v":204}]
["T-BP 06900300","Панель сплошная угловая внешняя  Н = 300",241,{"$f":"ROUND(C340*(1-$C$3)/Лист2!$A$6,0)","v":241}]
["T-BP 06900400","Панель сплошная угловая внешняя  Н = 400",271,{"$f":"ROUND(C341*(1-$C$3)/Лист2!$A$6,0)","v":271}]
["T-BP 25900150","Панель перфорированная угловая внутренняя Н = 150",456,{"$f":"ROUND(C342*(1-$C$3)/Лист2!$A$6,0)","v":456}]
["T-BP 25900200","Панель перфорированная угловая внутренняя Н = 200",558,{"$f":"ROUND(C343*(1-$C$3)/Лист2!$A$6,0)","v":558}]
["T-BP 25900300","Панель перфорированная угловая внутренняя Н = 300",751,{"$f":"ROUND(C344*(1-$C$3)/Лист2!$A$6,0)","v":751}]
["T-BP 25900400","Панель перфорированная угловая внутренняя Н = 400",959,{"$f":"ROUND(C345*(1-$C$3)/Лист2!$A$6,0)","v":959}]
["T-BP 17150665","Панель встраиваемая для сдвоенной электророзетки H=150 L = 665",257,{"$f":"ROUND(C346*(1-$C$3)/Лист2!$A$6,0)","v":257}]
["T-BP 17151000","Панель встраиваемая для сдвоенной электророзетки H=150 L = 1000",342,{"$f":"ROUND(C347*(1-$C$3)/Лист2!$A$6,0)","v":342}]
["T-BP 17151250","Панель встраиваемая для сдвоенной электророзетки H=150 L = 1250",401,{"$f":"ROUND(C348*(1-$C$3)/Лист2!$A$6,0)","v":401}]
["T-BP 17151330","Панель встраиваемая для сдвоенной электророзетки H=150 L = 1330",422,{"$f":"ROUND(C349*(1-$C$3)/Лист2!$A$6,0)","v":422}]
["T-BP 27150665","Панель встраиваемая для 2-х сдвоенных электророзеток H=150 L = 665",257,{"$f":"ROUND(C350*(1-$C$3)/Лист2!$A$6,0)","v":257}]
["T-BP 27151000","Панель встраиваемая для 2-х сдвоенных электророзеток H=150 L = 1000",342,{"$f":"ROUND(C351*(1-$C$3)/Лист2!$A$6,0)","v":342}]
["T-BP 27151250","Панель встраиваемая для 2-х сдвоенных электророзеток H=150 L = 1250",401,{"$f":"ROUND(C352*(1-$C$3)/Лист2!$A$6,0)","v":401}]
["T-BP 27151330","Панель встраиваемая для 2-х сдвоенных электророзеток H=150 L = 1330",422,{"$f":"ROUND(C353*(1-$C$3)/Лист2!$A$6,0)","v":422}]
["T-BP 04381000","Панель с балками 15х30 Н=400 для стойки 30х80 L = 1000",2369,{"$f":"ROUND(C354*(1-$C$3)/Лист2!$A$6,0)","v":2369}]
["T-BP 04381250","Панель с балками 15х30 Н=400 для стойки 30х80 L = 1250",2821,{"$f":"ROUND(C355*(1-$C$3)/Лист2!$A$6,0)","v":2821}]
["T-BP 04381330","Панель с балками 15х30 Н=400 для стойки 30х80 L = 1330",2824,{"$f":"ROUND(C356*(1-$C$3)/Лист2!$A$6,0)","v":2824}]
["T-BP 04480665","Панель с балками 20х40 Н=400 для стойки 30х80 L = 665",2149,{"$f":"ROUND(C357*(1-$C$3)/Лист2!$A$6,0)","v":2149}]
["T-BP 04481250","Панель с балками 20х40 Н=400 для стойки 30х80 L = 1250",2987,{"$f":"ROUND(C358*(1-$C$3)/Лист2!$A$6,0)","v":2987}]
["T-BP 04481330","Панель с балками 20х40 Н=400 для стойки 30х80 L = 1330",2998,{"$f":"ROUND(C359*(1-$C$3)/Лист2!$A$6,0)","v":2998}]
["T-BP 04360665","Панель с балками 15х30 Н=400 для стойки 30х60 L = 665",2055,{"$f":"ROUND(C360*(1-$C$3)/Лист2!$A$6,0)","v":2055}]
["T-BP 04361000","Панель с балками 15х30 Н=400 для стойки 30х60 L = 1000",2361,{"$f":"ROUND(C361*(1-$C$3)/Лист2!$A$6,0)","v":2361}]
["T-BP 04361330","Панель с балками 15х30 Н=400 для стойки 30х60 L = 1330",2813,{"$f":"ROUND(C362*(1-$C$3)/Лист2!$A$6,0)","v":2813}]
["T-BP 04460665","Панель с балками 20х40 Н=400 для стойки 30х60 L = 665",2133,{"$f":"ROUND(C363*(1-$C$3)/Лист2!$A$6,0)","v":2133}]
["T-BP 04461000","Панель с балками 20х40 Н=400 для стойки 30х60 L = 1000",2475,{"$f":"ROUND(C364*(1-$C$3)/Лист2!$A$6,0)","v":2475}]
["T-BP 04461250","Панель с балками 20х40 Н=400 для стойки 30х60 L = 1250",2976,{"$f":"ROUND(C365*(1-$C$3)/Лист2!$A$6,0)","v":2976}]
["T-BP 04461330","Панель с балками 20х40 Н=400 для стойки 30х60 L = 1330",2978,{"$f":"ROUND(C366*(1-$C$3)/Лист2!$A$6,0)","v":2978}]
["T-BP 28121000","Панель под розетки 2 отверстия Н=120 L = 1000",571,{"$f":"ROUND(C367*(1-$C$3)/Лист2!$A$6,0)","v":571}]
["T-BP 28121250","Панель под розетки 2 отверстия Н=120 L = 1250",644,{"$f":"ROUND(C368*(1-$C$3)/Лист2!$A$6,0)","v":644}]
["T-BP 28121330","Панель под розетки 2 отверстия Н=120 L = 1330",649,{"$f":"ROUND(C369*(1-$C$3)/Лист2!$A$6,0)","v":649}]
["T-BP 48120665","Панель под розетки 2 отверстия и антенны Н=120 L = 665",505,{"$f":"ROUND(C370*(1-$C$3)/Лист2!$A$6,0)","v":505}]
["T-BP 48121000","Панель под розетки 2 отверстия и антенны Н=120 L = 1000",577,{"$f":"ROUND(C371*(1-$C$3)/Лист2!$A$6,0)","v":577}]
["T-BP 48121250","Панель под розетки 2 отверстия и антенны Н=120 L = 1250",649,{"$f":"ROUND(C372*(1-$C$3)/Лист2!$A$6,0)","v":649}]
["T-BP 48121330","Панель под розетки 2 отверстия и антенны Н=120 L = 1330",655,{"$f":"ROUND(C373*(1-$C$3)/Лист2!$A$6,0)","v":655}]
["T-BP 09161000","Панель под розетки 2 отверстия и антенны Н=120 L = 1330",458,{"$f":"ROUND(C374*(1-$C$3)/Лист2!$A$6,0)","v":458}]
["T-ST 01210665","Полка G=210 L=665",496,{"$f":"ROUND(C375*(1-$C$3)/Лист2!$A$6,0)","v":496}]
["N-ST 01210850","Полка G=210 L = 850",600,{"$f":"ROUND(C376*(1-$C$3)/Лист2!$A$6,0)","v":600}]
["T-ST 01211000","Полка G=210 L=1000",667,{"$f":"ROUND(C377*(1-$C$3)/Лист2!$A$6,0)","v":667}]
["T-ST 01211250","Полка G=210 L=1250",806,{"$f":"ROUND(C378*(1-$C$3)/Лист2!$A$6,0)","v":806}]
["T-ST 01211330","Полка G=210 L=1330",868,{"$f":"ROUND(C379*(1-$C$3)/Лист2!$A$6,0)","v":868}]
["T-ST 01310665","Полка G=210 L=1330",535,{"$f":"ROUND(C380*(1-$C$3)/Лист2!$A$6,0)","v":535}]
["N-ST 01310850","Полка G=310 L = 850",619,{"$f":"ROUND(C381*(1-$C$3)/Лист2!$A$6,0)","v":619}]
["T-ST 01311000","Полка G=310 L = 1000",688,{"$f":"ROUND(C382*(1-$C$3)/Лист2!$A$6,0)","v":688}]
["T-ST 01311250","Полка G=310 L = 1250",840,{"$f":"ROUND(C383*(1-$C$3)/Лист2!$A$6,0)","v":840}]
["T-ST 01311330","Полка G=310 L = 1330",910,{"$f":"ROUND(C384*(1-$C$3)/Лист2!$A$6,0)","v":910}]
["T-ST 01370665","Полка G=370 L = 665",634,{"$f":"ROUND(C385*(1-$C$3)/Лист2!$A$6,0)","v":634}]
["N-ST 01370850","Полка G=370 L = 850",825,{"$f":"ROUND(C386*(1-$C$3)/Лист2!$A$6,0)","v":825}]
["T-ST 01371000","Полка G=370 L = 1000",918,{"$f":"ROUND(C387*(1-$C$3)/Лист2!$A$6,0)","v":918}]
["T-ST 01371250","Полка G=370 L = 1250",994,{"$f":"ROUND(C388*(1-$C$3)/Лист2!$A$6,0)","v":994}]
["T-ST 01371330","Полка G=370 L = 1330",1069,{"$f":"ROUND(C389*(1-$C$3)/Лист2!$A$6,0)","v":1069}]
["N-ST 01470333","Полка G=470 L = 333",1098,{"$f":"ROUND(C390*(1-$C$3)/Лист2!$A$6,0)","v":1098}]
["T-ST 01470665","Полка G=470 L = 665",782,{"$f":"ROUND(C391*(1-$C$3)/Лист2!$A$6,0)","v":782}]
["N-ST 01470850","Полка G=470 L = 850",928,{"$f":"ROUND(C392*(1-$C$3)/Лист2!$A$6,0)","v":928}]
["T-ST 01471000","Полка G=470 L = 1000",1031,{"$f":"ROUND(C393*(1-$C$3)/Лист2!$A$6,0)","v":1031}]
["T-ST 01471250","Полка G=470 L = 1250",1220,{"$f":"ROUND(C394*(1-$C$3)/Лист2!$A$6,0)","v":1220}]
["T-ST 01471330","Полка G=470 L = 1330",1313,{"$f":"ROUND(C395*(1-$C$3)/Лист2!$A$6,0)","v":1313}]
["N-ST 01570333","Полка G=570 L = 333",1332,{"$f":"ROUND(C396*(1-$C$3)/Лист2!$A$6,0)","v":1332}]
["T-ST 01570665","Полка G=570 L = 665",1063,{"$f":"ROUND(C397*(1-$C$3)/Лист2!$A$6,0)","v":1063}]
["N-ST 01570850","Полка G=570 L = 850",1391,{"$f":"ROUND(C398*(1-$C$3)/Лист2!$A$6,0)","v":1391}]
["T-ST 01571000","Полка G=570 L = 1000",1475,{"$f":"ROUND(C399*(1-$C$3)/Лист2!$A$6,0)","v":1475}]
["T-ST 01571250","Полка G=570 L = 1250",1714,{"$f":"ROUND(C400*(1-$C$3)/Лист2!$A$6,0)","v":1714}]
["T-ST 01571330","Полка G=570 L = 1330",1778,{"$f":"ROUND(C401*(1-$C$3)/Лист2!$A$6,0)","v":1778}]
["T-ST 01670665","Полка G=670 L = 665",1313,{"$f":"ROUND(C402*(1-$C$3)/Лист2!$A$6,0)","v":1313}]
["T-ST 01671000","Полка G=670 L = 1000",1776,{"$f":"ROUND(C403*(1-$C$3)/Лист2!$A$6,0)","v":1776}]
["T-ST 01671250","Полка G=670 L = 1250",2220,{"$f":"ROUND(C404*(1-$C$3)/Лист2!$A$6,0)","v":2220}]
["T-ST 01671330","Полка G=670 L = 1330",2431,{"$f":"ROUND(C405*(1-$C$3)/Лист2!$A$6,0)","v":2431}]
["T-ST 01770665","Полка G=770 L = 665",1391,{"$f":"ROUND(C406*(1-$C$3)/Лист2!$A$6,0)","v":1391}]
["T-ST 01771000","Полка G=770 L = 1000",1928,{"$f":"ROUND(C407*(1-$C$3)/Лист2!$A$6,0)","v":1928}]
["T-ST 01771250","Полка G=770 L = 1250",2350,{"$f":"ROUND(C408*(1-$C$3)/Лист2!$A$6,0)","v":2350}]
["T-ST 01771330","Полка G=770 L = 1330",2578,{"$f":"ROUND(C409*(1-$C$3)/Лист2!$A$6,0)","v":2578}]
["T-ST 01970665","Полка G=970 L = 665",2101,{"$f":"ROUND(C410*(1-$C$3)/Лист2!$A$6,0)","v":2101}]
["T-ST 01971000","Полка G=970 L = 1000",2955,{"$f":"ROUND(C411*(1-$C$3)/Лист2!$A$6,0)","v":2955}]
["T-ST 01971250","Полка G=970 L = 1250",3633,{"$f":"ROUND(C412*(1-$C$3)/Лист2!$A$6,0)","v":3633}]
["T-ST 01971330","Полка G=970 L = 1330",3859,{"$f":"ROUND(C413*(1-$C$3)/Лист2!$A$6,0)","v":3859}]
["T-ST 02000210","Полка торцевая G=210 L=1000",1971,{"$f":"ROUND(C414*(1-$C$3)/Лист2!$A$6,0)","v":1971}]
["T-ST 02000310","Полка торцевая G=310 L=1000",2245,{"$f":"ROUND(C415*(1-$C$3)/Лист2!$A$6,0)","v":2245}]
["T-ST 02000370","Полка торцевая G=370 L=1000",2614,{"$f":"ROUND(C416*(1-$C$3)/Лист2!$A$6,0)","v":2614}]
["T-ST 02000470","Полка торцевая G=470 L=1000",3386,{"$f":"ROUND(C417*(1-$C$3)/Лист2!$A$6,0)","v":3386}]
["T-ST 02000570","Полка торцевая G=570 L=1000",4375,{"$f":"ROUND(C418*(1-$C$3)/Лист2!$A$6,0)","v":4375}]
["T-ST 02000670","Полка торцевая G=670 L=1000",4929,{"$f":"ROUND(C419*(1-$C$3)/Лист2!$A$6,0)","v":4929}]
["T-ST 05000210","Полка угловая внутренняя G=210",667,{"$f":"ROUND(C420*(1-$C$3)/Лист2!$A$6,0)","v":667}]
["T-ST 05000310","Полка угловая внутренняя G=310",723,{"$f":"ROUND(C421*(1-$C$3)/Лист2!$A$6,0)","v":723}]
["T-ST 05000370","Полка угловая внутренняя G=370",882,{"$f":"ROUND(C422*(1-$C$3)/Лист2!$A$6,0)","v":882}]
["T-ST 05000470","Полка угловая внутренняя G=470",968,{"$f":"ROUND(C423*(1-$C$3)/Лист2!$A$6,0)","v":968}]
["T-ST 05000570","Полка угловая внутренняя G=570",1255,{"$f":"ROUND(C424*(1-$C$3)/Лист2!$A$6,0)","v":1255}]
["T-ST 05000670","Полка угловая внутренняя G=670",1378,{"$f":"ROUND(C425*(1-$C$3)/Лист2!$A$6,0)","v":1378}]
["T-ST 07300210","Полка угловая внутренняя добавочная усиленного стеллажа G=210",667,{"$f":"ROUND(C426*(1-$C$3)/Лист2!$A$6,0)","v":667}]
["T-ST 07300570","Полка угловая внутренняя усиленного стеллажа  G=570",790,{"$f":"ROUND(C427*(1-$C$3)/Лист2!$A$6,0)","v":790}]
["T-ST 06000310","Полка угловая внешняя  G=310",621,{"$f":"ROUND(C428*(1-$C$3)/Лист2!$A$6,0)","v":621}]
["T-ST 06000370","Полка угловая внешняя  G=370",798,{"$f":"ROUND(C429*(1-$C$3)/Лист2!$A$6,0)","v":798}]
["T-ST 06000470","Полка угловая внешняя  G=470",928,{"$f":"ROUND(C430*(1-$C$3)/Лист2!$A$6,0)","v":928}]
["T-ST 06000570","Полка угловая внешняя  G=570",1351,{"$f":"ROUND(C431*(1-$C$3)/Лист2!$A$6,0)","v":1351}]
["T-ST 06000670","Полка угловая внешняя  G=670",1586,{"$f":"ROUND(C432*(1-$C$3)/Лист2!$A$6,0)","v":1586}]
["T-ST 07000665","Полка-проставка L=665",271,{"$f":"ROUND(C433*(1-$C$3)/Лист2!$A$6,0)","v":271}]
["T-ST 07001000","Полка-проставка L=1000",375,{"$f":"ROUND(C434*(1-$C$3)/Лист2!$A$6,0)","v":375}]
["T-ST 07001250","Полка-проставка L=1250",438,{"$f":"ROUND(C435*(1-$C$3)/Лист2!$A$6,0)","v":438}]
["T-ST 07001330","Полка-проставка L=1330",473,{"$f":"ROUND(C436*(1-$C$3)/Лист2!$A$6,0)","v":473}]
["T-ST 10801000","Полка-проставка L=1000 G=80",669,{"$f":"ROUND(C437*(1-$C$3)/Лист2!$A$6,0)","v":669}]
["T-ST 08210665","Полка усиленного стеллажа G=210 L = 665",412,{"$f":"ROUND(C438*(1-$C$3)/Лист2!$A$6,0)","v":412}]
["T-ST 08211000","Полка усиленного стеллажа G=210 L = 1000",558,{"$f":"ROUND(C439*(1-$C$3)/Лист2!$A$6,0)","v":558}]
["T-ST 08211250","Полка усиленного стеллажа G=210 L = 1250",655,{"$f":"ROUND(C440*(1-$C$3)/Лист2!$A$6,0)","v":655}]
["T-ST 08211330","Полка усиленного стеллажа G=210 L = 1330",715,{"$f":"ROUND(C441*(1-$C$3)/Лист2!$A$6,0)","v":715}]
["T-ST 07470665","Полка усиленного стеллажа G=250 L=665",653,{"$f":"ROUND(C442*(1-$C$3)/Лист2!$A$6,0)","v":653}]
["T-ST 07471000","Полка усиленного стеллажа G=250 L=1000",748,{"$f":"ROUND(C443*(1-$C$3)/Лист2!$A$6,0)","v":748}]
["T-ST 07471250","Полка усиленного стеллажа G=250 L=1250",815,{"$f":"ROUND(C444*(1-$C$3)/Лист2!$A$6,0)","v":815}]
["T-ST 07471330","Полка усиленного стеллажа G=250 L=1330",864,{"$f":"ROUND(C445*(1-$C$3)/Лист2!$A$6,0)","v":864}]
["T-ST 07570665","Полка усиленного стеллажа G=350 L=665",775,{"$f":"ROUND(C446*(1-$C$3)/Лист2!$A$6,0)","v":775}]
["T-ST 07571000","Полка усиленного стеллажа G=350 L=1000",1014,{"$f":"ROUND(C447*(1-$C$3)/Лист2!$A$6,0)","v":1014}]
["T-ST 07571250","Полка усиленного стеллажа G=350 L=1250",1255,{"$f":"ROUND(C448*(1-$C$3)/Лист2!$A$6,0)","v":1255}]
["T-ST 07571330","Полка усиленного стеллажа G=350 L=1330",1327,{"$f":"ROUND(C449*(1-$C$3)/Лист2!$A$6,0)","v":1327}]
["T-CD 01100665","Полка для CD дисков с перфорацией G=100 L=665",748,{"$f":"ROUND(C450*(1-$C$3)/Лист2!$A$6,0)","v":748}]
["T-CD 01101000","Полка для CD дисков с перфорацией G=100 L=1000",865,{"$f":"ROUND(C451*(1-$C$3)/Лист2!$A$6,0)","v":865}]
["T-CD 01101250","Полка для CD дисков с перфорацией G=100 L=1250",979,{"$f":"ROUND(C452*(1-$C$3)/Лист2!$A$6,0)","v":979}]
["T-CD 01101330","Полка для CD дисков с перфорацией G=100 L=1330",1015,{"$f":"ROUND(C453*(1-$C$3)/Лист2!$A$6,0)","v":1015}]
["T-CD 02050665","Полка для CD дисков G=100 L=665",683,{"$f":"ROUND(C454*(1-$C$3)/Лист2!$A$6,0)","v":683}]
["T-CD 02051000","Полка для CD дисков G=100 L=1000",792,{"$f":"ROUND(C455*(1-$C$3)/Лист2!$A$6,0)","v":792}]
["T-CD 02051250","Полка для CD дисков G=100 L=1250",872,{"$f":"ROUND(C456*(1-$C$3)/Лист2!$A$6,0)","v":872}]
["T-CD 02051330","Полка для CD дисков G=100 L=1330",897,{"$f":"ROUND(C457*(1-$C$3)/Лист2!$A$6,0)","v":897}]
["T-ST 21410665","Полка перфорированная наклонная G=417 H=450 L=665",2997,{"$f":"ROUND(C458*(1-$C$3)/Лист2!$A$6,0)","v":2997}]
["T-ST 21411000","Полка перфорированная наклонная G=417 H=450 L=1000",3708,{"$f":"ROUND(C459*(1-$C$3)/Лист2!$A$6,0)","v":3708}]
["T-ST 21411250","Полка перфорированная наклонная G=417 H=450 L=1250",4246,{"$f":"ROUND(C460*(1-$C$3)/Лист2!$A$6,0)","v":4246}]
["T-ST 21411330","Полка перфорированная наклонная G=417 H=450 L=1330",4415,{"$f":"ROUND(C461*(1-$C$3)/Лист2!$A$6,0)","v":4415}]
["T-ST 21470665","Полка перфорированная наклонная G=470  H=450 L=665",3207,{"$f":"ROUND(C462*(1-$C$3)/Лист2!$A$6,0)","v":3207}]
["T-ST 21471000","Полка перфорированная наклонная G=470  H=450 L=1000",3961,{"$f":"ROUND(C463*(1-$C$3)/Лист2!$A$6,0)","v":3961}]
["T-ST 21471250","Полка перфорированная наклонная G=470  H=450 L=1250",4547,{"$f":"ROUND(C464*(1-$C$3)/Лист2!$A$6,0)","v":4547}]
["T-ST 21471330","Полка перфорированная наклонная G=470  H=450 L=1330",4720,{"$f":"ROUND(C465*(1-$C$3)/Лист2!$A$6,0)","v":4720}]
["T-ST 20570665","Полка наклонная (кв.перф.) G=560 Н=450  L=665",6295,{"$f":"ROUND(C466*(1-$C$3)/Лист2!$A$6,0)","v":6295}]
["T-ST 20571000","Полка наклонная (кв.перф.) G=560 Н=450  L=1000",7836,{"$f":"ROUND(C467*(1-$C$3)/Лист2!$A$6,0)","v":7836}]
["T-ST 20571250","Полка наклонная (кв.перф.) G=560 Н=450  L=1250",8433,{"$f":"ROUND(C468*(1-$C$3)/Лист2!$A$6,0)","v":8433}]
["T-ST 20571330","Полка наклонная (кв.перф.) G=560 Н=450  L=1330",9269,{"$f":"ROUND(C469*(1-$C$3)/Лист2!$A$6,0)","v":9269}]
["T-ST 22570665","Полка наклонная (квадр.перф.) G=570 H=450 L=665",3258,{"$f":"ROUND(C470*(1-$C$3)/Лист2!$A$6,0)","v":3258}]
["T-ST 22571000","Полка наклонная (квадр.перф.) G=570 H=450 L=1000",4004,{"$f":"ROUND(C471*(1-$C$3)/Лист2!$A$6,0)","v":4004}]
["T-ST 22571250","Полка наклонная (квадр.перф.) G=570 H=450 L=1250",4509,{"$f":"ROUND(C472*(1-$C$3)/Лист2!$A$6,0)","v":4509}]
["T-ST 22571330","Полка наклонная (квадр.перф.) G=570 H=450 L=1330",4710,{"$f":"ROUND(C473*(1-$C$3)/Лист2!$A$6,0)","v":4710}]
["T-ST 10120180","Полка наклонная в перфорацию L=180 G=120 ",368,{"$f":"ROUND(C474*(1-$C$3)/Лист2!$A$6,0)","v":368}]
["T-ST 10190220","Полка наклонная в перфорацию L=220 G=190",429,{"$f":"ROUND(C475*(1-$C$3)/Лист2!$A$6,0)","v":429}]
["T-SB 02200665","Полка для книг наклонная H=200 L=665",1276,{"$f":"ROUND(C476*(1-$C$3)/Лист2!$A$6,0)","v":1276}]
["T-SB 02201000","Полка для книг наклонная H=200 L=1000",1465,{"$f":"ROUND(C477*(1-$C$3)/Лист2!$A$6,0)","v":1465}]
["T-SB 02201250","Полка для книг наклонная H=200 L=1250",1498,{"$f":"ROUND(C478*(1-$C$3)/Лист2!$A$6,0)","v":1498}]
["T-SB 02201330","Полка для книг наклонная H=200 L=1330",1601,{"$f":"ROUND(C479*(1-$C$3)/Лист2!$A$6,0)","v":1601}]
["T-SB 02202065","Полка для книг наклонная G=200 H=200 L=665",1058,{"$f":"ROUND(C480*(1-$C$3)/Лист2!$A$6,0)","v":1058}]
["T-SB 02202010","Полка для книг наклонная G=200 H=200 L=1000",1378,{"$f":"ROUND(C481*(1-$C$3)/Лист2!$A$6,0)","v":1378}]
["T-SB 02202012","Полка для книг наклонная G=200 H=200 L=1250",1622,{"$f":"ROUND(C482*(1-$C$3)/Лист2!$A$6,0)","v":1622}]
["T-SB 02202013","Полка для книг наклонная G=200 H=200 L=1330",1726,{"$f":"ROUND(C483*(1-$C$3)/Лист2!$A$6,0)","v":1726}]
["T-EP 01270200","Полка для экономпанели  L=200 G=270 ",342,{"$f":"ROUND(C484*(1-$C$3)/Лист2!$A$6,0)","v":342}]
["T-EP 01370500","Полка для экономпанели  L=500 G=370",886,{"$f":"ROUND(C485*(1-$C$3)/Лист2!$A$6,0)","v":886}]
["T-ST 30470665","Полка ступенчатая G=470 H=450 L=665",3353,{"$f":"ROUND(C486*(1-$C$3)/Лист2!$A$6,0)","v":3353}]
["T-ST 30471000","Полка ступенчатая G=470 H=450 L=1000",4196,{"$f":"ROUND(C487*(1-$C$3)/Лист2!$A$6,0)","v":4196}]
["T-ST 30471250","Полка ступенчатая G=470 H=450 L=1250",4851,{"$f":"ROUND(C488*(1-$C$3)/Лист2!$A$6,0)","v":4851}]
["T-ST 30471330","Полка ступенчатая G=470 H=450 L=1330",5052,{"$f":"ROUND(C489*(1-$C$3)/Лист2!$A$6,0)","v":5052}]
["T-ST 30570665","Полка ступенчатая G=570 H=450 L=665",3745,{"$f":"ROUND(C490*(1-$C$3)/Лист2!$A$6,0)","v":3745}]
["T-ST 30571000","Полка ступенчатая G=570 H=450 L=1000",4625,{"$f":"ROUND(C491*(1-$C$3)/Лист2!$A$6,0)","v":4625}]
["T-ST 30571250","Полка ступенчатая G=570 H=450 L=1250",5304,{"$f":"ROUND(C492*(1-$C$3)/Лист2!$A$6,0)","v":5304}]
["T-ST 30571330","Полка ступенчатая G=570 H=450 L=1330",5508,{"$f":"ROUND(C493*(1-$C$3)/Лист2!$A$6,0)","v":5508}]
["T-ST 12180665","Полка под клавиатуру G=180 L=665",481,{"$f":"ROUND(C494*(1-$C$3)/Лист2!$A$6,0)","v":481}]
["T-ST 12181000","Полка под клавиатуру G=180 L=1000 ",590,{"$f":"ROUND(C495*(1-$C$3)/Лист2!$A$6,0)","v":590}]
["T-ST 12181250","Полка под клавиатуру G=180 L=1250",669,{"$f":"ROUND(C496*(1-$C$3)/Лист2!$A$6,0)","v":669}]
["T-ST 12210665","Полка под клавиатуру G=210 L=665",522,{"$f":"ROUND(C497*(1-$C$3)/Лист2!$A$6,0)","v":522}]
["T-ST 12211000","Полка под клавиатуру G=210 L=1000 ",652,{"$f":"ROUND(C498*(1-$C$3)/Лист2!$A$6,0)","v":652}]
["T-ST 12211250","Полка под клавиатуру G=210 L=1250",748,{"$f":"ROUND(C499*(1-$C$3)/Лист2!$A$6,0)","v":748}]
["T-ST 12211330","Полка под клавиатуру G=210 L=1330",789,{"$f":"ROUND(C500*(1-$C$3)/Лист2!$A$6,0)","v":789}]
["T-SB 07570665","Полка для открыток (комплект) H=2200 G=570 L=665 ",13778,{"$f":"ROUND(C501*(1-$C$3)/Лист2!$A$6,0)","v":13778}]
["T-SB 07571000","Полка для открыток (комплект) H=2200 G=570 L=1000 ",16641,{"$f":"ROUND(C502*(1-$C$3)/Лист2!$A$6,0)","v":16641}]
["T-SB 07571250","Полка для открыток (комплект) H=2200 G=570 L=1250 ",18869,{"$f":"ROUND(C503*(1-$C$3)/Лист2!$A$6,0)","v":18869}]
["T-SB 07571330","Полка для открыток (комплект) H=2200 G=570 L=1330 ",19572,{"$f":"ROUND(C504*(1-$C$3)/Лист2!$A$6,0)","v":19572}]
["T-SB 05100665","Полка \"зиг-заг\" Н=100 L=665 ",1255,{"$f":"ROUND(C505*(1-$C$3)/Лист2!$A$6,0)","v":1255}]
["T-SB 05101000","Полка \"зиг-заг\" Н=100 L=1000 ",1540,{"$f":"ROUND(C506*(1-$C$3)/Лист2!$A$6,0)","v":1540}]
["T-SB 05101250","Полка \"зиг-заг\" Н=100 L=1250 ",1723,{"$f":"ROUND(C507*(1-$C$3)/Лист2!$A$6,0)","v":1723}]
["T-SB 05101330","Полка \"зиг-заг\" Н=100 L=1330 ",1809,{"$f":"ROUND(C508*(1-$C$3)/Лист2!$A$6,0)","v":1809}]
["T-SB 05200665","Полка \"зиг-заг\" Н=200 L=665 ",1570,{"$f":"ROUND(C509*(1-$C$3)/Лист2!$A$6,0)","v":1570}]
["T-SB 05201000","Полка \"зиг-заг\" Н=200 L=1000 ",1956,{"$f":"ROUND(C510*(1-$C$3)/Лист2!$A$6,0)","v":1956}]
["T-SB 05201250","Полка \"зиг-заг\" Н=200 L=1250 ",2269,{"$f":"ROUND(C511*(1-$C$3)/Лист2!$A$6,0)","v":2269}]
["T-SB 05201330","Полка \"зиг-заг\" Н=200 L=1330 ",2350,{"$f":"ROUND(C512*(1-$C$3)/Лист2!$A$6,0)","v":2350}]
["T-ST 40370330","Полка наклонная ступенчатая (зиг-заг) G=370 L=330",550,{"$f":"ROUND(C513*(1-$C$3)/Лист2!$A$6,0)","v":550}]
["T-SB 06200665","Полка \"зиг-заг\" наклонная H=200 L=665 ",1641,{"$f":"ROUND(C514*(1-$C$3)/Лист2!$A$6,0)","v":1641}]
["T-SB 06201000","Полка \"зиг-заг\" наклонная H=200 L=1000 ",2044,{"$f":"ROUND(C515*(1-$C$3)/Лист2!$A$6,0)","v":2044}]
["T-SB 06201250","Полка \"зиг-заг\" наклонная H=200 L=1250 ",2322,{"$f":"ROUND(C516*(1-$C$3)/Лист2!$A$6,0)","v":2322}]
["T-SB 06201330","Полка \"зиг-заг\" наклонная H=200 L=1330 ",2407,{"$f":"ROUND(C517*(1-$C$3)/Лист2!$A$6,0)","v":2407}]
["T-SB 11150665","Полка для журналов  1-но ступенчатая G=150 H=220 L=665 ",1603,{"$f":"ROUND(C518*(1-$C$3)/Лист2!$A$6,0)","v":1603}]
["T-SB 11151000","Полка для журналов  1-но ступенчатая G=150 H=220 L=1000 ",1952,{"$f":"ROUND(C519*(1-$C$3)/Лист2!$A$6,0)","v":1952}]
["T-SB 11151250","Полка для журналов  1-но ступенчатая G=150 H=220 L=1250 ",2235,{"$f":"ROUND(C520*(1-$C$3)/Лист2!$A$6,0)","v":2235}]
["T-SB 11151330","Полка для журналов  1-но ступенчатая G=150 H=220 L=1330 ",2397,{"$f":"ROUND(C521*(1-$C$3)/Лист2!$A$6,0)","v":2397}]
["T-SB 11280665","Полка для журналов  2-х ступенчатая G=280 H=405  L=665 ",3484,{"$f":"ROUND(C522*(1-$C$3)/Лист2!$A$6,0)","v":3484}]
["T-SB 11281000","Полка для журналов  2-х ступенчатая G=280 H=405  L=1000 ",4192,{"$f":"ROUND(C523*(1-$C$3)/Лист2!$A$6,0)","v":4192}]
["T-SB 11281250","Полка для журналов  2-х ступенчатая G=280 H=405 L=1250 ",4655,{"$f":"ROUND(C524*(1-$C$3)/Лист2!$A$6,0)","v":4655}]
["T-SB 11281330","Полка для журналов  2-х ступенчатая G=280 H=405 L=1330 ",4909,{"$f":"ROUND(C525*(1-$C$3)/Лист2!$A$6,0)","v":4909}]
["T-SB 12311250","Полка для журналов и газет горизонтальная G=310 H=150 L=1250",2034,{"$f":"ROUND(C526*(1-$C$3)/Лист2!$A$6,0)","v":2034}]
["T-SB 12371250","Полка для журналов и газет горизонтальная G=370 H=150 L=1250",2133,{"$f":"ROUND(C527*(1-$C$3)/Лист2!$A$6,0)","v":2133}]
["T-SB 12471250","Полка для журналов и газет горизонтальная G=470 H=150 L=1250",2329,{"$f":"ROUND(C528*(1-$C$3)/Лист2!$A$6,0)","v":2329}]
["T-SB 12571250","Полка для журналов и газет горизонтальная G=570 H=150 L=1250",2520,{"$f":"ROUND(C529*(1-$C$3)/Лист2!$A$6,0)","v":2520}]
["T-SB 12471000","Полка для журналов и газет горизонтальная G=470 H=150 L=1000",1987,{"$f":"ROUND(C530*(1-$C$3)/Лист2!$A$6,0)","v":1987}]
["T-SB 12571000","Полка для журналов и газет горизонтальная G=570 H=150 L=1000",2271,{"$f":"ROUND(C531*(1-$C$3)/Лист2!$A$6,0)","v":2271}]
["T-SB 07130665","Полка для открыток комплект Н=1380 L=665 ",6694,{"$f":"ROUND(C532*(1-$C$3)/Лист2!$A$6,0)","v":6694}]
["T-SB 07131000","Полка для открыток комплект Н=1380 L=1000 ",7796,{"$f":"ROUND(C533*(1-$C$3)/Лист2!$A$6,0)","v":7796}]
["T-SB 07131250","Полка для открыток комплект Н=1380 L=1250 ",8628,{"$f":"ROUND(C534*(1-$C$3)/Лист2!$A$6,0)","v":8628}]
["T-SB 07131330","Полка для открыток комплект Н=1380 L=1330 ",8884,{"$f":"ROUND(C535*(1-$C$3)/Лист2!$A$6,0)","v":8884}]
["T-ST 16370665","Полка для проводов (для катушки Ø390 I=200) L=665 ",3057,{"$f":"ROUND(C536*(1-$C$3)/Лист2!$A$6,0)","v":3057}]
["T-ST 16371000","Полка для проводов (для катушки Ø390 I=200) L=1000 ",3678,{"$f":"ROUND(C537*(1-$C$3)/Лист2!$A$6,0)","v":3678}]
["T-ST 16371250","Полка для проводов (для катушки Ø390 I=200) L=1250 ",3980,{"$f":"ROUND(C538*(1-$C$3)/Лист2!$A$6,0)","v":3980}]
["T-ST 17210665","Полка для проводов (для катушки Ø210 l=200) L=665 ",3303,{"$f":"ROUND(C539*(1-$C$3)/Лист2!$A$6,0)","v":3303}]
["T-ST 17211000","Полка для проводов (для катушки Ø210 l=200) L=1000 ",3784,{"$f":"ROUND(C540*(1-$C$3)/Лист2!$A$6,0)","v":3784}]
["T-ST 17211250","Полка для проводов (для катушки Ø210 l=200) L=1250 ",4088,{"$f":"ROUND(C541*(1-$C$3)/Лист2!$A$6,0)","v":4088}]
["T-ST 17211330","Полка для проводов (для катушки Ø210 l=200) L=1330 ",4193,{"$f":"ROUND(C542*(1-$C$3)/Лист2!$A$6,0)","v":4193}]
["T-ST 18570665","Полка для проводов G=570 L=665 ",5724,{"$f":"ROUND(C543*(1-$C$3)/Лист2!$A$6,0)","v":5724}]
["T-ST 18571000","Полка для проводов G=570 L=1000 ",7439,{"$f":"ROUND(C544*(1-$C$3)/Лист2!$A$6,0)","v":7439}]
["T-ST 18571250","Полка для проводов G=570 L=1250 ",8983,{"$f":"ROUND(C545*(1-$C$3)/Лист2!$A$6,0)","v":8983}]
["T-ST 18571330","Полка для проводов G=570 L=1330 ",9228,{"$f":"ROUND(C546*(1-$C$3)/Лист2!$A$6,0)","v":9228}]
["Т-SТ 14400300","Держатель для пылесосов  L=300 G=470 H=400",1715,{"$f":"ROUND(C547*(1-$C$3)/Лист2!$A$6,0)","v":1715}]
["T-SB 10470665","Полка для журналов и газет 5-ти ступенчатая G=470 H=600 L = 665",3583,{"$f":"ROUND(C548*(1-$C$3)/Лист2!$A$6,0)","v":3583}]
["T-SB 10471000","Полка для журналов и газет 5-ти ступенчатая G=470 H=600 L = 1000",4336,{"$f":"ROUND(C549*(1-$C$3)/Лист2!$A$6,0)","v":4336}]
["T-SB 10471250","Полка для журналов и газет 5-ти ступенчатая G=470 H=600 L = 1250",4942,{"$f":"ROUND(C550*(1-$C$3)/Лист2!$A$6,0)","v":4942}]
["T-SB 10471330","Полка для журналов и газет 5-ти ступенчатая G=470 H=600 L = 1330",5151,{"$f":"ROUND(C551*(1-$C$3)/Лист2!$A$6,0)","v":5151}]
["T-SB 10310665","Полка для журналов и газет 3-х ступенчатая G=310 H=400 L = 665",2167,{"$f":"ROUND(C552*(1-$C$3)/Лист2!$A$6,0)","v":2167}]
["T-SB 10311000","Полка для журналов и газет 3-х ступенчатая G=310 H=400 L = 1000",2685,{"$f":"ROUND(C553*(1-$C$3)/Лист2!$A$6,0)","v":2685}]
["T-SB 10311250","Полка для журналов и газет 3-х ступенчатая G=310 H=400 L = 1250",3086,{"$f":"ROUND(C554*(1-$C$3)/Лист2!$A$6,0)","v":3086}]
["T-SB 10311330","Полка для журналов и газет 3-х ступенчатая G=310 H=400 L = 1330",3206,{"$f":"ROUND(C555*(1-$C$3)/Лист2!$A$6,0)","v":3206}]
["T-ST 50000470","Полка для обоев (комплект) G=470",1821,{"$f":"ROUND(C556*(1-$C$3)/Лист2!$A$6,0)","v":1821}]
["T-ST 50420550","Полка для обоев G=420 L=550",1512,{"$f":"ROUND(C557*(1-$C$3)/Лист2!$A$6,0)","v":1512}]
["T-ST 50420990","Полка для обоев G=420 L=990",1815,{"$f":"ROUND(C558*(1-$C$3)/Лист2!$A$6,0)","v":1815}]
["T-ST 50520550","Полка для обоев G=520 L=550",1645,{"$f":"ROUND(C559*(1-$C$3)/Лист2!$A$6,0)","v":1645}]
["T-ST 50520990","Полка для обоев G=520 L=990",1956,{"$f":"ROUND(C560*(1-$C$3)/Лист2!$A$6,0)","v":1956}]
["T-ST 50521010","Полка для обоев G=520 L=1010",1980,{"$f":"ROUND(C561*(1-$C$3)/Лист2!$A$6,0)","v":1980}]
["T-ST 02300210","Полка торцевая полукруглая под ограничитель G=210",901,{"$f":"ROUND(C562*(1-$C$3)/Лист2!$A$6,0)","v":901}]
["T-ST 02300310","Полка торцевая полукруглая под ограничитель G=310",1255,{"$f":"ROUND(C563*(1-$C$3)/Лист2!$A$6,0)","v":1255}]
["T-ST 02300370","Полка торцевая полукруглая под ограничитель G=370",1570,{"$f":"ROUND(C564*(1-$C$3)/Лист2!$A$6,0)","v":1570}]
["T-ST 02300470","Полка торцевая полукруглая под ограничитель G=470",2134,{"$f":"ROUND(C565*(1-$C$3)/Лист2!$A$6,0)","v":2134}]
["T-ST 02300570","Полка торцевая полукруглая под ограничитель G=570",2438,{"$f":"ROUND(C566*(1-$C$3)/Лист2!$A$6,0)","v":2438}]
["T-SB 01200665","Полка прямая для книг на боковины G=150 H=200 L=665",798,{"$f":"ROUND(C567*(1-$C$3)/Лист2!$A$6,0)","v":798}]
["T-SB 01201000","Полка прямая для книг на боковины G=150 H=200 L=1000",1160,{"$f":"ROUND(C568*(1-$C$3)/Лист2!$A$6,0)","v":1160}]
["T-SB 01201250","Полка прямая для книг на боковины G=150 H=200 L=1250",1439,{"$f":"ROUND(C569*(1-$C$3)/Лист2!$A$6,0)","v":1439}]
["T-SB 01201330","Полка прямая для книг на боковины G=150 H=200 L=1330",1516,{"$f":"ROUND(C570*(1-$C$3)/Лист2!$A$6,0)","v":1516}]
["T-SB 01250665","Полка прямая для книг на боковины G=150 H=250 L=665",901,{"$f":"ROUND(C571*(1-$C$3)/Лист2!$A$6,0)","v":901}]
["T-SB 01251000","Полка прямая для книг на боковины G=150 H=250 L=1000",1263,{"$f":"ROUND(C572*(1-$C$3)/Лист2!$A$6,0)","v":1263}]
["T-SB 01251250","Полка прямая для книг на боковины G=150 H=250 L=1250",1586,{"$f":"ROUND(C573*(1-$C$3)/Лист2!$A$6,0)","v":1586}]
["T-SB 01251330","Полка прямая для книг на боковины G=150 H=250 L=1330",1674,{"$f":"ROUND(C574*(1-$C$3)/Лист2!$A$6,0)","v":1674}]
["T-SB 03150665","Полка для книг (комплект) G=100 H=150 L=665",790,{"$f":"ROUND(C575*(1-$C$3)/Лист2!$A$6,0)","v":790}]
["T-SB 03151000","Полка для книг (комплект) G=100 H=150 L=1000",983,{"$f":"ROUND(C576*(1-$C$3)/Лист2!$A$6,0)","v":983}]
["T-SB 03151250","Полка для книг (комплект) G=100 H=150 L=1250",1188,{"$f":"ROUND(C577*(1-$C$3)/Лист2!$A$6,0)","v":1188}]
["T-SB 03151330","Полка для книг (комплект) G=100 H=150 L=1330",1231,{"$f":"ROUND(C578*(1-$C$3)/Лист2!$A$6,0)","v":1231}]
["T-SB 03200665","Полка для книг (комплект) G=100 H=200 L=665",920,{"$f":"ROUND(C579*(1-$C$3)/Лист2!$A$6,0)","v":920}]
["T-SB 03201000","Полка для книг (комплект) G=100 H=200 L=1000",1151,{"$f":"ROUND(C580*(1-$C$3)/Лист2!$A$6,0)","v":1151}]
["T-SB 03201250","Полка для книг (комплект) G=100 H=200 L=1250",1357,{"$f":"ROUND(C581*(1-$C$3)/Лист2!$A$6,0)","v":1357}]
["T-SB 03201330","Полка для книг (комплект) G=100 H=200 L=1330",1418,{"$f":"ROUND(C582*(1-$C$3)/Лист2!$A$6,0)","v":1418}]
["T-SB 03250665","Полка для книг (комплект) G=100 H=250 L=665",1051,{"$f":"ROUND(C583*(1-$C$3)/Лист2!$A$6,0)","v":1051}]
["T-SB 03251000","Полка для книг (комплект) G=100 H=250 L=1000",1313,{"$f":"ROUND(C584*(1-$C$3)/Лист2!$A$6,0)","v":1313}]
["T-SB 03251250","Полка для книг (комплект) G=100 H=250 L=1250",1538,{"$f":"ROUND(C585*(1-$C$3)/Лист2!$A$6,0)","v":1538}]
["T-SB 03251330","Полка для книг (комплект) G=100 H=250 L=1330",1610,{"$f":"ROUND(C586*(1-$C$3)/Лист2!$A$6,0)","v":1610}]
["T-SB 13150665","Полка для книг (комплект) G=150 H=150 L=665",840,{"$f":"ROUND(C587*(1-$C$3)/Лист2!$A$6,0)","v":840}]
["T-SB 13151000","Полка для книг (комплект) G=150 H=150 L=1000",1082,{"$f":"ROUND(C588*(1-$C$3)/Лист2!$A$6,0)","v":1082}]
["T-SB 13151250","Полка для книг (комплект) G=150 H=150 L=1250",1289,{"$f":"ROUND(C589*(1-$C$3)/Лист2!$A$6,0)","v":1289}]
["T-SB 13151330","Полка для книг (комплект) G=150 H=150 L=1330",1348,{"$f":"ROUND(C590*(1-$C$3)/Лист2!$A$6,0)","v":1348}]
["T-SB 13200665","Полка для книг (комплект) G=150 H=200 L=665",979,{"$f":"ROUND(C591*(1-$C$3)/Лист2!$A$6,0)","v":979}]
["T-SB 13201000","Полка для книг (комплект) G=150 H=200 L=1000",1236,{"$f":"ROUND(C592*(1-$C$3)/Лист2!$A$6,0)","v":1236}]
["T-SB 13201250","Полка для книг (комплект) G=150 H=200 L=1250",1469,{"$f":"ROUND(C593*(1-$C$3)/Лист2!$A$6,0)","v":1469}]
["T-SB 13201330","Полка для книг (комплект) G=150 H=200 L=1330",1532,{"$f":"ROUND(C594*(1-$C$3)/Лист2!$A$6,0)","v":1532}]
["T-SB 13250665","Полка для книг (комплект) G=150 H=250 L=665",1105,{"$f":"ROUND(C595*(1-$C$3)/Лист2!$A$6,0)","v":1105}]
["T-SB 13251000","Полка для книг (комплект) G=150 H=250 L=1000",1399,{"$f":"ROUND(C596*(1-$C$3)/Лист2!$A$6,0)","v":1399}]
["T-SB 13251250","Полка для книг (комплект) G=150 H=250 L=1250",1646,{"$f":"ROUND(C597*(1-$C$3)/Лист2!$A$6,0)","v":1646}]
["T-SB 13251330","Полка для книг (комплект) G=150 H=250 L=1330",1718,{"$f":"ROUND(C598*(1-$C$3)/Лист2!$A$6,0)","v":1718}]
["T-BW 04010665","Полка высокая с разделителями H=200 G=470 L=665",3152,{"$f":"ROUND(C599*(1-$C$3)/Лист2!$A$6,0)","v":3152}]
["T-BW 04011000","Полка высокая с разделителями H=200 G=470 L=1000",3664,{"$f":"ROUND(C600*(1-$C$3)/Лист2!$A$6,0)","v":3664}]
["T-BW 04011250","Полка высокая с разделителями H=200 G=470 L=1250",4092,{"$f":"ROUND(C601*(1-$C$3)/Лист2!$A$6,0)","v":4092}]
["T-BW 04011330","Полка высокая с разделителями H=200 G=470 L=1330",4353,{"$f":"ROUND(C602*(1-$C$3)/Лист2!$A$6,0)","v":4353}]
["T-WL 03010665","Полка металлическая с разделителями G=470 H=100 L=665",3825,{"$f":"ROUND(C603*(1-$C$3)/Лист2!$A$6,0)","v":3825}]
["T-WL 03011000","Полка металлическая с разделителями G=470 H=100 L=1000",4215,{"$f":"ROUND(C604*(1-$C$3)/Лист2!$A$6,0)","v":4215}]
["T-WL 03011250","Полка металлическая с разделителями G=470 H=100 L=1250",4555,{"$f":"ROUND(C605*(1-$C$3)/Лист2!$A$6,0)","v":4555}]
["T-WL 03011330","Полка металлическая с разделителями G=470 H=100 L=1330",4746,{"$f":"ROUND(C606*(1-$C$3)/Лист2!$A$6,0)","v":4746}]
["T-WL 03150665","Полка металлическая с разделителями  под углом (2 ячейки) G=470 H=100 L=665",2462,{"$f":"ROUND(C607*(1-$C$3)/Лист2!$A$6,0)","v":2462}]
["T-WL 03111000","Полка металлическая с разделителями  под углом (2 ячейки) G=470 H=100 L=1000",3482,{"$f":"ROUND(C608*(1-$C$3)/Лист2!$A$6,0)","v":3482}]
["T-WL 03151250","Полка металлическая с разделителями  под углом (2 ячейки) G=470 H=100 L=1250",3669,{"$f":"ROUND(C609*(1-$C$3)/Лист2!$A$6,0)","v":3669}]
["T-WL 03111330","Полка металлическая с разделителями  под углом (3 ячейки) G=470 H=100 L=1330",3825,{"$f":"ROUND(C610*(1-$C$3)/Лист2!$A$6,0)","v":3825}]
["T-WL 03030665","Полка металлическая с разделителями G=470 H=65 L=665",2511,{"$f":"ROUND(C611*(1-$C$3)/Лист2!$A$6,0)","v":2511}]
["T-WL 03031000","Полка металлическая с разделителями G=470 H=65 L=1000",2850,{"$f":"ROUND(C612*(1-$C$3)/Лист2!$A$6,0)","v":2850}]
["T-WL 03031250","Полка металлическая с разделителями G=470 H=65 L=1250",3109,{"$f":"ROUND(C613*(1-$C$3)/Лист2!$A$6,0)","v":3109}]
["T-WL 03031330","Полка металлическая с разделителями G=470 H=65 L=1330",3214,{"$f":"ROUND(C614*(1-$C$3)/Лист2!$A$6,0)","v":3214}]
["T-WL 03140665","Полка металлическая с разделителями  под углом (2 ячейки) G=470 H=65 L=665",3003,{"$f":"ROUND(C615*(1-$C$3)/Лист2!$A$6,0)","v":3003}]
["T-WL 03131000","Полка металлическая с разделителями  под углом (2 ячейки) G=470 H=65 L=1000",2906,{"$f":"ROUND(C616*(1-$C$3)/Лист2!$A$6,0)","v":2906}]
["T-WL 03141250","Полка металлическая с разделителями  под углом (2 ячейки) G=470 H=65 L=1250",3864,{"$f":"ROUND(C617*(1-$C$3)/Лист2!$A$6,0)","v":3864}]
["T-WL 03131330","Полка металлическая с разделителями под углом (3 ячейки) G=470 H=65 L=1330",3965,{"$f":"ROUND(C618*(1-$C$3)/Лист2!$A$6,0)","v":3965}]
["T-WL 03150665","Полка металлическая с разделителями под углом (1 ячейка) G=470 H=100 L=665",2462,{"$f":"ROUND(C619*(1-$C$3)/Лист2!$A$6,0)","v":2462}]
["T-WL 03151250","Полка металлическая с разделителями под углом (3 ячейки) G=470 H=100 L=1250",3669,{"$f":"ROUND(C620*(1-$C$3)/Лист2!$A$6,0)","v":3669}]
["T-WL 03140665","Полка металлическая с разделителями под углом (1 ячейка) G=470 H=65 L=665",3003,{"$f":"ROUND(C621*(1-$C$3)/Лист2!$A$6,0)","v":3003}]
["T-WL 03141250","Полка металлическая с разделителями под углом (3 ячейки) G=470 H=65 L=1250",3864,{"$f":"ROUND(C622*(1-$C$3)/Лист2!$A$6,0)","v":3864}]
["T-BS 01000210","Кронштейн (комплект) G = 210",189,{"$f":"ROUND(C623*(1-$C$3)/Лист2!$A$6,0)","v":189}]
["T-BS 01000310","Кронштейн (комплект) G = 310",209,{"$f":"ROUND(C624*(1-$C$3)/Лист2!$A$6,0)","v":209}]
["T-BS 01000370","Кронштейн (комплект) G = 370",272,{"$f":"ROUND(C625*(1-$C$3)/Лист2!$A$6,0)","v":272}]
["T-BS 01000470","Кронштейн (комплект) G = 470",532,{"$f":"ROUND(C626*(1-$C$3)/Лист2!$A$6,0)","v":532}]
["T-BS 01000570","Кронштейн (комплект) (3-х позиционный) G = 570 ",838,{"$f":"ROUND(C627*(1-$C$3)/Лист2!$A$6,0)","v":838}]
["T-BS 02000570","Кронштейн усиленный (комплект) G = 570",774,{"$f":"ROUND(C628*(1-$C$3)/Лист2!$A$6,0)","v":774}]
["T-BS 02000670","Кронштейн усиленный (комплект) G = 670",1165,{"$f":"ROUND(C629*(1-$C$3)/Лист2!$A$6,0)","v":1165}]
["T-BS 02000770","Кронштейн усиленный (комплект) G = 770",1303,{"$f":"ROUND(C630*(1-$C$3)/Лист2!$A$6,0)","v":1303}]
["T-BS 02000970","Кронштейн усиленный (комплект) G = 970",1868,{"$f":"ROUND(C631*(1-$C$3)/Лист2!$A$6,0)","v":1868}]
["T-BS 12000210","Кронштейн добавочный (комплект) G = 210",257,{"$f":"ROUND(C632*(1-$C$3)/Лист2!$A$6,0)","v":257}]
["T-BS 12000250","Кронштейн для усиленного стеллажа (комплект) G = 250",360,{"$f":"ROUND(C633*(1-$C$3)/Лист2!$A$6,0)","v":360}]
["T-BS 12000350","Кронштейн для усиленного стеллажа (комплект) G = 350",458,{"$f":"ROUND(C634*(1-$C$3)/Лист2!$A$6,0)","v":458}]
["T-BS 12000550","Кронштейн для усиленного стеллажа (комплект) G = 550",651,{"$f":"ROUND(C635*(1-$C$3)/Лист2!$A$6,0)","v":651}]
["T-BS 03000210","Кронштейн для торцевых полок (комплект) G=210",825,{"$f":"ROUND(C636*(1-$C$3)/Лист2!$A$6,0)","v":825}]
["T-BS 03000310","Кронштейн для торцевых полок (комплект) G=310",1193,{"$f":"ROUND(C637*(1-$C$3)/Лист2!$A$6,0)","v":1193}]
["T-BS 03000370","Кронштейн для торцевых полок (комплект) G=370",1289,{"$f":"ROUND(C638*(1-$C$3)/Лист2!$A$6,0)","v":1289}]
["T-BS 03000470","Кронштейн для торцевых полок (комплект) G=470",1780,{"$f":"ROUND(C639*(1-$C$3)/Лист2!$A$6,0)","v":1780}]
["T-BS 03000570","Кронштейн для торцевых полок (комплект) G=570",2190,{"$f":"ROUND(C640*(1-$C$3)/Лист2!$A$6,0)","v":2190}]
["T-BS 03000670","Кронштейн для торцевых полок (комплект) G=670",2462,{"$f":"ROUND(C641*(1-$C$3)/Лист2!$A$6,0)","v":2462}]
["T-BS 15020210","Кронштейн для торц полукр полок (комп с адапт)для стойк80х30 G=210",1233,{"$f":"ROUND(C642*(1-$C$3)/Лист2!$A$6,0)","v":1233}]
["T-BS 15020310","Кронштейн для торц полукр полок (комп с адапт)для стойк80х30 G=310",1378,{"$f":"ROUND(C643*(1-$C$3)/Лист2!$A$6,0)","v":1378}]
["T-BS 15020370","Кронштейн для торц полукр полок (комп с адапт)для стойк80х30 G=370",1465,{"$f":"ROUND(C644*(1-$C$3)/Лист2!$A$6,0)","v":1465}]
["T-BS 15020470","Кронштейн для торц полукр полок (комп с адапт)для стойк80х30 G=470",1923,{"$f":"ROUND(C645*(1-$C$3)/Лист2!$A$6,0)","v":1923}]
["T-BS 15020570","Кронштейн для торц полукр полок (комп с адапт)для стойк80х30 G=570",2329,{"$f":"ROUND(C646*(1-$C$3)/Лист2!$A$6,0)","v":2329}]
["A-AA 11000470","Держатели базовой заниженной полки ДСП (комплект) G=470",474,{"$f":"ROUND(C647*(1-$C$3)/Лист2!$A$6,0)","v":474}]
["A-AA 11000570","Держатели базовой заниженной полки ДСП (комплект) G=570",513,{"$f":"ROUND(C648*(1-$C$3)/Лист2!$A$6,0)","v":513}]
["A-AA 11000670","Держатели базовой заниженной полки ДСП (комплект) G=670",571,{"$f":"ROUND(C649*(1-$C$3)/Лист2!$A$6,0)","v":571}]
["T-BS 06000100","Кронштейн для полки CD (комплект)  G=100 ",458,{"$f":"ROUND(C650*(1-$C$3)/Лист2!$A$6,0)","v":458}]
["T-BS 07000630","Кронштейн для пяти полок СD  (комплект) G=630",3402,{"$f":"ROUND(C651*(1-$C$3)/Лист2!$A$6,0)","v":3402}]
["T-BS 07000530","Кронштейн для четырех полок CD (комплект) G=530",2481,{"$f":"ROUND(C652*(1-$C$3)/Лист2!$A$6,0)","v":2481}]
["A-BS 01150250","Кронштейн для ТВ ЖК ",446,{"$f":"ROUND(C653*(1-$C$3)/Лист2!$A$6,0)","v":446}]
["A-BS 02450052","Кронштейн для ТВ ЖК Н=456 Н=456",263,{"$f":"ROUND(C654*(1-$C$3)/Лист2!$A$6,0)","v":263}]
["A-BS 03450052","Кронштейн для ТВ ЖК Н=456 Н=456",263,{"$f":"ROUND(C655*(1-$C$3)/Лист2!$A$6,0)","v":263}]
["T-BS 01020210","Кронштейн   L-образный для ДСП (комплект) G=210 ",197,{"$f":"ROUND(C656*(1-$C$3)/Лист2!$A$6,0)","v":197}]
["T-BS 01020310","Кронштейн   L-образный для ДСП (комплект) G=310 ",237,{"$f":"ROUND(C657*(1-$C$3)/Лист2!$A$6,0)","v":237}]
["T-BS 01020370","Кронштейн   L-образный для ДСП (комплект) G=370 ",256,{"$f":"ROUND(C658*(1-$C$3)/Лист2!$A$6,0)","v":256}]
["T-BS 01020470","Кронштейн   L-образный для ДСП (комплект) G=470",278,{"$f":"ROUND(C659*(1-$C$3)/Лист2!$A$6,0)","v":278}]
["T-BS 01010210","Кронштейн Г-образный для ДСП (комплект)  G=210",345,{"$f":"ROUND(C660*(1-$C$3)/Лист2!$A$6,0)","v":345}]
["T-BS 01010300","Кронштейн Г-образный для ДСП (комплект)  G=300",414,{"$f":"ROUND(C661*(1-$C$3)/Лист2!$A$6,0)","v":414}]
["T-BS 01010310","Кронштейн Г-образный для ДСП (комплект)  G=310",422,{"$f":"ROUND(C662*(1-$C$3)/Лист2!$A$6,0)","v":422}]
["T-BS 01010370","Кронштейн Г-образный для ДСП (комплект)  G=370",539,{"$f":"ROUND(C663*(1-$C$3)/Лист2!$A$6,0)","v":539}]
["T-BS 01010470","Кронштейн Г-образный для ДСП (комплект)  G=470",807,{"$f":"ROUND(C664*(1-$C$3)/Лист2!$A$6,0)","v":807}]
["T-BS 03010470","Кронштейн для ДСП на балку для навески 20х40 (комплект) G=470 G=470",423,{"$f":"ROUND(C665*(1-$C$3)/Лист2!$A$6,0)","v":423}]
["A-DB 06450001","Кронштейн комплект держателей для рулонов на балку 20х40 (комплект) G=450",950,{"$f":"ROUND(C666*(1-$C$3)/Лист2!$A$6,0)","v":950}]
["A-DB 06550001","Кронштейн комплект держателей для рулонов на балку 20х40 (комплект) G=550",1031,{"$f":"ROUND(C667*(1-$C$3)/Лист2!$A$6,0)","v":1031}]
["T-KS 00800006","Кронштейн стойки G=6",422,{"$f":"ROUND(C668*(1-$C$3)/Лист2!$A$6,0)","v":422}]
["A-BS 04007520","Кронштейн  панели для вытяжки (комплект) ",482,{"$f":"ROUND(C669*(1-$C$3)/Лист2!$A$6,0)","v":482}]
["Т-ЕР 01000270","Кронштейн для экономпанели (комплект)  G=270",498,{"$f":"ROUND(C670*(1-$C$3)/Лист2!$A$6,0)","v":498}]
["Т-ЕР 01000370","Кронштейн для экономпанели (комплект) G=370",549,{"$f":"ROUND(C671*(1-$C$3)/Лист2!$A$6,0)","v":549}]
["T-BS 07000530","Кронштейн для четырех полок CD G=530 (комплект) G=530 ",2481,{"$f":"ROUND(C672*(1-$C$3)/Лист2!$A$6,0)","v":2481}]
["T-BS 13000370","Кронштейн двухст для стеллажа с доп стойк (комп) G=370 ",395,{"$f":"ROUND(C673*(1-$C$3)/Лист2!$A$6,0)","v":395}]
["T-BS 13000470","Кронштейн двухст для стеллажа с доп стойк (комп) G=470 ",466,{"$f":"ROUND(C674*(1-$C$3)/Лист2!$A$6,0)","v":466}]
["T-BS 13000570","Кронштейн двухст для стеллажа с доп стойк (комп) G=570 ",562,{"$f":"ROUND(C675*(1-$C$3)/Лист2!$A$6,0)","v":562}]
["T-BS 13000670","Кронштейн двухст для стеллажа с доп стойк (комп) G=670 ",655,{"$f":"ROUND(C676*(1-$C$3)/Лист2!$A$6,0)","v":655}]
["А-АА 00000001","Держатель для ДСП в комплекте ",113,{"$f":"ROUND(C677*(1-$C$3)/Лист2!$A$6,0)","v":113}]
["А-АА 00004502","Держатель панели ДСП угла внутреннего 45º (комплект) ",113,{"$f":"ROUND(C678*(1-$C$3)/Лист2!$A$6,0)","v":113}]
["А-АА 00004503","Держатель панели ДСП угла внешнего 45º (комплект) ",113,{"$f":"ROUND(C679*(1-$C$3)/Лист2!$A$6,0)","v":113}]
["A-AA 00000005","Держатели панели ДСП (комплект) ",109,{"$f":"ROUND(C680*(1-$C$3)/Лист2!$A$6,0)","v":109}]
["A-DB 21100115","Держатель для электроинструмента ф10 Н=115",483,{"$f":"ROUND(C681*(1-$C$3)/Лист2!$A$6,0)","v":483}]
["A-РВ 20200200","Держатель для катушек Ø 20 L=200",342,{"$f":"ROUND(C682*(1-$C$3)/Лист2!$A$6,0)","v":342}]
["A-РВ 20200300","Держатель для катушек Ø 20 L=300",373,{"$f":"ROUND(C683*(1-$C$3)/Лист2!$A$6,0)","v":373}]
["A-AA 01000370","Держатель базовой полки из ДСП (комплект) G = 370",97,{"$f":"ROUND(C684*(1-$C$3)/Лист2!$A$6,0)","v":97}]
["A-AA 01000470","Держатель базовой полки из ДСП (комплект) G = 470",116,{"$f":"ROUND(C685*(1-$C$3)/Лист2!$A$6,0)","v":116}]
["A-AA 01000570","Держатель базовой полки из ДСП (комплект) G = 570",125,{"$f":"ROUND(C686*(1-$C$3)/Лист2!$A$6,0)","v":125}]
["A-AA 01000670","Держатель базовой полки из ДСП (комплект) G = 670",144,{"$f":"ROUND(C687*(1-$C$3)/Лист2!$A$6,0)","v":144}]
["A-AA 01000770","Держатель базовой полки из ДСП (комплект) G = 770",160,{"$f":"ROUND(C688*(1-$C$3)/Лист2!$A$6,0)","v":160}]
["A-РВ 20130060","Держатель для МБТ Н=130 L=60",174,{"$f":"ROUND(C689*(1-$C$3)/Лист2!$A$6,0)","v":174}]
["A-РВ 20130090","Держатель для МБТ Н=130 L=90",182,{"$f":"ROUND(C690*(1-$C$3)/Лист2!$A$6,0)","v":182}]
["A-РВ 20130120","Держатель для МБТ Н=130 L=120",191,{"$f":"ROUND(C691*(1-$C$3)/Лист2!$A$6,0)","v":191}]
["A-DB 06200665","Держатель для рулонов D=20 L=665",543,{"$f":"ROUND(C692*(1-$C$3)/Лист2!$A$6,0)","v":543}]
["A-DB 06201000","Держатель для рулонов D=20 L=1000",706,{"$f":"ROUND(C693*(1-$C$3)/Лист2!$A$6,0)","v":706}]
["A-DB 06201250","Держатель для рулонов D=20 L=1250",838,{"$f":"ROUND(C694*(1-$C$3)/Лист2!$A$6,0)","v":838}]
["A-DB 06201330","Держатель для рулонов D=20 L=1330",875,{"$f":"ROUND(C695*(1-$C$3)/Лист2!$A$6,0)","v":875}]
["N-DW 02001250","Держатель пакетов Н=1250 (для 4-х рулонов)",3444,{"$f":"ROUND(C696*(1-$C$3)/Лист2!$A$6,0)","v":3444}]
["N-DW 02041250","Держатель пакетов Н=1250 (для 4-х рулонов, с 4 крюками)",3615,{"$f":"ROUND(C697*(1-$C$3)/Лист2!$A$6,0)","v":3615}]
["N-DW 02021250","Держатель пакетов Н=1250 (для 2-х рулонов, с 4 крюками)",2986,{"$f":"ROUND(C698*(1-$C$3)/Лист2!$A$6,0)","v":2986}]
["N-DW 02010470","Держатель пакетов для полки G=470",2106,{"$f":"ROUND(C699*(1-$C$3)/Лист2!$A$6,0)","v":2106}]
["N-DW 07000665","Держатель разделителей (комплект),L=665",592,{"$f":"ROUND(C700*(1-$C$3)/Лист2!$A$6,0)","v":592}]
["N-DW 07001000","Держатель разделителей (комплект),L=1000",774,{"$f":"ROUND(C701*(1-$C$3)/Лист2!$A$6,0)","v":774}]
["N-DW 07001250","Держатель разделителей (комплект),L=1250",928,{"$f":"ROUND(C702*(1-$C$3)/Лист2!$A$6,0)","v":928}]
["N-DW 07001330","Держатель разделителей (комплект),L=1330",1020,{"$f":"ROUND(C703*(1-$C$3)/Лист2!$A$6,0)","v":1020}]
["N-TP 01001000","Навес рекламный с подсветкой (овальный) L=1000 G=240 H=350",5803,{"$f":"ROUND(C704*(1-$C$3)/Лист2!$A$6,0)","v":5803}]
["T-TP 01470665","Навес прямой без подсветки G=470 L=665",2425,{"$f":"ROUND(C705*(1-$C$3)/Лист2!$A$6,0)","v":2425}]
["T-TP 01471000","Навес прямой без подсветки G=470 L=1000",3003,{"$f":"ROUND(C706*(1-$C$3)/Лист2!$A$6,0)","v":3003}]
["T-TP 01471250","Навес прямой без подсветки G=470 L=1250",3475,{"$f":"ROUND(C707*(1-$C$3)/Лист2!$A$6,0)","v":3475}]
["T-TP 01471330","Навес прямой без подсветки G=470 L=1330",3658,{"$f":"ROUND(C708*(1-$C$3)/Лист2!$A$6,0)","v":3658}]
["T-TP 01470010","Навес  угловой внутренний без подсветки G=470 ",2015,{"$f":"ROUND(C709*(1-$C$3)/Лист2!$A$6,0)","v":2015}]
["T-TP 01470020","Навес угловой внешний без подсветки G=470 ",2124,{"$f":"ROUND(C710*(1-$C$3)/Лист2!$A$6,0)","v":2124}]
["T-TP 01570665","Навес прямой G=570 L=665",2637,{"$f":"ROUND(C711*(1-$C$3)/Лист2!$A$6,0)","v":2637}]
["T-TP 01571000","Навес прямой G=570 L=1000",3311,{"$f":"ROUND(C712*(1-$C$3)/Лист2!$A$6,0)","v":3311}]
["T-TP 01571250","Навес прямой G=570 L=1250",3836,{"$f":"ROUND(C713*(1-$C$3)/Лист2!$A$6,0)","v":3836}]
["T-TP 01131665","Навес прямой с подсветкой,L=665, H=100, G=310",2605,{"$f":"ROUND(C714*(1-$C$3)/Лист2!$A$6,0)","v":2605}]
["T-TP 01131850","Навес прямой с подсветкой,L=850, H=100, G=310",3139,{"$f":"ROUND(C715*(1-$C$3)/Лист2!$A$6,0)","v":3139}]
["T-TP 01131100","Навес прямой с подсветкой,L=1000, H=100, G=310",3377,{"$f":"ROUND(C716*(1-$C$3)/Лист2!$A$6,0)","v":3377}]
["T-TP 01131125","Навес прямой с подсветкой,L=1250, H=100, G=310",3988,{"$f":"ROUND(C717*(1-$C$3)/Лист2!$A$6,0)","v":3988}]
["T-TP 01137665","Навес прямой с подсветкой,L=665, H=100, G=370",2855,{"$f":"ROUND(C718*(1-$C$3)/Лист2!$A$6,0)","v":2855}]
["T-TP 01137850","Навес прямой с подсветкой,L=850, H=100, G=370",3339,{"$f":"ROUND(C719*(1-$C$3)/Лист2!$A$6,0)","v":3339}]
["T-TP 01137100","Навес прямой с подсветкой,L=1000, H=100, G=370",3594,{"$f":"ROUND(C720*(1-$C$3)/Лист2!$A$6,0)","v":3594}]
["T-TP 01137125","Навес прямой с подсветкой,L=1250, H=100, G=370",4226,{"$f":"ROUND(C721*(1-$C$3)/Лист2!$A$6,0)","v":4226}]
["T-TP 01147665","Навес прямой с подсветкой,L=665, H=100, G=470",3131,{"$f":"ROUND(C722*(1-$C$3)/Лист2!$A$6,0)","v":3131}]
["T-TP 01147100","Навес прямой с подсветкой,L=1000, H=100, G=470",4084,{"$f":"ROUND(C723*(1-$C$3)/Лист2!$A$6,0)","v":4084}]
["T-TP 01147125","Навес прямой с подсветкой,L=1250, H=100, G=470",4705,{"$f":"ROUND(C724*(1-$C$3)/Лист2!$A$6,0)","v":4705}]
["T-TP 01157665","Навес прямой с подсветкой,L=665, H=100, G=570",3469,{"$f":"ROUND(C725*(1-$C$3)/Лист2!$A$6,0)","v":3469}]
["T-TP 01157850","Навес прямой с подсветкой,L=850, H=100, G=570",3898,{"$f":"ROUND(C726*(1-$C$3)/Лист2!$A$6,0)","v":3898}]
["T-TP 01157100","Навес прямой с подсветкой,L=1000, H=100, G=570",4167,{"$f":"ROUND(C727*(1-$C$3)/Лист2!$A$6,0)","v":4167}]
["T-TP 01157125","Навес прямой с подсветкой,L=1250, H=100, G=570",5056,{"$f":"ROUND(C728*(1-$C$3)/Лист2!$A$6,0)","v":5056}]
["T-TP 01167665","Навес прямой с подсветкой,L=665, H=100, G=670",4543,{"$f":"ROUND(C729*(1-$C$3)/Лист2!$A$6,0)","v":4543}]
["T-TP 01167100","Навес прямой с подсветкой,L=1000, H=100, G=670",5678,{"$f":"ROUND(C730*(1-$C$3)/Лист2!$A$6,0)","v":5678}]
["T-TP 01167125","Навес прямой с подсветкой,L=1250, H=100, G=670",6813,{"$f":"ROUND(C731*(1-$C$3)/Лист2!$A$6,0)","v":6813}]
["T-TP 02370665","Навес прямой с подсветкой G=370 L=665",3678,{"$f":"ROUND(C732*(1-$C$3)/Лист2!$A$6,0)","v":3678}]
["T-TP 02371000","Навес прямой с подсветкой G=370 L=1000",4259,{"$f":"ROUND(C733*(1-$C$3)/Лист2!$A$6,0)","v":4259}]
["T-TP 02371250","Навес прямой с подсветкой G=370 L=1250",5090,{"$f":"ROUND(C734*(1-$C$3)/Лист2!$A$6,0)","v":5090}]
["T-TP 02371330","Навес прямой с подсветкой G=370 L=1330",5413,{"$f":"ROUND(C735*(1-$C$3)/Лист2!$A$6,0)","v":5413}]
["T-TP 02470665","Навес прямой с подсветкой G=470 L=665",3642,{"$f":"ROUND(C736*(1-$C$3)/Лист2!$A$6,0)","v":3642}]
["T-TP 02471000","Навес прямой с подсветкой G=470 L=1000",4270,{"$f":"ROUND(C737*(1-$C$3)/Лист2!$A$6,0)","v":4270}]
["T-TP 02471250","Навес прямой с подсветкой G=470 L=1250",5119,{"$f":"ROUND(C738*(1-$C$3)/Лист2!$A$6,0)","v":5119}]
["T-TP 02471330","Навес прямой с подсветкой G=470 L=1330",5476,{"$f":"ROUND(C739*(1-$C$3)/Лист2!$A$6,0)","v":5476}]
["T-TP 02470010","Навес  угловой внутренний с подсветкой G=470 ",2149,{"$f":"ROUND(C740*(1-$C$3)/Лист2!$A$6,0)","v":2149}]
["T-TP 02470020","Навес угловой внешний с подсветкой G=470 ",3383,{"$f":"ROUND(C741*(1-$C$3)/Лист2!$A$6,0)","v":3383}]
["T-TP 02570665","Навес прямой с подсветкой G=570 L=665",3776,{"$f":"ROUND(C742*(1-$C$3)/Лист2!$A$6,0)","v":3776}]
["T-TP 02571000","Навес прямой с подсветкой G=570 L=1000",4538,{"$f":"ROUND(C743*(1-$C$3)/Лист2!$A$6,0)","v":4538}]
["T-TP 02571250","Навес прямой с подсветкой G=570 L=1250",5504,{"$f":"ROUND(C744*(1-$C$3)/Лист2!$A$6,0)","v":5504}]
["T-TP 02571330","Навес прямой с подсветкой G=570 L=1330",6269,{"$f":"ROUND(C745*(1-$C$3)/Лист2!$A$6,0)","v":6269}]
["T-TP 02570010","Навес  угловой внутренний с подсветкой G=570 ",2614,{"$f":"ROUND(C746*(1-$C$3)/Лист2!$A$6,0)","v":2614}]
["T-TP 02570020","Навес угловой внешний с подсветкой G=570 ",3816,{"$f":"ROUND(C747*(1-$C$3)/Лист2!$A$6,0)","v":3816}]
["T-TP 03471000","Навес  без подсветки с зеркалом G=470 L=1000",5169,{"$f":"ROUND(C748*(1-$C$3)/Лист2!$A$6,0)","v":5169}]
["T-TP 04471000","Навес прямой с подсветкой с зеркалом G=470 L=1000",5747,{"$f":"ROUND(C749*(1-$C$3)/Лист2!$A$6,0)","v":5747}]
["T-TP 07470665","Навес скругленный с подсветкой G=470 L = 665",4206,{"$f":"ROUND(C750*(1-$C$3)/Лист2!$A$6,0)","v":4206}]
["T-TP 07471000","Навес скругленный с подсветкой G=470 L = 1000",5593,{"$f":"ROUND(C751*(1-$C$3)/Лист2!$A$6,0)","v":5593}]
["T-TP 07471250","Навес скругленный с подсветкой G=470 L = 1250",6303,{"$f":"ROUND(C752*(1-$C$3)/Лист2!$A$6,0)","v":6303}]
["T-TP 07471330","Навес скругленный с подсветкой G=470 L = 1330",6454,{"$f":"ROUND(C753*(1-$C$3)/Лист2!$A$6,0)","v":6454}]
["T-TP 07570665","Навес скругленный с подсветкой G=570 L = 665",4612,{"$f":"ROUND(C754*(1-$C$3)/Лист2!$A$6,0)","v":4612}]
["T-TP 07571000","Навес скругленный с подсветкой G=570 L = 1000",6043,{"$f":"ROUND(C755*(1-$C$3)/Лист2!$A$6,0)","v":6043}]
["T-TP 07571250","Навес скругленный с подсветкой G=570 L = 1250",6759,{"$f":"ROUND(C756*(1-$C$3)/Лист2!$A$6,0)","v":6759}]
["T-TP 07571330","Навес скругленный с подсветкой G=570 L = 1330",6943,{"$f":"ROUND(C757*(1-$C$3)/Лист2!$A$6,0)","v":6943}]
["T-TP 12570665","Навес прямой с фронтальной подсветкой G=570 L = 665",4540,{"$f":"ROUND(C758*(1-$C$3)/Лист2!$A$6,0)","v":4540}]
["T-TP 12571000","Навес прямой с фронтальной подсветкой G=570 L = 1000",5326,{"$f":"ROUND(C759*(1-$C$3)/Лист2!$A$6,0)","v":5326}]
["T-TP 12571250","Навес прямой с фронтальной подсветкой G=570 L = 1250",5909,{"$f":"ROUND(C760*(1-$C$3)/Лист2!$A$6,0)","v":5909}]
["T-TP 12571330","Навес прямой с фронтальной подсветкой G=570 L = 1330",6497,{"$f":"ROUND(C761*(1-$C$3)/Лист2!$A$6,0)","v":6497}]
["T-TP 03000665"," Навес для зеркала (с зеркалом) L=665",2743,{"$f":"ROUND(C762*(1-$C$3)/Лист2!$A$6,0)","v":2743}]
["T-TP 03001000"," Навес для зеркала (с зеркалом) L=1000",3234,{"$f":"ROUND(C763*(1-$C$3)/Лист2!$A$6,0)","v":3234}]
["T-TP 03001250"," Навес для зеркала (с зеркалом) L=1250",3615,{"$f":"ROUND(C764*(1-$C$3)/Лист2!$A$6,0)","v":3615}]
["T-TP 03001330"," Навес для зеркала (с зеркалом) L=1330",3731,{"$f":"ROUND(C765*(1-$C$3)/Лист2!$A$6,0)","v":3731}]
["N-TP 04500665","Навес дуговой с подсветкой H=500 L=665 ",3619,{"$f":"ROUND(C766*(1-$C$3)/Лист2!$A$6,0)","v":3619}]
["N-TP 04500100","Навес дуговой с подсветкой H=500 L=1000 ",4481,{"$f":"ROUND(C767*(1-$C$3)/Лист2!$A$6,0)","v":4481}]
["N-TP 04500125","Навес дуговой с подсветкой H=500 L=1250 ",5186,{"$f":"ROUND(C768*(1-$C$3)/Лист2!$A$6,0)","v":5186}]
["N-TP 04500133","Навес дуговой с подсветкой H=500 L=1330 ",5357,{"$f":"ROUND(C769*(1-$C$3)/Лист2!$A$6,0)","v":5357}]
["T-HB 01000600","Балка для навески (20х40) L = 600",906,{"$f":"ROUND(C770*(1-$C$3)/Лист2!$A$6,0)","v":906}]
["T-HB 01000665","Балка для навески (20х40) L = 665",942,{"$f":"ROUND(C771*(1-$C$3)/Лист2!$A$6,0)","v":942}]
["T-HB 01001000","Балка для навески (20х40) L = 1000",1121,{"$f":"ROUND(C772*(1-$C$3)/Лист2!$A$6,0)","v":1121}]
["T-HB 01001250","Балка для навески (20х40) L = 1250",1259,{"$f":"ROUND(C773*(1-$C$3)/Лист2!$A$6,0)","v":1259}]
["T-HB 01001330","Балка для навески (20х40) L = 1330",1296,{"$f":"ROUND(C774*(1-$C$3)/Лист2!$A$6,0)","v":1296}]
["T-HB 01002000","Балка для навески (20х40) L = 2000",1661,{"$f":"ROUND(C775*(1-$C$3)/Лист2!$A$6,0)","v":1661}]
["T-HB 11000665","Балка перфорированная для навески (20х40) L = 665",1028,{"$f":"ROUND(C776*(1-$C$3)/Лист2!$A$6,0)","v":1028}]
["T-HB 11001000","Балка перфорированная для навески (20х40) L = 1000",1086,{"$f":"ROUND(C777*(1-$C$3)/Лист2!$A$6,0)","v":1086}]
["T-HB 11001250","Балка перфорированная для навески (20х40) L = 1250",1276,{"$f":"ROUND(C778*(1-$C$3)/Лист2!$A$6,0)","v":1276}]
["T-HB 11001330","Балка перфорированная для навески (20х40) L = 1330",1334,{"$f":"ROUND(C779*(1-$C$3)/Лист2!$A$6,0)","v":1334}]
["T-HB 01100665","Балка с выносом (20х40) G=100 L = 665",678,{"$f":"ROUND(C780*(1-$C$3)/Лист2!$A$6,0)","v":678}]
["T-HB 01101000","Балка с выносом (20х40) G=100 L = 1000",792,{"$f":"ROUND(C781*(1-$C$3)/Лист2!$A$6,0)","v":792}]
["T-HB 01101250","Балка с выносом (20х40) G=100 L = 1250",932,{"$f":"ROUND(C782*(1-$C$3)/Лист2!$A$6,0)","v":932}]
["T-HB 01101330","Балка с выносом (20х40) G=100 L = 1330",959,{"$f":"ROUND(C783*(1-$C$3)/Лист2!$A$6,0)","v":959}]
["T-HB 01210665","Балка с выносом (20х40) G=210 L = 665",715,{"$f":"ROUND(C784*(1-$C$3)/Лист2!$A$6,0)","v":715}]
["T-HB 01211000","Балка с выносом (20х40) G=210 L = 1000",831,{"$f":"ROUND(C785*(1-$C$3)/Лист2!$A$6,0)","v":831}]
["T-HB 01211250","Балка с выносом (20х40) G=210 L = 1250",961,{"$f":"ROUND(C786*(1-$C$3)/Лист2!$A$6,0)","v":961}]
["T-HB 01211330","Балка с выносом (20х40) G=210 L = 1330",983,{"$f":"ROUND(C787*(1-$C$3)/Лист2!$A$6,0)","v":983}]
["T-HB 01310665","Балка с выносом (20х40) G=310 L = 665",772,{"$f":"ROUND(C788*(1-$C$3)/Лист2!$A$6,0)","v":772}]
["T-HB 01311000","Балка с выносом (20х40) G=310 L = 1000",886,{"$f":"ROUND(C789*(1-$C$3)/Лист2!$A$6,0)","v":886}]
["T-HB 01311250","Балка с выносом (20х40) G=310 L = 1250",1017,{"$f":"ROUND(C790*(1-$C$3)/Лист2!$A$6,0)","v":1017}]
["T-HB 01311330","Балка с выносом (20х40) G=310 L = 1330",1048,{"$f":"ROUND(C791*(1-$C$3)/Лист2!$A$6,0)","v":1048}]
["T-HB 01370665","Балка с выносом (20х40) G=370 L = 665",804,{"$f":"ROUND(C792*(1-$C$3)/Лист2!$A$6,0)","v":804}]
["T-HB 01371000","Балка с выносом (20х40) G=370 L = 1000",934,{"$f":"ROUND(C793*(1-$C$3)/Лист2!$A$6,0)","v":934}]
["T-HB 01371250","Балка с выносом (20х40) G=370 L = 1250",1075,{"$f":"ROUND(C794*(1-$C$3)/Лист2!$A$6,0)","v":1075}]
["T-HB 01371330","Балка с выносом (20х40) G=370 L = 1330",1105,{"$f":"ROUND(C795*(1-$C$3)/Лист2!$A$6,0)","v":1105}]
["T-HB 03000665","Балка для навески овальная 15х30 L=665",463,{"$f":"ROUND(C796*(1-$C$3)/Лист2!$A$6,0)","v":463}]
["T-HB 03001000","Балка для навески овальная 15х30 L=1000",565,{"$f":"ROUND(C797*(1-$C$3)/Лист2!$A$6,0)","v":565}]
["T-HB 03001250","Балка для навески овальная 15х30 L=1250",705,{"$f":"ROUND(C798*(1-$C$3)/Лист2!$A$6,0)","v":705}]
["T-HB 03001330","Балка для навески овальная 15х30 L=1330",834,{"$f":"ROUND(C799*(1-$C$3)/Лист2!$A$6,0)","v":834}]
["T-HB 05000665","Балка для навески прямоугольная 15х30,L=665",642,{"$f":"ROUND(C800*(1-$C$3)/Лист2!$A$6,0)","v":642}]
["T-HB 05000850","Балка для навески прямоугольная 15х30,L=850",671,{"$f":"ROUND(C801*(1-$C$3)/Лист2!$A$6,0)","v":671}]
["T-HB 05001000","Балка для навески прямоугольная 15х30,L=1000",724,{"$f":"ROUND(C802*(1-$C$3)/Лист2!$A$6,0)","v":724}]
["T-HB 05001250","Балка для навески прямоугольная 15х30,L=1250",789,{"$f":"ROUND(C803*(1-$C$3)/Лист2!$A$6,0)","v":789}]
["T-HB 05001330","Балка для навески прямоугольная 15х30,L=1330",854,{"$f":"ROUND(C804*(1-$C$3)/Лист2!$A$6,0)","v":854}]
["A-ST 01000665","Балка усиления полки из ДСП L=665",1051,{"$f":"ROUND(C805*(1-$C$3)/Лист2!$A$6,0)","v":1051}]
["A-ST 01001000","Балка усиления полки из ДСП L=1000",1169,{"$f":"ROUND(C806*(1-$C$3)/Лист2!$A$6,0)","v":1169}]
["A-ST 01001250","Балка усиления полки из ДСП L=1250",1327,{"$f":"ROUND(C807*(1-$C$3)/Лист2!$A$6,0)","v":1327}]
["A-ST 02000665","Балка усиления стеклянной полки L=665",1122,{"$f":"ROUND(C808*(1-$C$3)/Лист2!$A$6,0)","v":1122}]
["A-ST 02000825","Балка усиления стеклянной полки L=825",1193,{"$f":"ROUND(C809*(1-$C$3)/Лист2!$A$6,0)","v":1193}]
["A-ST 02001000","Балка усиления стеклянной полки L=1000",1267,{"$f":"ROUND(C810*(1-$C$3)/Лист2!$A$6,0)","v":1267}]
["A-ST 02001250","Балка усиления стеклянной полки L=1250",1351,{"$f":"ROUND(C811*(1-$C$3)/Лист2!$A$6,0)","v":1351}]
["A-ST 02001330","Балка усиления стеклянной полки L=1330",1351,{"$f":"ROUND(C812*(1-$C$3)/Лист2!$A$6,0)","v":1351}]
["T-EF 01120665","Рама торцевая в комплекте Н=1200 L = 665",4682,{"$f":"ROUND(C813*(1-$C$3)/Лист2!$A$6,0)","v":4682}]
["T-EF 01121000","Рама торцевая в комплекте Н=1200 L = 1000",5016,{"$f":"ROUND(C814*(1-$C$3)/Лист2!$A$6,0)","v":5016}]
["T-EF 01121250","Рама торцевая в комплекте Н=1200 L = 1250",5508,{"$f":"ROUND(C815*(1-$C$3)/Лист2!$A$6,0)","v":5508}]
["T-EF 01121330","Рама торцевая в комплекте Н=1200 L = 1330",5382,{"$f":"ROUND(C816*(1-$C$3)/Лист2!$A$6,0)","v":5382}]
["T-EF 01130665","Рама торцевая в комплекте Н=1300 L = 665",4808,{"$f":"ROUND(C817*(1-$C$3)/Лист2!$A$6,0)","v":4808}]
["T-EF 01131000","Рама торцевая в комплекте Н=1300 L = 1000",5163,{"$f":"ROUND(C818*(1-$C$3)/Лист2!$A$6,0)","v":5163}]
["T-EF 01131250","Рама торцевая в комплекте Н=1300 L = 1250",5744,{"$f":"ROUND(C819*(1-$C$3)/Лист2!$A$6,0)","v":5744}]
["T-EF 01131330","Рама торцевая в комплекте Н=1300 L = 1330",5818,{"$f":"ROUND(C820*(1-$C$3)/Лист2!$A$6,0)","v":5818}]
["T-EF 01140665","Рама торцевая в комплекте Н=1400 L = 665",4931,{"$f":"ROUND(C821*(1-$C$3)/Лист2!$A$6,0)","v":4931}]
["T-EF 01141000","Рама торцевая в комплекте Н=1400 L = 1000",5211,{"$f":"ROUND(C822*(1-$C$3)/Лист2!$A$6,0)","v":5211}]
["T-EF 01141250","Рама торцевая в комплекте Н=1400 L = 1250",5802,{"$f":"ROUND(C823*(1-$C$3)/Лист2!$A$6,0)","v":5802}]
["T-EF 01141330","Рама торцевая в комплекте Н=1400 L = 1330",5849,{"$f":"ROUND(C824*(1-$C$3)/Лист2!$A$6,0)","v":5849}]
["T-EF 01150665","Рама торцевая в комплекте Н=1500 L = 665",5053,{"$f":"ROUND(C825*(1-$C$3)/Лист2!$A$6,0)","v":5053}]
["T-EF 01151000","Рама торцевая в комплекте Н=1500 L = 1000",5387,{"$f":"ROUND(C826*(1-$C$3)/Лист2!$A$6,0)","v":5387}]
["T-EF 01151250","Рама торцевая в комплекте Н=1500 L = 1250",5813,{"$f":"ROUND(C827*(1-$C$3)/Лист2!$A$6,0)","v":5813}]
["T-EF 01151330","Рама торцевая в комплекте Н=1500 L = 1330",5887,{"$f":"ROUND(C828*(1-$C$3)/Лист2!$A$6,0)","v":5887}]
["T-EF 01160665","Рама торцевая в комплекте Н=1600 L = 665",5178,{"$f":"ROUND(C829*(1-$C$3)/Лист2!$A$6,0)","v":5178}]
["T-EF 01160850","Рама торцевая в комплекте Н=1600 L = 850",4872,{"$f":"ROUND(C830*(1-$C$3)/Лист2!$A$6,0)","v":4872}]
["T-EF 01161000","Рама торцевая в комплекте Н=1600 L = 1000",5413,{"$f":"ROUND(C831*(1-$C$3)/Лист2!$A$6,0)","v":5413}]
["T-EF 01161250","Рама торцевая в комплекте Н=1600 L = 1250",5868,{"$f":"ROUND(C832*(1-$C$3)/Лист2!$A$6,0)","v":5868}]
["T-EF 01161330","Рама торцевая в комплекте Н=1600 L = 1330",5944,{"$f":"ROUND(C833*(1-$C$3)/Лист2!$A$6,0)","v":5944}]
["T-EF 01170665","Рама торцевая в комплекте Н=1700 L = 665",5299,{"$f":"ROUND(C834*(1-$C$3)/Лист2!$A$6,0)","v":5299}]
["T-EF 01171000","Рама торцевая в комплекте Н=1700 L = 1000",5627,{"$f":"ROUND(C835*(1-$C$3)/Лист2!$A$6,0)","v":5627}]
["T-EF 01171250","Рама торцевая в комплекте Н=1700 L = 1250",5933,{"$f":"ROUND(C836*(1-$C$3)/Лист2!$A$6,0)","v":5933}]
["T-EF 01171330","Рама торцевая в комплекте Н=1700 L = 1330",5998,{"$f":"ROUND(C837*(1-$C$3)/Лист2!$A$6,0)","v":5998}]
["T-EF 01180665","Рама торцевая в комплекте Н=1800 L = 665",5424,{"$f":"ROUND(C838*(1-$C$3)/Лист2!$A$6,0)","v":5424}]
["T-EF 01181000","Рама торцевая в комплекте Н=1800 L = 1000",5751,{"$f":"ROUND(C839*(1-$C$3)/Лист2!$A$6,0)","v":5751}]
["T-EF 01181250","Рама торцевая в комплекте Н=1800 L = 1250",5998,{"$f":"ROUND(C840*(1-$C$3)/Лист2!$A$6,0)","v":5998}]
["T-EF 01181330","Рама торцевая в комплекте Н=1800 L = 1330",6077,{"$f":"ROUND(C841*(1-$C$3)/Лист2!$A$6,0)","v":6077}]
["T-EF 01190665","Рама торцевая в комплекте Н=1900 L = 665",5550,{"$f":"ROUND(C842*(1-$C$3)/Лист2!$A$6,0)","v":5550}]
["T-EF 01191000","Рама торцевая в комплекте Н=1900 L = 1000",5882,{"$f":"ROUND(C843*(1-$C$3)/Лист2!$A$6,0)","v":5882}]
["T-EF 01191250","Рама торцевая в комплекте Н=1900 L = 1250",6517,{"$f":"ROUND(C844*(1-$C$3)/Лист2!$A$6,0)","v":6517}]
["T-EF 01200665","Рама торцевая в комплекте Н=2000 L = 665",5665,{"$f":"ROUND(C845*(1-$C$3)/Лист2!$A$6,0)","v":5665}]
["T-EF 01201000","Рама торцевая в комплекте Н=2000 L = 1000",5998,{"$f":"ROUND(C846*(1-$C$3)/Лист2!$A$6,0)","v":5998}]
["T-EF 01201250","Рама торцевая в комплекте Н=2000 L = 1250",6517,{"$f":"ROUND(C847*(1-$C$3)/Лист2!$A$6,0)","v":6517}]
["T-EF 01201330","Рама торцевая в комплекте Н=2000 L = 1330",7124,{"$f":"ROUND(C848*(1-$C$3)/Лист2!$A$6,0)","v":7124}]
["T-EF 01201665","Рама торцевая в комплекте Н=2000 L = 1665",10443,{"$f":"ROUND(C849*(1-$C$3)/Лист2!$A$6,0)","v":10443}]
["T-EF 01210665","Рама торцевая в комплекте Н=2100 L = 665",5793,{"$f":"ROUND(C850*(1-$C$3)/Лист2!$A$6,0)","v":5793}]
["T-EF 01211000","Рама торцевая в комплекте Н=2100 L = 1000",6123,{"$f":"ROUND(C851*(1-$C$3)/Лист2!$A$6,0)","v":6123}]
["T-EF 01211250","Рама торцевая в комплекте Н=2100 L = 1250",6527,{"$f":"ROUND(C852*(1-$C$3)/Лист2!$A$6,0)","v":6527}]
["T-EF 01211330","Рама торцевая в комплекте Н=2100 L = 1330",7124,{"$f":"ROUND(C853*(1-$C$3)/Лист2!$A$6,0)","v":7124}]
["T-EF 01220665","Рама торцевая в комплекте Н=2200 L = 665",5923,{"$f":"ROUND(C854*(1-$C$3)/Лист2!$A$6,0)","v":5923}]
["T-EF 01221000","Рама торцевая в комплекте Н=2200 L = 1000",6248,{"$f":"ROUND(C855*(1-$C$3)/Лист2!$A$6,0)","v":6248}]
["T-EF 01221250","Рама торцевая в комплекте Н=2200 L = 1250",6713,{"$f":"ROUND(C856*(1-$C$3)/Лист2!$A$6,0)","v":6713}]
["T-EF 01221330","Рама торцевая в комплекте Н=2200 L = 1330",7104,{"$f":"ROUND(C857*(1-$C$3)/Лист2!$A$6,0)","v":7104}]
["T-EF 01230665","Рама торцевая в комплекте Н=2300 L = 665",6037,{"$f":"ROUND(C858*(1-$C$3)/Лист2!$A$6,0)","v":6037}]
["T-EF 01231000","Рама торцевая в комплекте Н=2300 L = 1000",6370,{"$f":"ROUND(C859*(1-$C$3)/Лист2!$A$6,0)","v":6370}]
["T-EF 01231250","Рама торцевая в комплекте Н=2300 L = 1250",7136,{"$f":"ROUND(C860*(1-$C$3)/Лист2!$A$6,0)","v":7136}]
["T-EF 01231330","Рама торцевая в комплекте Н=2300 L = 1330",7199,{"$f":"ROUND(C861*(1-$C$3)/Лист2!$A$6,0)","v":7199}]
["T-EF 01240665","Рама торцевая в комплекте Н=2400 L = 665",6164,{"$f":"ROUND(C862*(1-$C$3)/Лист2!$A$6,0)","v":6164}]
["T-EF 01241000","Рама торцевая в комплекте Н=2400 L = 1000",6493,{"$f":"ROUND(C863*(1-$C$3)/Лист2!$A$6,0)","v":6493}]
["T-EF 01241250","Рама торцевая в комплекте Н=2400 L = 1250",7424,{"$f":"ROUND(C864*(1-$C$3)/Лист2!$A$6,0)","v":7424}]
["T-EF 01241330","Рама торцевая в комплекте Н=2400 L = 1330",7570,{"$f":"ROUND(C865*(1-$C$3)/Лист2!$A$6,0)","v":7570}]
["T-EF 01250665","Рама торцевая в комплекте Н=2500 L = 665",6287,{"$f":"ROUND(C866*(1-$C$3)/Лист2!$A$6,0)","v":6287}]
["T-EF 01251000","Рама торцевая в комплекте Н=2500 L = 1000",6616,{"$f":"ROUND(C867*(1-$C$3)/Лист2!$A$6,0)","v":6616}]
["T-EF 01251250","Рама торцевая в комплекте Н=2500 L = 1250",7462,{"$f":"ROUND(C868*(1-$C$3)/Лист2!$A$6,0)","v":7462}]
["T-EF 01251330","Рама торцевая в комплекте Н=2500 L = 1330",7578,{"$f":"ROUND(C869*(1-$C$3)/Лист2!$A$6,0)","v":7578}]
["N-EF 01150850","Рама торцевая 60х30 Н=1500 L=850",3321,{"$f":"ROUND(C870*(1-$C$3)/Лист2!$A$6,0)","v":3321}]
["N-EF 01160850","Рама торцевая 60х30 Н=1600 L=850",5047,{"$f":"ROUND(C871*(1-$C$3)/Лист2!$A$6,0)","v":5047}]
["T-EF 03271330","Рама торцевая 60х30 Н=2700 L=1330",7382,{"$f":"ROUND(C872*(1-$C$3)/Лист2!$A$6,0)","v":7382}]
["T-EF 11121000","Рама торцевая усиленная в комплекте Н=1200 L = 1000",5692,{"$f":"ROUND(C873*(1-$C$3)/Лист2!$A$6,0)","v":5692}]
["T-EF 11121250","Рама торцевая усиленная в комплекте Н=1200 L = 1250",6170,{"$f":"ROUND(C874*(1-$C$3)/Лист2!$A$6,0)","v":6170}]
["T-EF 11121330","Рама торцевая усиленная в комплекте Н=1200 L = 1330",6327,{"$f":"ROUND(C875*(1-$C$3)/Лист2!$A$6,0)","v":6327}]
["T-EF 11131000","Рама торцевая усиленная в комплекте Н=1300 L = 1000",5840,{"$f":"ROUND(C876*(1-$C$3)/Лист2!$A$6,0)","v":5840}]
["T-EF 11131250","Рама торцевая усиленная в комплекте Н=1300 L = 1250",6327,{"$f":"ROUND(C877*(1-$C$3)/Лист2!$A$6,0)","v":6327}]
["T-EF 11131330","Рама торцевая усиленная в комплекте Н=1300 L = 1330",6490,{"$f":"ROUND(C878*(1-$C$3)/Лист2!$A$6,0)","v":6490}]
["T-EF 11141000","Рама торцевая усиленная в комплекте Н=1400 L = 1000",5995,{"$f":"ROUND(C879*(1-$C$3)/Лист2!$A$6,0)","v":5995}]
["T-EF 11141250","Рама торцевая усиленная в комплекте Н=1400 L = 1250",6479,{"$f":"ROUND(C880*(1-$C$3)/Лист2!$A$6,0)","v":6479}]
["T-EF 11141330","Рама торцевая усиленная в комплекте Н=1400 L = 1330",6639,{"$f":"ROUND(C881*(1-$C$3)/Лист2!$A$6,0)","v":6639}]
["T-EF 11151000","Рама торцевая усиленная в комплекте Н=1500 L = 1000",5771,{"$f":"ROUND(C882*(1-$C$3)/Лист2!$A$6,0)","v":5771}]
["T-EF 11151250","Рама торцевая усиленная в комплекте Н=1500 L = 1250",6568,{"$f":"ROUND(C883*(1-$C$3)/Лист2!$A$6,0)","v":6568}]
["T-EF 11151330","Рама торцевая усиленная в комплекте Н=1500 L = 1330",6593,{"$f":"ROUND(C884*(1-$C$3)/Лист2!$A$6,0)","v":6593}]
["T-EF 11161000","Рама торцевая усиленная в комплекте Н=1600 L = 1000",5833,{"$f":"ROUND(C885*(1-$C$3)/Лист2!$A$6,0)","v":5833}]
["T-EF 11161250","Рама торцевая усиленная в комплекте Н=1600 L = 1250",6612,{"$f":"ROUND(C886*(1-$C$3)/Лист2!$A$6,0)","v":6612}]
["T-EF 11161330","Рама торцевая усиленная в комплекте Н=1600 L = 1330",6763,{"$f":"ROUND(C887*(1-$C$3)/Лист2!$A$6,0)","v":6763}]
["T-EF 11171000","Рама торцевая усиленная в комплекте Н=1700 L = 1000",6093,{"$f":"ROUND(C888*(1-$C$3)/Лист2!$A$6,0)","v":6093}]
["T-EF 11171250","Рама торцевая усиленная в комплекте Н=1700 L = 1250",6910,{"$f":"ROUND(C889*(1-$C$3)/Лист2!$A$6,0)","v":6910}]
["T-EF 11171330","Рама торцевая усиленная в комплекте Н=1700 L = 1330",7067,{"$f":"ROUND(C890*(1-$C$3)/Лист2!$A$6,0)","v":7067}]
["T-EF 11181000","Рама торцевая усиленная в комплекте Н=1800 L = 1000",6542,{"$f":"ROUND(C891*(1-$C$3)/Лист2!$A$6,0)","v":6542}]
["T-EF 11181250","Рама торцевая усиленная в комплекте Н=1800 L = 1250",7359,{"$f":"ROUND(C892*(1-$C$3)/Лист2!$A$6,0)","v":7359}]
["T-EF 11181330","Рама торцевая усиленная в комплекте Н=1800 L = 1330",7526,{"$f":"ROUND(C893*(1-$C$3)/Лист2!$A$6,0)","v":7526}]
["T-EF 11191000","Рама торцевая усиленная в комплекте Н=1900 L = 1000",6566,{"$f":"ROUND(C894*(1-$C$3)/Лист2!$A$6,0)","v":6566}]
["T-EF 11191250","Рама торцевая усиленная в комплекте Н=1900 L = 1250",7425,{"$f":"ROUND(C895*(1-$C$3)/Лист2!$A$6,0)","v":7425}]
["T-EF 11191330","Рама торцевая усиленная в комплекте Н=1900 L = 1330",7600,{"$f":"ROUND(C896*(1-$C$3)/Лист2!$A$6,0)","v":7600}]
["T-EF 11201000","Рама торцевая усиленная в комплекте Н=2000 L = 1000",6612,{"$f":"ROUND(C897*(1-$C$3)/Лист2!$A$6,0)","v":6612}]
["T-EF 11201250","Рама торцевая усиленная в комплекте Н=2000 L = 1250",7503,{"$f":"ROUND(C898*(1-$C$3)/Лист2!$A$6,0)","v":7503}]
["T-EF 11201330","Рама торцевая усиленная в комплекте Н=2000 L = 1330",7669,{"$f":"ROUND(C899*(1-$C$3)/Лист2!$A$6,0)","v":7669}]
["T-EF 11211000","Рама торцевая усиленная в комплекте Н=2100 L = 1000",6673,{"$f":"ROUND(C900*(1-$C$3)/Лист2!$A$6,0)","v":6673}]
["T-EF 11211250","Рама торцевая усиленная в комплекте Н=2100 L = 1250",7568,{"$f":"ROUND(C901*(1-$C$3)/Лист2!$A$6,0)","v":7568}]
["T-EF 11211330","Рама торцевая усиленная в комплекте Н=2100 L = 1330",7735,{"$f":"ROUND(C902*(1-$C$3)/Лист2!$A$6,0)","v":7735}]
["T-EF 11221000","Рама торцевая усиленная в комплекте Н=2200 L = 1000",7008,{"$f":"ROUND(C903*(1-$C$3)/Лист2!$A$6,0)","v":7008}]
["T-EF 11221250","Рама торцевая усиленная в комплекте Н=2200 L = 1250",7940,{"$f":"ROUND(C904*(1-$C$3)/Лист2!$A$6,0)","v":7940}]
["T-EF 11221330","Рама торцевая усиленная в комплекте Н=2200 L = 1330",8129,{"$f":"ROUND(C905*(1-$C$3)/Лист2!$A$6,0)","v":8129}]
["T-EF 11231000","Рама торцевая усиленная в комплекте Н=2300 L = 1000",7615,{"$f":"ROUND(C906*(1-$C$3)/Лист2!$A$6,0)","v":7615}]
["T-EF 11231250","Рама торцевая усиленная в комплекте Н=2300 L = 1250",8636,{"$f":"ROUND(C907*(1-$C$3)/Лист2!$A$6,0)","v":8636}]
["T-EF 11231330","Рама торцевая усиленная в комплекте Н=2300 L = 1330",8837,{"$f":"ROUND(C908*(1-$C$3)/Лист2!$A$6,0)","v":8837}]
["T-EF 11240100","Рама торцевая усиленная в комплекте Н=2400 L = 1000",8224,{"$f":"ROUND(C909*(1-$C$3)/Лист2!$A$6,0)","v":8224}]
["T-EF 11240125","Рама торцевая усиленная в комплекте Н=2400 L = 1250",9327,{"$f":"ROUND(C910*(1-$C$3)/Лист2!$A$6,0)","v":9327}]
["T-EF 11240133","Рама торцевая усиленная в комплекте Н=2400 L = 1330",9540,{"$f":"ROUND(C911*(1-$C$3)/Лист2!$A$6,0)","v":9540}]
["T-EF 11251000","Рама торцевая усиленная в комплекте Н=2450 L = 1000",8111,{"$f":"ROUND(C912*(1-$C$3)/Лист2!$A$6,0)","v":8111}]
["T-EF 11251250","Рама торцевая усиленная в комплекте Н=2450 L = 1250",9018,{"$f":"ROUND(C913*(1-$C$3)/Лист2!$A$6,0)","v":9018}]
["T-EF 11251330","Рама торцевая усиленная в комплекте Н=2450 L = 1330",9166,{"$f":"ROUND(C914*(1-$C$3)/Лист2!$A$6,0)","v":9166}]
["T-EF 11251000","Рама торцевая усиленная в комплекте Н=2500 L = 1000",8111,{"$f":"ROUND(C915*(1-$C$3)/Лист2!$A$6,0)","v":8111}]
["T-EF 11251250","Рама торцевая усиленная в комплекте Н=2500 L = 1250",9018,{"$f":"ROUND(C916*(1-$C$3)/Лист2!$A$6,0)","v":9018}]
["T-EF 11251330","Рама торцевая усиленная в комплекте Н=2500 L = 1330",9166,{"$f":"ROUND(C917*(1-$C$3)/Лист2!$A$6,0)","v":9166}]
["T-EF 12451006","Рама торцевая двойная усиленная H=2450 L=1000/665",10485,{"$f":"ROUND(C918*(1-$C$3)/Лист2!$A$6,0)","v":10485}]
["T-EF 13001006","Рама торцевая двойная усиленная H=3000 L=1000/665",13110,{"$f":"ROUND(C919*(1-$C$3)/Лист2!$A$6,0)","v":13110}]
["T-EF 13001012","Рама торцевая двойная усиленная H=3000 L=1000/1250",14535,{"$f":"ROUND(C920*(1-$C$3)/Лист2!$A$6,0)","v":14535}]
["T-EF 13551006","Рама торцевая двойная усиленная H=3550  L=1000/665 ",15825,{"$f":"ROUND(C921*(1-$C$3)/Лист2!$A$6,0)","v":15825}]
["N-RS 03140570","Рама стеллажа (стойка 30х30) H=1400 L=570",3501,{"$f":"ROUND(C922*(1-$C$3)/Лист2!$A$6,0)","v":3501}]
["N-RS 01140570","Рама стеллажа (стойка 30х30) с сетчатой панелью H=1400 L=570",3961,{"$f":"ROUND(C923*(1-$C$3)/Лист2!$A$6,0)","v":3961}]
["N-RS 02310570","Полка G=310 L=570",482,{"$f":"ROUND(C924*(1-$C$3)/Лист2!$A$6,0)","v":482}]
["N-RS 02370570","Полка G=370 L=570",554,{"$f":"ROUND(C925*(1-$C$3)/Лист2!$A$6,0)","v":554}]
["N-RS 02470570","Полка G=470 L=570",730,{"$f":"ROUND(C926*(1-$C$3)/Лист2!$A$6,0)","v":730}]
["T-RM 02310665","Рама G=310 L = 665",1377,{"$f":"ROUND(C927*(1-$C$3)/Лист2!$A$6,0)","v":1377}]
["T-RM 02311000","Рама G=310 L = 1000",1528,{"$f":"ROUND(C928*(1-$C$3)/Лист2!$A$6,0)","v":1528}]
["T-RM 02311250","Рама G=310 L = 1250",1673,{"$f":"ROUND(C929*(1-$C$3)/Лист2!$A$6,0)","v":1673}]
["T-RM 02311330","Рама G=310 L = 1330",1718,{"$f":"ROUND(C930*(1-$C$3)/Лист2!$A$6,0)","v":1718}]
["T-RM 02370665","Рама G=370 L = 665",1440,{"$f":"ROUND(C931*(1-$C$3)/Лист2!$A$6,0)","v":1440}]
["T-RM 02371000","Рама G=370 L = 1000",1595,{"$f":"ROUND(C932*(1-$C$3)/Лист2!$A$6,0)","v":1595}]
["T-RM 02371250","Рама G=370 L = 1250",1845,{"$f":"ROUND(C933*(1-$C$3)/Лист2!$A$6,0)","v":1845}]
["T-RM 02371330","Рама G=370 L = 1330",2075,{"$f":"ROUND(C934*(1-$C$3)/Лист2!$A$6,0)","v":2075}]
["T-RM 02470665","Рама G=470 L = 665",1744,{"$f":"ROUND(C935*(1-$C$3)/Лист2!$A$6,0)","v":1744}]
["T-RM 02471000","Рама G=470 L = 1000",1907,{"$f":"ROUND(C936*(1-$C$3)/Лист2!$A$6,0)","v":1907}]
["T-RM 02471250","Рама G=470 L = 1250",2179,{"$f":"ROUND(C937*(1-$C$3)/Лист2!$A$6,0)","v":2179}]
["T-RM 02471330","Рама G=470 L = 1330",2183,{"$f":"ROUND(C938*(1-$C$3)/Лист2!$A$6,0)","v":2183}]
["T-RM 02570665","Рама G=570 L = 665",1840,{"$f":"ROUND(C939*(1-$C$3)/Лист2!$A$6,0)","v":1840}]
["T-RM 02571000","Рама G=570 L = 1000",2006,{"$f":"ROUND(C940*(1-$C$3)/Лист2!$A$6,0)","v":2006}]
["T-RM 02571250","Рама G=570 L = 1250",2263,{"$f":"ROUND(C941*(1-$C$3)/Лист2!$A$6,0)","v":2263}]
["T-RM 02571330","Рама G=570 L = 1330",2271,{"$f":"ROUND(C942*(1-$C$3)/Лист2!$A$6,0)","v":2271}]
["T-RM 02670665","Рама G=670 L = 665",1939,{"$f":"ROUND(C943*(1-$C$3)/Лист2!$A$6,0)","v":1939}]
["T-RM 02671000","Рама G=670 L = 1000",2101,{"$f":"ROUND(C944*(1-$C$3)/Лист2!$A$6,0)","v":2101}]
["T-RM 02671250","Рама G=670 L = 1250",2358,{"$f":"ROUND(C945*(1-$C$3)/Лист2!$A$6,0)","v":2358}]
["T-RM 02671330","Рама G=670 L = 1330",2361,{"$f":"ROUND(C946*(1-$C$3)/Лист2!$A$6,0)","v":2361}]
["T-RM 03210665","Рама с перфорированной балкой G=210 L=665",1351,{"$f":"ROUND(C947*(1-$C$3)/Лист2!$A$6,0)","v":1351}]
["T-RM 03211000","Рама с перфорированной балкой G=210 L=1000",1516,{"$f":"ROUND(C948*(1-$C$3)/Лист2!$A$6,0)","v":1516}]
["T-RM 03211250","Рама с перфорированной балкой G=210 L=1250",1732,{"$f":"ROUND(C949*(1-$C$3)/Лист2!$A$6,0)","v":1732}]
["T-RM 03211330","Рама с перфорированной балкой G=210 L=1330",1756,{"$f":"ROUND(C950*(1-$C$3)/Лист2!$A$6,0)","v":1756}]
["T-ZG 01000665","Рама \"зиг-заг\" G=480 L = 665 левая",1742,{"$f":"ROUND(C951*(1-$C$3)/Лист2!$A$6,0)","v":1742}]
["T-ZG 01001000","Рама \"зиг-заг\" G=480 L = 1000 левая",1760,{"$f":"ROUND(C952*(1-$C$3)/Лист2!$A$6,0)","v":1760}]
["T-ZG 01001250","Рама \"зиг-заг\" G=480 L = 1250 левая",2006,{"$f":"ROUND(C953*(1-$C$3)/Лист2!$A$6,0)","v":2006}]
["T-ZG 01001330","Рама \"зиг-заг\" G=480 L = 1330 левая",2050,{"$f":"ROUND(C954*(1-$C$3)/Лист2!$A$6,0)","v":2050}]
["T-ZG 02000665","Рама \"зиг-заг\" G=480 L = 665 правая",1742,{"$f":"ROUND(C955*(1-$C$3)/Лист2!$A$6,0)","v":1742}]
["T-ZG 02001000","Рама \"зиг-заг\" G=480 L = 1000 правая",1760,{"$f":"ROUND(C956*(1-$C$3)/Лист2!$A$6,0)","v":1760}]
["T-ZG 02001250","Рама \"зиг-заг\" G=480 L = 1250 правая",2006,{"$f":"ROUND(C957*(1-$C$3)/Лист2!$A$6,0)","v":2006}]
["T-ZG 02001330","Рама \"зиг-заг\" G=480 L = 1330 правая",2050,{"$f":"ROUND(C958*(1-$C$3)/Лист2!$A$6,0)","v":2050}]
["T-BB 01090665","Комплект боковин для книжной полки H=950 L=665",1563,{"$f":"ROUND(C959*(1-$C$3)/Лист2!$A$6,0)","v":1563}]
["T-BB 01091000","Комплект боковин для книжной полки H=950 L=1000",1563,{"$f":"ROUND(C960*(1-$C$3)/Лист2!$A$6,0)","v":1563}]
["T-BB 01091250","Комплект боковин для книжной полки H=950 L=1250",1563,{"$f":"ROUND(C961*(1-$C$3)/Лист2!$A$6,0)","v":1563}]
["T-BB 01091330","Комплект боковин для книжной полки H=950 L=1330",1637,{"$f":"ROUND(C962*(1-$C$3)/Лист2!$A$6,0)","v":1637}]
["T-BB 01120665","Комплект боковин для книжной полки H=1250 L=665",1952,{"$f":"ROUND(C963*(1-$C$3)/Лист2!$A$6,0)","v":1952}]
["T-BB 01121000","Комплект боковин для книжной полки H=1250 L=1000",1952,{"$f":"ROUND(C964*(1-$C$3)/Лист2!$A$6,0)","v":1952}]
["T-BB 01121250","Комплект боковин для книжной полки H=1250 L=1250",2044,{"$f":"ROUND(C965*(1-$C$3)/Лист2!$A$6,0)","v":2044}]
["T-BB 01121330","Комплект боковин для книжной полки H=1250 L=1330",2044,{"$f":"ROUND(C966*(1-$C$3)/Лист2!$A$6,0)","v":2044}]
["T-BB 01130665","Комплект боковин для книжной полки H=1300 L=665",2058,{"$f":"ROUND(C967*(1-$C$3)/Лист2!$A$6,0)","v":2058}]
["T-BB 01131000","Комплект боковин для книжной полки H=1300 L=1000",2058,{"$f":"ROUND(C968*(1-$C$3)/Лист2!$A$6,0)","v":2058}]
["T-BB 01131250","Комплект боковин для книжной полки H=1300 L=1250",2058,{"$f":"ROUND(C969*(1-$C$3)/Лист2!$A$6,0)","v":2058}]
["T-BB 01131330","Комплект боковин для книжной полки H=1300 L=1330",2058,{"$f":"ROUND(C970*(1-$C$3)/Лист2!$A$6,0)","v":2058}]
["T-BB 01150665","Комплект боковин для книжной полки H=1500 L=665",2998,{"$f":"ROUND(C971*(1-$C$3)/Лист2!$A$6,0)","v":2998}]
["T-BB 01151000","Комплект боковин для книжной полки H=1500 L=1000",2998,{"$f":"ROUND(C972*(1-$C$3)/Лист2!$A$6,0)","v":2998}]
["T-BB 01151250","Комплект боковин для книжной полки H=1500 L=1250",2998,{"$f":"ROUND(C973*(1-$C$3)/Лист2!$A$6,0)","v":2998}]
["T-BB 01151330","Комплект боковин для книжной полки H=1500 L=1330",2998,{"$f":"ROUND(C974*(1-$C$3)/Лист2!$A$6,0)","v":2998}]
["T-BB 01170665","Комплект боковин для книжной полки H=1700 L=665",3030,{"$f":"ROUND(C975*(1-$C$3)/Лист2!$A$6,0)","v":3030}]
["T-BB 01171000","Комплект боковин для книжной полки H=1700 L=1000",3030,{"$f":"ROUND(C976*(1-$C$3)/Лист2!$A$6,0)","v":3030}]
["T-BB 01171250","Комплект боковин для книжной полки H=1700 L=1250",3030,{"$f":"ROUND(C977*(1-$C$3)/Лист2!$A$6,0)","v":3030}]
["T-BB 01171330","Комплект боковин для книжной полки H=1700 L=1330",3030,{"$f":"ROUND(C978*(1-$C$3)/Лист2!$A$6,0)","v":3030}]
["T-ST 20570001","Боковина полки наклонной G=570 H=450",278,{"$f":"ROUND(C979*(1-$C$3)/Лист2!$A$6,0)","v":278}]
["T-BB 07572200","Боковина полки для открыток (комплект) H=2200",2976,{"$f":"ROUND(C980*(1-$C$3)/Лист2!$A$6,0)","v":2976}]
["T-BB 07572300","Боковина полки для открыток (комплект) H=2300",3106,{"$f":"ROUND(C981*(1-$C$3)/Лист2!$A$6,0)","v":3106}]
["T-BS 08000630","Боковина кронштейна для пяти полок CD G=630",608,{"$f":"ROUND(C982*(1-$C$3)/Лист2!$A$6,0)","v":608}]
["T-BW 06016160","Боковина торцевая  хлебного стеллажа (комплект) H=1600 G=600",5777,{"$f":"ROUND(C983*(1-$C$3)/Лист2!$A$6,0)","v":5777}]
["A-TS 01000300","Разделитель трубчатый L=300",532,{"$f":"ROUND(C984*(1-$C$3)/Лист2!$A$6,0)","v":532}]
["A-TS 01000400","Разделитель трубчатый L=400",590,{"$f":"ROUND(C985*(1-$C$3)/Лист2!$A$6,0)","v":590}]
["A-TS 01000450","Разделитель трубчатый L=450",627,{"$f":"ROUND(C986*(1-$C$3)/Лист2!$A$6,0)","v":627}]
["A-TS 01000500","Разделитель трубчатый L=500",667,{"$f":"ROUND(C987*(1-$C$3)/Лист2!$A$6,0)","v":667}]
["A-SB 01012100","Разделитель полки книжной  G=95",96,{"$f":"ROUND(C988*(1-$C$3)/Лист2!$A$6,0)","v":96}]
["A-SB 01012150","Разделитель полки книжной  G=145",109,{"$f":"ROUND(C989*(1-$C$3)/Лист2!$A$6,0)","v":109}]
["T-TR 01010665","Траверса L=665",437,{"$f":"ROUND(C990*(1-$C$3)/Лист2!$A$6,0)","v":437}]
["T-TR 01010850","Траверса L=850 ",495,{"$f":"ROUND(C991*(1-$C$3)/Лист2!$A$6,0)","v":495}]
["T-TR 01011000","Траверса L=1000",523,{"$f":"ROUND(C992*(1-$C$3)/Лист2!$A$6,0)","v":523}]
["T-TR 01011250","Траверса L=1250",611,{"$f":"ROUND(C993*(1-$C$3)/Лист2!$A$6,0)","v":611}]
["T-TR 01011330","Траверса L=1330",634,{"$f":"ROUND(C994*(1-$C$3)/Лист2!$A$6,0)","v":634}]
["T-TR 03000665","Траверса-стяжка L=665",628,{"$f":"ROUND(C995*(1-$C$3)/Лист2!$A$6,0)","v":628}]
["T-TR 03001000","Траверса-стяжка L=1000",757,{"$f":"ROUND(C996*(1-$C$3)/Лист2!$A$6,0)","v":757}]
["T-TR 03001250","Траверса-стяжка L=1250",838,{"$f":"ROUND(C997*(1-$C$3)/Лист2!$A$6,0)","v":838}]
["T-TR 03001330","Траверса-стяжка L=1330",863,{"$f":"ROUND(C998*(1-$C$3)/Лист2!$A$6,0)","v":863}]
["T-BP 20150850","Панель-стяжка,L=850, H=150",794,{"$f":"ROUND(C999*(1-$C$3)/Лист2!$A$6,0)","v":794}]
["T-BP 20151000","Панель-стяжка,L=1000, H=150",882,{"$f":"ROUND(C1000*(1-$C$3)/Лист2!$A$6,0)","v":882}]
["T-BP 20151250","Панель-стяжка,L=1250, H=150",936,{"$f":"ROUND(C1001*(1-$C$3)/Лист2!$A$6,0)","v":936}]
["T-TR 01900001","Траверса угла внутреннего 90º ",585,{"$f":"ROUND(C1002*(1-$C$3)/Лист2!$A$6,0)","v":585}]
["T-TR 01450001","Траверса угла внутреннего 45º ",1377,{"$f":"ROUND(C1003*(1-$C$3)/Лист2!$A$6,0)","v":1377}]
["T-TR 01450002","Траверса угла внешнего 45º ",373,{"$f":"ROUND(C1004*(1-$C$3)/Лист2!$A$6,0)","v":373}]
["A-DB 10350300","Экспозитор наклонный для катушек G=300",565,{"$f":"ROUND(C1005*(1-$C$3)/Лист2!$A$6,0)","v":565}]
["A-DB 10000200","Экспозитор сидений WC ",191,{"$f":"ROUND(C1006*(1-$C$3)/Лист2!$A$6,0)","v":191}]
["A-DB 05000250","Экспозитор для ковриков ",712,{"$f":"ROUND(C1007*(1-$C$3)/Лист2!$A$6,0)","v":712}]
["A-DB 06501000","Экспозитор для газонокосилок  Н=500 G=800/1000",3564,{"$f":"ROUND(C1008*(1-$C$3)/Лист2!$A$6,0)","v":3564}]
["A-DB 01000400","Экспозитор поворотный на балку 20х40  H=400",258,{"$f":"ROUND(C1009*(1-$C$3)/Лист2!$A$6,0)","v":258}]
["T-WL 10001250","Овощной развал H=600-1400 G=1000-2000 L=1250 (Сосна) ",32875,{"$f":"ROUND(C1010*(1-$C$3)/Лист2!$A$6,0)","v":32875}]
["T-WL 10101200","Овощной развал  1200х1000х1100 (Сосна) ",15983,{"$f":"ROUND(C1011*(1-$C$3)/Лист2!$A$6,0)","v":15983}]
["T-WL 10111200","Овощной развал (М) H=1100 G=1000 L=1200 ",16531,{"$f":"ROUND(C1012*(1-$C$3)/Лист2!$A$6,0)","v":16531}]
["T-WL 10151200","Овощной развал (М1) H=1100 G=1000 L=1200 ",17704,{"$f":"ROUND(C1013*(1-$C$3)/Лист2!$A$6,0)","v":17704}]
["T-WL 10121250","Овощной развал настил металлический  H=600-1400 G=1000-2000 L=1250 ",28946,{"$f":"ROUND(C1014*(1-$C$3)/Лист2!$A$6,0)","v":28946}]
["T-WL 10131000","Овощной развал угол внешний H=1100 G=1000 ",12386,{"$f":"ROUND(C1015*(1-$C$3)/Лист2!$A$6,0)","v":12386}]
["T-WL 10141000","Овощной развал угол внешний(М) H=1100 G=1000 ",13124,{"$f":"ROUND(C1016*(1-$C$3)/Лист2!$A$6,0)","v":13124}]
["T-WL 10130125","Овощной развал двухсторонний,L=1300, H=1250, G=2х665",28001,{"$f":"ROUND(C1017*(1-$C$3)/Лист2!$A$6,0)","v":28001}]
["N-AA 01161280","Фруктово-овощной островной модуль компл,L=1200, H=1600, G=2х800",45204,{"$f":"ROUND(C1018*(1-$C$3)/Лист2!$A$6,0)","v":45204}]
["N-AA 10161228","Фруктово-овощной островной модуль,L=1200, H=1600, G=2х800",25793,{"$f":"ROUND(C1019*(1-$C$3)/Лист2!$A$6,0)","v":25793}]
["N-AA 11161280","Фруктово-овощной модуль H=1600 L=1200 G=800",16233,{"$f":"ROUND(C1020*(1-$C$3)/Лист2!$A$6,0)","v":16233}]
["N-AA 12161780","Фруктово-овощной модуль H=1600, L=1740, G=800",35592,{"$f":"ROUND(C1021*(1-$C$3)/Лист2!$A$6,0)","v":35592}]
["N-AA 20801785","Фруктово-овощной модуль (полукруг), H=800, L=1700, G=850",31773,{"$f":"ROUND(C1022*(1-$C$3)/Лист2!$A$6,0)","v":31773}]
["N-AA 31161280","Фруктово-овощной модуль с декоративной панелью H=1600 L=1200 G=800",26410,{"$f":"ROUND(C1023*(1-$C$3)/Лист2!$A$6,0)","v":26410}]
["N-AA 30161228","Фруктово-овощной островной модуль с декоративной панелью H=1600 L=1200 G=2x800",40917,{"$f":"ROUND(C1024*(1-$C$3)/Лист2!$A$6,0)","v":40917}]
["T-WL 13101280","Овощной развал с регулируемым углом наклона H=1000, L=1200, G=800",21133,{"$f":"ROUND(C1025*(1-$C$3)/Лист2!$A$6,0)","v":21133}]
["N-KR 04751154","Контейнер для овощей с регулируемым дном L=600, H=850, G=600",16688,{"$f":"ROUND(C1026*(1-$C$3)/Лист2!$A$6,0)","v":16688}]
["N-DW 02000280","Держатель для пакетов L=280",618,{"$f":"ROUND(C1027*(1-$C$3)/Лист2!$A$6,0)","v":618}]
["T-DP 08110080","Декор корзины подкатной",4022,{"$f":"ROUND(C1028*(1-$C$3)/Лист2!$A$6,0)","v":4022}]
["N-KR 05606085","Контейнер для овощей L=1100, H=540, G=750",19957,{"$f":"ROUND(C1029*(1-$C$3)/Лист2!$A$6,0)","v":19957}]
["N-ST 11120400","Полка фруктово-островного модуля,L=1200, G=400",3990,{"$f":"ROUND(C1030*(1-$C$3)/Лист2!$A$6,0)","v":3990}]
["N-ST 11120500","Полка фруктово-островного модуля,L=1200, G=500",4272,{"$f":"ROUND(C1031*(1-$C$3)/Лист2!$A$6,0)","v":4272}]
["N-ST 11120600","Полка фруктово-островного модуля,L=1200, G=600",6885,{"$f":"ROUND(C1032*(1-$C$3)/Лист2!$A$6,0)","v":6885}]
["N-ST 11000300","Держатель пакетов на полку фруктово-овощного модуля",319,{"$f":"ROUND(C1033*(1-$C$3)/Лист2!$A$6,0)","v":319}]
["N-ST 12000300 ","Держатель пакетов горизонтальный на полку фруктово-овощного модуля  L=300",437,{"$f":"ROUND(C1034*(1-$C$3)/Лист2!$A$6,0)","v":437}]
["N-ST 11001200","Комплект подсветки полки сетчатой,L=1200",1463,{"$f":"ROUND(C1035*(1-$C$3)/Лист2!$A$6,0)","v":1463}]
["N-ST 11001600","Стойка  фруктово-овощного модуля,H=1600",1500,{"$f":"ROUND(C1036*(1-$C$3)/Лист2!$A$6,0)","v":1500}]
["N-BP 06600300","Панель боковая овощ двухстор стеллажа (комп)",1220,{"$f":"ROUND(C1037*(1-$C$3)/Лист2!$A$6,0)","v":1220}]
["N-BB 03150100","Боковина овощ двухстор стеллажа",3705,{"$f":"ROUND(C1038*(1-$C$3)/Лист2!$A$6,0)","v":3705}]
["N-AA 07128014","Овощной развал с наклонн полк L=1200, H=1400, G=800, глянец, RAL 6018 ",21930,{"$f":"ROUND(C1039*(1-$C$3)/Лист2!$A$6,0)","v":21930}]
["N-AA 07128085","Овощной стол с полками,L=1200, H=850, G=800, глянец, RAL 6018 ",19491,{"$f":"ROUND(C1040*(1-$C$3)/Лист2!$A$6,0)","v":19491}]
["T-WL 10141280","Овощной развал с выкатн ящик,L=1200, H=1400, G=800",42362,{"$f":"ROUND(C1041*(1-$C$3)/Лист2!$A$6,0)","v":42362}]
["T-WL 10101250","Овощной развал,L=1250, Н=600-1400, G=1000",25389,{"$f":"ROUND(C1042*(1-$C$3)/Лист2!$A$6,0)","v":25389}]
["T-WL 10161210","Овощн развал (с дек панел ЛДСП),L=1250, H=1600, G=1000",22799,{"$f":"ROUND(C1043*(1-$C$3)/Лист2!$A$6,0)","v":22799}]
["T-WL 10212089","Овощной развал с полкой запасником  H=1450 L=1200 G=890",24547,{"$f":"ROUND(C1044*(1-$C$3)/Лист2!$A$6,0)","v":24547}]
["T-WL 10112089","Овощной развал с выкатным поддоном  H=1450 L=1200 G=890",28239,{"$f":"ROUND(C1045*(1-$C$3)/Лист2!$A$6,0)","v":28239}]
["N-AA 04608012","Подиум овощной,L=1200, H=600, G=800",20688,{"$f":"ROUND(C1046*(1-$C$3)/Лист2!$A$6,0)","v":20688}]
["N-AA 04408080","Подиум овощной,L=800, H=400, G=800",15411,{"$f":"ROUND(C1047*(1-$C$3)/Лист2!$A$6,0)","v":15411}]
["N-AA 14708125","Подиум овощной (М),H=700, G=800, L=1250",19165,{"$f":"ROUND(C1048*(1-$C$3)/Лист2!$A$6,0)","v":19165}]
["N-KR 02806090","Контейнер для овощей,L=800, H=800, G=600",14866,{"$f":"ROUND(C1049*(1-$C$3)/Лист2!$A$6,0)","v":14866}]
["N-KR 03806050","Контейнер для овощей с перегородкой и регулируемым дном G=600 L=800 H=500",17177,{"$f":"ROUND(C1050*(1-$C$3)/Лист2!$A$6,0)","v":17177}]
["N-AA 40001200","Бампер фруктово-овощной модуля L=1200",960,{"$f":"ROUND(C1051*(1-$C$3)/Лист2!$A$6,0)","v":960}]
["P-FT 02080080","Анкерный болт d=8 L=80 (клиновой)",100,{"$f":"ROUND(C1052*(1-$C$3)/Лист2!$A$6,0)","v":100}]
["N-LC 00003030","Заглушка стойки 30х30",112,{"$f":"ROUND(C1053*(1-$C$3)/Лист2!$A$6,0)","v":112}]
["N-LC 00003080","Заглушка стойки 30х80",118,{"$f":"ROUND(C1054*(1-$C$3)/Лист2!$A$6,0)","v":118}]
["N-LC 00003060","Заглушка стойки 30х60",114,{"$f":"ROUND(C1055*(1-$C$3)/Лист2!$A$6,0)","v":114}]
["T-BS 01010001","Присоска ",9,{"$f":"ROUND(C1056*(1-$C$3)/Лист2!$A$6,0)","v":9}]
["T-PW 01661100","Панель настенная ЛДСП L=665 H=1100",2951,{"$f":"ROUND(C1057*(1-$C$3)/Лист2!$A$6,0)","v":2951}]
["T-PW 01661150","Панель настенная ЛДСП L=665 H=1150",2954,{"$f":"ROUND(C1058*(1-$C$3)/Лист2!$A$6,0)","v":2954}]
["T-PW 01661200","Панель настенная ЛДСП L=665 H=1200",3120,{"$f":"ROUND(C1059*(1-$C$3)/Лист2!$A$6,0)","v":3120}]
["T-PW 01661250","Панель настенная ЛДСП L=665 H=1250",3198,{"$f":"ROUND(C1060*(1-$C$3)/Лист2!$A$6,0)","v":3198}]
["T-PW 01661300","Панель настенная ЛДСП L=665 H=1300",3352,{"$f":"ROUND(C1061*(1-$C$3)/Лист2!$A$6,0)","v":3352}]
["T-PW 01661350","Панель настенная ЛДСП L=665 H=1350",3443,{"$f":"ROUND(C1062*(1-$C$3)/Лист2!$A$6,0)","v":3443}]
["T-PW 01661400","Панель настенная ЛДСП L=665 H=1400",3788,{"$f":"ROUND(C1063*(1-$C$3)/Лист2!$A$6,0)","v":3788}]
["T-PW 01661450","Панель настенная ЛДСП L=665 H=1450",3835,{"$f":"ROUND(C1064*(1-$C$3)/Лист2!$A$6,0)","v":3835}]
["T-PW 01661500","Панель настенная ЛДСП L=665 H=1500",3884,{"$f":"ROUND(C1065*(1-$C$3)/Лист2!$A$6,0)","v":3884}]
["T-PW 01661550","Панель настенная ЛДСП L=665 H=1550",3927,{"$f":"ROUND(C1066*(1-$C$3)/Лист2!$A$6,0)","v":3927}]
["T-PW 01661600","Панель настенная ЛДСП L=665 H=1600",4091,{"$f":"ROUND(C1067*(1-$C$3)/Лист2!$A$6,0)","v":4091}]
["T-PW 01661650","Панель настенная ЛДСП L=665 H=1650",4151,{"$f":"ROUND(C1068*(1-$C$3)/Лист2!$A$6,0)","v":4151}]
["T-PW 01661700","Панель настенная ЛДСП L=665 H=1700",4204,{"$f":"ROUND(C1069*(1-$C$3)/Лист2!$A$6,0)","v":4204}]
["T-PW 01661750","Панель настенная ЛДСП L=665 H=1750",4260,{"$f":"ROUND(C1070*(1-$C$3)/Лист2!$A$6,0)","v":4260}]
["T-PW 01661800","Панель настенная ЛДСП L=665 H=1800",4302,{"$f":"ROUND(C1071*(1-$C$3)/Лист2!$A$6,0)","v":4302}]
["T-PW 01661850","Панель настенная ЛДСП L=665 H=1850",4502,{"$f":"ROUND(C1072*(1-$C$3)/Лист2!$A$6,0)","v":4502}]
["T-PW 01661900","Панель настенная ЛДСП L=665 H=1900",4525,{"$f":"ROUND(C1073*(1-$C$3)/Лист2!$A$6,0)","v":4525}]
["T-PW 01661950","Панель настенная ЛДСП L=665 H=1950",4701,{"$f":"ROUND(C1074*(1-$C$3)/Лист2!$A$6,0)","v":4701}]
["T-PW 01662000","Панель настенная ЛДСП L=665 H=2000",4819,{"$f":"ROUND(C1075*(1-$C$3)/Лист2!$A$6,0)","v":4819}]
["T-PW 01662050","Панель настенная ЛДСП L=665 H=2050",4872,{"$f":"ROUND(C1076*(1-$C$3)/Лист2!$A$6,0)","v":4872}]
["T-PW 01662100","Панель настенная ЛДСП L=665 H=2100",4917,{"$f":"ROUND(C1077*(1-$C$3)/Лист2!$A$6,0)","v":4917}]
["T-PW 01662150","Панель настенная ЛДСП L=665 H=2150",5265,{"$f":"ROUND(C1078*(1-$C$3)/Лист2!$A$6,0)","v":5265}]
["T-PW 01662200","Панель настенная ЛДСП L=665 H=2200",5533,{"$f":"ROUND(C1079*(1-$C$3)/Лист2!$A$6,0)","v":5533}]
["T-PW 01662250","Панель настенная ЛДСП L=665 H=2250",5549,{"$f":"ROUND(C1080*(1-$C$3)/Лист2!$A$6,0)","v":5549}]
["T-PW 01662300","Панель настенная ЛДСП L=665 H=2300",5627,{"$f":"ROUND(C1081*(1-$C$3)/Лист2!$A$6,0)","v":5627}]
["T-PW 01662350","Панель настенная ЛДСП L=665 H=2350",5807,{"$f":"ROUND(C1082*(1-$C$3)/Лист2!$A$6,0)","v":5807}]
["T-PW 01662400","Панель настенная ЛДСП L=665 H=2400",5836,{"$f":"ROUND(C1083*(1-$C$3)/Лист2!$A$6,0)","v":5836}]
["T-PW 01101100","Панель настенная ЛДСП L=1000 H=1100",3246,{"$f":"ROUND(C1084*(1-$C$3)/Лист2!$A$6,0)","v":3246}]
["T-PW 01101150","Панель настенная ЛДСП L=1000 H=1150",3329,{"$f":"ROUND(C1085*(1-$C$3)/Лист2!$A$6,0)","v":3329}]
["T-PW 01101200","Панель настенная ЛДСП L=1000 H=1200",3543,{"$f":"ROUND(C1086*(1-$C$3)/Лист2!$A$6,0)","v":3543}]
["T-PW 01101250","Панель настенная ЛДСП L=1000 H=1250",3586,{"$f":"ROUND(C1087*(1-$C$3)/Лист2!$A$6,0)","v":3586}]
["T-PW 01101300","Панель настенная ЛДСП L=1000 H=1300",3778,{"$f":"ROUND(C1088*(1-$C$3)/Лист2!$A$6,0)","v":3778}]
["T-PW 01101350","Панель настенная ЛДСП L=1000 H=1350",3892,{"$f":"ROUND(C1089*(1-$C$3)/Лист2!$A$6,0)","v":3892}]
["T-PW 01101400","Панель настенная ЛДСП L=1000 H=1400",4126,{"$f":"ROUND(C1090*(1-$C$3)/Лист2!$A$6,0)","v":4126}]
["T-PW 01101450","Панель настенная ЛДСП L=1000 H=1450",4156,{"$f":"ROUND(C1091*(1-$C$3)/Лист2!$A$6,0)","v":4156}]
["T-PW 01101500","Панель настенная ЛДСП L=1000 H=1500",4476,{"$f":"ROUND(C1092*(1-$C$3)/Лист2!$A$6,0)","v":4476}]
["T-PW 01101550","Панель настенная ЛДСП L=1000 H=1550",4542,{"$f":"ROUND(C1093*(1-$C$3)/Лист2!$A$6,0)","v":4542}]
["T-PW 01101600","Панель настенная ЛДСП L=1000 H=1600",4659,{"$f":"ROUND(C1094*(1-$C$3)/Лист2!$A$6,0)","v":4659}]
["T-PW 01101650","Панель настенная ЛДСП L=1000 H=1650",4762,{"$f":"ROUND(C1095*(1-$C$3)/Лист2!$A$6,0)","v":4762}]
["T-PW 01101700","Панель настенная ЛДСП L=1000 H=1700",4878,{"$f":"ROUND(C1096*(1-$C$3)/Лист2!$A$6,0)","v":4878}]
["T-PW 01101750","Панель настенная ЛДСП L=1000 H=1750",4945,{"$f":"ROUND(C1097*(1-$C$3)/Лист2!$A$6,0)","v":4945}]
["T-PW 01101800","Панель настенная ЛДСП L=1000 H=1800",5007,{"$f":"ROUND(C1098*(1-$C$3)/Лист2!$A$6,0)","v":5007}]
["T-PW 01101850","Панель настенная ЛДСП L=1000 H=1850",5117,{"$f":"ROUND(C1099*(1-$C$3)/Лист2!$A$6,0)","v":5117}]
["T-PW 01101900","Панель настенная ЛДСП L=1000 H=1900",5147,{"$f":"ROUND(C1100*(1-$C$3)/Лист2!$A$6,0)","v":5147}]
["T-PW 01101950","Панель настенная ЛДСП L=1000 H=1950",5458,{"$f":"ROUND(C1101*(1-$C$3)/Лист2!$A$6,0)","v":5458}]
["T-PW 01102000","Панель настенная ЛДСП L=1000 H=2000",5609,{"$f":"ROUND(C1102*(1-$C$3)/Лист2!$A$6,0)","v":5609}]
["T-PW 01102050","Панель настенная ЛДСП L=1000 H=2050",5735,{"$f":"ROUND(C1103*(1-$C$3)/Лист2!$A$6,0)","v":5735}]
["T-PW 01102100","Панель настенная ЛДСП L=1000 H=2100",5849,{"$f":"ROUND(C1104*(1-$C$3)/Лист2!$A$6,0)","v":5849}]
["T-PW 01102150","Панель настенная ЛДСП L=1000 H=2150",5900,{"$f":"ROUND(C1105*(1-$C$3)/Лист2!$A$6,0)","v":5900}]
["T-PW 01102200","Панель настенная ЛДСП L=1000 H=2200",6060,{"$f":"ROUND(C1106*(1-$C$3)/Лист2!$A$6,0)","v":6060}]
["T-PW 01102250","Панель настенная ЛДСП L=1000 H=2250",6316,{"$f":"ROUND(C1107*(1-$C$3)/Лист2!$A$6,0)","v":6316}]
["T-PW 01102300","Панель настенная ЛДСП L=1000 H=2300",6418,{"$f":"ROUND(C1108*(1-$C$3)/Лист2!$A$6,0)","v":6418}]
["T-PW 01102350","Панель настенная ЛДСП L=1000 H=2350",6585,{"$f":"ROUND(C1109*(1-$C$3)/Лист2!$A$6,0)","v":6585}]
["T-PW 01102400","Панель настенная ЛДСП L=1000 H=2400",6756,{"$f":"ROUND(C1110*(1-$C$3)/Лист2!$A$6,0)","v":6756}]
["T-PW 01103100","Панель настенная ЛДСП L=1000 H=3100",8446,{"$f":"ROUND(C1111*(1-$C$3)/Лист2!$A$6,0)","v":8446}]
["T-PW 01121650 ","Панель настенная ЛДСП L=1250 H=1650",5312,{"$f":"ROUND(C1112*(1-$C$3)/Лист2!$A$6,0)","v":5312}]
["T-PW 01121800 ","Панель настенная ЛДСП L=1250 H=1800",5573,{"$f":"ROUND(C1113*(1-$C$3)/Лист2!$A$6,0)","v":5573}]
["T-PW 01122000 ","Панель настенная ЛДСП L=1250 H=2000",5968,{"$f":"ROUND(C1114*(1-$C$3)/Лист2!$A$6,0)","v":5968}]
["T-PW 01122100 ","Панель настенная ЛДСП L=1250 H=2100",6354,{"$f":"ROUND(C1115*(1-$C$3)/Лист2!$A$6,0)","v":6354}]
["T-PW 01122200 ","Панель настенная ЛДСП L=1250 H=2200",6800,{"$f":"ROUND(C1116*(1-$C$3)/Лист2!$A$6,0)","v":6800}]
["T-PW 01122300 ","Панель настенная ЛДСП L=1250 H=2300",7229,{"$f":"ROUND(C1117*(1-$C$3)/Лист2!$A$6,0)","v":7229}]
["T-PW 05451100","Панель угла внутреннего ЛДСП 45º H=1100",2368,{"$f":"ROUND(C1118*(1-$C$3)/Лист2!$A$6,0)","v":2368}]
["T-PW 05451150","Панель угла внутреннего ЛДСП 45º H=1150",2369,{"$f":"ROUND(C1119*(1-$C$3)/Лист2!$A$6,0)","v":2369}]
["T-PW 05451200","Панель угла внутреннего ЛДСП  45º H=1200",2506,{"$f":"ROUND(C1120*(1-$C$3)/Лист2!$A$6,0)","v":2506}]
["T-PW 05451250","Панель угла внутреннего ЛДСП 45º H=1250",2571,{"$f":"ROUND(C1121*(1-$C$3)/Лист2!$A$6,0)","v":2571}]
["T-PW 05451300","Панель угла внутреннего  ЛДСП 45º H=1300",2692,{"$f":"ROUND(C1122*(1-$C$3)/Лист2!$A$6,0)","v":2692}]
["T-PW 05451350","Панель угла внутреннего ЛДСП  45º H=1350",2768,{"$f":"ROUND(C1123*(1-$C$3)/Лист2!$A$6,0)","v":2768}]
["T-PW 05451400","Панель угла внутреннего ЛДСП  45º H=1400",2877,{"$f":"ROUND(C1124*(1-$C$3)/Лист2!$A$6,0)","v":2877}]
["T-PW 05451450","Панель угла внутреннего ЛДСП 45º H=1450",2917,{"$f":"ROUND(C1125*(1-$C$3)/Лист2!$A$6,0)","v":2917}]
["T-PW 05451500","Панель угла внутреннего ЛДСП  45º H=1500",3167,{"$f":"ROUND(C1126*(1-$C$3)/Лист2!$A$6,0)","v":3167}]
["T-PW 05451550","Панель угла внутреннего ЛДСП  45º H=1550",3196,{"$f":"ROUND(C1127*(1-$C$3)/Лист2!$A$6,0)","v":3196}]
["T-PW 05451600","Панель угла внутреннего ЛДСП 45º H=1600",3283,{"$f":"ROUND(C1128*(1-$C$3)/Лист2!$A$6,0)","v":3283}]
["T-PW 05451650","Панель угла внутреннего ЛДСП  45º H=1650",3388,{"$f":"ROUND(C1129*(1-$C$3)/Лист2!$A$6,0)","v":3388}]
["T-PW 05451700","Панель угла внутреннего ЛДСП 45º H=1700",3484,{"$f":"ROUND(C1130*(1-$C$3)/Лист2!$A$6,0)","v":3484}]
["T-PW 05451750","Панель угла внутреннего ЛДСП 45º H=1750",3594,{"$f":"ROUND(C1131*(1-$C$3)/Лист2!$A$6,0)","v":3594}]
["T-PW 05451800","Панель угла внутреннего ЛДСП  45º H=1800",3626,{"$f":"ROUND(C1132*(1-$C$3)/Лист2!$A$6,0)","v":3626}]
["T-PW 05451850","Панель угла внутреннего ЛДСП 45º H=1850",3797,{"$f":"ROUND(C1133*(1-$C$3)/Лист2!$A$6,0)","v":3797}]
["T-PW 05451900","Панель угла внутреннего ЛДСП 45º H=1900",3815,{"$f":"ROUND(C1134*(1-$C$3)/Лист2!$A$6,0)","v":3815}]
["T-PW 05451950","Панель угла внутреннего  ЛДСП 45º H=1950",3993,{"$f":"ROUND(C1135*(1-$C$3)/Лист2!$A$6,0)","v":3993}]
["T-PW 05452000","Панель угла внутреннего  ЛДСП 45º H=2000",4080,{"$f":"ROUND(C1136*(1-$C$3)/Лист2!$A$6,0)","v":4080}]
["T-PW 05452050","Панель угла внутреннего ЛДСП  45º H=2050",4135,{"$f":"ROUND(C1137*(1-$C$3)/Лист2!$A$6,0)","v":4135}]
["T-PW 05452100","Панель угла внутреннего ЛДСП  45º H=2100",4298,{"$f":"ROUND(C1138*(1-$C$3)/Лист2!$A$6,0)","v":4298}]
["T-PW 05452150","Панель угла внутреннего ЛДСП  45º H=2150",4313,{"$f":"ROUND(C1139*(1-$C$3)/Лист2!$A$6,0)","v":4313}]
["T-PW 05452200","Панель угла внутреннего ЛДСП 45º H=2200",4498,{"$f":"ROUND(C1140*(1-$C$3)/Лист2!$A$6,0)","v":4498}]
["T-PW 05452250","Панель угла внутреннего ЛДСП 45º H=2250",4600,{"$f":"ROUND(C1141*(1-$C$3)/Лист2!$A$6,0)","v":4600}]
["T-PW 05452300","Панель угла внутреннего ЛДСП 45º H=2300",4878,{"$f":"ROUND(C1142*(1-$C$3)/Лист2!$A$6,0)","v":4878}]
["T-PW 05452350","Панель угла внутреннего ЛДСП 45º H=2350",4896,{"$f":"ROUND(C1143*(1-$C$3)/Лист2!$A$6,0)","v":4896}]
["T-PW 05452400","Панель угла внутреннего ЛДСП 45º H=2400",4938,{"$f":"ROUND(C1144*(1-$C$3)/Лист2!$A$6,0)","v":4938}]
["T-PW 05452450","Панель угла внутреннего ЛДСП 45º H=2450",5100,{"$f":"ROUND(C1145*(1-$C$3)/Лист2!$A$6,0)","v":5100}]
["T-PW 06451100","Панель угла внешнего ЛДСП  45º H=1100",1881,{"$f":"ROUND(C1146*(1-$C$3)/Лист2!$A$6,0)","v":1881}]
["T-PW 06451150","Панель угла внешнего ЛДСП 45º H=1150",1904,{"$f":"ROUND(C1147*(1-$C$3)/Лист2!$A$6,0)","v":1904}]
["T-PW 06451200","Панель угла внешнего ЛДСП 45º H=1200",1914,{"$f":"ROUND(C1148*(1-$C$3)/Лист2!$A$6,0)","v":1914}]
["T-PW 06451250","Панель угла внешнего ЛДСП  45º H=1250",1922,{"$f":"ROUND(C1149*(1-$C$3)/Лист2!$A$6,0)","v":1922}]
["T-PW 06451300","Панель угла внешнего ЛДСП  45º H=1300",1938,{"$f":"ROUND(C1150*(1-$C$3)/Лист2!$A$6,0)","v":1938}]
["T-PW 06451350","Панель угла внешнего ЛДСП  45º H=1350",1955,{"$f":"ROUND(C1151*(1-$C$3)/Лист2!$A$6,0)","v":1955}]
["T-PW 06451400","Панель угла внешнего ЛДСП  45º H=1400",1965,{"$f":"ROUND(C1152*(1-$C$3)/Лист2!$A$6,0)","v":1965}]
["T-PW 06451450","Панель угла внешнего ЛДСП  45º H=1450",1977,{"$f":"ROUND(C1153*(1-$C$3)/Лист2!$A$6,0)","v":1977}]
["T-PW 06451500","Панель угла внешнего ЛДСП  45º H=1500",2222,{"$f":"ROUND(C1154*(1-$C$3)/Лист2!$A$6,0)","v":2222}]
["Т-РW 06451550","Панель угла внешнего ЛДСП 45º H=1550",2235,{"$f":"ROUND(C1155*(1-$C$3)/Лист2!$A$6,0)","v":2235}]
["Т-РW 06451600  ","Панель угла внешнего ЛДСП 45º H=1600",2245,{"$f":"ROUND(C1156*(1-$C$3)/Лист2!$A$6,0)","v":2245}]
["Т-РW 06451650","Панель угла внешнего ЛДСП 45º H=1650",2256,{"$f":"ROUND(C1157*(1-$C$3)/Лист2!$A$6,0)","v":2256}]
["Т-РW 06451700","Панель угла внешнего ЛДСП  45º H=1700",2406,{"$f":"ROUND(C1158*(1-$C$3)/Лист2!$A$6,0)","v":2406}]
["Т-РW 06451750","Панель угла внешнего ЛДСП  45º H=1750",2419,{"$f":"ROUND(C1159*(1-$C$3)/Лист2!$A$6,0)","v":2419}]
["Т-РW 06451800","Панель угла внешнего  ЛДСП 45º H=1800",2428,{"$f":"ROUND(C1160*(1-$C$3)/Лист2!$A$6,0)","v":2428}]
["Т-РW 06451850","Панель угла внешнего ЛДСП 45º H=1850",2442,{"$f":"ROUND(C1161*(1-$C$3)/Лист2!$A$6,0)","v":2442}]
["Т-РW 06451900 ","Панель угла внешнего ЛДСП  45º H=1900",2572,{"$f":"ROUND(C1162*(1-$C$3)/Лист2!$A$6,0)","v":2572}]
["Т-РW 06451950","Панель угла внешнего ЛДСП 45º H=1950",2586,{"$f":"ROUND(C1163*(1-$C$3)/Лист2!$A$6,0)","v":2586}]
["Т-РW 06452000","Панель угла внешнего ЛДСП  45º H=2000",2601,{"$f":"ROUND(C1164*(1-$C$3)/Лист2!$A$6,0)","v":2601}]
["Т-РW 06452050","Панель угла внешнего ЛДСП 45º H=2050",2616,{"$f":"ROUND(C1165*(1-$C$3)/Лист2!$A$6,0)","v":2616}]
["Т-РW 06452100 ","Панель угла внешнего ЛДСП 45º H=2100",2627,{"$f":"ROUND(C1166*(1-$C$3)/Лист2!$A$6,0)","v":2627}]
["Т-РW 06452150 ","Панель угла внешнего ЛДСП 45º H=2150",2866,{"$f":"ROUND(C1167*(1-$C$3)/Лист2!$A$6,0)","v":2866}]
["Т-РW 06452200","Панель угла внешнего ЛДСП 45º H=2200",2877,{"$f":"ROUND(C1168*(1-$C$3)/Лист2!$A$6,0)","v":2877}]
["Т-РW 06452250","Панель угла внешнего ЛДСП 45º H=2250",2896,{"$f":"ROUND(C1169*(1-$C$3)/Лист2!$A$6,0)","v":2896}]
["Т-РW 06452300","Панель угла внешнего  ЛДСП45º H=2300",2905,{"$f":"ROUND(C1170*(1-$C$3)/Лист2!$A$6,0)","v":2905}]
["Т-РW 06452350","Панель угла внешнего ЛДСП 45º H=2350",2929,{"$f":"ROUND(C1171*(1-$C$3)/Лист2!$A$6,0)","v":2929}]
["Т-РW 06452400","Панель угла внешнего ЛДСП 45º H=2400",2942,{"$f":"ROUND(C1172*(1-$C$3)/Лист2!$A$6,0)","v":2942}]
["T-PW 02661100","Экономпанель L=665 H=1100 ",6239,{"$f":"ROUND(C1173*(1-$C$3)/Лист2!$A$6,0)","v":6239}]
["T-PW 02661150","Экономпанель L=665 H=1150",6382,{"$f":"ROUND(C1174*(1-$C$3)/Лист2!$A$6,0)","v":6382}]
["T-PW 02661200","Экономпанель L=665 H=1200",6549,{"$f":"ROUND(C1175*(1-$C$3)/Лист2!$A$6,0)","v":6549}]
["T-PW 02661250","Экономпанель L=665 H=1250",6767,{"$f":"ROUND(C1176*(1-$C$3)/Лист2!$A$6,0)","v":6767}]
["T-PW 02661300","Экономпанель L=665 H=1300",6853,{"$f":"ROUND(C1177*(1-$C$3)/Лист2!$A$6,0)","v":6853}]
["T-PW 02661350","Экономпанель L=665 H=1350",7827,{"$f":"ROUND(C1178*(1-$C$3)/Лист2!$A$6,0)","v":7827}]
["T-PW 02661400","Экономпанель L=665 H=1400",8050,{"$f":"ROUND(C1179*(1-$C$3)/Лист2!$A$6,0)","v":8050}]
["T-PW 02661450","Экономпанель L=665 H=1450",8053,{"$f":"ROUND(C1180*(1-$C$3)/Лист2!$A$6,0)","v":8053}]
["T-PW 02661500","Экономпанель L=665 H=1500",8272,{"$f":"ROUND(C1181*(1-$C$3)/Лист2!$A$6,0)","v":8272}]
["T-PW 02661550","Экономпанель L=665 H=1550",8276,{"$f":"ROUND(C1182*(1-$C$3)/Лист2!$A$6,0)","v":8276}]
["T-PW 02661600","Экономпанель L=665 H=1600",8502,{"$f":"ROUND(C1183*(1-$C$3)/Лист2!$A$6,0)","v":8502}]
["T-PW 02661650","Экономпанель L=665 H=1650",8573,{"$f":"ROUND(C1184*(1-$C$3)/Лист2!$A$6,0)","v":8573}]
["T-PW 02661700","Экономпанель L=665 H=1700",8624,{"$f":"ROUND(C1185*(1-$C$3)/Лист2!$A$6,0)","v":8624}]
["T-PW 02661750","Экономпанель L=665 H=1750",8702,{"$f":"ROUND(C1186*(1-$C$3)/Лист2!$A$6,0)","v":8702}]
["T-PW 02661800","Экономпанель L=665 H=1800",8808,{"$f":"ROUND(C1187*(1-$C$3)/Лист2!$A$6,0)","v":8808}]
["T-PW 02661850","Экономпанель L=665 H=1850",8886,{"$f":"ROUND(C1188*(1-$C$3)/Лист2!$A$6,0)","v":8886}]
["T-PW 02661900","Экономпанель L=665 H=1900",9031,{"$f":"ROUND(C1189*(1-$C$3)/Лист2!$A$6,0)","v":9031}]
["T-PW 02661950","Экономпанель L=665 H=1950",9109,{"$f":"ROUND(C1190*(1-$C$3)/Лист2!$A$6,0)","v":9109}]
["T-PW 02662000","Экономпанель L=665 H=2000",9255,{"$f":"ROUND(C1191*(1-$C$3)/Лист2!$A$6,0)","v":9255}]
["T-PW 02662050","Экономпанель L=665 H=2050",9334,{"$f":"ROUND(C1192*(1-$C$3)/Лист2!$A$6,0)","v":9334}]
["T-PW 02662100","Экономпанель L=665 H=2100",9376,{"$f":"ROUND(C1193*(1-$C$3)/Лист2!$A$6,0)","v":9376}]
["T-PW 02662150","Экономпанель L=665 H=2150",9458,{"$f":"ROUND(C1194*(1-$C$3)/Лист2!$A$6,0)","v":9458}]
["T-PW 02662200","Экономпанель L=665 H=2200",9633,{"$f":"ROUND(C1195*(1-$C$3)/Лист2!$A$6,0)","v":9633}]
["T-PW 02662250","Экономпанель L=665 H=2250",9789,{"$f":"ROUND(C1196*(1-$C$3)/Лист2!$A$6,0)","v":9789}]
["T-PW 02662300","Экономпанель L=665 H=2300",10007,{"$f":"ROUND(C1197*(1-$C$3)/Лист2!$A$6,0)","v":10007}]
["T-PW 02662350","Экономпанель L=665 H=2350",10083,{"$f":"ROUND(C1198*(1-$C$3)/Лист2!$A$6,0)","v":10083}]
["T-PW 02662400","Экономпанель L=665 H=2400",10231,{"$f":"ROUND(C1199*(1-$C$3)/Лист2!$A$6,0)","v":10231}]
["T-PW 02101100","Экономпанель L=1000 H=1100",6553,{"$f":"ROUND(C1200*(1-$C$3)/Лист2!$A$6,0)","v":6553}]
["T-PW 02101150","Экономпанель L=1000 H=1150",6712,{"$f":"ROUND(C1201*(1-$C$3)/Лист2!$A$6,0)","v":6712}]
["T-PW 02101200","Экономпанель L=1000 H=1200",6971,{"$f":"ROUND(C1202*(1-$C$3)/Лист2!$A$6,0)","v":6971}]
["T-PW 02101250","Экономпанель L=1000 H=1250",7208,{"$f":"ROUND(C1203*(1-$C$3)/Лист2!$A$6,0)","v":7208}]
["T-PW 02101300","Экономпанель L=1000 H=1300",7391,{"$f":"ROUND(C1204*(1-$C$3)/Лист2!$A$6,0)","v":7391}]
["T-PW 02101350","Экономпанель L=1000 H=1350",7570,{"$f":"ROUND(C1205*(1-$C$3)/Лист2!$A$6,0)","v":7570}]
["T-PW 02101400","Экономпанель L=1000 H=1400",8824,{"$f":"ROUND(C1206*(1-$C$3)/Лист2!$A$6,0)","v":8824}]
["T-PW 02101450","Экономпанель L=1000 H=1450",8837,{"$f":"ROUND(C1207*(1-$C$3)/Лист2!$A$6,0)","v":8837}]
["T-PW 02101500","Экономпанель L=1000 H=1500",9197,{"$f":"ROUND(C1208*(1-$C$3)/Лист2!$A$6,0)","v":9197}]
["T-PW 02101550","Экономпанель L=1000 H=1550",9280,{"$f":"ROUND(C1209*(1-$C$3)/Лист2!$A$6,0)","v":9280}]
["T-PW 02101600","Экономпанель L=1000 H=1600",9435,{"$f":"ROUND(C1210*(1-$C$3)/Лист2!$A$6,0)","v":9435}]
["T-PW 02101650","Экономпанель L=1000 H=1650",9508,{"$f":"ROUND(C1211*(1-$C$3)/Лист2!$A$6,0)","v":9508}]
["T-PW 02101700","Экономпанель L=1000 H=1700",9670,{"$f":"ROUND(C1212*(1-$C$3)/Лист2!$A$6,0)","v":9670}]
["T-PW 02101750","Экономпанель L=1000 H=1750",9748,{"$f":"ROUND(C1213*(1-$C$3)/Лист2!$A$6,0)","v":9748}]
["T-PW 02101800","Экономпанель L=1000 H=1800",9896,{"$f":"ROUND(C1214*(1-$C$3)/Лист2!$A$6,0)","v":9896}]
["T-PW 02101850","Экономпанель L=1000 H=1850",9977,{"$f":"ROUND(C1215*(1-$C$3)/Лист2!$A$6,0)","v":9977}]
["T-PW 02101900","Экономпанель L=1000 H=1900",10119,{"$f":"ROUND(C1216*(1-$C$3)/Лист2!$A$6,0)","v":10119}]
["T-PW 02101950","Экономпанель L=1000 H=1950",10211,{"$f":"ROUND(C1217*(1-$C$3)/Лист2!$A$6,0)","v":10211}]
["T-PW 02102000","Экономпанель L=1000 H=2000",10359,{"$f":"ROUND(C1218*(1-$C$3)/Лист2!$A$6,0)","v":10359}]
["T-PW 02102050","Экономпанель L=1000 H=2050",10434,{"$f":"ROUND(C1219*(1-$C$3)/Лист2!$A$6,0)","v":10434}]
["T-PW 02102100","Экономпанель L=1000 H=2100",10574,{"$f":"ROUND(C1220*(1-$C$3)/Лист2!$A$6,0)","v":10574}]
["T-PW 02102150","Экономпанель L=1000 H=2150",10659,{"$f":"ROUND(C1221*(1-$C$3)/Лист2!$A$6,0)","v":10659}]
["T-PW 02102200","Экономпанель L=1000 H=2200",10879,{"$f":"ROUND(C1222*(1-$C$3)/Лист2!$A$6,0)","v":10879}]
["T-PW 02102250","Экономпанель L=1000 H=2250",11036,{"$f":"ROUND(C1223*(1-$C$3)/Лист2!$A$6,0)","v":11036}]
["T-PW 02102300","Экономпанель L=1000 H=2300",11272,{"$f":"ROUND(C1224*(1-$C$3)/Лист2!$A$6,0)","v":11272}]
["T-PW 02102350","Экономпанель L=1000 H=2350",11347,{"$f":"ROUND(C1225*(1-$C$3)/Лист2!$A$6,0)","v":11347}]
["T-PW 02102400","Экономпанель L=1000 H=2400",11492,{"$f":"ROUND(C1226*(1-$C$3)/Лист2!$A$6,0)","v":11492}]
["T-TW 01471000","Навес ДСП с люминесцентным освещением G=470 L=1000",6642,{"$f":"ROUND(C1227*(1-$C$3)/Лист2!$A$6,0)","v":6642}]
["T-TW 01371000","Навес ДСП с люминесцентным освещением G=370 L=1000",6309,{"$f":"ROUND(C1228*(1-$C$3)/Лист2!$A$6,0)","v":6309}]
["T-TW 01470665","Навес ДСП с люминесцентным освещением  G=470 L=665",5331,{"$f":"ROUND(C1229*(1-$C$3)/Лист2!$A$6,0)","v":5331}]
["T-TW 01370665","Навес ДСП с люминесцентным освещением  G=370 L=665",5009,{"$f":"ROUND(C1230*(1-$C$3)/Лист2!$A$6,0)","v":5009}]
["T-TW 01471250","Навес ДСП с люминесцентным освещением G=470 L=1250",7371,{"$f":"ROUND(C1231*(1-$C$3)/Лист2!$A$6,0)","v":7371}]
["T-TW 01371250","Навес ДСП с люминесцентным освещением G=370 L=1250",6974,{"$f":"ROUND(C1232*(1-$C$3)/Лист2!$A$6,0)","v":6974}]
["T-TW 05450370","Навес ДСП с люминесцентным освещением угловой внутренний 45º G=370 G=370",6027,{"$f":"ROUND(C1233*(1-$C$3)/Лист2!$A$6,0)","v":6027}]
["T-TW 05450470","Навес ДСП с люминесцентным освещением угловой внутренний 45º G=470 G=470",6209,{"$f":"ROUND(C1234*(1-$C$3)/Лист2!$A$6,0)","v":6209}]
["T-TW 06450370","Навес ДСП с люминесцентным освещением угловой внешний 45º G=370 G=370",6593,{"$f":"ROUND(C1235*(1-$C$3)/Лист2!$A$6,0)","v":6593}]
["T-TW 06450470","Навес ДСП с люминесцентным освещением угловой внешний 45º G=470 G=470",7307,{"$f":"ROUND(C1236*(1-$C$3)/Лист2!$A$6,0)","v":7307}]
["T-TW 02470665","Навес с зеркалом с люминесцентным освещением  G=470 L=665",8053,{"$f":"ROUND(C1237*(1-$C$3)/Лист2!$A$6,0)","v":8053}]
["T-TW 02471000","Навес с зеркалом с люминесцентным освещением G=470 L=1000",10205,{"$f":"ROUND(C1238*(1-$C$3)/Лист2!$A$6,0)","v":10205}]
["T-TW 02471250","Навес с зеркалом с люминесцентным освещением G=470 L=1250",11341,{"$f":"ROUND(C1239*(1-$C$3)/Лист2!$A$6,0)","v":11341}]
["T-SC 01210665","Полка ДСП для Г-образного кронштейна  G=210 L=665",847,{"$f":"ROUND(C1240*(1-$C$3)/Лист2!$A$6,0)","v":847}]
["T-SC 01211000","Полка ДСП для Г-образного кронштейна G=210 L=1000",1253,{"$f":"ROUND(C1241*(1-$C$3)/Лист2!$A$6,0)","v":1253}]
["T-SC 01310665","Полка ДСП для Г-образного кронштейна  G=310 L=665",970,{"$f":"ROUND(C1242*(1-$C$3)/Лист2!$A$6,0)","v":970}]
["T-SC 01311000","Полка ДСП для Г-образного кронштейна G=310 L=1000",1476,{"$f":"ROUND(C1243*(1-$C$3)/Лист2!$A$6,0)","v":1476}]
["T-SC 01370665","Полка ДСП для Г-образного кронштейна  G=370 L=665",1086,{"$f":"ROUND(C1244*(1-$C$3)/Лист2!$A$6,0)","v":1086}]
["N-ST 04185370","Полка ДСП для Г-образного кронштейна G=370 L=850",1341,{"$f":"ROUND(C1245*(1-$C$3)/Лист2!$A$6,0)","v":1341}]
["T-SC 01371000","Полка ДСП для Г-образного кронштейна G=370 L=1000",1490,{"$f":"ROUND(C1246*(1-$C$3)/Лист2!$A$6,0)","v":1490}]
["T-SC 01470665","Полка ДСП для Г-образного кронштейна  G=470 L=665",1200,{"$f":"ROUND(C1247*(1-$C$3)/Лист2!$A$6,0)","v":1200}]
["T-SC 01471000","Полка ДСП для Г-образного кронштейна G=470 L=1000",1644,{"$f":"ROUND(C1248*(1-$C$3)/Лист2!$A$6,0)","v":1644}]
["T-SC 05450370","Полка ДСП для Г-образного кронштейна угловая внутренняя 45 G=370",2313,{"$f":"ROUND(C1249*(1-$C$3)/Лист2!$A$6,0)","v":2313}]
["T-SC 05450470","Полка ДСП для Г-образного кронштейна угловая внутренняя 45 G=470",2572,{"$f":"ROUND(C1250*(1-$C$3)/Лист2!$A$6,0)","v":2572}]
["T-SC 05450570","Полка ДСП для Г-образного кронштейна угловая внутренняя 45 G=570",2829,{"$f":"ROUND(C1251*(1-$C$3)/Лист2!$A$6,0)","v":2829}]
["T-SC 06450370","Полка ДСП для Г-образного кронштейна угловая внеш 45 G=370",2829,{"$f":"ROUND(C1252*(1-$C$3)/Лист2!$A$6,0)","v":2829}]
["T-SC 06450470","Полка ДСП для Г-образного кронштейна угловая внеш 45 G=470",3111,{"$f":"ROUND(C1253*(1-$C$3)/Лист2!$A$6,0)","v":3111}]
["T-SC 21210665","Полка ДСП для Г-образного кронштейна (ограничитель H=20)  G=210 L=665",2763,{"$f":"ROUND(C1254*(1-$C$3)/Лист2!$A$6,0)","v":2763}]
["T-SC 21310665","Полка ДСП для Г-образного кронштейна (ограничитель H=20)  G=310 L=665",2910,{"$f":"ROUND(C1255*(1-$C$3)/Лист2!$A$6,0)","v":2910}]
["T-SC 21370665","Полка ДСП для Г-образного кронштейна (ограничитель H=20)  G=370 L=665",3050,{"$f":"ROUND(C1256*(1-$C$3)/Лист2!$A$6,0)","v":3050}]
["T-SC 21470665","Полка ДСП для Г-образного кронштейна (ограничитель H=20)  G=470 L=665",3842,{"$f":"ROUND(C1257*(1-$C$3)/Лист2!$A$6,0)","v":3842}]
["T-SC 21211000","Полка ДСП для Г-образного кронштейна (ограничитель H=20) G=210 L=1000",3738,{"$f":"ROUND(C1258*(1-$C$3)/Лист2!$A$6,0)","v":3738}]
["T-SC 21311000","Полка ДСП для Г-образного кронштейна (ограничитель H=20) G=310 L=1000",3910,{"$f":"ROUND(C1259*(1-$C$3)/Лист2!$A$6,0)","v":3910}]
["T-SC 21371000","Полка ДСП для Г-образного кронштейна (ограничитель H=20) G=370 L=1000",4088,{"$f":"ROUND(C1260*(1-$C$3)/Лист2!$A$6,0)","v":4088}]
["T-SC 21471000","Полка ДСП для Г-образного кронштейна (ограничитель H=20) G=470 L=1000",4498,{"$f":"ROUND(C1261*(1-$C$3)/Лист2!$A$6,0)","v":4498}]
["T-SC 51210665","Полка ДСП для Г-образного кронштейна (ограничитель H=50)  G=210 L=665",4414,{"$f":"ROUND(C1262*(1-$C$3)/Лист2!$A$6,0)","v":4414}]
["T-SC 51310665","Полка ДСП для Г-образного кронштейна (ограничитель H=50)  G=310 L=665",4542,{"$f":"ROUND(C1263*(1-$C$3)/Лист2!$A$6,0)","v":4542}]
["T-SC 51370665","Полка ДСП для Г-образного кронштейна (ограничитель H=50)  G=370 L=665",4572,{"$f":"ROUND(C1264*(1-$C$3)/Лист2!$A$6,0)","v":4572}]
["T-SC 51470665","Полка ДСП для Г-образного кронштейна (ограничитель H=50)  G=470 L=665",4737,{"$f":"ROUND(C1265*(1-$C$3)/Лист2!$A$6,0)","v":4737}]
["T-SC 51211000","Полка ДСП для Г-образного кронштейна (ограничитель H=50) G=210 L=1000",5840,{"$f":"ROUND(C1266*(1-$C$3)/Лист2!$A$6,0)","v":5840}]
["T-SC 51311000","Полка ДСП для Г-образного кронштейна (ограничитель H=50) G=310 L=1000",5957,{"$f":"ROUND(C1267*(1-$C$3)/Лист2!$A$6,0)","v":5957}]
["T-SC 51371000","Полка ДСП для Г-образного кронштейна (ограничитель H=50) G=370 L=1000",6077,{"$f":"ROUND(C1268*(1-$C$3)/Лист2!$A$6,0)","v":6077}]
["T-SC 51471000","Полка ДСП для Г-образного кронштейна (ограничитель H=50) G=470 L=1000",6497,{"$f":"ROUND(C1269*(1-$C$3)/Лист2!$A$6,0)","v":6497}]
["T-SL 01210665","Полка ДСП для L-образного кронштейна  G=210 L=665",808,{"$f":"ROUND(C1270*(1-$C$3)/Лист2!$A$6,0)","v":808}]
["T-SL 01310665","Полка ДСП для L-образного кронштейна  G=310 L=665",970,{"$f":"ROUND(C1271*(1-$C$3)/Лист2!$A$6,0)","v":970}]
["T-SL 01370665","Полка ДСП для L-образного кронштейна  G=370 L=665",1015,{"$f":"ROUND(C1272*(1-$C$3)/Лист2!$A$6,0)","v":1015}]
["T-SL 01470665","Полка ДСП для L-образного кронштейна  G=470 L=665",1195,{"$f":"ROUND(C1273*(1-$C$3)/Лист2!$A$6,0)","v":1195}]
["N-ST 04285310","Полка ДСП для L-образного кронштейна G=310 L=850",1220,{"$f":"ROUND(C1274*(1-$C$3)/Лист2!$A$6,0)","v":1220}]
["N-ST 04285370","Полка ДСП для L-образного кронштейна G=370 L=850",1418,{"$f":"ROUND(C1275*(1-$C$3)/Лист2!$A$6,0)","v":1418}]
["T-SL 01211000","Полка ДСП для L-образного кронштейна G=210 L=1000",1132,{"$f":"ROUND(C1276*(1-$C$3)/Лист2!$A$6,0)","v":1132}]
["T-SL 01311000","Полка ДСП для L-образного кронштейна G=310 L=1000",1294,{"$f":"ROUND(C1277*(1-$C$3)/Лист2!$A$6,0)","v":1294}]
["T-SL 01371000","Полка ДСП для L-образного кронштейна G=370 L=1000",1461,{"$f":"ROUND(C1278*(1-$C$3)/Лист2!$A$6,0)","v":1461}]
["T-SL 01471000","Полка ДСП для L-образного кронштейна G=470 L=1000",1592,{"$f":"ROUND(C1279*(1-$C$3)/Лист2!$A$6,0)","v":1592}]
["T-SL 21210665","Полка ДСП для L-образного кронштейна (ограничитель H=20)  G=210 L=665",2912,{"$f":"ROUND(C1280*(1-$C$3)/Лист2!$A$6,0)","v":2912}]
["T-SL 21310665","Полка ДСП для L-образного кронштейна (ограничитель H=20)  G=310 L=665",3062,{"$f":"ROUND(C1281*(1-$C$3)/Лист2!$A$6,0)","v":3062}]
["T-SL 21370665","Полка ДСП для L-образного кронштейна (ограничитель H=20)  G=370 L=665",3082,{"$f":"ROUND(C1282*(1-$C$3)/Лист2!$A$6,0)","v":3082}]
["T-SL 21470665","Полка ДСП для L-образного кронштейна (ограничитель H=20)  G=470 L=665",3317,{"$f":"ROUND(C1283*(1-$C$3)/Лист2!$A$6,0)","v":3317}]
["T-SL 21211000","Полка ДСП для L-образного кронштейна (ограничитель H=20) G=210 L=1000",3238,{"$f":"ROUND(C1284*(1-$C$3)/Лист2!$A$6,0)","v":3238}]
["T-SL 21311000","Полка ДСП для L-образного кронштейна (ограничитель H=20) G=310 L=1000",3368,{"$f":"ROUND(C1285*(1-$C$3)/Лист2!$A$6,0)","v":3368}]
["T-SL 21371000","Полка ДСП для L-образного кронштейна (ограничитель H=20) G=370 L=1000",3492,{"$f":"ROUND(C1286*(1-$C$3)/Лист2!$A$6,0)","v":3492}]
["T-SL 21471000","Полка ДСП для L-образного кронштейна (ограничитель H=20) G=470 L=1000",3652,{"$f":"ROUND(C1287*(1-$C$3)/Лист2!$A$6,0)","v":3652}]
["T-SU 01370665","Полка основания ДСП (заниженная)  G=370 L=665",1199,{"$f":"ROUND(C1288*(1-$C$3)/Лист2!$A$6,0)","v":1199}]
["T-SU 01470665","Полка основания ДСП (заниженная)  G=470 L=665",1476,{"$f":"ROUND(C1289*(1-$C$3)/Лист2!$A$6,0)","v":1476}]
["T-SU 01570665","Полка основания ДСП (заниженная)  G=570 L=665",1618,{"$f":"ROUND(C1290*(1-$C$3)/Лист2!$A$6,0)","v":1618}]
["T-SU 01670665","Полка основания ДСП (заниженная)  G=670 L=665",1893,{"$f":"ROUND(C1291*(1-$C$3)/Лист2!$A$6,0)","v":1893}]
["T-SU 01770665","Полка основания ДСП (заниженная)  G=770 L=665",2167,{"$f":"ROUND(C1292*(1-$C$3)/Лист2!$A$6,0)","v":2167}]
["T-SU 01371000","Полка основания ДСП (заниженная) G=370 L=1000",1618,{"$f":"ROUND(C1293*(1-$C$3)/Лист2!$A$6,0)","v":1618}]
["T-SU 01471000","Полка основания ДСП (заниженная) G=470 L=1000",2004,{"$f":"ROUND(C1294*(1-$C$3)/Лист2!$A$6,0)","v":2004}]
["T-SU 01571000","Полка основания ДСП (заниженная) G=570 L=1000",2196,{"$f":"ROUND(C1295*(1-$C$3)/Лист2!$A$6,0)","v":2196}]
["T-SU 01671000","Полка основания ДСП (заниженная) G=670 L=1000",2285,{"$f":"ROUND(C1296*(1-$C$3)/Лист2!$A$6,0)","v":2285}]
["T-SU 01771000","Полка основания ДСП (заниженная) G=770 L=1000",2450,{"$f":"ROUND(C1297*(1-$C$3)/Лист2!$A$6,0)","v":2450}]
["T-SR 01210665","Полка ДСП с полукруглым профилем прямая  G=210 L=665",934,{"$f":"ROUND(C1298*(1-$C$3)/Лист2!$A$6,0)","v":934}]
["T-SR 01310665","Полка ДСП с полукруглым профилем прямая  G=310 L=665",1186,{"$f":"ROUND(C1299*(1-$C$3)/Лист2!$A$6,0)","v":1186}]
["T-SR 01370665","Полка ДСП с полукруглым профилем прямая  G=370 L=665",1313,{"$f":"ROUND(C1300*(1-$C$3)/Лист2!$A$6,0)","v":1313}]
["T-SR 01470665","Полка ДСП с полукруглым профилем прямая  G=470 L=665",1439,{"$f":"ROUND(C1301*(1-$C$3)/Лист2!$A$6,0)","v":1439}]
["T-SR 01211000","Полка ДСП с полукруглым профилем прямая G=210 L=1000",1231,{"$f":"ROUND(C1302*(1-$C$3)/Лист2!$A$6,0)","v":1231}]
["T-SR 01311000","Полка ДСП с полукруглым профилем прямая G=310 L=1000",1477,{"$f":"ROUND(C1303*(1-$C$3)/Лист2!$A$6,0)","v":1477}]
["T-SR 01371000","Полка ДСП с полукруглым профилем прямая G=370 L=1000",1720,{"$f":"ROUND(C1304*(1-$C$3)/Лист2!$A$6,0)","v":1720}]
["T-SR 01401000","Полка ДСП с полукруглым профилем прямая G=400 L=1000",1766,{"$f":"ROUND(C1305*(1-$C$3)/Лист2!$A$6,0)","v":1766}]
["T-SR 01471000","Полка ДСП с полукруглым профилем прямая G=470 L=1000",1864,{"$f":"ROUND(C1306*(1-$C$3)/Лист2!$A$6,0)","v":1864}]
["T-SR 01371250","Полка ДСП с полукруглым профилем прямая G=370 L=1250",2541,{"$f":"ROUND(C1307*(1-$C$3)/Лист2!$A$6,0)","v":2541}]
["T-SR 01401250","Полка ДСП с полукруглым профилем прямая G=400 L=1250",2777,{"$f":"ROUND(C1308*(1-$C$3)/Лист2!$A$6,0)","v":2777}]
["T-BR 01370665","Полка основания ДСП с полукруглым профилем прямая  G=370 L=665",1119,{"$f":"ROUND(C1309*(1-$C$3)/Лист2!$A$6,0)","v":1119}]
["T-BR 01470665","Полка основания ДСП с полукруглым профилем прямая  G=470 L=665",1233,{"$f":"ROUND(C1310*(1-$C$3)/Лист2!$A$6,0)","v":1233}]
["T-BR 01570665","Полка основания ДСП с полукруглым профилем прямая  G=570 L=665",1368,{"$f":"ROUND(C1311*(1-$C$3)/Лист2!$A$6,0)","v":1368}]
["T-BR 01311000","Полка основания ДСП с полукруглым профилем прямая G=310 L=1000",1609,{"$f":"ROUND(C1312*(1-$C$3)/Лист2!$A$6,0)","v":1609}]
["T-BR 01371000","Полка основания ДСП с полукруглым профилем прямая G=370 L=1000",1715,{"$f":"ROUND(C1313*(1-$C$3)/Лист2!$A$6,0)","v":1715}]
["T-BR 01471000","Полка основания ДСП с полукруглым профилем прямая G=470 L=1000",1880,{"$f":"ROUND(C1314*(1-$C$3)/Лист2!$A$6,0)","v":1880}]
["T-BR 01571000","Полка основания ДСП с полукруглым профилем прямая G=570 L=1000",2149,{"$f":"ROUND(C1315*(1-$C$3)/Лист2!$A$6,0)","v":2149}]
["T-BR 01671000","Полка основания ДСП с полукруглым профилем прямая G=670 L=1000",2369,{"$f":"ROUND(C1316*(1-$C$3)/Лист2!$A$6,0)","v":2369}]
["T-BR 01771000","Полка основания ДСП с полукруглым профилем прямая G=770 L=1000",2524,{"$f":"ROUND(C1317*(1-$C$3)/Лист2!$A$6,0)","v":2524}]
["T-BR 01371250","Полка основания ДСП с полукруглым профилем прямая G=370 L=1250",0]
["T-BR 01471250  ","Полка основания ДСП с полукруглым профилем прямая G=470 L=1250",2614,{"$f":"ROUND(C1319*(1-$C$3)/Лист2!$A$6,0)","v":2614}]
["T-SR 21210665","Полка ДСП с полукруглым профилем прямая (ограничитель H=20)  G=210 L=665",3728,{"$f":"ROUND(C1320*(1-$C$3)/Лист2!$A$6,0)","v":3728}]
["T-SR 21310665","Полка ДСП с полукруглым профилем прямая (ограничитель H=20)  G=310 L=665",3877,{"$f":"ROUND(C1321*(1-$C$3)/Лист2!$A$6,0)","v":3877}]
["T-SR 21370665","Полка ДСП с полукруглым профилем прямая (ограничитель H=20)  G=370 L=665",4167,{"$f":"ROUND(C1322*(1-$C$3)/Лист2!$A$6,0)","v":4167}]
["T-SR 21470665","Полка ДСП с полукруглым профилем прямая (ограничитель H=20)  G=470 L=665",4313,{"$f":"ROUND(C1323*(1-$C$3)/Лист2!$A$6,0)","v":4313}]
["T-SR 21570665","Полка ДСП с полукруглым профилем прямая (ограничитель H=20)  G=570 L=665",4453,{"$f":"ROUND(C1324*(1-$C$3)/Лист2!$A$6,0)","v":4453}]
["T-SR 21211000","Полка ДСП с полукруглым профилем прямая (ограничитель H=20) G=210 L=1000",4442,{"$f":"ROUND(C1325*(1-$C$3)/Лист2!$A$6,0)","v":4442}]
["T-SR 21311000","Полка ДСП с полукруглым профилем прямая (ограничитель H=20) G=310 L=1000",4671,{"$f":"ROUND(C1326*(1-$C$3)/Лист2!$A$6,0)","v":4671}]
["T-SR 21371000","Полка ДСП с полукруглым профилем прямая (ограничитель H=20) G=370 L=1000",4860,{"$f":"ROUND(C1327*(1-$C$3)/Лист2!$A$6,0)","v":4860}]
["T-SR 21471000","Полка ДСП с полукруглым профилем прямая (ограничитель H=20) G=470 L=1000",5003,{"$f":"ROUND(C1328*(1-$C$3)/Лист2!$A$6,0)","v":5003}]
["T-SR 21571000","Полка ДСП с полукруглым профилем прямая (ограничитель H=20) G=570 L=1000",5186,{"$f":"ROUND(C1329*(1-$C$3)/Лист2!$A$6,0)","v":5186}]
["T-SR 21301000","Полка с полукруглым  профилем  с ограничителем H=20 G=300 L=1000",3594,{"$f":"ROUND(C1330*(1-$C$3)/Лист2!$A$6,0)","v":3594}]
["T-SR 21401000","Полка с полукруглым профилем с ограничителем H=20 G=400 L=1000",3833,{"$f":"ROUND(C1331*(1-$C$3)/Лист2!$A$6,0)","v":3833}]
["T-BR 21370665","Полка основания ДСП с полукруглым профилем прямая (ограничитель H=20)  G=370 L=665",3500,{"$f":"ROUND(C1332*(1-$C$3)/Лист2!$A$6,0)","v":3500}]
["T-BR 21470665","Полка основания ДСП с полукруглым профилем прямая (ограничитель H=20)  G=470 L=665",3607,{"$f":"ROUND(C1333*(1-$C$3)/Лист2!$A$6,0)","v":3607}]
["T-BR 21570665","Полка основания ДСП с полукруглым профилем прямая (ограничитель H=20)  G=570 L=665",3722,{"$f":"ROUND(C1334*(1-$C$3)/Лист2!$A$6,0)","v":3722}]
["T-BR 21371000","Полка основания ДСП с полукруглым профилем прямая (ограничитель H=20) G=370 L=1000",4393,{"$f":"ROUND(C1335*(1-$C$3)/Лист2!$A$6,0)","v":4393}]
["T-BR 21471000","Полка основания ДСП с полукруглым профилем прямая (ограничитель H=20) G=470 L=1000",4547,{"$f":"ROUND(C1336*(1-$C$3)/Лист2!$A$6,0)","v":4547}]
["T-BR 21571000","Полка основания ДСП с полукруглым профилем прямая (ограничитель H=20) G=570 L=1000",4756,{"$f":"ROUND(C1337*(1-$C$3)/Лист2!$A$6,0)","v":4756}]
["T-SR 51210665","Полка ДСП с полукруглым профилем прямая (ограничитель H=50)  G=210 L=665",5220,{"$f":"ROUND(C1338*(1-$C$3)/Лист2!$A$6,0)","v":5220}]
["T-SR 51310665","Полка ДСП с полукруглым профилем прямая (ограничитель H=50)  G=310 L=665",5368,{"$f":"ROUND(C1339*(1-$C$3)/Лист2!$A$6,0)","v":5368}]
["T-SR 51370665","Полка ДСП с полукруглым профилем прямая (ограничитель H=50)  G=370 L=665",5392,{"$f":"ROUND(C1340*(1-$C$3)/Лист2!$A$6,0)","v":5392}]
["T-SR 51470665","Полка ДСП с полукруглым профилем прямая (ограничитель H=50)  G=470 L=665",5623,{"$f":"ROUND(C1341*(1-$C$3)/Лист2!$A$6,0)","v":5623}]
["T-SR 51211000","Полка ДСП с полукруглым профилем прямая (ограничитель H=50) G=210 L=1000",6086,{"$f":"ROUND(C1342*(1-$C$3)/Лист2!$A$6,0)","v":6086}]
["T-SR 51311000","Полка ДСП с полукруглым профилем прямая (ограничитель H=50) G=310 L=1000",6314,{"$f":"ROUND(C1343*(1-$C$3)/Лист2!$A$6,0)","v":6314}]
["T-SR 51371000","Полка ДСП с полукруглым профилем прямая (ограничитель H=50) G=370 L=1000",6534,{"$f":"ROUND(C1344*(1-$C$3)/Лист2!$A$6,0)","v":6534}]
["T-SR 51471000","Полка ДСП с полукруглым профилем прямая (ограничитель H=50) G=470 L=1000",6656,{"$f":"ROUND(C1345*(1-$C$3)/Лист2!$A$6,0)","v":6656}]
["T-BR 51370665","Полка основания ДСП с полукруглым профилем прямая (ограничитель H=50)  G=370 L=665",5998,{"$f":"ROUND(C1346*(1-$C$3)/Лист2!$A$6,0)","v":5998}]
["T-BR 51470665","Полка основания ДСП с полукруглым профилем прямая (ограничитель H=50)  G=470 L=665",6109,{"$f":"ROUND(C1347*(1-$C$3)/Лист2!$A$6,0)","v":6109}]
["T-BR 51570665","Полка основания ДСП с полукруглым профилем прямая (ограничитель H=50)  G=570 L=665",6239,{"$f":"ROUND(C1348*(1-$C$3)/Лист2!$A$6,0)","v":6239}]
["T-BR 51371000","Полка основания ДСП с полукруглым профилем прямая (ограничитель H=50) G=370 L=1000",7333,{"$f":"ROUND(C1349*(1-$C$3)/Лист2!$A$6,0)","v":7333}]
["T-BR 51471000","Полка основания ДСП с полукруглым профилем прямая (ограничитель H=50) G=470 L=1000",7456,{"$f":"ROUND(C1350*(1-$C$3)/Лист2!$A$6,0)","v":7456}]
["T-BR 51571000","Полка основания ДСП с полукруглым профилем прямая (ограничитель H=50) G=570 L=1000",7602,{"$f":"ROUND(C1351*(1-$C$3)/Лист2!$A$6,0)","v":7602}]
["T-SR 08210665","Полка ДСП с полукруглым профилем радиусная  G=210 L=665",886,{"$f":"ROUND(C1352*(1-$C$3)/Лист2!$A$6,0)","v":886}]
["T-SR 08310665","Полка ДСП с полукруглым профилем радиусная  G=310 L=665",988,{"$f":"ROUND(C1353*(1-$C$3)/Лист2!$A$6,0)","v":988}]
["T-SR 08370665","Полка ДСП с полукруглым профилем радиусная  G=370 L=665",1200,{"$f":"ROUND(C1354*(1-$C$3)/Лист2!$A$6,0)","v":1200}]
["T-SR 08470665","Полка ДСП с полукруглым профилем радиусная  G=470 L=665",1254,{"$f":"ROUND(C1355*(1-$C$3)/Лист2!$A$6,0)","v":1254}]
["T-SR 08211000","Полка ДСП с полукруглым профилем радиусная G=210 L=1000",1442,{"$f":"ROUND(C1356*(1-$C$3)/Лист2!$A$6,0)","v":1442}]
["T-SR 08311000","Полка ДСП с полукруглым профилем радиусная G=310 L=1000",1652,{"$f":"ROUND(C1357*(1-$C$3)/Лист2!$A$6,0)","v":1652}]
["T-SR 08371000","Полка ДСП с полукруглым профилем радиусная G=370 L=1000",1789,{"$f":"ROUND(C1358*(1-$C$3)/Лист2!$A$6,0)","v":1789}]
["T-SR 08471000","Полка ДСП с полукруглым профилем радиусная G=470 L=1000",2009,{"$f":"ROUND(C1359*(1-$C$3)/Лист2!$A$6,0)","v":2009}]
["T-BR 08370665","Полка основания ДСП с полукруглым профилем радиусная  G=370 L=665",1057,{"$f":"ROUND(C1360*(1-$C$3)/Лист2!$A$6,0)","v":1057}]
["T-BR 08470665","Полка основания ДСП с полукруглым профилем радиусная  G=470 L=665",1160,{"$f":"ROUND(C1361*(1-$C$3)/Лист2!$A$6,0)","v":1160}]
["T-BR 08570665","Полка основания ДСП с полукруглым профилем радиусная  G=570 L=665",1355,{"$f":"ROUND(C1362*(1-$C$3)/Лист2!$A$6,0)","v":1355}]
["T-BR 08371000","Полка основания ДСП с полукруглым профилем радиусная G=370 L=1000",1697,{"$f":"ROUND(C1363*(1-$C$3)/Лист2!$A$6,0)","v":1697}]
["T-BR 08471000","Полка основания ДСП с полукруглым профилем радиусная G=470 L=1000",1858,{"$f":"ROUND(C1364*(1-$C$3)/Лист2!$A$6,0)","v":1858}]
["T-BR 08571000","Полка основания ДСП с полукруглым профилем радиусная G=570 L=1000",2121,{"$f":"ROUND(C1365*(1-$C$3)/Лист2!$A$6,0)","v":2121}]
["T-SR 28210665","Полка ДСП с полукруглым профилем радиусная (ограничитель H=20)  G=210 L=665",2927,{"$f":"ROUND(C1366*(1-$C$3)/Лист2!$A$6,0)","v":2927}]
["T-SR 28310665","Полка ДСП с полукруглым профилем радиусная (ограничитель H=20)  G=310 L=665",3027,{"$f":"ROUND(C1367*(1-$C$3)/Лист2!$A$6,0)","v":3027}]
["T-SR 28370665","Полка ДСП с полукруглым профилем радиусная (ограничитель H=20)  G=370 L=665",3239,{"$f":"ROUND(C1368*(1-$C$3)/Лист2!$A$6,0)","v":3239}]
["T-SR 28470665","Полка ДСП с полукруглым профилем радиусная (ограничитель H=20)  G=470 L=665",3294,{"$f":"ROUND(C1369*(1-$C$3)/Лист2!$A$6,0)","v":3294}]
["T-SR 28211000","Полка ДСП с полукруглым профилем радиусная (ограничитель H=20) G=210 L=1000",3816,{"$f":"ROUND(C1370*(1-$C$3)/Лист2!$A$6,0)","v":3816}]
["T-SR 28311000","Полка ДСП с полукруглым профилем радиусная (ограничитель H=20) G=310 L=1000",4022,{"$f":"ROUND(C1371*(1-$C$3)/Лист2!$A$6,0)","v":4022}]
["T-SR 28371000","Полка ДСП с полукруглым профилем радиусная (ограничитель H=20) G=370 L=1000",4159,{"$f":"ROUND(C1372*(1-$C$3)/Лист2!$A$6,0)","v":4159}]
["T-SR 28471000","Полка ДСП с полукруглым профилем радиусная (ограничитель H=20) G=470 L=1000",4376,{"$f":"ROUND(C1373*(1-$C$3)/Лист2!$A$6,0)","v":4376}]
["T-SR 58210665","Полка ДСП с полукруглым профилем радиусная (ограничитель H=50)  G=210 L=665",5192,{"$f":"ROUND(C1374*(1-$C$3)/Лист2!$A$6,0)","v":5192}]
["T-SR 58310665","Полка ДСП с полукруглым профилем радиусная (ограничитель H=50)  G=310 L=665",5297,{"$f":"ROUND(C1375*(1-$C$3)/Лист2!$A$6,0)","v":5297}]
["T-SR 58370665","Полка ДСП с полукруглым профилем радиусная (ограничитель H=50)  G=370 L=665",5517,{"$f":"ROUND(C1376*(1-$C$3)/Лист2!$A$6,0)","v":5517}]
["T-SR 58470665","Полка ДСП с полукруглым профилем радиусная (ограничитель H=50)  G=470 L=665",5566,{"$f":"ROUND(C1377*(1-$C$3)/Лист2!$A$6,0)","v":5566}]
["T-SR 58211000","Полка ДСП с полукруглым профилем радиусная (ограничитель H=50) G=210 L=1000",6522,{"$f":"ROUND(C1378*(1-$C$3)/Лист2!$A$6,0)","v":6522}]
["T-SR 58311000","Полка ДСП с полукруглым профилем радиусная (ограничитель H=50) G=310 L=1000",6732,{"$f":"ROUND(C1379*(1-$C$3)/Лист2!$A$6,0)","v":6732}]
["T-SR 58371000","Полка ДСП с полукруглым профилем радиусная (ограничитель H=50) G=370 L=1000",6874,{"$f":"ROUND(C1380*(1-$C$3)/Лист2!$A$6,0)","v":6874}]
["T-SR 58471000","Полка ДСП с полукруглым профилем радиусная (ограничитель H=50) G=470 L=1000",7090,{"$f":"ROUND(C1381*(1-$C$3)/Лист2!$A$6,0)","v":7090}]
["T-SR 05450210","Полка ДСП с полукруглым профилем угловая внутренняя 45º G=210",1261,{"$f":"ROUND(C1382*(1-$C$3)/Лист2!$A$6,0)","v":1261}]
["T-SR 05450310","Полка ДСП с полукруглым профилем угловая внутренняя 45º G=310",1368,{"$f":"ROUND(C1383*(1-$C$3)/Лист2!$A$6,0)","v":1368}]
["T-SR 05450370","Полка ДСП с полукруглым профилем угловая внутренняя 45º G=370",1469,{"$f":"ROUND(C1384*(1-$C$3)/Лист2!$A$6,0)","v":1469}]
["T-SR 05450470","Полка ДСП с полукруглым профилем угловая внутренняя 45º G=470",1646,{"$f":"ROUND(C1385*(1-$C$3)/Лист2!$A$6,0)","v":1646}]
["T-SR 06450210","Полка ДСП с полукруглым профилем угловая внешняя 45º  G=210",1141,{"$f":"ROUND(C1386*(1-$C$3)/Лист2!$A$6,0)","v":1141}]
["T-SR 06450310","Полка ДСП с полукруглым профилем угловая внешняя 45º  G=310",1407,{"$f":"ROUND(C1387*(1-$C$3)/Лист2!$A$6,0)","v":1407}]
["T-SR 06450370","Полка ДСП с полукруглым профилем угловая внешняя 45º  G=370",1634,{"$f":"ROUND(C1388*(1-$C$3)/Лист2!$A$6,0)","v":1634}]
["T-SR 06450470","Полка ДСП с полукруглым профилем угловая внешняя 45º  G=470",1923,{"$f":"ROUND(C1389*(1-$C$3)/Лист2!$A$6,0)","v":1923}]
["T-BR 05450370","Полка основания ДСП с полукруглым профилем угловая внутренняя 45º  G=370",1823,{"$f":"ROUND(C1390*(1-$C$3)/Лист2!$A$6,0)","v":1823}]
["T-BR 05450470","Полка основания ДСП с полукруглым профилем угловая внутренняя 45º  G=470",1972,{"$f":"ROUND(C1391*(1-$C$3)/Лист2!$A$6,0)","v":1972}]
["T-BR 05450570","Полка основания ДСП с полукруглым профилем угловая внутренняя 45º  G=570",2090,{"$f":"ROUND(C1392*(1-$C$3)/Лист2!$A$6,0)","v":2090}]
["T-BR 05450670","Полка основания ДСП с полукруглым профилем угловая внутренняя 45º  G=670",2326,{"$f":"ROUND(C1393*(1-$C$3)/Лист2!$A$6,0)","v":2326}]
["T-BR 05450770","Полка основания ДСП с полукруглым профилем угловая внутренняя 45º  G=770",2632,{"$f":"ROUND(C1394*(1-$C$3)/Лист2!$A$6,0)","v":2632}]
["T-BR 06450370","Полка основания ДСП с полукруглым профилем угловая внешняя 45º  G=370",1498,{"$f":"ROUND(C1395*(1-$C$3)/Лист2!$A$6,0)","v":1498}]
["T-BR 06450470","Полка основания ДСП с полукруглым профилем угловая внешняя 45º  G=470",1809,{"$f":"ROUND(C1396*(1-$C$3)/Лист2!$A$6,0)","v":1809}]
["T-BR 06450570","Полка основания ДСП с полукруглым профилем угловая внешняя 45º  G=570",2170,{"$f":"ROUND(C1397*(1-$C$3)/Лист2!$A$6,0)","v":2170}]
["T-BR 06450670","Полка основания ДСП с полукруглым профилем угловая внешняя 45º  G=670",2505,{"$f":"ROUND(C1398*(1-$C$3)/Лист2!$A$6,0)","v":2505}]
["T-BR 06450770","Полка основания ДСП с полукруглым профилем угловая внешняя 45º  G=770",2976,{"$f":"ROUND(C1399*(1-$C$3)/Лист2!$A$6,0)","v":2976}]
["T-SR 25450210","Полка ДСП с полукруглым профилем угловая внутренняя 45º (ограничитель H=20) G=210",3920,{"$f":"ROUND(C1400*(1-$C$3)/Лист2!$A$6,0)","v":3920}]
["T-SR 25450300","Полка ДСП с полукруглым профилем угловая внутренняя 45º (ограничитель H=20) G=300",3121,{"$f":"ROUND(C1401*(1-$C$3)/Лист2!$A$6,0)","v":3121}]
["T-SR 25450310","Полка ДСП с полукруглым профилем угловая внутренняя 45º (ограничитель H=20) G=310",3711,{"$f":"ROUND(C1402*(1-$C$3)/Лист2!$A$6,0)","v":3711}]
["T-SR 25450370","Полка ДСП с полукруглым профилем угловая внутренняя 45º (ограничитель H=20) G=370",3805,{"$f":"ROUND(C1403*(1-$C$3)/Лист2!$A$6,0)","v":3805}]
["T-SR 25450470","Полка ДСП с полукруглым профилем угловая внутренняя 45º (ограничитель H=20) G=470",4004,{"$f":"ROUND(C1404*(1-$C$3)/Лист2!$A$6,0)","v":4004}]
["T-SR 26450210","Полка ДСП с полукруглым профилем угловая внешняя 45º (ограничитель H=20) G=210",2904,{"$f":"ROUND(C1405*(1-$C$3)/Лист2!$A$6,0)","v":2904}]
["T-SR 26450310","Полка ДСП с полукруглым профилем угловая внешняя 45º (ограничитель H=20) G=310",3134,{"$f":"ROUND(C1406*(1-$C$3)/Лист2!$A$6,0)","v":3134}]
["T-SR 26450370","Полка ДСП с полукруглым профилем угловая внешняя 45º (ограничитель H=20) G=370",3337,{"$f":"ROUND(C1407*(1-$C$3)/Лист2!$A$6,0)","v":3337}]
["T-SR 26450470","Полка ДСП с полукруглым профилем угловая внешняя 45º (ограничитель H=20) G=470",3782,{"$f":"ROUND(C1408*(1-$C$3)/Лист2!$A$6,0)","v":3782}]
["T-BR 25450370","Полка основания ДСП с полукруглым профилем угловая внутренняя 45º (ограничитель H=20) G=370",3238,{"$f":"ROUND(C1409*(1-$C$3)/Лист2!$A$6,0)","v":3238}]
["T-BR 25450470","Полка основания ДСП с полукруглым профилем угловая внутренняя 45º (ограничитель H=20) G=470",3342,{"$f":"ROUND(C1410*(1-$C$3)/Лист2!$A$6,0)","v":3342}]
["T-BR 25450570","Полка основания ДСП с полукруглым профилем угловая внутренняя 45º (ограничитель H=20) G=570",3342,{"$f":"ROUND(C1411*(1-$C$3)/Лист2!$A$6,0)","v":3342}]
["T-SR 55450210","Полка ДСП с полукруглым профилем угловая внутренняя 45º (ограничитель H=50) G=210",5393,{"$f":"ROUND(C1412*(1-$C$3)/Лист2!$A$6,0)","v":5393}]
["T-SR 55450310","Полка ДСП с полукруглым профилем угловая внутренняя 45º (ограничитель H=50) G=310",4965,{"$f":"ROUND(C1413*(1-$C$3)/Лист2!$A$6,0)","v":4965}]
["T-SR 55450370","Полка ДСП с полукруглым профилем угловая внутренняя 45º (ограничитель H=50) G=370",5241,{"$f":"ROUND(C1414*(1-$C$3)/Лист2!$A$6,0)","v":5241}]
["T-SR 55450470","Полка ДСП с полукруглым профилем угловая внутренняя 45º (ограничитель H=50) G=470",5445,{"$f":"ROUND(C1415*(1-$C$3)/Лист2!$A$6,0)","v":5445}]
["T-SR 56450210","Полка ДСП с полукруглым профилем угловая внешняя 45º (ограничитель H=50) G=210",5064,{"$f":"ROUND(C1416*(1-$C$3)/Лист2!$A$6,0)","v":5064}]
["T-SR 56450310","Полка ДСП с полукруглым профилем угловая внешняя 45º (ограничитель H=50) G=310",5310,{"$f":"ROUND(C1417*(1-$C$3)/Лист2!$A$6,0)","v":5310}]
["T-SR 56450370","Полка ДСП с полукруглым профилем угловая внешняя 45º (ограничитель H=50) G=370",5403,{"$f":"ROUND(C1418*(1-$C$3)/Лист2!$A$6,0)","v":5403}]
["T-SR 56450470","Полка ДСП с полукруглым профилем угловая внешняя 45º (ограничитель H=50) G=470",6052,{"$f":"ROUND(C1419*(1-$C$3)/Лист2!$A$6,0)","v":6052}]
["T-BR 55450370","Полка основания ДСП с полукруглым профилем угловая внутренняя 45º (ограничитель H=50) G=370",5264,{"$f":"ROUND(C1420*(1-$C$3)/Лист2!$A$6,0)","v":5264}]
["T-BR 55450470","Полка основания ДСП с полукруглым профилем угловая внутренняя 45º (ограничитель H=50) G=470",5405,{"$f":"ROUND(C1421*(1-$C$3)/Лист2!$A$6,0)","v":5405}]
["T-BR 55450570","Полка основания ДСП с полукруглым профилем угловая внутренняя 45º (ограничитель H=50) G=570",5238,{"$f":"ROUND(C1422*(1-$C$3)/Лист2!$A$6,0)","v":5238}]
["T-SG 01210665","Полка стеклянная  прямая  G=210 L=665","по запросу"]
["T-SG 01310665","Полка стеклянная  прямая  G=310 L=665","по запросу"]
["T-SG 01370665","Полка стеклянная  прямая  G=370 L=665","по запросу"]
["T-SG 01470665","Полка стеклянная  прямая  G=470 L=665","по запросу"]
["T-SG 01570665","Полка стеклянная  прямая  G=570 L=665","по запросу"]
["T-SG 01211000","Полка стеклянная  прямая G=210 L=1000","по запросу"]
["T-SG 01311000","Полка стеклянная  прямая G=310 L=1000","по запросу"]
["T-SG 01371000","Полка стеклянная  прямая G=370 L=1000","по запросу"]
["T-SG 01471000","Полка стеклянная  прямая G=470 L=1000","по запросу"]
["T-SG 01571000","Полка стеклянная  прямая G=570 L=1000","по запросу"]
["T-SG 01211250","Полка стеклянная  прямая G=210 L=1250","по запросу"]
["T-SG 01311250","Полка стеклянная  прямая G=310 L=1250","по запросу"]
["T-SG 01371250","Полка стеклянная  прямая G=370 L=1250","по запросу"]
["T-SG 01471250","Полка стеклянная  прямая G=470 L=1250","по запросу"]
["T-SG 01571250","Полка стеклянная  прямая G=570 L=1250","по запросу"]
["T-SG 05450210","Полка стеклянная  угловая внутренняя 45º G=210","по запросу"]
["T-SG 05450310","Полка стеклянная  угловая внутренняя 45º G=310","по запросу"]
["T-SG 05450370","Полка стеклянная  угловая внутренняя 45º G=370","по запросу"]
["T-SG 05450470","Полка стеклянная  угловая внутренняя 45º G=470","по запросу"]
["T-SG 06450310","Полка стеклянная  угловая внешняя 45º G=310","по запросу"]
["T-SG 06450370","Полка стеклянная  угловая внешняя 45º G=370","по запросу"]
["T-SG 51471000","Полка стеклянная прямая (огранечитель  H=50) L=1000 G=470","по запросу"]
["T-SG 08210665","Полка стеклянная  радиусная  G=210 L=665","по запросу"]
["T-SG 08310665","Полка стеклянная  радиусная  G=310 L=665","по запросу"]
["T-SG 08370665","Полка стеклянная  радиусная  G=370 L=665","по запросу"]
["T-SG 08470665","Полка стеклянная  радиусная  G=470 L=665","по запросу"]
["T-SG 08570665","Полка стеклянная  радиусная  G=570 L=665","по запросу"]
["T-SG 08211000","Полка стеклянная  радиусная G=210 L=1000","по запросу"]
["T-SG 08311000","Полка стеклянная  радиусная G=310 L=1000","по запросу"]
["T-SG 08371000","Полка стеклянная  радиусная G=370 L=1000","по запросу"]
["T-SG 08471000","Полка стеклянная  радиусная G=470 L=1000","по запросу"]
["T-SG 08571000","Полка стеклянная  радиусная G=570 L=1000","по запросу"]
["T-SG 25450210","Полка стеклянная  угловая внутренняя 45º (ограничитель H=20) G=210","по запросу"]
["T-SG 25450310","Полка стеклянная  угловая внутренняя 45º (ограничитель H=20) G=310","по запросу"]
["T-SG 25450370","Полка стеклянная  угловая внутренняя 45º (ограничитель H=20) G=370","по запросу"]
["T-SG 25450470","Полка стеклянная  угловая внутренняя 45º (ограничитель H=20) G=470","по запросу"]
["T-SG 55450210","Полка стеклянная  угловая внутренняя 45º (ограничитель H=50) G=210","по запросу"]
["T-SG 55450310","Полка стеклянная  угловая внутренняя 45º (ограничитель H=50) G=310","по запросу"]
["T-SG 55450370","Полка стеклянная  угловая внутренняя 45º (ограничитель H=50) G=370","по запросу"]
["T-SG 55450470","Полка стеклянная  угловая внутренняя 45º (ограничитель H=50) G=470","по запросу"]
["T-SG 26450310","Полка стеклянная  угловая внешняя 45º (ограничитель H=20) G=310","по запросу"]
["T-SG 26450370","Полка стеклянная  угловая внешняя 45º (ограничитель H=20) G=370","по запросу"]
["T-SG 56450310","Полка стеклянная  угловая внешняя 45º (ограничитель H=50) G=310","по запросу"]
["T-SG 56450370","Полка стеклянная  угловая внешняя 45º (ограничитель H=50) G=370","по запросу"]
["T-SG 58210665","Полка стеклянная  радиусная (ограничитель H=50)  G=210 L=665","по запросу"]
["T-SG 58310665","Полка стеклянная  радиусная (ограничитель H=50)  G=310 L=665","по запросу"]
["T-SG 58370665","Полка стеклянная  радиусная (ограничитель H=50)  G=370 L=665","по запросу"]
["T-SG 58470665","Полка стеклянная  радиусная (ограничитель H=50)  G=470 L=665","по запросу"]
["T-SG 58570665","Полка стеклянная  радиусная (ограничитель H=50)  G=570 L=665","по запросу"]
["T-SG 58211000","Полка стеклянная  радиусная (ограничитель H=50) G=210 L=1000","по запросу"]
["T-SG 58311000","Полка стеклянная  радиусная (ограничитель H=50) G=310 L=1000","по запросу"]
["T-SG 58371000","Полка стеклянная  радиусная (ограничитель H=50) G=370 L=1000","по запросу"]
["T-SG 58471000","Полка стеклянная  радиусная (ограничитель H=50) G=470 L=1000","по запросу"]
["T-SG 58571000","Полка стеклянная  радиусная (ограничитель H=50) G=570 L=1000","по запросу"]
["T-SG 28210665","Полка стеклянная  радиусная (ограничитель H=20)  G=210 L=665","по запросу"]
["T-SG 28310665","Полка стеклянная  радиусная (ограничитель H=20)  G=310 L=665","по запросу"]
["T-SG 28370665","Полка стеклянная  радиусная (ограничитель H=20)  G=370 L=665","по запросу"]
["T-SG 28470665","Полка стеклянная  радиусная (ограничитель H=20)  G=470 L=665","по запросу"]
["T-SG 28570665","Полка стеклянная  радиусная (ограничитель H=20)  G=570 L=665","по запросу"]
["T-SG 28211000","Полка стеклянная  радиусная (ограничитель H=20) G=210 L=1000","по запросу"]
["T-SG 28311000","Полка стеклянная  радиусная (ограничитель H=20) G=310 L=1000","по запросу"]
["T-SG 28371000","Полка стеклянная  радиусная (ограничитель H=20) G=370 L=1000","по запросу"]
["T-SG 28471000","Полка стеклянная  радиусная (ограничитель H=20) G=470 L=1000","по запросу"]
["T-SG 28571000","Полка стеклянная  радиусная (ограничитель H=20) G=570 L=1000","по запросу"]
["T-SG 21210665","Полка стеклянная  прямая (ограничитель H=20)  G=210 L=665","по запросу"]
["T-SG 21310665","Полка стеклянная  прямая (ограничитель H=20)  G=310 L=665","по запросу"]
["T-SG 21370665","Полка стеклянная  прямая (ограничитель H=20)  G=370 L=665","по запросу"]
["T-SG 21470665","Полка стеклянная  прямая (ограничитель H=20)  G=470 L=665","по запросу"]
["T-SG 21570665","Полка стеклянная  прямая (ограничитель H=20)  G=570 L=665","по запросу"]
["T-SG 21211000","Полка стеклянная  прямая (ограничитель H=20) G=210 L=1000","по запросу"]
["T-SG 21311000","Полка стеклянная  прямая (ограничитель H=20) G=310 L=1000","по запросу"]
["T-SG 21371000","Полка стеклянная  прямая (ограничитель H=20) G=370 L=1000","по запросу"]
["T-SG 21471000","Полка стеклянная  прямая (ограничитель H=20) G=470 L=1000","по запросу"]
["T-SG 21571000","Полка стеклянная  прямая (ограничитель H=20) G=570 L=1000","по запросу"]
["T-SG 51210665","Полка стеклянная  прямая (ограничитель H=50)  G=210 L=665","по запросу"]
["T-SG 51310665","Полка стеклянная  прямая (ограничитель H=50)  G=310 L=665","по запросу"]
["T-SG 51370665","Полка стеклянная  прямая (ограничитель H=50)  G=370 L=665","по запросу"]
["T-SG 51470665","Полка стеклянная  прямая (ограничитель H=50)  G=470 L=665","по запросу"]
["T-SG 51570665","Полка стеклянная  прямая (ограничитель H=50)  G=570 L=665","по запросу"]
["T-SG 51311000","Полка стеклянная  прямая (ограничитель H=50) G=310 L=1000","по запросу"]
["T-SG 51371000","Полка стеклянная  прямая (ограничитель H=50) G=370 L=1000","по запросу"]
["T-SD 01471850","Боковина декоративная ЛДСП левая G=470 H=1850",5254,{"$f":"ROUND(C1504*(1-$C$3)/Лист2!$A$6,0)","v":5254}]
["T-SD 01471900","Боковина декоративная ЛДСП левая G=470 H=1900",5354,{"$f":"ROUND(C1505*(1-$C$3)/Лист2!$A$6,0)","v":5354}]
["T-SD 01471950","Боковина декоративная ЛДСП левая G=470 H=1950",5450,{"$f":"ROUND(C1506*(1-$C$3)/Лист2!$A$6,0)","v":5450}]
["T-SD 01472000","Боковина декоративная ЛДСП левая G=470 H=2000",5659,{"$f":"ROUND(C1507*(1-$C$3)/Лист2!$A$6,0)","v":5659}]
["T-SD 01472050","Боковина декоративная ЛДСП левая G=470 H=2050",5756,{"$f":"ROUND(C1508*(1-$C$3)/Лист2!$A$6,0)","v":5756}]
["T-SD 01472100","Боковина декоративная ЛДСП левая G=470 H=2100",5864,{"$f":"ROUND(C1509*(1-$C$3)/Лист2!$A$6,0)","v":5864}]
["T-SD 01472150","Боковина декоративная ЛДСП левая G=470 H=2150",5961,{"$f":"ROUND(C1510*(1-$C$3)/Лист2!$A$6,0)","v":5961}]
["T-SD 01472200","Боковина декоративная ЛДСП левая G=470 H=2200",6172,{"$f":"ROUND(C1511*(1-$C$3)/Лист2!$A$6,0)","v":6172}]
["T-SD 01472250","Боковина декоративная ЛДСП левая G=470 H=2250",6287,{"$f":"ROUND(C1512*(1-$C$3)/Лист2!$A$6,0)","v":6287}]
["T-SD 01472300","Боковина декоративная ЛДСП левая G=470 H=2300",6370,{"$f":"ROUND(C1513*(1-$C$3)/Лист2!$A$6,0)","v":6370}]
["T-SD 01472350","Боковина декоративная ЛДСП левая G=470 H=2350",6488,{"$f":"ROUND(C1514*(1-$C$3)/Лист2!$A$6,0)","v":6488}]
["T-SD 01472400","Боковина декоративная ЛДСП левая G=470 H=2400",6696,{"$f":"ROUND(C1515*(1-$C$3)/Лист2!$A$6,0)","v":6696}]
["T-SD 01571850","Боковина декоративная ЛДСП левая G=570 H=1850",5905,{"$f":"ROUND(C1516*(1-$C$3)/Лист2!$A$6,0)","v":5905}]
["T-SD 01571900","Боковина декоративная ЛДСП левая G=570 H=1900",6020,{"$f":"ROUND(C1517*(1-$C$3)/Лист2!$A$6,0)","v":6020}]
["T-SD 01571950","Боковина декоративная ЛДСП левая G=570 H=1950",6123,{"$f":"ROUND(C1518*(1-$C$3)/Лист2!$A$6,0)","v":6123}]
["T-SD 01572000","Боковина декоративная ЛДСП левая G=570 H=2000",6345,{"$f":"ROUND(C1519*(1-$C$3)/Лист2!$A$6,0)","v":6345}]
["T-SD 01572050","Боковина декоративная ЛДСП левая G=570 H=2050",6471,{"$f":"ROUND(C1520*(1-$C$3)/Лист2!$A$6,0)","v":6471}]
["T-SD 01572100","Боковина декоративная ЛДСП левая G=570 H=2100",6585,{"$f":"ROUND(C1521*(1-$C$3)/Лист2!$A$6,0)","v":6585}]
["T-SD 01572150","Боковина декоративная ЛДСП левая G=570 H=2150",6706,{"$f":"ROUND(C1522*(1-$C$3)/Лист2!$A$6,0)","v":6706}]
["T-SD 01572200","Боковина декоративная ЛДСП левая G=570 H=2200",6929,{"$f":"ROUND(C1523*(1-$C$3)/Лист2!$A$6,0)","v":6929}]
["T-SD 01572250","Боковина декоративная ЛДСП левая G=570 H=2250",7044,{"$f":"ROUND(C1524*(1-$C$3)/Лист2!$A$6,0)","v":7044}]
["T-SD 01572300","Боковина декоративная ЛДСП левая G=570 H=2300",7149,{"$f":"ROUND(C1525*(1-$C$3)/Лист2!$A$6,0)","v":7149}]
["T-SD 01572350","Боковина декоративная ЛДСП левая G=570 H=2350",7617,{"$f":"ROUND(C1526*(1-$C$3)/Лист2!$A$6,0)","v":7617}]
["T-SD 01572400","Боковина декоративная ЛДСП левая G=570 H=2400",7848,{"$f":"ROUND(C1527*(1-$C$3)/Лист2!$A$6,0)","v":7848}]
["T-SD 01671850","Боковина декоративная ЛДСП левая G=670 H=1850",6593,{"$f":"ROUND(C1528*(1-$C$3)/Лист2!$A$6,0)","v":6593}]
["T-SD 01671900","Боковина декоративная ЛДСП левая G=670 H=1900",6701,{"$f":"ROUND(C1529*(1-$C$3)/Лист2!$A$6,0)","v":6701}]
["T-SD 01671950","Боковина декоративная ЛДСП левая G=670 H=1950",6806,{"$f":"ROUND(C1530*(1-$C$3)/Лист2!$A$6,0)","v":6806}]
["T-SD 01672000","Боковина декоративная ЛДСП левая G=670 H=2000",7044,{"$f":"ROUND(C1531*(1-$C$3)/Лист2!$A$6,0)","v":7044}]
["T-SD 01672050","Боковина декоративная ЛДСП левая G=670 H=2050",7150,{"$f":"ROUND(C1532*(1-$C$3)/Лист2!$A$6,0)","v":7150}]
["T-SD 01672100","Боковина декоративная ЛДСП левая G=670 H=2100",7271,{"$f":"ROUND(C1533*(1-$C$3)/Лист2!$A$6,0)","v":7271}]
["T-SD 01672150","Боковина декоративная ЛДСП левая G=670 H=2150",7372,{"$f":"ROUND(C1534*(1-$C$3)/Лист2!$A$6,0)","v":7372}]
["T-SD 01672200","Боковина декоративная ЛДСП левая G=670 H=2200",7584,{"$f":"ROUND(C1535*(1-$C$3)/Лист2!$A$6,0)","v":7584}]
["T-SD 01672250","Боковина декоративная ЛДСП левая G=670 H=2250",7697,{"$f":"ROUND(C1536*(1-$C$3)/Лист2!$A$6,0)","v":7697}]
["T-SD 01672300","Боковина декоративная ЛДСП левая G=670 H=2300",7796,{"$f":"ROUND(C1537*(1-$C$3)/Лист2!$A$6,0)","v":7796}]
["T-SD 01672350","Боковина декоративная ЛДСП левая G=670 H=2350",7920,{"$f":"ROUND(C1538*(1-$C$3)/Лист2!$A$6,0)","v":7920}]
["T-SD 01672400","Боковина декоративная ЛДСП левая G=670 H=2400",8122,{"$f":"ROUND(C1539*(1-$C$3)/Лист2!$A$6,0)","v":8122}]
["T-SD 11471850","Боковина декоративная ЛДСП правая G=470 H=1850",5254,{"$f":"ROUND(C1540*(1-$C$3)/Лист2!$A$6,0)","v":5254}]
["T-SD 11471900","Боковина декоративная ЛДСП правая G=470 H=1900",5354,{"$f":"ROUND(C1541*(1-$C$3)/Лист2!$A$6,0)","v":5354}]
["T-SD 11471950","Боковина декоративная ЛДСП правая G=470 H=1950",5450,{"$f":"ROUND(C1542*(1-$C$3)/Лист2!$A$6,0)","v":5450}]
["T-SD 11472000","Боковина декоративная ЛДСП правая G=470 H=2000",5659,{"$f":"ROUND(C1543*(1-$C$3)/Лист2!$A$6,0)","v":5659}]
["T-SD 11472050","Боковина декоративная ЛДСП правая G=470 H=2050",5756,{"$f":"ROUND(C1544*(1-$C$3)/Лист2!$A$6,0)","v":5756}]
["T-SD 11472100","Боковина декоративная ЛДСП правая G=470 H=2100",5864,{"$f":"ROUND(C1545*(1-$C$3)/Лист2!$A$6,0)","v":5864}]
["T-SD 11472150","Боковина декоративная ЛДСП правая G=470 H=2150",5961,{"$f":"ROUND(C1546*(1-$C$3)/Лист2!$A$6,0)","v":5961}]
["T-SD 11472200","Боковина декоративная ЛДСП правая G=470 H=2200",6172,{"$f":"ROUND(C1547*(1-$C$3)/Лист2!$A$6,0)","v":6172}]
["T-SD 11472250","Боковина декоративная ЛДСП правая G=470 H=2250",6287,{"$f":"ROUND(C1548*(1-$C$3)/Лист2!$A$6,0)","v":6287}]
["T-SD 11472300","Боковина декоративная ЛДСП правая G=470 H=2300",6370,{"$f":"ROUND(C1549*(1-$C$3)/Лист2!$A$6,0)","v":6370}]
["T-SD 11472350","Боковина декоративная ЛДСП правая G=470 H=2350",6488,{"$f":"ROUND(C1550*(1-$C$3)/Лист2!$A$6,0)","v":6488}]
["T-SD 11472400","Боковина декоративная ЛДСП правая G=470 H=2400",6696,{"$f":"ROUND(C1551*(1-$C$3)/Лист2!$A$6,0)","v":6696}]
["T-SD 11571850","Боковина декоративная ЛДСП правая G=570 H=1850",5905,{"$f":"ROUND(C1552*(1-$C$3)/Лист2!$A$6,0)","v":5905}]
["T-SD 11571900","Боковина декоративная ЛДСП правая G=570 H=1900",6020,{"$f":"ROUND(C1553*(1-$C$3)/Лист2!$A$6,0)","v":6020}]
["T-SD 11571950","Боковина декоративная ЛДСП правая G=570 H=1950",6123,{"$f":"ROUND(C1554*(1-$C$3)/Лист2!$A$6,0)","v":6123}]
["T-SD 11572000","Боковина декоративная ЛДСП правая G=570 H=2000",6345,{"$f":"ROUND(C1555*(1-$C$3)/Лист2!$A$6,0)","v":6345}]
["T-SD 11572050","Боковина декоративная ЛДСП правая G=570 H=2050",6471,{"$f":"ROUND(C1556*(1-$C$3)/Лист2!$A$6,0)","v":6471}]
["T-SD 11572100","Боковина декоративная ЛДСП правая G=570 H=2100",6585,{"$f":"ROUND(C1557*(1-$C$3)/Лист2!$A$6,0)","v":6585}]
["T-SD 11572150","Боковина декоративная ЛДСП правая G=570 H=2150",6706,{"$f":"ROUND(C1558*(1-$C$3)/Лист2!$A$6,0)","v":6706}]
["T-SD 11572200","Боковина декоративная ЛДСП правая G=570 H=2200",6929,{"$f":"ROUND(C1559*(1-$C$3)/Лист2!$A$6,0)","v":6929}]
["T-SD 11572250","Боковина декоративная ЛДСП правая G=570 H=2250",7044,{"$f":"ROUND(C1560*(1-$C$3)/Лист2!$A$6,0)","v":7044}]
["T-SD 11572300","Боковина декоративная ЛДСП правая G=570 H=2300",7149,{"$f":"ROUND(C1561*(1-$C$3)/Лист2!$A$6,0)","v":7149}]
["T-SD 11572350","Боковина декоративная ЛДСП правая G=570 H=2350",7617,{"$f":"ROUND(C1562*(1-$C$3)/Лист2!$A$6,0)","v":7617}]
["T-SD 11572400","Боковина декоративная ЛДСП правая G=570 H=2400",7848,{"$f":"ROUND(C1563*(1-$C$3)/Лист2!$A$6,0)","v":7848}]
["T-SD 11671850","Боковина декоративная ЛДСП правая G=670 H=1850",6593,{"$f":"ROUND(C1564*(1-$C$3)/Лист2!$A$6,0)","v":6593}]
["T-SD 11671900","Боковина декоративная ЛДСП правая G=670 H=1900",6701,{"$f":"ROUND(C1565*(1-$C$3)/Лист2!$A$6,0)","v":6701}]
["T-SD 11671950","Боковина декоративная ЛДСП правая G=670 H=1950",6806,{"$f":"ROUND(C1566*(1-$C$3)/Лист2!$A$6,0)","v":6806}]
["T-SD 11672000","Боковина декоративная ЛДСП правая G=670 H=2000",7044,{"$f":"ROUND(C1567*(1-$C$3)/Лист2!$A$6,0)","v":7044}]
["T-SD 11672050","Боковина декоративная ЛДСП правая G=670 H=2050",7150,{"$f":"ROUND(C1568*(1-$C$3)/Лист2!$A$6,0)","v":7150}]
["T-SD 11672100","Боковина декоративная ЛДСП правая G=670 H=2100",7271,{"$f":"ROUND(C1569*(1-$C$3)/Лист2!$A$6,0)","v":7271}]
["T-SD 11672150","Боковина декоративная ЛДСП правая G=670 H=2150",7372,{"$f":"ROUND(C1570*(1-$C$3)/Лист2!$A$6,0)","v":7372}]
["T-SD 11672200","Боковина декоративная ЛДСП правая G=670 H=2200",7584,{"$f":"ROUND(C1571*(1-$C$3)/Лист2!$A$6,0)","v":7584}]
["T-SD 11672250","Боковина декоративная ЛДСП правая G=670 H=2250",7697,{"$f":"ROUND(C1572*(1-$C$3)/Лист2!$A$6,0)","v":7697}]
["T-SD 11672300","Боковина декоративная ЛДСП правая G=670 H=2300",7796,{"$f":"ROUND(C1573*(1-$C$3)/Лист2!$A$6,0)","v":7796}]
["T-SD 11672350","Боковина декоративная ЛДСП правая G=670 H=2350",7920,{"$f":"ROUND(C1574*(1-$C$3)/Лист2!$A$6,0)","v":7920}]
["T-SD 11672400","Боковина декоративная ЛДСП правая G=670 H=2400",8122,{"$f":"ROUND(C1575*(1-$C$3)/Лист2!$A$6,0)","v":8122}]
["T-SC 01471850","Боковина декоративная ЛДСП Г-образная левая G=470 H=1850",3954,{"$f":"ROUND(C1576*(1-$C$3)/Лист2!$A$6,0)","v":3954}]
["T-SC 01471900","Боковина декоративная ЛДСП Г-образная левая G=470 H=1900",3956,{"$f":"ROUND(C1577*(1-$C$3)/Лист2!$A$6,0)","v":3956}]
["T-SC 01471950","Боковина декоративная ЛДСП Г-образная левая G=470 H=1950",3972,{"$f":"ROUND(C1578*(1-$C$3)/Лист2!$A$6,0)","v":3972}]
["T-SC 01472000","Боковина декоративная ЛДСП Г-образная левая G=470 H=2000",3993,{"$f":"ROUND(C1579*(1-$C$3)/Лист2!$A$6,0)","v":3993}]
["T-SC 01472050","Боковина декоративная ЛДСП Г-образная левая G=470 H=2050",4004,{"$f":"ROUND(C1580*(1-$C$3)/Лист2!$A$6,0)","v":4004}]
["T-SC 01472100","Боковина декоративная ЛДСП Г-образная левая G=470 H=2100",4081,{"$f":"ROUND(C1581*(1-$C$3)/Лист2!$A$6,0)","v":4081}]
["T-SC 01472150","Боковина декоративная ЛДСП Г-образная левая G=470 H=2150",4196,{"$f":"ROUND(C1582*(1-$C$3)/Лист2!$A$6,0)","v":4196}]
["T-SC 01472200","Боковина декоративная ЛДСП Г-образная левая G=470 H=2200",4196,{"$f":"ROUND(C1583*(1-$C$3)/Лист2!$A$6,0)","v":4196}]
["T-SC 01472250","Боковина декоративная ЛДСП Г-образная левая G=470 H=2250",4207,{"$f":"ROUND(C1584*(1-$C$3)/Лист2!$A$6,0)","v":4207}]
["T-SC 01472300","Боковина декоративная ЛДСП Г-образная левая G=470 H=2300",4211,{"$f":"ROUND(C1585*(1-$C$3)/Лист2!$A$6,0)","v":4211}]
["T-SC 01472350","Боковина декоративная ЛДСП Г-образная левая G=470 H=2350",4215,{"$f":"ROUND(C1586*(1-$C$3)/Лист2!$A$6,0)","v":4215}]
["T-SC 01472400","Боковина декоративная ЛДСП Г-образная левая G=470 H=2400",4219,{"$f":"ROUND(C1587*(1-$C$3)/Лист2!$A$6,0)","v":4219}]
["T-SC 01571850","Боковина декоративная ЛДСП Г-образная левая G=570 H=1850",4138,{"$f":"ROUND(C1588*(1-$C$3)/Лист2!$A$6,0)","v":4138}]
["T-SC 01571900","Боковина декоративная ЛДСП Г-образная левая G=570 H=1900",4222,{"$f":"ROUND(C1589*(1-$C$3)/Лист2!$A$6,0)","v":4222}]
["T-SC 01571950","Боковина декоративная ЛДСП Г-образная левая G=570 H=1950",4243,{"$f":"ROUND(C1590*(1-$C$3)/Лист2!$A$6,0)","v":4243}]
["T-SC 01572000","Боковина декоративная ЛДСП Г-образная левая G=570 H=2000",4267,{"$f":"ROUND(C1591*(1-$C$3)/Лист2!$A$6,0)","v":4267}]
["T-SC 01572050","Боковина декоративная ЛДСП Г-образная левая G=570 H=2050",4283,{"$f":"ROUND(C1592*(1-$C$3)/Лист2!$A$6,0)","v":4283}]
["T-SC 01572100","Боковина декоративная ЛДСП Г-образная левая G=570 H=2100",4298,{"$f":"ROUND(C1593*(1-$C$3)/Лист2!$A$6,0)","v":4298}]
["T-SC 01572150","Боковина декоративная ЛДСП Г-образная левая G=570 H=2150",4421,{"$f":"ROUND(C1594*(1-$C$3)/Лист2!$A$6,0)","v":4421}]
["T-SC 01572200","Боковина декоративная ЛДСП Г-образная левая G=570 H=2200",4442,{"$f":"ROUND(C1595*(1-$C$3)/Лист2!$A$6,0)","v":4442}]
["T-SC 01572250","Боковина декоративная ЛДСП Г-образная левая G=570 H=2250",4460,{"$f":"ROUND(C1596*(1-$C$3)/Лист2!$A$6,0)","v":4460}]
["T-SC 01572300","Боковина декоративная ЛДСП Г-образная левая G=570 H=2300",4486,{"$f":"ROUND(C1597*(1-$C$3)/Лист2!$A$6,0)","v":4486}]
["T-SC 01572350","Боковина декоративная ЛДСП Г-образная левая G=570 H=2350",4518,{"$f":"ROUND(C1598*(1-$C$3)/Лист2!$A$6,0)","v":4518}]
["T-SC 01572400","Боковина декоративная ЛДСП Г-образная левая G=570 H=2400",4563,{"$f":"ROUND(C1599*(1-$C$3)/Лист2!$A$6,0)","v":4563}]
["T-SC 01671850","Боковина декоративная ЛДСП Г-образная левая G=670 H=1850",4421,{"$f":"ROUND(C1600*(1-$C$3)/Лист2!$A$6,0)","v":4421}]
["T-SC 01671900","Боковина декоративная ЛДСП Г-образная левая G=670 H=1900",4432,{"$f":"ROUND(C1601*(1-$C$3)/Лист2!$A$6,0)","v":4432}]
["T-SC 01671950","Боковина декоративная ЛДСП Г-образная левая G=670 H=1950",4436,{"$f":"ROUND(C1602*(1-$C$3)/Лист2!$A$6,0)","v":4436}]
["T-SC 01672000","Боковина декоративная ЛДСП Г-образная левая G=670 H=2000",4442,{"$f":"ROUND(C1603*(1-$C$3)/Лист2!$A$6,0)","v":4442}]
["T-SC 01672050","Боковина декоративная ЛДСП Г-образная левая G=670 H=2050",4450,{"$f":"ROUND(C1604*(1-$C$3)/Лист2!$A$6,0)","v":4450}]
["T-SC 01672100","Боковина декоративная ЛДСП Г-образная левая G=670 H=2100",4453,{"$f":"ROUND(C1605*(1-$C$3)/Лист2!$A$6,0)","v":4453}]
["T-SC 01672150","Боковина декоративная ЛДСП Г-образная левая G=670 H=2150",4586,{"$f":"ROUND(C1606*(1-$C$3)/Лист2!$A$6,0)","v":4586}]
["T-SC 01672200","Боковина декоративная ЛДСП Г-образная левая G=670 H=2200",4603,{"$f":"ROUND(C1607*(1-$C$3)/Лист2!$A$6,0)","v":4603}]
["T-SC 01672250","Боковина декоративная ЛДСП Г-образная левая G=670 H=2250",4611,{"$f":"ROUND(C1608*(1-$C$3)/Лист2!$A$6,0)","v":4611}]
["T-SC 01672300","Боковина декоративная ЛДСП Г-образная левая G=670 H=2300",4645,{"$f":"ROUND(C1609*(1-$C$3)/Лист2!$A$6,0)","v":4645}]
["T-SC 01672350","Боковина декоративная ЛДСП Г-образная левая G=670 H=2350",4650,{"$f":"ROUND(C1610*(1-$C$3)/Лист2!$A$6,0)","v":4650}]
["T-SC 01672400","Боковина декоративная ЛДСП Г-образная левая G=670 H=2400",4673,{"$f":"ROUND(C1611*(1-$C$3)/Лист2!$A$6,0)","v":4673}]
["T-SC 11471850","Боковина декоративная ЛДСП Г-образная правая G=470 H=1850",3954,{"$f":"ROUND(C1612*(1-$C$3)/Лист2!$A$6,0)","v":3954}]
["T-SC 11471900","Боковина декоративная ЛДСП Г-образная правая G=470 H=1900",3956,{"$f":"ROUND(C1613*(1-$C$3)/Лист2!$A$6,0)","v":3956}]
["T-SC 11471950","Боковина декоративная ЛДСП Г-образная правая G=470 H=1950",3972,{"$f":"ROUND(C1614*(1-$C$3)/Лист2!$A$6,0)","v":3972}]
["T-SC 11472000","Боковина декоративная ЛДСП Г-образная правая G=470 H=2000",3993,{"$f":"ROUND(C1615*(1-$C$3)/Лист2!$A$6,0)","v":3993}]
["T-SC 11472050","Боковина декоративная ЛДСП Г-образная правая G=470 H=2050",4004,{"$f":"ROUND(C1616*(1-$C$3)/Лист2!$A$6,0)","v":4004}]
["T-SC 11472100","Боковина декоративная ЛДСП Г-образная правая G=470 H=2100",4081,{"$f":"ROUND(C1617*(1-$C$3)/Лист2!$A$6,0)","v":4081}]
["T-SC 11472150","Боковина декоративная ЛДСП Г-образная правая G=470 H=2150",4196,{"$f":"ROUND(C1618*(1-$C$3)/Лист2!$A$6,0)","v":4196}]
["T-SC 11472200","Боковина декоративная ЛДСП Г-образная правая G=470 H=2200",4196,{"$f":"ROUND(C1619*(1-$C$3)/Лист2!$A$6,0)","v":4196}]
["T-SC 11472250","Боковина декоративная ЛДСП Г-образная правая G=470 H=2250",4207,{"$f":"ROUND(C1620*(1-$C$3)/Лист2!$A$6,0)","v":4207}]
["T-SC 11472300","Боковина декоративная ЛДСП Г-образная правая G=470 H=2300",4211,{"$f":"ROUND(C1621*(1-$C$3)/Лист2!$A$6,0)","v":4211}]
["T-SC 11472350","Боковина декоративная ЛДСП Г-образная правая G=470 H=2350",4215,{"$f":"ROUND(C1622*(1-$C$3)/Лист2!$A$6,0)","v":4215}]
["T-SC 11472400","Боковина декоративная ЛДСП Г-образная правая G=470 H=2400",4219,{"$f":"ROUND(C1623*(1-$C$3)/Лист2!$A$6,0)","v":4219}]
["T-SC 11571850","Боковина декоративная ЛДСП Г-образная правая G=570 H=1850",4138,{"$f":"ROUND(C1624*(1-$C$3)/Лист2!$A$6,0)","v":4138}]
["T-SC 11571900","Боковина декоративная ЛДСП Г-образная правая G=570 H=1900",4222,{"$f":"ROUND(C1625*(1-$C$3)/Лист2!$A$6,0)","v":4222}]
["T-SC 11571950","Боковина декоративная ЛДСП Г-образная правая G=570 H=1950",4243,{"$f":"ROUND(C1626*(1-$C$3)/Лист2!$A$6,0)","v":4243}]
["T-SC 11572000","Боковина декоративная ЛДСП Г-образная правая G=570 H=2000",4267,{"$f":"ROUND(C1627*(1-$C$3)/Лист2!$A$6,0)","v":4267}]
["T-SC 11572050","Боковина декоративная ЛДСП Г-образная правая G=570 H=2050",4283,{"$f":"ROUND(C1628*(1-$C$3)/Лист2!$A$6,0)","v":4283}]
["T-SC 11572100","Боковина декоративная ЛДСП Г-образная правая G=570 H=2100",4298,{"$f":"ROUND(C1629*(1-$C$3)/Лист2!$A$6,0)","v":4298}]
["T-SC 11572150","Боковина декоративная ЛДСП Г-образная правая G=570 H=2150",4421,{"$f":"ROUND(C1630*(1-$C$3)/Лист2!$A$6,0)","v":4421}]
["T-SC 11572200","Боковина декоративная ЛДСП Г-образная правая G=570 H=2200",4442,{"$f":"ROUND(C1631*(1-$C$3)/Лист2!$A$6,0)","v":4442}]
["T-SC 11572250","Боковина декоративная ЛДСП Г-образная правая G=570 H=2250",4460,{"$f":"ROUND(C1632*(1-$C$3)/Лист2!$A$6,0)","v":4460}]
["T-SC 11572300","Боковина декоративная ЛДСП Г-образная правая G=570 H=2300",4486,{"$f":"ROUND(C1633*(1-$C$3)/Лист2!$A$6,0)","v":4486}]
["T-SC 11572350","Боковина декоративная ЛДСП Г-образная правая G=570 H=2350",4518,{"$f":"ROUND(C1634*(1-$C$3)/Лист2!$A$6,0)","v":4518}]
["T-SC 11572400","Боковина декоративная ЛДСП Г-образная правая G=570 H=2400",4563,{"$f":"ROUND(C1635*(1-$C$3)/Лист2!$A$6,0)","v":4563}]
["T-SC 11671850","Боковина декоративная ЛДСП Г-образная правая G=670 H=1850",4421,{"$f":"ROUND(C1636*(1-$C$3)/Лист2!$A$6,0)","v":4421}]
["T-SC 11671900","Боковина декоративная ЛДСП Г-образная правая G=670 H=1900",4432,{"$f":"ROUND(C1637*(1-$C$3)/Лист2!$A$6,0)","v":4432}]
["T-SC 11671950","Боковина декоративная ЛДСП Г-образная правая G=670 H=1950",4436,{"$f":"ROUND(C1638*(1-$C$3)/Лист2!$A$6,0)","v":4436}]
["T-SC 11672000","Боковина декоративная ЛДСП Г-образная правая G=670 H=2000",4442,{"$f":"ROUND(C1639*(1-$C$3)/Лист2!$A$6,0)","v":4442}]
["T-SC 11672050","Боковина декоративная ЛДСП Г-образная правая G=670 H=2050",4450,{"$f":"ROUND(C1640*(1-$C$3)/Лист2!$A$6,0)","v":4450}]
["T-SC 11672100","Боковина декоративная ЛДСП Г-образная правая G=670 H=2100",4453,{"$f":"ROUND(C1641*(1-$C$3)/Лист2!$A$6,0)","v":4453}]
["T-SC 11672150","Боковина декоративная ЛДСП Г-образная правая G=670 H=2150",4586,{"$f":"ROUND(C1642*(1-$C$3)/Лист2!$A$6,0)","v":4586}]
["T-SC 11672200","Боковина декоративная ЛДСП Г-образная правая G=670 H=2200",4603,{"$f":"ROUND(C1643*(1-$C$3)/Лист2!$A$6,0)","v":4603}]
["T-SC 11672250","Боковина декоративная ЛДСП Г-образная правая G=670 H=2250",4611,{"$f":"ROUND(C1644*(1-$C$3)/Лист2!$A$6,0)","v":4611}]
["T-SC 11672300","Боковина декоративная ЛДСП Г-образная правая G=670 H=2300",4645,{"$f":"ROUND(C1645*(1-$C$3)/Лист2!$A$6,0)","v":4645}]
["T-SC 11672350","Боковина декоративная ЛДСП Г-образная правая G=670 H=2350",4650,{"$f":"ROUND(C1646*(1-$C$3)/Лист2!$A$6,0)","v":4650}]
["T-SC 11672400","Боковина декоративная ЛДСП Г-образная правая G=670 H=2400",4673,{"$f":"ROUND(C1647*(1-$C$3)/Лист2!$A$6,0)","v":4673}]
["T-SC 02471100","Боковина декоративная ЛДСП Т-образная G=2х470 H=1100",4061,{"$f":"ROUND(C1648*(1-$C$3)/Лист2!$A$6,0)","v":4061}]
["T-SC 02471150","Боковина декоративная ЛДСП Т-образная G=2х470 H=1150",4081,{"$f":"ROUND(C1649*(1-$C$3)/Лист2!$A$6,0)","v":4081}]
["T-SC 02471200","Боковина декоративная ЛДСП Т-образная G=2х470 H=1200",4104,{"$f":"ROUND(C1650*(1-$C$3)/Лист2!$A$6,0)","v":4104}]
["T-SC 02471250","Боковина декоративная ЛДСП Т-образная G=2х470 H=1250",4115,{"$f":"ROUND(C1651*(1-$C$3)/Лист2!$A$6,0)","v":4115}]
["T-SC 02471300","Боковина декоративная ЛДСП Т-образная G=2х470 H=1300",4262,{"$f":"ROUND(C1652*(1-$C$3)/Лист2!$A$6,0)","v":4262}]
["T-SC 02471350","Боковина декоративная ЛДСП Т-образная G=2х470 H=1350",4272,{"$f":"ROUND(C1653*(1-$C$3)/Лист2!$A$6,0)","v":4272}]
["T-SC 02471400","Боковина декоративная ЛДСП Т-образная G=2х470 H=1400",4298,{"$f":"ROUND(C1654*(1-$C$3)/Лист2!$A$6,0)","v":4298}]
["T-SC 02471450","Боковина декоративная ЛДСП Т-образная G=2х470 H=1450",4304,{"$f":"ROUND(C1655*(1-$C$3)/Лист2!$A$6,0)","v":4304}]
["T-SC 02471500","Боковина декоративная ЛДСП Т-образная G=2х470 H=1500",4451,{"$f":"ROUND(C1656*(1-$C$3)/Лист2!$A$6,0)","v":4451}]
["T-SC 02471550","Боковина декоративная ЛДСП Т-образная G=2х470 H=1550",4469,{"$f":"ROUND(C1657*(1-$C$3)/Лист2!$A$6,0)","v":4469}]
["T-SC 02471600","Боковина декоративная ЛДСП Т-образная G=2х470 H=1600",4485,{"$f":"ROUND(C1658*(1-$C$3)/Лист2!$A$6,0)","v":4485}]
["T-SC 02471650","Боковина декоративная ЛДСП Т-образная G=2х470 H=1650",4518,{"$f":"ROUND(C1659*(1-$C$3)/Лист2!$A$6,0)","v":4518}]
["T-SC 02471700","Боковина декоративная ЛДСП Т-образная G=2х470 H=1700",4696,{"$f":"ROUND(C1660*(1-$C$3)/Лист2!$A$6,0)","v":4696}]
["T-SC 02471750","Боковина декоративная ЛДСП Т-образная G=2х470 H=1750",4712,{"$f":"ROUND(C1661*(1-$C$3)/Лист2!$A$6,0)","v":4712}]
["T-SC 02471800","Боковина декоративная ЛДСП Т-образная G=2х470 H=1800",4744,{"$f":"ROUND(C1662*(1-$C$3)/Лист2!$A$6,0)","v":4744}]
["T-SC 02471850","Боковина декоративная ЛДСП Т-образная G=2х470 H=1850",4793,{"$f":"ROUND(C1663*(1-$C$3)/Лист2!$A$6,0)","v":4793}]
["T-SC 02571100","Боковина декоративная ЛДСП Т-образная G=2х570 H=1100",4294,{"$f":"ROUND(C1664*(1-$C$3)/Лист2!$A$6,0)","v":4294}]
["T-SC 02571150","Боковина декоративная ЛДСП Т-образная G=2х570 H=1150",4324,{"$f":"ROUND(C1665*(1-$C$3)/Лист2!$A$6,0)","v":4324}]
["T-SC 02571200","Боковина декоративная ЛДСП Т-образная G=2х570 H=1200",4354,{"$f":"ROUND(C1666*(1-$C$3)/Лист2!$A$6,0)","v":4354}]
["T-SC 02571250","Боковина декоративная ЛДСП Т-образная G=2х570 H=1250",4371,{"$f":"ROUND(C1667*(1-$C$3)/Лист2!$A$6,0)","v":4371}]
["T-SC 02571300","Боковина декоративная ЛДСП Т-образная G=2х570 H=1300",4509,{"$f":"ROUND(C1668*(1-$C$3)/Лист2!$A$6,0)","v":4509}]
["T-SC 02571350","Боковина декоративная ЛДСП Т-образная G=2х570 H=1350",4540,{"$f":"ROUND(C1669*(1-$C$3)/Лист2!$A$6,0)","v":4540}]
["T-SC 02571400","Боковина декоративная ЛДСП Т-образная G=2х570 H=1400",4581,{"$f":"ROUND(C1670*(1-$C$3)/Лист2!$A$6,0)","v":4581}]
["T-SC 02571450","Боковина декоративная ЛДСП Т-образная G=2х570 H=1450",4589,{"$f":"ROUND(C1671*(1-$C$3)/Лист2!$A$6,0)","v":4589}]
["T-SC 02571500","Боковина декоративная ЛДСП Т-образная G=2х570 H=1500",4733,{"$f":"ROUND(C1672*(1-$C$3)/Лист2!$A$6,0)","v":4733}]
["T-SC 02571550","Боковина декоративная ЛДСП Т-образная G=2х570 H=1550",4757,{"$f":"ROUND(C1673*(1-$C$3)/Лист2!$A$6,0)","v":4757}]
["T-SC 02571600","Боковина декоративная ЛДСП Т-образная G=2х570 H=1600",4781,{"$f":"ROUND(C1674*(1-$C$3)/Лист2!$A$6,0)","v":4781}]
["T-SC 02571650","Боковина декоративная ЛДСП Т-образная G=2х570 H=1650",4804,{"$f":"ROUND(C1675*(1-$C$3)/Лист2!$A$6,0)","v":4804}]
["T-SC 02571700","Боковина декоративная ЛДСП Т-образная G=2х570 H=1700",4964,{"$f":"ROUND(C1676*(1-$C$3)/Лист2!$A$6,0)","v":4964}]
["T-SC 02571750","Боковина декоративная ЛДСП Т-образная G=2х570 H=1750",4981,{"$f":"ROUND(C1677*(1-$C$3)/Лист2!$A$6,0)","v":4981}]
["T-SC 02571800","Боковина декоративная ЛДСП Т-образная G=2х570 H=1800",5013,{"$f":"ROUND(C1678*(1-$C$3)/Лист2!$A$6,0)","v":5013}]
["T-SC 02571850","Боковина декоративная ЛДСП Т-образная G=2х570 H=1850",5044,{"$f":"ROUND(C1679*(1-$C$3)/Лист2!$A$6,0)","v":5044}]
["T-SC 02671100","Боковина декоративная ЛДСП Т-образная G=2х670 H=1100",4532,{"$f":"ROUND(C1680*(1-$C$3)/Лист2!$A$6,0)","v":4532}]
["T-SC 02671150","Боковина декоративная ЛДСП Т-образная G=2х670 H=1150",4540,{"$f":"ROUND(C1681*(1-$C$3)/Лист2!$A$6,0)","v":4540}]
["T-SC 02671200","Боковина декоративная ЛДСП Т-образная G=2х670 H=1200",4559,{"$f":"ROUND(C1682*(1-$C$3)/Лист2!$A$6,0)","v":4559}]
["T-SC 02671250","Боковина декоративная ЛДСП Т-образная G=2х670 H=1250",4630,{"$f":"ROUND(C1683*(1-$C$3)/Лист2!$A$6,0)","v":4630}]
["T-SC 02671300","Боковина декоративная ЛДСП Т-образная G=2х670 H=1300",4743,{"$f":"ROUND(C1684*(1-$C$3)/Лист2!$A$6,0)","v":4743}]
["T-SC 02671350","Боковина декоративная ЛДСП Т-образная G=2х670 H=1350",4775,{"$f":"ROUND(C1685*(1-$C$3)/Лист2!$A$6,0)","v":4775}]
["T-SC 02671400","Боковина декоративная ЛДСП Т-образная G=2х670 H=1400",4800,{"$f":"ROUND(C1686*(1-$C$3)/Лист2!$A$6,0)","v":4800}]
["T-SC 02671450","Боковина декоративная ЛДСП Т-образная G=2х670 H=1450",4810,{"$f":"ROUND(C1687*(1-$C$3)/Лист2!$A$6,0)","v":4810}]
["T-SC 02671500","Боковина декоративная ЛДСП Т-образная G=2х670 H=1500",4955,{"$f":"ROUND(C1688*(1-$C$3)/Лист2!$A$6,0)","v":4955}]
["T-SC 02671550","Боковина декоративная ЛДСП Т-образная G=2х670 H=1550",4974,{"$f":"ROUND(C1689*(1-$C$3)/Лист2!$A$6,0)","v":4974}]
["T-SC 02671600","Боковина декоративная ЛДСП Т-образная G=2х670 H=1600",5006,{"$f":"ROUND(C1690*(1-$C$3)/Лист2!$A$6,0)","v":5006}]
["T-SC 02671650","Боковина декоративная ЛДСП Т-образная G=2х670 H=1650",5035,{"$f":"ROUND(C1691*(1-$C$3)/Лист2!$A$6,0)","v":5035}]
["T-SC 02671700","Боковина декоративная ЛДСП Т-образная G=2х670 H=1700",5192,{"$f":"ROUND(C1692*(1-$C$3)/Лист2!$A$6,0)","v":5192}]
["T-SC 02671750","Боковина декоративная ЛДСП Т-образная G=2х670 H=1750",5211,{"$f":"ROUND(C1693*(1-$C$3)/Лист2!$A$6,0)","v":5211}]
["T-SC 02671800","Боковина декоративная ЛДСП Т-образная G=2х670 H=1800",5253,{"$f":"ROUND(C1694*(1-$C$3)/Лист2!$A$6,0)","v":5253}]
["T-SC 02671850","Боковина декоративная ЛДСП Т-образная G=2х670 H=1850",5274,{"$f":"ROUND(C1695*(1-$C$3)/Лист2!$A$6,0)","v":5274}]
["T-SO 02471600","Боковина декоративная ЛДСП овальная G=2х470 H=1600",8226,{"$f":"ROUND(C1696*(1-$C$3)/Лист2!$A$6,0)","v":8226}]
["T-SD 02371600","Боковина декоративная ЛДСП островная G=2х370 H=1600",7123,{"$f":"ROUND(C1697*(1-$C$3)/Лист2!$A$6,0)","v":7123}]
["T-SD 02371650","Боковина декоративная ЛДСП островная G=2х370 H=1650",7222,{"$f":"ROUND(C1698*(1-$C$3)/Лист2!$A$6,0)","v":7222}]
["T-SD 02371700","Боковина декоративная ЛДСП островная G=2х370 H=1700",7349,{"$f":"ROUND(C1699*(1-$C$3)/Лист2!$A$6,0)","v":7349}]
["T-SD 02371750","Боковина декоративная ЛДСП островная G=2х370 H=1750",7526,{"$f":"ROUND(C1700*(1-$C$3)/Лист2!$A$6,0)","v":7526}]
["T-SD 02371800","Боковина декоративная ЛДСП островная G=2х370 H=1800",7584,{"$f":"ROUND(C1701*(1-$C$3)/Лист2!$A$6,0)","v":7584}]
["T-SD 02371850","Боковина декоративная ЛДСП островная G=2х370 H=1850",7786,{"$f":"ROUND(C1702*(1-$C$3)/Лист2!$A$6,0)","v":7786}]
["T-SD 02371900","Боковина декоративная ЛДСП островная G=2х370 H=1900",7868,{"$f":"ROUND(C1703*(1-$C$3)/Лист2!$A$6,0)","v":7868}]
["T-SD 02371950","Боковина декоративная ЛДСП островная G=2х370 H=1950",8005,{"$f":"ROUND(C1704*(1-$C$3)/Лист2!$A$6,0)","v":8005}]
["T-SD 02372000","Боковина декоративная ЛДСП островная G=2х370 H=2000",8205,{"$f":"ROUND(C1705*(1-$C$3)/Лист2!$A$6,0)","v":8205}]
["T-SD 02372050","Боковина декоративная ЛДСП островная G=2х370 H=2050",8324,{"$f":"ROUND(C1706*(1-$C$3)/Лист2!$A$6,0)","v":8324}]
["T-SD 02372100","Боковина декоративная ЛДСП островная G=2х370 H=2100",8540,{"$f":"ROUND(C1707*(1-$C$3)/Лист2!$A$6,0)","v":8540}]
["T-SD 02372150","Боковина декоративная ЛДСП островная G=2х370 H=2150",8595,{"$f":"ROUND(C1708*(1-$C$3)/Лист2!$A$6,0)","v":8595}]
["T-SD 02372200","Боковина декоративная ЛДСП островная G=2х370 H=2200",8757,{"$f":"ROUND(C1709*(1-$C$3)/Лист2!$A$6,0)","v":8757}]
["T-SD 02372250","Боковина декоративная ЛДСП островная G=2х370 H=2250",8826,{"$f":"ROUND(C1710*(1-$C$3)/Лист2!$A$6,0)","v":8826}]
["T-SD 02372300","Боковина декоративная ЛДСП островная G=2х370 H=2300",8977,{"$f":"ROUND(C1711*(1-$C$3)/Лист2!$A$6,0)","v":8977}]
["T-SD 02372350","Боковина декоративная ЛДСП островная G=2х370 H=2350",9048,{"$f":"ROUND(C1712*(1-$C$3)/Лист2!$A$6,0)","v":9048}]
["T-SD 02372400","Боковина декоративная ЛДСП островная G=2х370 H=2400",9228,{"$f":"ROUND(C1713*(1-$C$3)/Лист2!$A$6,0)","v":9228}]
["T-SD 02471600","Боковина декоративная ЛДСП островная G=2х470 H=1600",7810,{"$f":"ROUND(C1714*(1-$C$3)/Лист2!$A$6,0)","v":7810}]
["T-SD 02471650","Боковина декоративная ЛДСП островная G=2х470 H=1650",7989,{"$f":"ROUND(C1715*(1-$C$3)/Лист2!$A$6,0)","v":7989}]
["T-SD 02471700","Боковина декоративная ЛДСП островная G=2х470 H=1700",8064,{"$f":"ROUND(C1716*(1-$C$3)/Лист2!$A$6,0)","v":8064}]
["T-SD 02471750","Боковина декоративная ЛДСП островная G=2х470 H=1750",8217,{"$f":"ROUND(C1717*(1-$C$3)/Лист2!$A$6,0)","v":8217}]
["T-SD 02471800","Боковина декоративная ЛДСП островная G=2х470 H=1800",8397,{"$f":"ROUND(C1718*(1-$C$3)/Лист2!$A$6,0)","v":8397}]
["T-SD 02471850","Боковина декоративная ЛДСП островная G=2х470 H=1850",8495,{"$f":"ROUND(C1719*(1-$C$3)/Лист2!$A$6,0)","v":8495}]
["T-SD 02471900","Боковина декоративная ЛДСП островная G=2х470 H=1900",8645,{"$f":"ROUND(C1720*(1-$C$3)/Лист2!$A$6,0)","v":8645}]
["T-SD 02471950","Боковина декоративная ЛДСП островная G=2х470 H=1950",8820,{"$f":"ROUND(C1721*(1-$C$3)/Лист2!$A$6,0)","v":8820}]
["T-SD 02472000","Боковина декоративная ЛДСП островная G=2х470 H=2000",9018,{"$f":"ROUND(C1722*(1-$C$3)/Лист2!$A$6,0)","v":9018}]
["T-SD 02472050","Боковина декоративная ЛДСП островная G=2х470 H=2050",9151,{"$f":"ROUND(C1723*(1-$C$3)/Лист2!$A$6,0)","v":9151}]
["T-SD 02472100","Боковина декоративная ЛДСП островная G=2х470 H=2100",9365,{"$f":"ROUND(C1724*(1-$C$3)/Лист2!$A$6,0)","v":9365}]
["T-SD 02472150","Боковина декоративная ЛДСП островная G=2х470 H=2150",9463,{"$f":"ROUND(C1725*(1-$C$3)/Лист2!$A$6,0)","v":9463}]
["T-SD 02472200","Боковина декоративная ЛДСП островная G=2х470 H=2200",9586,{"$f":"ROUND(C1726*(1-$C$3)/Лист2!$A$6,0)","v":9586}]
["T-SD 02472250","Боковина декоративная ЛДСП островная G=2х470 H=2250",9766,{"$f":"ROUND(C1727*(1-$C$3)/Лист2!$A$6,0)","v":9766}]
["T-SD 02472300","Боковина декоративная ЛДСП островная G=2х470 H=2300",9938,{"$f":"ROUND(C1728*(1-$C$3)/Лист2!$A$6,0)","v":9938}]
["T-SD 02472350","Боковина декоративная ЛДСП островная G=2х470 H=2350",10045,{"$f":"ROUND(C1729*(1-$C$3)/Лист2!$A$6,0)","v":10045}]
["T-SD 02472400","Боковина декоративная ЛДСП островная G=2х470 H=2400",10194,{"$f":"ROUND(C1730*(1-$C$3)/Лист2!$A$6,0)","v":10194}]
["T-SD 02571600","Боковина декоративная ЛДСП островная G=2х570 H=1600",8597,{"$f":"ROUND(C1731*(1-$C$3)/Лист2!$A$6,0)","v":8597}]
["T-SD 02571650","Боковина декоративная ЛДСП островная G=2х570 H=1650",8775,{"$f":"ROUND(C1732*(1-$C$3)/Лист2!$A$6,0)","v":8775}]
["T-SD 02571700","Боковина декоративная ЛДСП островная G=2х570 H=1700",8868,{"$f":"ROUND(C1733*(1-$C$3)/Лист2!$A$6,0)","v":8868}]
["T-SD 02571750","Боковина декоративная ЛДСП островная G=2х570 H=1750",9003,{"$f":"ROUND(C1734*(1-$C$3)/Лист2!$A$6,0)","v":9003}]
["T-SD 02571800","Боковина декоративная ЛДСП островная G=2х570 H=1800",9186,{"$f":"ROUND(C1735*(1-$C$3)/Лист2!$A$6,0)","v":9186}]
["T-SD 02571850","Боковина декоративная ЛДСП островная G=2х570 H=1850",9397,{"$f":"ROUND(C1736*(1-$C$3)/Лист2!$A$6,0)","v":9397}]
["T-SD 02571900","Боковина декоративная ЛДСП островная G=2х570 H=1900",9580,{"$f":"ROUND(C1737*(1-$C$3)/Лист2!$A$6,0)","v":9580}]
["T-SD 02571950","Боковина декоративная ЛДСП островная G=2х570 H=1950",9672,{"$f":"ROUND(C1738*(1-$C$3)/Лист2!$A$6,0)","v":9672}]
["T-SD 02572000","Боковина декоративная ЛДСП островная G=2х570 H=2000",9901,{"$f":"ROUND(C1739*(1-$C$3)/Лист2!$A$6,0)","v":9901}]
["T-SD 02572050","Боковина декоративная ЛДСП островная G=2х570 H=2050",10088,{"$f":"ROUND(C1740*(1-$C$3)/Лист2!$A$6,0)","v":10088}]
["T-SD 02572100","Боковина декоративная ЛДСП островная G=2х570 H=2100",10295,{"$f":"ROUND(C1741*(1-$C$3)/Лист2!$A$6,0)","v":10295}]
["T-SD 02572150","Боковина декоративная ЛДСП островная G=2х570 H=2150",10475,{"$f":"ROUND(C1742*(1-$C$3)/Лист2!$A$6,0)","v":10475}]
["T-SD 02572200","Боковина декоративная ЛДСП островная G=2х570 H=2200",10658,{"$f":"ROUND(C1743*(1-$C$3)/Лист2!$A$6,0)","v":10658}]
["T-SD 02572250","Боковина декоративная ЛДСП островная G=2х570 H=2250",10748,{"$f":"ROUND(C1744*(1-$C$3)/Лист2!$A$6,0)","v":10748}]
["T-SD 02572300","Боковина декоративная ЛДСП островная G=2х570 H=2300",10871,{"$f":"ROUND(C1745*(1-$C$3)/Лист2!$A$6,0)","v":10871}]
["T-SD 02572350","Боковина декоративная ЛДСП островная G=2х570 H=2350",11092,{"$f":"ROUND(C1746*(1-$C$3)/Лист2!$A$6,0)","v":11092}]
["T-SD 02572400","Боковина декоративная ЛДСП островная G=2х570 H=2400",11265,{"$f":"ROUND(C1747*(1-$C$3)/Лист2!$A$6,0)","v":11265}]
["T-SD 02671600","Боковина декоративная ЛДСП островная G=2х670 H=1600",9285,{"$f":"ROUND(C1748*(1-$C$3)/Лист2!$A$6,0)","v":9285}]
["T-SD 02671650","Боковина декоративная ЛДСП островная G=2х670 H=1650",9469,{"$f":"ROUND(C1749*(1-$C$3)/Лист2!$A$6,0)","v":9469}]
["T-SD 02671700","Боковина декоративная ЛДСП островная G=2х670 H=1700",9652,{"$f":"ROUND(C1750*(1-$C$3)/Лист2!$A$6,0)","v":9652}]
["T-SD 02671750","Боковина декоративная ЛДСП островная G=2х670 H=1750",9832,{"$f":"ROUND(C1751*(1-$C$3)/Лист2!$A$6,0)","v":9832}]
["T-SD 02671800","Боковина декоративная ЛДСП островная G=2х670 H=1800",10009,{"$f":"ROUND(C1752*(1-$C$3)/Лист2!$A$6,0)","v":10009}]
["T-SD 02671850","Боковина декоративная ЛДСП островная G=2х670 H=1850",10131,{"$f":"ROUND(C1753*(1-$C$3)/Лист2!$A$6,0)","v":10131}]
["T-SD 02671900","Боковина декоративная ЛДСП островная G=2х670 H=1900",10270,{"$f":"ROUND(C1754*(1-$C$3)/Лист2!$A$6,0)","v":10270}]
["T-SD 02671950","Боковина декоративная ЛДСП островная G=2х670 H=1950",10449,{"$f":"ROUND(C1755*(1-$C$3)/Лист2!$A$6,0)","v":10449}]
["T-SD 02672000","Боковина декоративная ЛДСП островная G=2х670 H=2000",10728,{"$f":"ROUND(C1756*(1-$C$3)/Лист2!$A$6,0)","v":10728}]
["T-SD 02672050","Боковина декоративная ЛДСП островная G=2х670 H=2050",10908,{"$f":"ROUND(C1757*(1-$C$3)/Лист2!$A$6,0)","v":10908}]
["T-SD 02672100","Боковина декоративная ЛДСП островная G=2х670 H=2100",11130,{"$f":"ROUND(C1758*(1-$C$3)/Лист2!$A$6,0)","v":11130}]
["T-SD 02672150","Боковина декоративная ЛДСП островная G=2х670 H=2150",11308,{"$f":"ROUND(C1759*(1-$C$3)/Лист2!$A$6,0)","v":11308}]
["T-SD 02672200","Боковина декоративная ЛДСП островная G=2х670 H=2200",11483,{"$f":"ROUND(C1760*(1-$C$3)/Лист2!$A$6,0)","v":11483}]
["T-SD 02672250","Боковина декоративная ЛДСП островная G=2х670 H=2250",11661,{"$f":"ROUND(C1761*(1-$C$3)/Лист2!$A$6,0)","v":11661}]
["T-SD 02672300","Боковина декоративная ЛДСП островная G=2х670 H=2300",11843,{"$f":"ROUND(C1762*(1-$C$3)/Лист2!$A$6,0)","v":11843}]
["T-SD 02672350","Боковина декоративная ЛДСП островная G=2х670 H=2350",12166,{"$f":"ROUND(C1763*(1-$C$3)/Лист2!$A$6,0)","v":12166}]
["T-SD 02672400","Боковина декоративная ЛДСП островная G=2х670 H=2400",12345,{"$f":"ROUND(C1764*(1-$C$3)/Лист2!$A$6,0)","v":12345}]
["T-SD 02771600","Боковина декоративная ЛДСП островная G=2х770 H=1600",10065,{"$f":"ROUND(C1765*(1-$C$3)/Лист2!$A$6,0)","v":10065}]
["T-SD 02771650","Боковина декоративная ЛДСП островная G=2х770 H=1650",10241,{"$f":"ROUND(C1766*(1-$C$3)/Лист2!$A$6,0)","v":10241}]
["T-SD 02771700","Боковина декоративная ЛДСП островная G=2х770 H=1700",10444,{"$f":"ROUND(C1767*(1-$C$3)/Лист2!$A$6,0)","v":10444}]
["T-SD 02771750","Боковина декоративная ЛДСП островная G=2х770 H=1750",10614,{"$f":"ROUND(C1768*(1-$C$3)/Лист2!$A$6,0)","v":10614}]
["T-SD 02771800","Боковина декоративная ЛДСП островная G=2х770 H=1800",10796,{"$f":"ROUND(C1769*(1-$C$3)/Лист2!$A$6,0)","v":10796}]
["T-SD 02771850","Боковина декоративная ЛДСП островная G=2х770 H=1850",11013,{"$f":"ROUND(C1770*(1-$C$3)/Лист2!$A$6,0)","v":11013}]
["T-SD 02771900","Боковина декоративная ЛДСП островная G=2х770 H=1900",11195,{"$f":"ROUND(C1771*(1-$C$3)/Лист2!$A$6,0)","v":11195}]
["T-SD 02771950","Боковина декоративная ЛДСП островная G=2х770 H=1950",11365,{"$f":"ROUND(C1772*(1-$C$3)/Лист2!$A$6,0)","v":11365}]
["T-SD 02772000","Боковина декоративная ЛДСП островная G=2х770 H=2000",11660,{"$f":"ROUND(C1773*(1-$C$3)/Лист2!$A$6,0)","v":11660}]
["T-SD 02772050","Боковина декоративная ЛДСП островная G=2х770 H=2050",11839,{"$f":"ROUND(C1774*(1-$C$3)/Лист2!$A$6,0)","v":11839}]
["T-SD 02772100","Боковина декоративная ЛДСП островная G=2х770 H=2100",12060,{"$f":"ROUND(C1775*(1-$C$3)/Лист2!$A$6,0)","v":12060}]
["T-SD 02772150","Боковина декоративная ЛДСП островная G=2х770 H=2150",12238,{"$f":"ROUND(C1776*(1-$C$3)/Лист2!$A$6,0)","v":12238}]
["T-SD 02772200","Боковина декоративная ЛДСП островная G=2х770 H=2200",12415,{"$f":"ROUND(C1777*(1-$C$3)/Лист2!$A$6,0)","v":12415}]
["T-SD 02772250","Боковина декоративная ЛДСП островная G=2х770 H=2250",12592,{"$f":"ROUND(C1778*(1-$C$3)/Лист2!$A$6,0)","v":12592}]
["T-SD 02772300","Боковина декоративная ЛДСП островная G=2х770 H=2300",12902,{"$f":"ROUND(C1779*(1-$C$3)/Лист2!$A$6,0)","v":12902}]
["T-SD 02772350","Боковина декоративная ЛДСП островная G=2х770 H=2350",13119,{"$f":"ROUND(C1780*(1-$C$3)/Лист2!$A$6,0)","v":13119}]
["T-SD 02772400","Боковина декоративная ЛДСП островная G=2х770 H=2400",13306,{"$f":"ROUND(C1781*(1-$C$3)/Лист2!$A$6,0)","v":13306}]
["T-SW 01370665","Тумба с распашными дверцами (низкая)  L=665 G=370",9283,{"$f":"ROUND(C1782*(1-$C$3)/Лист2!$A$6,0)","v":9283}]
["T-SW 01470665","Тумба с распашными дверцами (низкая)  L=665 G=470",9721,{"$f":"ROUND(C1783*(1-$C$3)/Лист2!$A$6,0)","v":9721}]
["T-SW 01570665","Тумба с распашными дверцами (низкая)  L=665 G=570",9886,{"$f":"ROUND(C1784*(1-$C$3)/Лист2!$A$6,0)","v":9886}]
["T-SW 01371000","Тумба с распашными дверцами (низкая) L=1000 G=370",10313,{"$f":"ROUND(C1785*(1-$C$3)/Лист2!$A$6,0)","v":10313}]
["T-SW 01471000","Тумба с распашными дверцами (низкая) L=1000 G=470",10840,{"$f":"ROUND(C1786*(1-$C$3)/Лист2!$A$6,0)","v":10840}]
["T-SW 01571000","Тумба с распашными дверцами (низкая) L=1000 G=570",11060,{"$f":"ROUND(C1787*(1-$C$3)/Лист2!$A$6,0)","v":11060}]
["T-SW 01371250","Тумба с распашными дверцами (низкая) L=1250 G=370",11052,{"$f":"ROUND(C1788*(1-$C$3)/Лист2!$A$6,0)","v":11052}]
["T-SW 01471250","Тумба с распашными дверцами (низкая) L=1250 G=470",11556,{"$f":"ROUND(C1789*(1-$C$3)/Лист2!$A$6,0)","v":11556}]
["T-SW 01571250","Тумба с распашными дверцами (низкая) L=1250 G=570",11832,{"$f":"ROUND(C1790*(1-$C$3)/Лист2!$A$6,0)","v":11832}]
["T-SW 01371330","Тумба с распашными дверцами (низкая) L=1330 G=370",11405,{"$f":"ROUND(C1791*(1-$C$3)/Лист2!$A$6,0)","v":11405}]
["T-SW 01471330","Тумба с распашными дверцами (низкая) L=1330 G=470",11678,{"$f":"ROUND(C1792*(1-$C$3)/Лист2!$A$6,0)","v":11678}]
["T-SW 01571330","Тумба с распашными дверцами (низкая) L=1330 G=570",11993,{"$f":"ROUND(C1793*(1-$C$3)/Лист2!$A$6,0)","v":11993}]
["T-SW 02471000","Тумба с двумя ящиками (низкая) L=1000 G=470 L=1000 G=470",15806,{"$f":"ROUND(C1794*(1-$C$3)/Лист2!$A$6,0)","v":15806}]
["T-SW 03471000","Тумба с тремя ящиками (низкая) L=1000 G=470 L=1000 G=470",16962,{"$f":"ROUND(C1795*(1-$C$3)/Лист2!$A$6,0)","v":16962}]
["T-SW 04370665","Тумба с распашными дверцами (высокая)  L=665 G=370",10125,{"$f":"ROUND(C1796*(1-$C$3)/Лист2!$A$6,0)","v":10125}]
["T-SW 04470665","Тумба с распашными дверцами (высокая)  L=665 G=470",10502,{"$f":"ROUND(C1797*(1-$C$3)/Лист2!$A$6,0)","v":10502}]
["T-SW 04570665","Тумба с распашными дверцами (высокая)  L=665 G=570",10744,{"$f":"ROUND(C1798*(1-$C$3)/Лист2!$A$6,0)","v":10744}]
["T-SW 04371000","Тумба с распашными дверцами (высокая) L=1000 G=370",11365,{"$f":"ROUND(C1799*(1-$C$3)/Лист2!$A$6,0)","v":11365}]
["T-SW 04471000","Тумба с распашными дверцами (высокая) L=1000 G=470",11754,{"$f":"ROUND(C1800*(1-$C$3)/Лист2!$A$6,0)","v":11754}]
["T-SW 04571000","Тумба с распашными дверцами (высокая) L=1000 G=570",12146,{"$f":"ROUND(C1801*(1-$C$3)/Лист2!$A$6,0)","v":12146}]
["T-SW 04371250","Тумба с распашными дверцами (высокая) L=1250 G=370",12172,{"$f":"ROUND(C1802*(1-$C$3)/Лист2!$A$6,0)","v":12172}]
["T-SW 04471250","Тумба с распашными дверцами (высокая) L=1250 G=470",12670,{"$f":"ROUND(C1803*(1-$C$3)/Лист2!$A$6,0)","v":12670}]
["T-SW 04571250","Тумба с распашными дверцами (высокая) L=1250 G=570",13013,{"$f":"ROUND(C1804*(1-$C$3)/Лист2!$A$6,0)","v":13013}]
["T-SW 04371330","Тумба с распашными дверцами (высокая) L=1330 G=370",12345,{"$f":"ROUND(C1805*(1-$C$3)/Лист2!$A$6,0)","v":12345}]
["T-SW 04471330","Тумба с распашными дверцами (высокая) L=1330 G=470",13014,{"$f":"ROUND(C1806*(1-$C$3)/Лист2!$A$6,0)","v":13014}]
["T-SW 04571330","Тумба с распашными дверцами (высокая) L=1330 G=570",13346,{"$f":"ROUND(C1807*(1-$C$3)/Лист2!$A$6,0)","v":13346}]
["T-SW 10370665","Топ для тумбы  L=665 G=370",2102,{"$f":"ROUND(C1808*(1-$C$3)/Лист2!$A$6,0)","v":2102}]
["T-SW 10470665","Топ для тумбы  L=665 G=470",2524,{"$f":"ROUND(C1809*(1-$C$3)/Лист2!$A$6,0)","v":2524}]
["T-SW 10570665","Топ для тумбы  L=665 G=570",2936,{"$f":"ROUND(C1810*(1-$C$3)/Лист2!$A$6,0)","v":2936}]
["T-SW 10371000","Топ для тумбы L=1000 G=370",2784,{"$f":"ROUND(C1811*(1-$C$3)/Лист2!$A$6,0)","v":2784}]
["T-SW 10471000","Топ для тумбы L=1000 G=470",2896,{"$f":"ROUND(C1812*(1-$C$3)/Лист2!$A$6,0)","v":2896}]
["T-SW 10571000","Топ для тумбы L=1000 G=570",3527,{"$f":"ROUND(C1813*(1-$C$3)/Лист2!$A$6,0)","v":3527}]
["T-SW 10371250","Топ для тумбы L=1250 G=370",3042,{"$f":"ROUND(C1814*(1-$C$3)/Лист2!$A$6,0)","v":3042}]
["T-SW 10471250","Топ для тумбы L=1250 G=470",3469,{"$f":"ROUND(C1815*(1-$C$3)/Лист2!$A$6,0)","v":3469}]
["T-SW 10571250","Топ для тумбы L=1250 G=570",3855,{"$f":"ROUND(C1816*(1-$C$3)/Лист2!$A$6,0)","v":3855}]
["T-SW 11471000","Топ под стеклянные раздвижные двери для тумбы L=1000 G=470",2008,{"$f":"ROUND(C1817*(1-$C$3)/Лист2!$A$6,0)","v":2008}]
["T-SW 12471000","Столешница (постформинг) для тумбы L=1000 G=470",11923,{"$f":"ROUND(C1818*(1-$C$3)/Лист2!$A$6,0)","v":11923}]
["T-SH 01771000","Накопитель для бутылок  L=1000 B=457 H=775 ",10862,{"$f":"ROUND(C1819*(1-$C$3)/Лист2!$A$6,0)","v":10862}]
["T-DG 01662200","Двери стеклянные раздвижные для низкой тумбы  L=665 H=2200",22835,{"$f":"ROUND(C1820*(1-$C$3)/Лист2!$A$6,0)","v":22835}]
["T-DG 01662300","Двери стеклянные раздвижные для низкой тумбы  L=665 H=2300",22947,{"$f":"ROUND(C1821*(1-$C$3)/Лист2!$A$6,0)","v":22947}]
["T-DG 01662400","Двери стеклянные раздвижные для низкой тумбы  L=665 H=2400",23080,{"$f":"ROUND(C1822*(1-$C$3)/Лист2!$A$6,0)","v":23080}]
["T-DG 01102200","Двери стеклянные раздвижные для низкой тумбы L=1000 H=2200",27872,{"$f":"ROUND(C1823*(1-$C$3)/Лист2!$A$6,0)","v":27872}]
["T-DG 01102300","Двери стеклянные раздвижные для низкой тумбы L=1000 H=2300",28024,{"$f":"ROUND(C1824*(1-$C$3)/Лист2!$A$6,0)","v":28024}]
["T-DG 01102400","Двери стеклянные раздвижные для низкой тумбы L=1000 H=2400",28171,{"$f":"ROUND(C1825*(1-$C$3)/Лист2!$A$6,0)","v":28171}]
["T-DG 02662200","Двери стеклянные раздвижные для высокой тумбы  L=665 H=2200",22454,{"$f":"ROUND(C1826*(1-$C$3)/Лист2!$A$6,0)","v":22454}]
["T-DG 02662300","Двери стеклянные раздвижные для высокой тумбы  L=665 H=2300",22556,{"$f":"ROUND(C1827*(1-$C$3)/Лист2!$A$6,0)","v":22556}]
["T-DG 02662400","Двери стеклянные раздвижные для высокой тумбы  L=665 H=2400",22706,{"$f":"ROUND(C1828*(1-$C$3)/Лист2!$A$6,0)","v":22706}]
["T-DG 02102200","Двери стеклянные раздвижные для высокой тумбы L=1000 H=2200",27496,{"$f":"ROUND(C1829*(1-$C$3)/Лист2!$A$6,0)","v":27496}]
["T-DG 02102300","Двери стеклянные раздвижные для высокой тумбы L=1000 H=2300",27644,{"$f":"ROUND(C1830*(1-$C$3)/Лист2!$A$6,0)","v":27644}]
["Т-DG 02102350","Двери стеклянные раздвижные для высокой тумбы L=1000 H=2350",27985,{"$f":"ROUND(C1831*(1-$C$3)/Лист2!$A$6,0)","v":27985}]
["T-DG 02102400","Двери стеклянные раздвижные для высокой тумбы L=1000 H=2400",27795,{"$f":"ROUND(C1832*(1-$C$3)/Лист2!$A$6,0)","v":27795}]
["T-BS 01030210","Кронштейн для полок из ДСП с полукруглым профилем (комплект) G=210",565,{"$f":"ROUND(C1833*(1-$C$3)/Лист2!$A$6,0)","v":565}]
["T-BS 01030310","Кронштейн для полок из ДСП с полукруглым профилем (комплект) G=310",691,{"$f":"ROUND(C1834*(1-$C$3)/Лист2!$A$6,0)","v":691}]
["T-BS 01030370","Кронштейн для полок из ДСП с полукруглым профилем (комплект) G=370",825,{"$f":"ROUND(C1835*(1-$C$3)/Лист2!$A$6,0)","v":825}]
["T-BS 01030470","Кронштейн для полок из ДСП с полукруглым профилем (комплект) G=470",971,{"$f":"ROUND(C1836*(1-$C$3)/Лист2!$A$6,0)","v":971}]
["T-KW 03000280","Кронштейн  3-х позиционный для полки реечной (комплект) ",539,{"$f":"ROUND(C1837*(1-$C$3)/Лист2!$A$6,0)","v":539}]
["T-BS 01030300","Кронштейн для полок из ДСП с полукруглым  профилем (комплект) G=300",583,{"$f":"ROUND(C1838*(1-$C$3)/Лист2!$A$6,0)","v":583}]
["T-BS 01030400","Кронштейн для полок из ДСП с полукруглым  профилем (комплект) G=400",685,{"$f":"ROUND(C1839*(1-$C$3)/Лист2!$A$6,0)","v":685}]
["T-BS 01040210","Кронштейн для стеклянной полки (комплект) G=210",498,{"$f":"ROUND(C1840*(1-$C$3)/Лист2!$A$6,0)","v":498}]
["T-BS 01040300","Кронштейн для стеклянной полки (комплект) G=300",568,{"$f":"ROUND(C1841*(1-$C$3)/Лист2!$A$6,0)","v":568}]
["T-BS 01040310","Кронштейн для стеклянной полки (комплект) G=310",577,{"$f":"ROUND(C1842*(1-$C$3)/Лист2!$A$6,0)","v":577}]
["T-BS 01040370","Кронштейн для стеклянной полки (комплект) G=370",615,{"$f":"ROUND(C1843*(1-$C$3)/Лист2!$A$6,0)","v":615}]
["T-BS 01040400","Кронштейн для стеклянной полки (комплект) G=400",633,{"$f":"ROUND(C1844*(1-$C$3)/Лист2!$A$6,0)","v":633}]
["T-BS 01040470","Кронштейн для стеклянной полки (комплект) G=470",678,{"$f":"ROUND(C1845*(1-$C$3)/Лист2!$A$6,0)","v":678}]
["T-BS 01040570","Кронштейн для стеклянной полки (комплект) G=570",740,{"$f":"ROUND(C1846*(1-$C$3)/Лист2!$A$6,0)","v":740}]
["T-BS 01040670","Кронштейн для стеклянной полки (комплект) G=670",797,{"$f":"ROUND(C1847*(1-$C$3)/Лист2!$A$6,0)","v":797}]
["T-BS 01040770","Кронштейн для стеклянной полки (комплект) G=770",863,{"$f":"ROUND(C1848*(1-$C$3)/Лист2!$A$6,0)","v":863}]
["T-TC 02800665","Крышка ДСП 80  L=665",600,{"$f":"ROUND(C1849*(1-$C$3)/Лист2!$A$6,0)","v":600}]
["T-TC 02801000","Крышка ДСП 80 L=1000",675,{"$f":"ROUND(C1850*(1-$C$3)/Лист2!$A$6,0)","v":675}]
["T-TC 02801250","Крышка ДСП 80 L=1250",837,{"$f":"ROUND(C1851*(1-$C$3)/Лист2!$A$6,0)","v":837}]
["T-PT 01010665","Плинтус ДСП  L=665",816,{"$f":"ROUND(C1852*(1-$C$3)/Лист2!$A$6,0)","v":816}]
["T-PT 01011000","Плинтус ДСП L=1000",966,{"$f":"ROUND(C1853*(1-$C$3)/Лист2!$A$6,0)","v":966}]
["T-PT 01011250","Плинтус ДСП L=1250",993,{"$f":"ROUND(C1854*(1-$C$3)/Лист2!$A$6,0)","v":993}]
["T-PT 03450370","Плинтус ДСП угла внутреннего 45º  G=370",4914,{"$f":"ROUND(C1855*(1-$C$3)/Лист2!$A$6,0)","v":4914}]
["T-PT 03450470","Плинтус ДСП угла внутреннего 45º  G=470",4766,{"$f":"ROUND(C1856*(1-$C$3)/Лист2!$A$6,0)","v":4766}]
["T-PT 03450570","Плинтус ДСП угла внутреннего 45º  G=570",4631,{"$f":"ROUND(C1857*(1-$C$3)/Лист2!$A$6,0)","v":4631}]
["T-PT 03450670","Плинтус ДСП угла внутреннего 45º  G=670",4535,{"$f":"ROUND(C1858*(1-$C$3)/Лист2!$A$6,0)","v":4535}]
["T-PT 03450770","Плинтус ДСП угла внутреннего 45º  G=770",2548,{"$f":"ROUND(C1859*(1-$C$3)/Лист2!$A$6,0)","v":2548}]
["T-PT 04450370","Плинтус ДСП угла внешнего 45º  G=370",2975,{"$f":"ROUND(C1860*(1-$C$3)/Лист2!$A$6,0)","v":2975}]
["T-PT 04450470","Плинтус ДСП угла внешнего 45º  G=470",2992,{"$f":"ROUND(C1861*(1-$C$3)/Лист2!$A$6,0)","v":2992}]
["T-PT 04450570","Плинтус ДСП угла внешнего 45º  G=570",3239,{"$f":"ROUND(C1862*(1-$C$3)/Лист2!$A$6,0)","v":3239}]
["T-PT 04450670","Плинтус ДСП угла внешнего 45º  G=670",3611,{"$f":"ROUND(C1863*(1-$C$3)/Лист2!$A$6,0)","v":3611}]
["T-PT 04450770","Плинтус ДСП угла внешнего 45º  G=770",3778,{"$f":"ROUND(C1864*(1-$C$3)/Лист2!$A$6,0)","v":3778}]
["T-PT 11010600","Плинтус ДСП заниженный  L=600",734,{"$f":"ROUND(C1865*(1-$C$3)/Лист2!$A$6,0)","v":734}]
["T-PT 11010665","Плинтус ДСП заниженный  L=665",747,{"$f":"ROUND(C1866*(1-$C$3)/Лист2!$A$6,0)","v":747}]
["T-PT 11011000","Плинтус ДСП заниженный L=1000",939,{"$f":"ROUND(C1867*(1-$C$3)/Лист2!$A$6,0)","v":939}]
["T-PT 11011250","Плинтус ДСП заниженный L=1250",983,{"$f":"ROUND(C1868*(1-$C$3)/Лист2!$A$6,0)","v":983}]
["T-PT 11011330","Плинтус ДСП заниженный L=1330",1091,{"$f":"ROUND(C1869*(1-$C$3)/Лист2!$A$6,0)","v":1091}]
["T-PT 20010665","Плинтус ЛДСП под метал.полку L=665",509,{"$f":"ROUND(C1870*(1-$C$3)/Лист2!$A$6,0)","v":509}]
["T-PT 20010850","Плинтус ЛДСП под метал.полку L=850",600,{"$f":"ROUND(C1871*(1-$C$3)/Лист2!$A$6,0)","v":600}]
["T-PT 20011000","Плинтус ЛДСП под метал.полку L=1000",667,{"$f":"ROUND(C1872*(1-$C$3)/Лист2!$A$6,0)","v":667}]
["T-PT 20011250","Плинтус ЛДСП под метал.полку L=1250",767,{"$f":"ROUND(C1873*(1-$C$3)/Лист2!$A$6,0)","v":767}]
["T-PT 20011330","Плинтус ЛДСП под метал.полку L=1330",807,{"$f":"ROUND(C1874*(1-$C$3)/Лист2!$A$6,0)","v":807}]
["T-PT 21000470","Плинтус ЛДСП под метал.полку угла внутреннего L=470",4766,{"$f":"ROUND(C1875*(1-$C$3)/Лист2!$A$6,0)","v":4766}]
["N-SS 12000057","Боковина ЛДСП базы G=570 (левая) ",731,{"$f":"ROUND(C1876*(1-$C$3)/Лист2!$A$6,0)","v":731}]
["N-SS 12100057","Боковина ЛДСП базы G=570 (правая)",731,{"$f":"ROUND(C1877*(1-$C$3)/Лист2!$A$6,0)","v":731}]
["N-SS 12000047","Боковина ЛДСП базы G=470 (левая)",705,{"$f":"ROUND(C1878*(1-$C$3)/Лист2!$A$6,0)","v":705}]
["N-SS 12100047","Боковина ЛДСП базы G=470 (правая)",705,{"$f":"ROUND(C1879*(1-$C$3)/Лист2!$A$6,0)","v":705}]
["N-SS 12000037","Боковина ЛДСП базы G=370 (левая)",682,{"$f":"ROUND(C1880*(1-$C$3)/Лист2!$A$6,0)","v":682}]
["N-SS 12100037","Боковина ЛДСП базы G=370 (правая)",682,{"$f":"ROUND(C1881*(1-$C$3)/Лист2!$A$6,0)","v":682}]
["N-SS 12000031","Боковина ЛДСП базы G=310 (левая)",667,{"$f":"ROUND(C1882*(1-$C$3)/Лист2!$A$6,0)","v":667}]
["N-SS 12100031","Боковина ЛДСП базы G=310 (правая)",667,{"$f":"ROUND(C1883*(1-$C$3)/Лист2!$A$6,0)","v":667}]
["T-BW 01375007","Накопитель реечный с поддоном G=370 H=500  L=665",7400,{"$f":"ROUND(C1884*(1-$C$3)/Лист2!$A$6,0)","v":7400}]
["T-BW 01375010","Накопитель реечный с поддоном G=370 H=500  L=1000",8606,{"$f":"ROUND(C1885*(1-$C$3)/Лист2!$A$6,0)","v":8606}]
["T-BW 01375012","Накопитель реечный с поддоном G=370 H=500 L=1250",9550,{"$f":"ROUND(C1886*(1-$C$3)/Лист2!$A$6,0)","v":9550}]
["T-BW 01500665","Накопитель реечный с поддоном G=470 H=500  L=665",8139,{"$f":"ROUND(C1887*(1-$C$3)/Лист2!$A$6,0)","v":8139}]
["T-BW 01501000","Накопитель реечный с поддоном G=470 H=500 L=1000",8958,{"$f":"ROUND(C1888*(1-$C$3)/Лист2!$A$6,0)","v":8958}]
["T-BW 01501250","Накопитель реечный с поддоном G=470 H=500 L=1250",9652,{"$f":"ROUND(C1889*(1-$C$3)/Лист2!$A$6,0)","v":9652}]
["T-BW 01501330","Накопитель реечный с поддоном G=470 H=500 L=1330",10235,{"$f":"ROUND(C1890*(1-$C$3)/Лист2!$A$6,0)","v":10235}]
["T-BW 11375065","Накопитель реечный (Э) G=370 H=500  L=665",4256,{"$f":"ROUND(C1891*(1-$C$3)/Лист2!$A$6,0)","v":4256}]
["T-BW 11375010","Накопитель реечный (Э) G=370 H=500 L=1000",4371,{"$f":"ROUND(C1892*(1-$C$3)/Лист2!$A$6,0)","v":4371}]
["T-BW 11375012","Накопитель реечный (Э) G=370 H=500 L=1250",4784,{"$f":"ROUND(C1893*(1-$C$3)/Лист2!$A$6,0)","v":4784}]
["T-BW 11375013","Накопитель реечный (Э) G=370 H=500 L=1330",4795,{"$f":"ROUND(C1894*(1-$C$3)/Лист2!$A$6,0)","v":4795}]
["T-BW 11500665","Накопитель реечный (Э) G=470 H=500  L=665",4530,{"$f":"ROUND(C1895*(1-$C$3)/Лист2!$A$6,0)","v":4530}]
["T-BW 11501000","Накопитель реечный (Э) G=470 H=500 L=1000",4683,{"$f":"ROUND(C1896*(1-$C$3)/Лист2!$A$6,0)","v":4683}]
["T-BW 11501250","Накопитель реечный (Э) G=470 H=500 L=1250",4861,{"$f":"ROUND(C1897*(1-$C$3)/Лист2!$A$6,0)","v":4861}]
["T-BW 11501330","Накопитель реечный (Э) G=470 H=500 L=1330",4923,{"$f":"ROUND(C1898*(1-$C$3)/Лист2!$A$6,0)","v":4923}]
["T-BW 02372507","Полка реечная высокая G=370 H=250  L=665",3848,{"$f":"ROUND(C1899*(1-$C$3)/Лист2!$A$6,0)","v":3848}]
["T-BW 02372510","Полка реечная высокая G=370 H=250  L=1000",4289,{"$f":"ROUND(C1900*(1-$C$3)/Лист2!$A$6,0)","v":4289}]
["T-BW 02372512","Полка реечная высокая G=370 H=250 L=1250",4819,{"$f":"ROUND(C1901*(1-$C$3)/Лист2!$A$6,0)","v":4819}]
["T-BW 02250665","Полка реечная высокая G=470 H=250  L=665",4062,{"$f":"ROUND(C1902*(1-$C$3)/Лист2!$A$6,0)","v":4062}]
["T-BW 02251000","Полка реечная высокая G=470 H=250 L=1000",4614,{"$f":"ROUND(C1903*(1-$C$3)/Лист2!$A$6,0)","v":4614}]
["T-BW 02251250","Полка реечная высокая G=470 H=250 L=1250",5027,{"$f":"ROUND(C1904*(1-$C$3)/Лист2!$A$6,0)","v":5027}]
["T-BW 02251330","Полка реечная высокая G=470 H=250 L=1330",5107,{"$f":"ROUND(C1905*(1-$C$3)/Лист2!$A$6,0)","v":5107}]
["T-BW 12372565","Полка реечная высокая (Э) G=370 H=250  L=665",3267,{"$f":"ROUND(C1906*(1-$C$3)/Лист2!$A$6,0)","v":3267}]
["T-BW 12372510","Полка реечная высокая (Э) G=370 H=250 L=1000",3350,{"$f":"ROUND(C1907*(1-$C$3)/Лист2!$A$6,0)","v":3350}]
["T-BW 12372512","Полка реечная высокая (Э) G=370 H=250 L=1250",3644,{"$f":"ROUND(C1908*(1-$C$3)/Лист2!$A$6,0)","v":3644}]
["T-BW 12372513","Полка реечная высокая (Э) G=370 H=250 L=1330",3652,{"$f":"ROUND(C1909*(1-$C$3)/Лист2!$A$6,0)","v":3652}]
["T-BW 12250665","Полка реечная высокая (Э) G=470 H=250  L=665",3608,{"$f":"ROUND(C1910*(1-$C$3)/Лист2!$A$6,0)","v":3608}]
["T-BW 12251000","Полка реечная высокая (Э) G=470 H=250 L=1000",3683,{"$f":"ROUND(C1911*(1-$C$3)/Лист2!$A$6,0)","v":3683}]
["T-BW 12251250","Полка реечная высокая (Э) G=470 H=250 L=1250",3840,{"$f":"ROUND(C1912*(1-$C$3)/Лист2!$A$6,0)","v":3840}]
["T-BW 03370807","Полка реечная G=370 H=80  L=665",3519,{"$f":"ROUND(C1913*(1-$C$3)/Лист2!$A$6,0)","v":3519}]
["T-BW 03370810","Полка реечная G=370 H=80  L=1000",3731,{"$f":"ROUND(C1914*(1-$C$3)/Лист2!$A$6,0)","v":3731}]
["T-BW 03370812","Полка реечная G=370 H=80 L=1250",4049,{"$f":"ROUND(C1915*(1-$C$3)/Лист2!$A$6,0)","v":4049}]
["T-BW 03080665","Полка реечная G=470 H=80  L=665",3688,{"$f":"ROUND(C1916*(1-$C$3)/Лист2!$A$6,0)","v":3688}]
["T-BW 03081000","Полка реечная G=470 H=80 L=1000",3935,{"$f":"ROUND(C1917*(1-$C$3)/Лист2!$A$6,0)","v":3935}]
["T-BW 03081250","Полка реечная G=470 H=80 L=1250",4049,{"$f":"ROUND(C1918*(1-$C$3)/Лист2!$A$6,0)","v":4049}]
["T-BW 03081330","Полка реечная G=470 H=80 L=1330",4114,{"$f":"ROUND(C1919*(1-$C$3)/Лист2!$A$6,0)","v":4114}]
["T-BW 13378065","Полка реечная (Э) G=370 H=80  L=665",2789,{"$f":"ROUND(C1920*(1-$C$3)/Лист2!$A$6,0)","v":2789}]
["T-BW 13378010","Полка реечная (Э) G=370 H=80 L=1000",2847,{"$f":"ROUND(C1921*(1-$C$3)/Лист2!$A$6,0)","v":2847}]
["T-BW 13378012","Полка реечная (Э) G=370 H=80 L=1250",3050,{"$f":"ROUND(C1922*(1-$C$3)/Лист2!$A$6,0)","v":3050}]
["T-BW 13378013","Полка реечная (Э) G=370 H=80 L=1330",3052,{"$f":"ROUND(C1923*(1-$C$3)/Лист2!$A$6,0)","v":3052}]
["T-BW 13080665","Полка реечная (Э) G=470 H=80  L=665",3018,{"$f":"ROUND(C1924*(1-$C$3)/Лист2!$A$6,0)","v":3018}]
["T-BW 13081000","Полка реечная (Э) G=470 H=80 L=1000",3082,{"$f":"ROUND(C1925*(1-$C$3)/Лист2!$A$6,0)","v":3082}]
["T-BW 13081250","Полка реечная (Э) G=470 H=80 L=1250",3156,{"$f":"ROUND(C1926*(1-$C$3)/Лист2!$A$6,0)","v":3156}]
["T-BW 13081330","Полка реечная (Э) G=470 H=80 L=1330",3186,{"$f":"ROUND(C1927*(1-$C$3)/Лист2!$A$6,0)","v":3186}]
["N-ST 05370665","Полка под выпечку G=370 L=665",6619,{"$f":"ROUND(C1928*(1-$C$3)/Лист2!$A$6,0)","v":6619}]
["N-ST 05371000","Полка под выпечку G=370 L=1000",8433,{"$f":"ROUND(C1929*(1-$C$3)/Лист2!$A$6,0)","v":8433}]
["N-ST 05371250","Полка под выпечку G=370 L=1250",9855,{"$f":"ROUND(C1930*(1-$C$3)/Лист2!$A$6,0)","v":9855}]
["N-ST 05370850","Полка под выпечку G=370 L=850",7646,{"$f":"ROUND(C1931*(1-$C$3)/Лист2!$A$6,0)","v":7646}]
["N-ST 05470665","Полка под выпечку G=470 L=665",7593,{"$f":"ROUND(C1932*(1-$C$3)/Лист2!$A$6,0)","v":7593}]
["N-ST 05471000","Полка под выпечку G=470 L=1000",9680,{"$f":"ROUND(C1933*(1-$C$3)/Лист2!$A$6,0)","v":9680}]
["N-ST 05471250","Полка под выпечку G=470 L=1250",11281,{"$f":"ROUND(C1934*(1-$C$3)/Лист2!$A$6,0)","v":11281}]
["N-ST 05470850","Полка под выпечку G=470 L=850",9091,{"$f":"ROUND(C1935*(1-$C$3)/Лист2!$A$6,0)","v":9091}]
["T-WL 01000665","Полка реечная для овощей, усиленная, с поддоном G=470  L=665",10136,{"$f":"ROUND(C1936*(1-$C$3)/Лист2!$A$6,0)","v":10136}]
["T-WL 01001000","Полка реечная для овощей, усиленная, с поддоном G=470 L=1000",12313,{"$f":"ROUND(C1937*(1-$C$3)/Лист2!$A$6,0)","v":12313}]
["T-WL 01001250","Полка реечная для овощей, усиленная, с поддоном G=470 L=1250",13378,{"$f":"ROUND(C1938*(1-$C$3)/Лист2!$A$6,0)","v":13378}]
["T-WL 01001330","Полка реечная для овощей, усиленная, с поддоном G=470 L=1330",15090,{"$f":"ROUND(C1939*(1-$C$3)/Лист2!$A$6,0)","v":15090}]
["T-WL 11000665","Полка реечная для овощей, усиленная, с поддоном (Э) G=470  L=665",9346,{"$f":"ROUND(C1940*(1-$C$3)/Лист2!$A$6,0)","v":9346}]
["T-WL 11001000","Полка реечная для овощей, усиленная, с поддоном (Э) G=470 L=1000",10762,{"$f":"ROUND(C1941*(1-$C$3)/Лист2!$A$6,0)","v":10762}]
["T-WL 11001250","Полка реечная для овощей, усиленная, с поддоном (Э) G=470 L=1250",11985,{"$f":"ROUND(C1942*(1-$C$3)/Лист2!$A$6,0)","v":11985}]
["T-WL 11001330","Полка реечная для овощей, усиленная, с поддоном (Э) G=470 L=1330",12253,{"$f":"ROUND(C1943*(1-$C$3)/Лист2!$A$6,0)","v":12253}]
["T-WL 02000665","Полка реечная для овощей G=470  L=665",8193,{"$f":"ROUND(C1944*(1-$C$3)/Лист2!$A$6,0)","v":8193}]
["T-WL 02001000","Полка реечная для овощей G=470 L=1000",9865,{"$f":"ROUND(C1945*(1-$C$3)/Лист2!$A$6,0)","v":9865}]
["T-WL 02001250","Полка реечная для овощей G=470 L=1250",10951,{"$f":"ROUND(C1946*(1-$C$3)/Лист2!$A$6,0)","v":10951}]
["T-WL 02001330","Полка реечная для овощей G=470 L=1330",12057,{"$f":"ROUND(C1947*(1-$C$3)/Лист2!$A$6,0)","v":12057}]
["T-WL 12000665","Полка реечная для овощей (Э) G=470  L=665",7267,{"$f":"ROUND(C1948*(1-$C$3)/Лист2!$A$6,0)","v":7267}]
["T-WL 12001000","Полка реечная для овощей (Э) G=470 L=1000",8555,{"$f":"ROUND(C1949*(1-$C$3)/Лист2!$A$6,0)","v":8555}]
["T-WL 12001250","Полка реечная для овощей (Э) G=470 L=1250",9216,{"$f":"ROUND(C1950*(1-$C$3)/Лист2!$A$6,0)","v":9216}]
["T-WL 12001330","Полка реечная для овощей (Э) G=470 L=1330",9397,{"$f":"ROUND(C1951*(1-$C$3)/Лист2!$A$6,0)","v":9397}]
["N-ST 03471000","Полка с бортом G=470 L=1000 ",1720,{"$f":"ROUND(C1952*(1-$C$3)/Лист2!$A$6,0)","v":1720}]
["N-ST 03471250","Полка с бортом G=470 L=1250",2028,{"$f":"ROUND(C1953*(1-$C$3)/Лист2!$A$6,0)","v":2028}]
["N-BS 07000470","Кронштейн (комплект) для полки с бортом G=470",932,{"$f":"ROUND(C1954*(1-$C$3)/Лист2!$A$6,0)","v":932}]
["N-ST 03571000","Полка с бортом G=570 L=1000 ",2278,{"$f":"ROUND(C1955*(1-$C$3)/Лист2!$A$6,0)","v":2278}]
["N-BS 07000470","Кронштейн (комплект) для полки с бортом G=570",1216,{"$f":"ROUND(C1956*(1-$C$3)/Лист2!$A$6,0)","v":1216}]
["T-BW 05020665","Полка для конфет ЛДСП Н=250 G=470  L=665",6743,{"$f":"ROUND(C1957*(1-$C$3)/Лист2!$A$6,0)","v":6743}]
["T-BW 05021000","Полка для конфет ЛДСП Н=250 G=470 L=1000",7672,{"$f":"ROUND(C1958*(1-$C$3)/Лист2!$A$6,0)","v":7672}]
["T-BW 05021250","Полка для конфет ЛДСП Н=250 G=470 L=1250",9073,{"$f":"ROUND(C1959*(1-$C$3)/Лист2!$A$6,0)","v":9073}]
["T-BW 05021330","Полка для конфет ЛДСП Н=250 G=470 L=1330",9170,{"$f":"ROUND(C1960*(1-$C$3)/Лист2!$A$6,0)","v":9170}]
["T-DP 01602000","Панель декоративная для доп. Стойки Н=2000 L=60 ",1283,{"$f":"ROUND(C1961*(1-$C$3)/Лист2!$A$6,0)","v":1283}]
["T-DP 01602050","Панель декоративная для доп. Стойки Н=2050 L=60",1303,{"$f":"ROUND(C1962*(1-$C$3)/Лист2!$A$6,0)","v":1303}]
["T-DP 01602100","Панель декоративная для доп. Стойки Н=2100 L=60",1313,{"$f":"ROUND(C1963*(1-$C$3)/Лист2!$A$6,0)","v":1313}]
["T-DP 01602150","Панель декоративная для доп. Стойки Н=2150 L=60",1334,{"$f":"ROUND(C1964*(1-$C$3)/Лист2!$A$6,0)","v":1334}]
["T-DP 01602200","Панель декоративная для доп. Стойки Н=2200 L=60",1348,{"$f":"ROUND(C1965*(1-$C$3)/Лист2!$A$6,0)","v":1348}]
["T-DP 01602250","Панель декоративная для доп. Стойки Н=2250 L=60",1373,{"$f":"ROUND(C1966*(1-$C$3)/Лист2!$A$6,0)","v":1373}]
["T-DP 01602300","Панель декоративная для доп. Стойки Н=2300 L=60",1384,{"$f":"ROUND(C1967*(1-$C$3)/Лист2!$A$6,0)","v":1384}]
["T-DP 01602350","Панель декоративная для доп. Стойки Н=2350 L=60",1402,{"$f":"ROUND(C1968*(1-$C$3)/Лист2!$A$6,0)","v":1402}]
["T-DP 01602400","Панель декоративная для доп. Стойки Н=2400 L=60",1424,{"$f":"ROUND(C1969*(1-$C$3)/Лист2!$A$6,0)","v":1424}]
["T-DP 01602450","Панель декоративная для доп. Стойки Н=2450 L=60",1442,{"$f":"ROUND(C1970*(1-$C$3)/Лист2!$A$6,0)","v":1442}]
["T-DP 01602500","Панель декоративная для доп. Стойки Н=2500 L=60",1456,{"$f":"ROUND(C1971*(1-$C$3)/Лист2!$A$6,0)","v":1456}]
["T-DP 02100665","Панель декоративная прямая Н=100 L=665",685,{"$f":"ROUND(C1972*(1-$C$3)/Лист2!$A$6,0)","v":685}]
["T-DP 02100850","Панель декоративная прямая Н=100 L=850",748,{"$f":"ROUND(C1973*(1-$C$3)/Лист2!$A$6,0)","v":748}]
["T-DP 02100100","Панель декоративная прямая Н=100 L=1000",807,{"$f":"ROUND(C1974*(1-$C$3)/Лист2!$A$6,0)","v":807}]
["T-DP 02100125","Панель декоративная прямая Н=100 L=1250",918,{"$f":"ROUND(C1975*(1-$C$3)/Лист2!$A$6,0)","v":918}]
["T-DP 02100133","Панель декоративная прямая Н=100 L=1330",950,{"$f":"ROUND(C1976*(1-$C$3)/Лист2!$A$6,0)","v":950}]
["T-DP 03102065","Панель декоративная скругленная Н=100/200 L=665",757,{"$f":"ROUND(C1977*(1-$C$3)/Лист2!$A$6,0)","v":757}]
["T-DP 03102010","Панель декоративная скругленная Н=100/200 L=1000",917,{"$f":"ROUND(C1978*(1-$C$3)/Лист2!$A$6,0)","v":917}]
["T-DP 03102012","Панель декоративная скругленная Н=100/200 L=1250",1051,{"$f":"ROUND(C1979*(1-$C$3)/Лист2!$A$6,0)","v":1051}]
["T-DP 03102013","Панель декоративная скругленная Н=100/200 L=1330",1091,{"$f":"ROUND(C1980*(1-$C$3)/Лист2!$A$6,0)","v":1091}]
["N-VD 07110047","Надставка поперечная для доп стойки L-обр, G=470",1371,{"$f":"ROUND(C1981*(1-$C$3)/Лист2!$A$6,0)","v":1371}]
["N-VD 07014747","Надставка поперечная для доп стойки Т-обр, G=2х470",1809,{"$f":"ROUND(C1982*(1-$C$3)/Лист2!$A$6,0)","v":1809}]
["N-VD 07013737","Надставка поперечная для доп стойки Т-обр, G=2х370",1718,{"$f":"ROUND(C1983*(1-$C$3)/Лист2!$A$6,0)","v":1718}]
["N-VD 07110037","Надставка поперечная для доп стойки L-обр, G=370",1315,{"$f":"ROUND(C1984*(1-$C$3)/Лист2!$A$6,0)","v":1315}]
["N-VD 03000665","Панель фронт нижняя ДСП,L=665",764,{"$f":"ROUND(C1985*(1-$C$3)/Лист2!$A$6,0)","v":764}]
["N-VD 03001000","Панель фронт нижняя ДСП,L=1000",970,{"$f":"ROUND(C1986*(1-$C$3)/Лист2!$A$6,0)","v":970}]
["N-VD 02066547","Полка основания,L=665, G=470",1416,{"$f":"ROUND(C1987*(1-$C$3)/Лист2!$A$6,0)","v":1416}]
["N-VD 02100047","Полка основания,L=1000, G=470",1849,{"$f":"ROUND(C1988*(1-$C$3)/Лист2!$A$6,0)","v":1849}]
["N-VD 04000470","Боковина ДСП левая,G=470",804,{"$f":"ROUND(C1989*(1-$C$3)/Лист2!$A$6,0)","v":804}]
["N-VD 04010470","Боковина ДСП правая,G=470",804,{"$f":"ROUND(C1990*(1-$C$3)/Лист2!$A$6,0)","v":804}]
["N-VD 01205047","Рама стеллажа,H=2050, G=470",3999,{"$f":"ROUND(C1991*(1-$C$3)/Лист2!$A$6,0)","v":3999}]
["T-DP 05472000","Боковина декор прав для стеллажа с доп. стойкой,H=2000, G=470",7518,{"$f":"ROUND(C1992*(1-$C$3)/Лист2!$A$6,0)","v":7518}]
["T-DP 05472001","Боковина декор лев для стеллажа с доп. стойкой,H=2000, G=470",7518,{"$f":"ROUND(C1993*(1-$C$3)/Лист2!$A$6,0)","v":7518}]
["T-DP 05572000","Боковина декор прав для стеллажа с доп. стойкой,H=2000, G=570",8083,{"$f":"ROUND(C1994*(1-$C$3)/Лист2!$A$6,0)","v":8083}]
["T-DP 05572001","Боковина декор лев для стеллажа с доп. стойкой,H=2000, G=570",8083,{"$f":"ROUND(C1995*(1-$C$3)/Лист2!$A$6,0)","v":8083}]
["T-DP 05372200","Боковина декор прав для стеллажа с доп. стойкой,H=2200, G=370",7436,{"$f":"ROUND(C1996*(1-$C$3)/Лист2!$A$6,0)","v":7436}]
["T-DP 05372201","Боковина декор лев для стеллажа с доп. стойкой,H=2200, G=370",7436,{"$f":"ROUND(C1997*(1-$C$3)/Лист2!$A$6,0)","v":7436}]
["T-DP 05472200","Боковина декор прав для стеллажа с доп. стойкой,H=2200, G=470",8653,{"$f":"ROUND(C1998*(1-$C$3)/Лист2!$A$6,0)","v":8653}]
["T-DP 05472201","Боковина декор лев для стеллажа с доп. стойкой,H=2200, G=470",8653,{"$f":"ROUND(C1999*(1-$C$3)/Лист2!$A$6,0)","v":8653}]
["T-DP 05572200","Боковина декор прав для стеллажа с доп. стойкой,H=2200, G=570",9438,{"$f":"ROUND(C2000*(1-$C$3)/Лист2!$A$6,0)","v":9438}]
["T-DP 05572201","Боковина декор лев для стеллажа с доп. стойкой,H=2200, G=570",9438,{"$f":"ROUND(C2001*(1-$C$3)/Лист2!$A$6,0)","v":9438}]
["N-VD 10470665","Ящик подкатной ЛДСП для алкогольного стеллажа,L=665",4284,{"$f":"ROUND(C2002*(1-$C$3)/Лист2!$A$6,0)","v":4284}]
["N-VD 10470100","Ящик подкатной ЛДСП для алкогольного стеллажа,L=1000",5537,{"$f":"ROUND(C2003*(1-$C$3)/Лист2!$A$6,0)","v":5537}]
["HS S,Д.034.25","Стеллаж HS S,Д.034.25, 1330x570x1750, металлокаркас, структур муар, RAL 8019, массив хвойных пород",91493,{"$f":"ROUND(C2004*(1-$C$3)/Лист2!$A$6,0)","v":91493}]
["Д.034.30","Стеллаж Хлебный (дерево) со стеклянными дверками 1000х900х1600,массив бука",89646,{"$f":"ROUND(C2005*(1-$C$3)/Лист2!$A$6,0)","v":89646}]
["N-DB 06601218","Стеллаж Хлебный,L=1250, H=1885, G=600, RAL7035/2009",31044,{"$f":"ROUND(C2006*(1-$C$3)/Лист2!$A$6,0)","v":31044}]
["D.034.27","Витрина HS V, 1240x650x1640, металлокаркас, серый",61147,{"$f":"ROUND(C2007*(1-$C$3)/Лист2!$A$6,0)","v":61147}]
["N-ST 15043125","Полка ХИ 430х1250 (комп.кроншт.)  2-х слойное покрытие спец. Лаком",4979,{"$f":"ROUND(C2008*(1-$C$3)/Лист2!$A$6,0)","v":4979}]
["N-ST 15053125","Полка ХИ 530х1250 (комп.кроншт.)  2-х слойное покрытие спец. Лаком",5914,{"$f":"ROUND(C2009*(1-$C$3)/Лист2!$A$6,0)","v":5914}]
["N-SC 22560125","Накопитель ХИ 250х600х1250 2-х слойное покрытие спец. лаком",9494,{"$f":"ROUND(C2010*(1-$C$3)/Лист2!$A$6,0)","v":9494}]
["N-SC 23000430","Комплект реек боковых для полки ХИ G=430 2-х слойное покрытие спец. Лаком",541,{"$f":"ROUND(C2011*(1-$C$3)/Лист2!$A$6,0)","v":541}]
["N-SC 23000530","Комплект реек боковых для полки ХИ G=530 2-х слойное покрытие спец. Лаком",595,{"$f":"ROUND(C2012*(1-$C$3)/Лист2!$A$6,0)","v":595}]
["N-SC 17050125","Ограждение переднее с пластиковым вкладышем для полки ХИ 50х1250 оргстекло",619,{"$f":"ROUND(C2013*(1-$C$3)/Лист2!$A$6,0)","v":619}]
["N-TT 15045612","Тумба ХИ 450х600х1250 с делителями для пакетов, ЛДСП Клен мандал",9703,{"$f":"ROUND(C2014*(1-$C$3)/Лист2!$A$6,0)","v":9703}]
["N-TT 16145612","Тумба с люком ХИ 450х600х1250 с делителями для пакетов ЛСП Клен мандал ",9694,{"$f":"ROUND(C2015*(1-$C$3)/Лист2!$A$6,0)","v":9694}]
["N-SC 11204060","Бокс пластиковый 200х400х400 ",5129,{"$f":"ROUND(C2016*(1-$C$3)/Лист2!$A$6,0)","v":5129}]
["N-SC 12204060","Бокс пластиковый 2 ячейки 200х400х600 ",6835,{"$f":"ROUND(C2017*(1-$C$3)/Лист2!$A$6,0)","v":6835}]
["N-SC 18000001","Щипцы для выпечки с тросом ",1514,{"$f":"ROUND(C2018*(1-$C$3)/Лист2!$A$6,0)","v":1514}]
["N-SC 15015070","Стакан под щипцы для выпечки ХИ H=150 L=70 ",597,{"$f":"ROUND(C2019*(1-$C$3)/Лист2!$A$6,0)","v":597}]
["N-SC 16006570","Держатель для перчаток ХИ 65х70",122,{"$f":"ROUND(C2020*(1-$C$3)/Лист2!$A$6,0)","v":122}]
["N-LT 15001660","Стойка с высокой базой стеллажаХИ H=1600 G=600",3727,{"$f":"ROUND(C2021*(1-$C$3)/Лист2!$A$6,0)","v":3727}]
["N-LT 23101660","Стойка с высокой базой стеллажа с боковиной ЛДСП ХИ H=1600 G=600",3780,{"$f":"ROUND(C2022*(1-$C$3)/Лист2!$A$6,0)","v":3780}]
["T-CA 011205530","Стойка под вино,L=550, H=1200, G=300",14106,{"$f":"ROUND(C2023*(1-$C$3)/Лист2!$A$6,0)","v":14106}]
["R-RR 04701800","Стойка островного круглого стеллажа G=470 H=1800",12491,{"$f":"ROUND(C2024*(1-$C$3)/Лист2!$A$6,0)","v":12491}]
["R-BR 03708030","Кронштейн с адаптером (комплект) для полукруглых полок остров G=370 (80x30)",3345,{"$f":"ROUND(C2025*(1-$C$3)/Лист2!$A$6,0)","v":3345}]
["N-DB 02502118","База стеллажа МИНИ (комплект) L=500 G=210 H=1800",3918,{"$f":"ROUND(C2026*(1-$C$3)/Лист2!$A$6,0)","v":3918}]
["N-DB 02210180","Боковины стеллажа МИНИ (комплект) G=210 H=1800",2492,{"$f":"ROUND(C2027*(1-$C$3)/Лист2!$A$6,0)","v":2492}]
["N-DB 02210500","Полка с кронштейнами стеллажа МИНИ (комплект) G=210 L=500",876,{"$f":"ROUND(C2028*(1-$C$3)/Лист2!$A$6,0)","v":876}]
["N-DB 02211800","Стойка L-образная стеллажа МИНИ G=210 H=1800",1957,{"$f":"ROUND(C2029*(1-$C$3)/Лист2!$A$6,0)","v":1957}]
["N-DB 02503118","База стеллажа МИНИ (комплект) L=500 G=310 H=1800",4012,{"$f":"ROUND(C2030*(1-$C$3)/Лист2!$A$6,0)","v":4012}]
["N-DB 02310180","Боковины стеллажа МИНИ (комплект) G=310 H=1800",3235,{"$f":"ROUND(C2031*(1-$C$3)/Лист2!$A$6,0)","v":3235}]
["N-DB 02310500","Полка с кронштейнами стеллажа МИНИ (комплект) G=310 L=500",1011,{"$f":"ROUND(C2032*(1-$C$3)/Лист2!$A$6,0)","v":1011}]
["N-DB 02311800","Стойка L-образная стеллажа МИНИ G=310 H=1800",2044,{"$f":"ROUND(C2033*(1-$C$3)/Лист2!$A$6,0)","v":2044}]
[" N-DB 04751717","Стеллаж-экспозитор МИНИ,L=575, H=1750, G=170",7938,{"$f":"ROUND(C2034*(1-$C$3)/Лист2!$A$6,0)","v":7938}]
["N-DB 03185013","Каркас стеллажа-экспозитора Мини,L=500, H=1800, G=130",5461,{"$f":"ROUND(C2035*(1-$C$3)/Лист2!$A$6,0)","v":5461}]
["N-DB 03501340","Полка стеллажа-экспозитора МИНИ с кроншт,L=500, H=40, G=130",384,{"$f":"ROUND(C2036*(1-$C$3)/Лист2!$A$6,0)","v":384}]
["N-DB 02101000","Держатель панели L=1000 (комплект)  L=1000",875,{"$f":"ROUND(C2037*(1-$C$3)/Лист2!$A$6,0)","v":875}]
["N-DB 02101250","Держатель панели L=1250 (комплект)  L=1250",1075,{"$f":"ROUND(C2038*(1-$C$3)/Лист2!$A$6,0)","v":1075}]
["N-DB 02101330","Держатель панели L=1330 (комплект)  L=1330",1114,{"$f":"ROUND(C2039*(1-$C$3)/Лист2!$A$6,0)","v":1114}]
["N-DB 05000000 ","Держатель рекламной панели (комплект) H=370",670,{"$f":"ROUND(C2040*(1-$C$3)/Лист2!$A$6,0)","v":670}]
["N-AA 09604080","Стол на металлокаркасе 2-х уровн L=800, H=600, G=400, Дуб сонома",6681,{"$f":"ROUND(C2041*(1-$C$3)/Лист2!$A$6,0)","v":6681}]
["N-AA 09104080","Стол на металлокаркасе 3-х уровн L=800, H=1000, G=400, Дуб сонома",9569,{"$f":"ROUND(C2042*(1-$C$3)/Лист2!$A$6,0)","v":9569}]
["ST ST, СТ.025.62","Стол ST ST СТ.025.62, 690x545x1450, с полками из ДСП, структ муар, RAL 7047",15166,{"$f":"ROUND(C2043*(1-$C$3)/Лист2!$A$6,0)","v":15166}]
["T-LD 14085096","Кофе-модуль L=850 без диспенсера",18700,{"$f":"ROUND(C2044*(1-$C$3)/Лист2!$A$6,0)","v":18700}]
["T-LD 14010096","Кофе-модуль L=1000 без диспенсера",20107,{"$f":"ROUND(C2045*(1-$C$3)/Лист2!$A$6,0)","v":20107}]
["T-LD 14012596","Кофе-модуль L=1250 без диспенсера",22576,{"$f":"ROUND(C2046*(1-$C$3)/Лист2!$A$6,0)","v":22576}]
["T-LD 15085096","Кофе-модуль L=850 с диспенсером",77026,{"$f":"ROUND(C2047*(1-$C$3)/Лист2!$A$6,0)","v":77026}]
["T-LD 15110096","Кофе-модуль L=1000 с диспенсером",79609,{"$f":"ROUND(C2048*(1-$C$3)/Лист2!$A$6,0)","v":79609}]
["T-LD 15112596","Кофе-модуль L=1250 с диспенсером",82246,{"$f":"ROUND(C2049*(1-$C$3)/Лист2!$A$6,0)","v":82246}]
["T-LD 18185096","Кофемодуль с 2 диспенсерами L=850 Н=900 G=600 (на базовую полку)",74698,{"$f":"ROUND(C2050*(1-$C$3)/Лист2!$A$6,0)","v":74698}]
["T-LD 18110096","Кофемодуль с 2 диспенсерами L=1000 Н=900 G=600 (на базовую полку)",79927,{"$f":"ROUND(C2051*(1-$C$3)/Лист2!$A$6,0)","v":79927}]
["T-LD 18112596","Кофемодуль с 2 диспенсерами L=1250 Н=900 G=600 (на базовую полку)",89520,{"$f":"ROUND(C2052*(1-$C$3)/Лист2!$A$6,0)","v":89520}]
["T-LD 19085096","Кофе-модуль без диспенсера L=850 Н=900 G=600 (на базовую полку)",0]
["T-LD 19010096","Кофе-модуль без диспенсера L=1000 Н=900 G=600 (на базовую полку)",0]
["T-LD 19012596","Кофе-модуль без диспенсера L=1250 Н=900 G=600 (на базовую полку)",0]
["N-SS 03665900","Панель задняя сетчатая L=665, H=900",2929,{"$f":"ROUND(C2056*(1-$C$3)/Лист2!$A$6,0)","v":2929}]
["N-SS 04300200","Полка прямая сетчатая L=300, G=200",705,{"$f":"ROUND(C2057*(1-$C$3)/Лист2!$A$6,0)","v":705}]
["N-SS 04665300","Полка прямая сетчатая L=665, G=300",1122,{"$f":"ROUND(C2058*(1-$C$3)/Лист2!$A$6,0)","v":1122}]
["N-SS 05300200","Полка наклонная сетчатая L=300, G=200",790,{"$f":"ROUND(C2059*(1-$C$3)/Лист2!$A$6,0)","v":790}]
["N-RC 03331000","Полка-крышка, 30х30 L=1000",1496,{"$f":"ROUND(C2060*(1-$C$3)/Лист2!$A$6,0)","v":1496}]
["N-SS 07300900","Рама торцевая сетчатая L=300, Н=900",2338,{"$f":"ROUND(C2061*(1-$C$3)/Лист2!$A$6,0)","v":2338}]
["N-SS 07130900","Рама попереч торцевая сетчат L=300, H=900",3003,{"$f":"ROUND(C2062*(1-$C$3)/Лист2!$A$6,0)","v":3003}]
["N-SS 01300165","Стойка прикас стеллажа L-обр H=1650, G=300",2244,{"$f":"ROUND(C2063*(1-$C$3)/Лист2!$A$6,0)","v":2244}]
["N-RC 01470150","Стойка 30х30 с базой 60х30 L-образн,H=1500, G=470",2556,{"$f":"ROUND(C2064*(1-$C$3)/Лист2!$A$6,0)","v":2556}]
["N-RC 04342080","Бокс под алкоголь,L=345, H=800, G=200",12254,{"$f":"ROUND(C2065*(1-$C$3)/Лист2!$A$6,0)","v":12254}]
["N-VD 01205047","Рама стеллажа,H=2050, G=470",4115,{"$f":"ROUND(C2066*(1-$C$3)/Лист2!$A$6,0)","v":4115}]
["N-VD 03000665","Панель фронт нижняя ДСП,L=665",804,{"$f":"ROUND(C2067*(1-$C$3)/Лист2!$A$6,0)","v":804}]
["N-VD 03001000","Панель фронт нижняя ДСП,L=1000",1019,{"$f":"ROUND(C2068*(1-$C$3)/Лист2!$A$6,0)","v":1019}]
["N-VD 02066547","Полка основания,L=665, G=470",1488,{"$f":"ROUND(C2069*(1-$C$3)/Лист2!$A$6,0)","v":1488}]
["N-VD 02100047","Полка основания,L=1000, G=470",1943,{"$f":"ROUND(C2070*(1-$C$3)/Лист2!$A$6,0)","v":1943}]
["N-VD 04000470","Боковина ДСП левая,G=470",840,{"$f":"ROUND(C2071*(1-$C$3)/Лист2!$A$6,0)","v":840}]
["N-VD 04010470","Боковина ДСП правая,G=470",840,{"$f":"ROUND(C2072*(1-$C$3)/Лист2!$A$6,0)","v":840}]
["N-BS 06371000","Рама усиления корзины,L=1000, G=370",1320,{"$f":"ROUND(C2073*(1-$C$3)/Лист2!$A$6,0)","v":1320}]
["N-BS 06471000","Рама усиления корзины,L=1000, G=470",1523,{"$f":"ROUND(C2074*(1-$C$3)/Лист2!$A$6,0)","v":1523}]
["T-RB-01030665","Подсветка для 3 мет. полок L=665",5484,{"$f":"ROUND(C2075*(1-$C$3)/Лист2!$A$6,0)","v":5484}]
["T-RB-01030100","Подсветка для 3 мет. полок L=1000",7253,{"$f":"ROUND(C2076*(1-$C$3)/Лист2!$A$6,0)","v":7253}]
["T-RB-01030125","Подсветка для 3 мет. полок L=1250",8793,{"$f":"ROUND(C2077*(1-$C$3)/Лист2!$A$6,0)","v":8793}]
["T-RB-01040665","Подсветка для 4 мет. полок L=665",6549,{"$f":"ROUND(C2078*(1-$C$3)/Лист2!$A$6,0)","v":6549}]
["T-RB-01040100","Подсветка для 4 мет. полок L=1000",8841,{"$f":"ROUND(C2079*(1-$C$3)/Лист2!$A$6,0)","v":8841}]
["T-RB-01040125","Подсветка для 4 мет. полок L=1250",10098,{"$f":"ROUND(C2080*(1-$C$3)/Лист2!$A$6,0)","v":10098}]
["T-RB-01050665","Подсветка для 5 мет. полок L=665",7586,{"$f":"ROUND(C2081*(1-$C$3)/Лист2!$A$6,0)","v":7586}]
["T-RB-01050100","Подсветка для 5 мет. полок L=1000",10123,{"$f":"ROUND(C2082*(1-$C$3)/Лист2!$A$6,0)","v":10123}]
["T-RB-01050125","Подсветка для 5 мет. полок L=1250",13092,{"$f":"ROUND(C2083*(1-$C$3)/Лист2!$A$6,0)","v":13092}]
["T-RB-03030665","Подсветка для 3 стекл. полок L=665",3188,{"$f":"ROUND(C2084*(1-$C$3)/Лист2!$A$6,0)","v":3188}]
["T-RB-03030100","Подсветка для 3 стекл. полок L=1000",4398,{"$f":"ROUND(C2085*(1-$C$3)/Лист2!$A$6,0)","v":4398}]
["T-RB-03030125","Подсветка для 3 стекл. полок L=1250",5547,{"$f":"ROUND(C2086*(1-$C$3)/Лист2!$A$6,0)","v":5547}]
["T-RB-03030133","Подсветка для 3 стекл. полок L=1330",5547,{"$f":"ROUND(C2087*(1-$C$3)/Лист2!$A$6,0)","v":5547}]
[]
["Стандартная окраска:"]
[null," - металл, цвет RAL 9010 стуктурная муар"]
[null,"- ЛДСП цвет Орех, Клен, Дуб Сонома"]
["Примечание:"]
["Подсветка для стеклянных полок может использоваться только с изделием"]
["A-ST 02000","Балка усиления стеклянной полки "]

{"sheet":"Детали Lager","index":7,"n_rows":63,"n_cols":6,"rows_kept":63,"cut":false,"hidden":false,"merged":[[51,0,59,0],[4,0,4,1],[6,3,7,3],[6,4,7,4],[12,0,26,0],[33,0,41,0],[6,2,7,2],[1,0,1,1],[2,0,2,1],[3,0,3,1],[6,0,7,0],[6,1,7,1]]}
["Детали торговых стеллажей Lager",null,null,null,null,"На главную"]
[]
["Ваша скидка:",null,{"$f":"Содержание!C2","v":0}]
["НДС:",null,{"$f":"IF(Лист2!A1=TRUE,\"С НДС\",\"БЕЗ НДС\")","v":"С НДС"}]
[]
[null,null,"Новинки"]
["Изображение","Артикул","Наименование","Базовая цена, руб. (с НДС)",{"$f":"[7]Лист2!$A$5","v":"Ваша цена, руб."}]
[null,null,null,null,{"$f":"[7]Лист2!$A$5","v":"Ваша цена, руб."}]
["Lager"]
[null,"L-ST 01300500","Полка L=300, G=500",483,{"$f":"ROUND(D10*(1-$C$3)/Лист2!$A$6,0)","v":483}]
[null,"L-ST 01300600","Полка L=300, G=600",554,{"$f":"ROUND(D11*(1-$C$3)/Лист2!$A$6,0)","v":554}]
[null,"L-ST 01300800","Полка L=300, G=800",731,{"$f":"ROUND(D12*(1-$C$3)/Лист2!$A$6,0)","v":731}]
[null,"L-FR 10500700","Рама стеллажа Н=700, G=500",1914,{"$f":"ROUND(D13*(1-$C$3)/Лист2!$A$6,0)","v":1914}]
[null,"L-FR 10600700","Рама стеллажа Н=700, G=600",1960,{"$f":"ROUND(D14*(1-$C$3)/Лист2!$A$6,0)","v":1960}]
[null,"L-FR 10800700","Рама стеллажа Н=700, G=800",2081,{"$f":"ROUND(D15*(1-$C$3)/Лист2!$A$6,0)","v":2081}]
[null,"L-FR 10501400","Рама стеллажа H=1400, G=500",2972,{"$f":"ROUND(D16*(1-$C$3)/Лист2!$A$6,0)","v":2972}]
[null,"L-FR 10601400","Рама стеллажа H=1400, G=600",3066,{"$f":"ROUND(D17*(1-$C$3)/Лист2!$A$6,0)","v":3066}]
[null,"L-FR 10801400","Рама стеллажа H=1400, G=800",3406,{"$f":"ROUND(D18*(1-$C$3)/Лист2!$A$6,0)","v":3406}]
[null,"L-FR 10501700","Рама стеллажа H=1700, G=500 ",3183,{"$f":"ROUND(D19*(1-$C$3)/Лист2!$A$6,0)","v":3183}]
[null,"L-FR 10601700","Рама стеллажа H=1700, G=600",3359,{"$f":"ROUND(D20*(1-$C$3)/Лист2!$A$6,0)","v":3359}]
[null,"L-FR 10801700","Рама стеллажа H=1700, G=800",3594,{"$f":"ROUND(D21*(1-$C$3)/Лист2!$A$6,0)","v":3594}]
[null,"L-FR 10501900","Рама стеллажа H=1900, G=500",3478,{"$f":"ROUND(D22*(1-$C$3)/Лист2!$A$6,0)","v":3478}]
[null,"L-FR 10601900","Рама стеллажа H=1900, G=600",3626,{"$f":"ROUND(D23*(1-$C$3)/Лист2!$A$6,0)","v":3626}]
[null,"L-FR 10801900","Рама стеллажа H=1900, G=800",4046,{"$f":"ROUND(D24*(1-$C$3)/Лист2!$A$6,0)","v":4046}]
[null,"L-FR 10502200","Рама стеллажа H=2200, G=500 ",3755,{"$f":"ROUND(D25*(1-$C$3)/Лист2!$A$6,0)","v":3755}]
[null,"L-FR 10602200","Рама стеллажа H=2200, G=600",3823,{"$f":"ROUND(D26*(1-$C$3)/Лист2!$A$6,0)","v":3823}]
[null,"L-FR 10802200","Рама стеллажа H=2200, G=800",4304,{"$f":"ROUND(D27*(1-$C$3)/Лист2!$A$6,0)","v":4304}]
[null,"L-TR 10500950","Траверса L=950",792,{"$f":"ROUND(D28*(1-$C$3)/Лист2!$A$6,0)","v":792}]
[null,"L-TR 10501250","Траверса L=1250",960,{"$f":"ROUND(D29*(1-$C$3)/Лист2!$A$6,0)","v":960}]
[null,"L-TR 10501550","Траверса L=1550",1120,{"$f":"ROUND(D30*(1-$C$3)/Лист2!$A$6,0)","v":1120}]
["Lager (траверса на зацепах)"]
[null,"L-ST 20300500","Полка L=300, G=500",644,{"$f":"ROUND(D32*(1-$C$3)/Лист2!$A$6,0)","v":644}]
[null,"L-ST 20300700","Полка L=300, G=700",816,{"$f":"ROUND(D33*(1-$C$3)/Лист2!$A$6,0)","v":816}]
[null,"L-FR 20501500","Рама стеллажа H=1500, G=500",3728,{"$f":"ROUND(D34*(1-$C$3)/Лист2!$A$6,0)","v":3728}]
[null,"L-FR 20501800","Рама стеллажа H=1800, G=500 ",4182,{"$f":"ROUND(D35*(1-$C$3)/Лист2!$A$6,0)","v":4182}]
[null,"L-FR 20502000","Рама стеллажа H=2000, G=500",4856,{"$f":"ROUND(D36*(1-$C$3)/Лист2!$A$6,0)","v":4856}]
[null,"L-FR 20502500","Рама стеллажа H=2500, G=500",5519,{"$f":"ROUND(D37*(1-$C$3)/Лист2!$A$6,0)","v":5519}]
[null,"L-FR 20701500","Рама стеллажа H=1500, G=700",3954,{"$f":"ROUND(D38*(1-$C$3)/Лист2!$A$6,0)","v":3954}]
[null,"L-FR 20701800","Рама стеллажа H=1800, G=700 ",4405,{"$f":"ROUND(D39*(1-$C$3)/Лист2!$A$6,0)","v":4405}]
[null,"L-FR 20702000","Рама стеллажа H=2000, G=700",5199,{"$f":"ROUND(D40*(1-$C$3)/Лист2!$A$6,0)","v":5199}]
[null,"L-FR 20702500","Рама стеллажа H=2500, G=700",5939,{"$f":"ROUND(D41*(1-$C$3)/Лист2!$A$6,0)","v":5939}]
[null,"L-FR 20703000","Рама стеллажа H=3000, G=700",6462,{"$f":"ROUND(D42*(1-$C$3)/Лист2!$A$6,0)","v":6462}]
[null,"L-TR 20551000","Траверса L=1000",882,{"$f":"ROUND(D43*(1-$C$3)/Лист2!$A$6,0)","v":882}]
[null,"L-TR 20551500","Траверса L=1500",1138,{"$f":"ROUND(D44*(1-$C$3)/Лист2!$A$6,0)","v":1138}]
["Lager LX"]
[null,"P-ST 05400250","Полка L=250, G=400",373,{"$f":"ROUND(D46*(1-$C$3)/Лист2!$A$6,0)","v":373}]
[null,"P-ST 05600250","Полка L=250, G=600",507,{"$f":"ROUND(D47*(1-$C$3)/Лист2!$A$6,0)","v":507}]
[null,"P-ST 05800250","Полка L=250, G=800",655,{"$f":"ROUND(D48*(1-$C$3)/Лист2!$A$6,0)","v":655}]
[null,"P-ST 06400250","Полка L=250, G=400 оцинк",326,{"$f":"ROUND(D49*(1-$C$3)/Лист2!$A$6,0)","v":326}]
[null,"P-ST 06600250","Полка L=250, G=600 оцинк",422,{"$f":"ROUND(D50*(1-$C$3)/Лист2!$A$6,0)","v":422}]
[null,"P-ST 06800250","Полка L=250, G=800 оцинк",535,{"$f":"ROUND(D51*(1-$C$3)/Лист2!$A$6,0)","v":535}]
[null,"P-FR 32402000","Рама грузового стеллажа H=2000, G=400",2959,{"$f":"ROUND(D52*(1-$C$3)/Лист2!$A$6,0)","v":2959}]
[null,"P-FR 32402200","Рама грузового стеллажа H=2200, G=400",3107,{"$f":"ROUND(D53*(1-$C$3)/Лист2!$A$6,0)","v":3107}]
[null,"P-FR 32402400","Рама грузового стеллажа H=2400, G=400",3289,{"$f":"ROUND(D54*(1-$C$3)/Лист2!$A$6,0)","v":3289}]
[null,"P-FR 32602000","Рама грузового стеллажа H=2000, G=600",3196,{"$f":"ROUND(D55*(1-$C$3)/Лист2!$A$6,0)","v":3196}]
[null,"P-FR 32602200","Рама грузового стеллажа H=2200, G=600",3344,{"$f":"ROUND(D56*(1-$C$3)/Лист2!$A$6,0)","v":3344}]
[null,"P-FR 32602400","Рама грузового стеллажа H=2400, G=600",3525,{"$f":"ROUND(D57*(1-$C$3)/Лист2!$A$6,0)","v":3525}]
[null,"P-FR 32802000","Рама грузового стеллажа H=2000, G=800",3421,{"$f":"ROUND(D58*(1-$C$3)/Лист2!$A$6,0)","v":3421}]
[null,"P-FR 32802200","Рама грузового стеллажа H=2200, G=800",3569,{"$f":"ROUND(D59*(1-$C$3)/Лист2!$A$6,0)","v":3569}]
[null,"P-FR 32802400","Рама грузового стеллажа H=2400, G=800",3744,{"$f":"ROUND(D60*(1-$C$3)/Лист2!$A$6,0)","v":3744}]
[null,"P-TR 42000101","Траверса L=1010",572,{"$f":"ROUND(D61*(1-$C$3)/Лист2!$A$6,0)","v":572}]
[null,"P-TR 42000125","Траверса L=1250",637,{"$f":"ROUND(D62*(1-$C$3)/Лист2!$A$6,0)","v":637}]
[null,"P-TR 42000149","Траверса L=1490",720,{"$f":"ROUND(D63*(1-$C$3)/Лист2!$A$6,0)","v":720}]

{"sheet":"Наценка Stahler","index":8,"n_rows":48,"n_cols":4,"rows_kept":48,"cut":false,"hidden":false,"merged":[[1,0,1,1],[5,0,6,0],[5,1,6,1],[5,2,6,2]]}
["Наценка при покраске деталей серии STAHLER",null,null,"На главную"]
[]
[]
[]
[]
["Ral","Структура","наценка, % "]
["RAL","Вид поверхности","наценка , % "]
[1001,"глянец",7]
[1013,"шагрень глянцевая",5]
[1013,"глянец",11]
[1013,"муар Маго",2]
[1015,"глянец",10]
[1018,"глянец",2]
[2004,"глянец",3]
[2008,"глянец",1]
[3000,"глянец",2]
[3002,"глянец",3]
[5005,"глянец",0]
[6018,"глянец",3]
[6029,"глянец",1]
[7011,"глянец",0]
[7016,"структурная муар",2]
[7016,"глянец",11]
[7021,"глянец",3]
[7021,"матовая",3]
[7024,"структурная муар",1]
[7035,"шагрень глянцевая",0]
[7035,"глянец",0]
[7035,"гладкая полуматовая",10]
[7035,"структурная муар",4]
[7040,"матовая",8]
[7040,"структурная муар",0]
[7040,"глянец",0]
[7042,"глянец",0]
[7043,"глянец",1]
[8017,"глянец",4]
[8017,"структурная муар",2]
[9002,"полуматовая",4]
[9005,"шагрень глянцевая",0]
[9005,"глянец",1]
[9005,"матовая",8]
[9005,"структурная муар",0]
[9006,"глянец",2]
[9006,"матовая",1]
[9007,"полуматовая",7]
[9010,"муар",0]
[9010,"матовая",5]
[9016,"глянец",0]

{"sheet":"Сборки Praktisch","index":9,"n_rows":466,"n_cols":9,"rows_kept":466,"cut":false,"hidden":false,"merged":[[5,4,5,5],[5,6,5,7],[7,5,16,5],[7,7,16,7],[17,5,26,5],[17,7,26,7],[2,0,2,1],[3,0,3,1],[5,0,6,0],[5,1,6,1],[5,2,6,2],[5,3,6,3],[59,5,69,5],[59,7,69,7],[70,5,80,5],[70,7,80,7],[81,5,91,5],[81,7,91,7],[27,5,36,5],[27,7,36,7],[37,5,47,5],[37,7,47,7],[48,5,58,5],[48,7,58,7],[132,0,142,0],[132,5,142,5],[132,7,142,7],[92,5,102,5],[92,7,102,7],[103,5,113,5],[103,7,113,7],[114,5,119,5],[114,7,119,7],[143,5,153,5],[143,7,153,7],[154,5,164,5],[154,7,164,7],[165,5,175,5],[165,7,175,7],[120,5,125,5],[120,7,125,7],[126,5,131,5],[126,7,131,7],[208,5,217,5],[208,7,217,7],[218,5,228,5],[218,7,228,7],[229,5,238,5],[229,7,238,7],[176,5,183,5],[176,7,183,7],[184,5,195,5],[184,7,195,7],[196,5,207,5],[196,7,207,7],[276,5,287,5],[276,7,287,7],[288,5,300,5],[288,7,300,7],[301,5,314,5],[301,7,314,7],[239,5,251,5],[239,7,251,7],[252,5,264,5],[252,7,264,7],[265,5,275,5],[265,7,275,7],[341,5,349,5],[341,7,349,7],[350,5,365,5],[350,7,365,7],[366,5,377,5],[366,7,377,7],[315,5,321,5],[315,7,321,7],[322,5,329,5],[322,7,329,7],[330,5,340,5],[330,7,340,7],[403,4,403,5],[403,6,403,7],[404,3,405,3],[407,3,408,3],[409,4,409,5],[409,6,409,7],[378,5,385,5],[378,7,385,7],[386,5,393,5],[386,7,393,7],[394,5,402,5],[394,7,402,7],[423,5,429,5],[423,7,429,7],[430,5,436,5],[430,7,436,7],[437,4,437,5],[437,6,437,7],[410,3,411,3],[413,3,414,3],[415,4,415,5],[415,6,415,7],[416,5,422,5],[416,7,422,7],[451,5,453,5],[451,7,453,7],[455,5,457,5],[455,7,457,7],[459,5,461,5],[459,7,461,7],[439,5,441,5],[439,7,441,7],[443,5,445,5],[443,7,445,7],[447,5,449,5],[447,7,449,7]]}
["Cборки торговых стеллажей Praktisch",null,null,null,null,null,null,null,"На главную"]
[]
["Ваша скидка:",null,{"$f":"Содержание!C2","v":0}]
["НДС:",null,{"$f":"IF(Лист2!A1=TRUE,\"С НДС\",\"БЕЗ НДС\")","v":"С НДС"}]
[]
["Изображение","Артикул","Наименование","Кол-во  в сборке, шт.","Базовая цена, руб. (с НДС)",null,"Ваша цена, руб."]
[null,null,null,null,"за элемент в сборке","за сборку","за элемент комплекта","за сборку"]
[null,1,"Стеллаж торговый пристенный L=665 H=2300",null,null,{"$f":"SUMPRODUCT(D9:D17,E9:E17)","v":9688},null,{"$f":"SUMPRODUCT(D9:D17,G9:G17)","v":9688}]
[null,"T-LT 02802300","Стойка с двухсторонней перфорацией (30х80) H=2300",1,{"$f":"INDEX('Детали Praktisch'!$C$12:$C$2063,MATCH('Сборки Praktisch'!B9,'Детали Praktisch'!$A$12:$A$2063,))","v":1753},null,{"$f":"ROUND(E9*(1-$C$3)/Лист2!$A$6,0)","v":1753}]
[null,"T-BT 01000470","База стеллажа G=470",1,{"$f":"INDEX('Детали Praktisch'!$C$12:$C$2063,MATCH('Сборки Praktisch'!B10,'Детали Praktisch'!$A$12:$A$2063,))","v":1171},null,{"$f":"ROUND(E10*(1-$C$3)/Лист2!$A$6,0)","v":1171}]
[null,"T-BP 01150665","Панель сплошная L=665 H=150",2,{"$f":"INDEX('Детали Praktisch'!$C$12:$C$2063,MATCH('Сборки Praktisch'!B11,'Детали Praktisch'!$A$12:$A$2063,))","v":241},null,{"$f":"ROUND(E11*(1-$C$3)/Лист2!$A$6,0)","v":241}]
[null,"T-BP 01400665","Панель сплошная L=665 H=400",5,{"$f":"INDEX('Детали Praktisch'!$C$12:$C$2063,MATCH('Сборки Praktisch'!B12,'Детали Praktisch'!$A$12:$A$2063,))","v":440},null,{"$f":"ROUND(E12*(1-$C$3)/Лист2!$A$6,0)","v":440}]
[null,"T-ST 01470665","Полка L=665 G=470",1,{"$f":"INDEX('Детали Praktisch'!$C$12:$C$2063,MATCH('Сборки Praktisch'!B13,'Детали Praktisch'!$A$12:$A$2063,))","v":782},null,{"$f":"ROUND(E13*(1-$C$3)/Лист2!$A$6,0)","v":782}]
[null,"T-ST 01370665","Полка L=665 G=370",2,{"$f":"INDEX('Детали Praktisch'!$C$12:$C$2063,MATCH('Сборки Praktisch'!B14,'Детали Praktisch'!$A$12:$A$2063,))","v":634},null,{"$f":"ROUND(E14*(1-$C$3)/Лист2!$A$6,0)","v":634}]
[null,"T-ST 01310665","Полка L=665 G=310",2,{"$f":"INDEX('Детали Praktisch'!$C$12:$C$2063,MATCH('Сборки Praktisch'!B15,'Детали Praktisch'!$A$12:$A$2063,))","v":535},null,{"$f":"ROUND(E15*(1-$C$3)/Лист2!$A$6,0)","v":535}]
[null,"T-BS 01000370","Кронштейн G=370 (комплект)",2,{"$f":"INDEX('Детали Praktisch'!$C$12:$C$2063,MATCH('Сборки Praktisch'!B16,'Детали Praktisch'!$A$12:$A$2063,))","v":272},null,{"$f":"ROUND(E16*(1-$C$3)/Лист2!$A$6,0)","v":272}]
[null,"T-BS 01000310","Кронштейн G=310 (комплект)",2,{"$f":"INDEX('Детали Praktisch'!$C$12:$C$2063,MATCH('Сборки Praktisch'!B17,'Детали Praktisch'!$A$12:$A$2063,))","v":209},null,{"$f":"ROUND(E17*(1-$C$3)/Лист2!$A$6,0)","v":209}]
[null,2,"Стеллаж торговый пристенный L=1000 H=2300",null,null,{"$f":"SUMPRODUCT(D19:D27,E19:E27)","v":11609},null,{"$f":"SUMPRODUCT(D19:D27,G19:G27)","v":11609}]
[null,"T-LT 02802300","Стойка с двухсторонней перфорацией (30х80) H=2300",1,{"$f":"INDEX('Детали Praktisch'!$C$12:$C$2063,MATCH('Сборки Praktisch'!B19,'Детали Praktisch'!$A$12:$A$2063,))","v":1753},null,{"$f":"ROUND(E19*(1-$C$3)/Лист2!$A$6,0)","v":1753}]
[null,"T-BT 01000470","База стеллажа G=470",1,{"$f":"INDEX('Детали Praktisch'!$C$12:$C$2063,MATCH('Сборки Praktisch'!B20,'Детали Praktisch'!$A$12:$A$2063,))","v":1171},null,{"$f":"ROUND(E20*(1-$C$3)/Лист2!$A$6,0)","v":1171}]
[null,"T-BP 01151000","Панель сплошная L=1000 H=150",2,{"$f":"INDEX('Детали Praktisch'!$C$12:$C$2063,MATCH('Сборки Praktisch'!B21,'Детали Praktisch'!$A$12:$A$2063,))","v":300},null,{"$f":"ROUND(E21*(1-$C$3)/Лист2!$A$6,0)","v":300}]
[null,"T-BP 01401000","Панель сплошная L=1000 H=400",5,{"$f":"INDEX('Детали Praktisch'!$C$12:$C$2063,MATCH('Сборки Praktisch'!B22,'Детали Praktisch'!$A$12:$A$2063,))","v":576},null,{"$f":"ROUND(E22*(1-$C$3)/Лист2!$A$6,0)","v":576}]
[null,"T-ST 01471000","Полка L=1000 G= 470",1,{"$f":"INDEX('Детали Praktisch'!$C$12:$C$2063,MATCH('Сборки Praktisch'!B23,'Детали Praktisch'!$A$12:$A$2063,))","v":1031},null,{"$f":"ROUND(E23*(1-$C$3)/Лист2!$A$6,0)","v":1031}]
[null,"T-ST 01371000","Полка L=1000 G=370",2,{"$f":"INDEX('Детали Praktisch'!$C$12:$C$2063,MATCH('Сборки Praktisch'!B24,'Детали Praktisch'!$A$12:$A$2063,))","v":918},null,{"$f":"ROUND(E24*(1-$C$3)/Лист2!$A$6,0)","v":918}]
[null,"T-ST 01311000","Полка L=1000 G=310",2,{"$f":"INDEX('Детали Praktisch'!$C$12:$C$2063,MATCH('Сборки Praktisch'!B25,'Детали Praktisch'!$A$12:$A$2063,))","v":688},null,{"$f":"ROUND(E25*(1-$C$3)/Лист2!$A$6,0)","v":688}]
[null,"T-BS 01000370","Кронштейн G=370 (комплект)",2,{"$f":"INDEX('Детали Praktisch'!$C$12:$C$2063,MATCH('Сборки Praktisch'!B26,'Детали Praktisch'!$A$12:$A$2063,))","v":272},null,{"$f":"ROUND(E26*(1-$C$3)/Лист2!$A$6,0)","v":272}]
[null,"T-BS 01000310","Кронштейн G=310 (комплект)",2,{"$f":"INDEX('Детали Praktisch'!$C$12:$C$2063,MATCH('Сборки Praktisch'!B27,'Детали Praktisch'!$A$12:$A$2063,))","v":209},null,{"$f":"ROUND(E27*(1-$C$3)/Лист2!$A$6,0)","v":209}]
[null,3,"Стеллаж торговый пристенный  L=1250 H=2300",1,null,{"$f":"SUMPRODUCT(D29:D37,E29:E37)","v":13114},null,{"$f":"SUMPRODUCT(D29:D37,G29:G37)","v":13114}]
[null,"T-LT 02802300","Стойка с двухсторонней перфорацией (30х80) H=2300",1,{"$f":"INDEX('Детали Praktisch'!$C$12:$C$2063,MATCH('Сборки Praktisch'!B29,'Детали Praktisch'!$A$12:$A$2063,))","v":1753},null,{"$f":"ROUND(E29*(1-$C$3)/Лист2!$A$6,0)","v":1753}]
[null,"T-BT 01000470","База стеллажа G=470",1,{"$f":"INDEX('Детали Praktisch'!$C$12:$C$2063,MATCH('Сборки Praktisch'!B30,'Детали Praktisch'!$A$12:$A$2063,))","v":1171},null,{"$f":"ROUND(E30*(1-$C$3)/Лист2!$A$6,0)","v":1171}]
[null,"T-BP 01151250","Панель сплошная L=1250 H=150",2,{"$f":"INDEX('Детали Praktisch'!$C$12:$C$2063,MATCH('Сборки Praktisch'!B31,'Детали Praktisch'!$A$12:$A$2063,))","v":360},null,{"$f":"ROUND(E31*(1-$C$3)/Лист2!$A$6,0)","v":360}]
[null,"T-BP 01401250","Панель сплошная L=1250 H=400",5,{"$f":"INDEX('Детали Praktisch'!$C$12:$C$2063,MATCH('Сборки Praktisch'!B32,'Детали Praktisch'!$A$12:$A$2063,))","v":724},null,{"$f":"ROUND(E32*(1-$C$3)/Лист2!$A$6,0)","v":724}]
[null,"T-ST 01471250","Полка L=1250 G=470",1,{"$f":"INDEX('Детали Praktisch'!$C$12:$C$2063,MATCH('Сборки Praktisch'!B33,'Детали Praktisch'!$A$12:$A$2063,))","v":1220},null,{"$f":"ROUND(E33*(1-$C$3)/Лист2!$A$6,0)","v":1220}]
[null,"T-ST 01371250","Полка L=1250 G=370",2,{"$f":"INDEX('Детали Praktisch'!$C$12:$C$2063,MATCH('Сборки Praktisch'!B34,'Детали Praktisch'!$A$12:$A$2063,))","v":994},null,{"$f":"ROUND(E34*(1-$C$3)/Лист2!$A$6,0)","v":994}]
[null,"T-ST 01311250","Полка L=1250 G=310",2,{"$f":"INDEX('Детали Praktisch'!$C$12:$C$2063,MATCH('Сборки Praktisch'!B35,'Детали Praktisch'!$A$12:$A$2063,))","v":840},null,{"$f":"ROUND(E35*(1-$C$3)/Лист2!$A$6,0)","v":840}]
[null,"T-BS 01000370","Кронштейн G=370 (комплект)",2,{"$f":"INDEX('Детали Praktisch'!$C$12:$C$2063,MATCH('Сборки Praktisch'!B36,'Детали Praktisch'!$A$12:$A$2063,))","v":272},null,{"$f":"ROUND(E36*(1-$C$3)/Лист2!$A$6,0)","v":272}]
[null,"T-BS 01000310","Кронштейн G=310 (комплект)",2,{"$f":"INDEX('Детали Praktisch'!$C$12:$C$2063,MATCH('Сборки Praktisch'!B37,'Детали Praktisch'!$A$12:$A$2063,))","v":209},null,{"$f":"ROUND(E37*(1-$C$3)/Лист2!$A$6,0)","v":209}]
[null,4,"Стеллаж торговый с навесом и освещением L=665 H=2300",1,null,{"$f":"SUMPRODUCT(D39:D48,E39:E48)","v":13089},null,{"$f":"SUMPRODUCT(D39:D48,G39:G48)","v":13089}]
[null,"T-LT 02802300","Стойка с двухсторонней перфорацией (30х80) H=2300",1,{"$f":"INDEX('Детали Praktisch'!$C$12:$C$2063,MATCH('Сборки Praktisch'!B39,'Детали Praktisch'!$A$12:$A$2063,))","v":1753},null,{"$f":"ROUND(E39*(1-$C$3)/Лист2!$A$6,0)","v":1753}]
[null,"T-BT 01000470","База стеллажа G=470",1,{"$f":"INDEX('Детали Praktisch'!$C$12:$C$2063,MATCH('Сборки Praktisch'!B40,'Детали Praktisch'!$A$12:$A$2063,))","v":1171},null,{"$f":"ROUND(E40*(1-$C$3)/Лист2!$A$6,0)","v":1171}]
[null,"T-BP 01150665","Панель сплошная L=665 H=150",1,{"$f":"INDEX('Детали Praktisch'!$C$12:$C$2063,MATCH('Сборки Praktisch'!B41,'Детали Praktisch'!$A$12:$A$2063,))","v":241},null,{"$f":"ROUND(E41*(1-$C$3)/Лист2!$A$6,0)","v":241}]
[null,"T-BP 01400665","Панель сплошная L=665 H=400",5,{"$f":"INDEX('Детали Praktisch'!$C$12:$C$2063,MATCH('Сборки Praktisch'!B42,'Детали Praktisch'!$A$12:$A$2063,))","v":440},null,{"$f":"ROUND(E42*(1-$C$3)/Лист2!$A$6,0)","v":440}]
[null,"T-TP 02470665","Навес прямой с подсветкой G=470 L=665",1,{"$f":"INDEX('Детали Praktisch'!$C$12:$C$2063,MATCH('Сборки Praktisch'!B43,'Детали Praktisch'!$A$12:$A$2063,))","v":3642},null,{"$f":"ROUND(E43*(1-$C$3)/Лист2!$A$6,0)","v":3642}]
[null,"T-ST 01470665","Полка L=665 G=470",1,{"$f":"INDEX('Детали Praktisch'!$C$12:$C$2063,MATCH('Сборки Praktisch'!B44,'Детали Praktisch'!$A$12:$A$2063,))","v":782},null,{"$f":"ROUND(E44*(1-$C$3)/Лист2!$A$6,0)","v":782}]
[null,"T-ST 01370665","Полка L=665 G=370",2,{"$f":"INDEX('Детали Praktisch'!$C$12:$C$2063,MATCH('Сборки Praktisch'!B45,'Детали Praktisch'!$A$12:$A$2063,))","v":634},null,{"$f":"ROUND(E45*(1-$C$3)/Лист2!$A$6,0)","v":634}]
[null,"T-ST 01310665","Полка L=665 G=310",2,{"$f":"INDEX('Детали Praktisch'!$C$12:$C$2063,MATCH('Сборки Praktisch'!B46,'Детали Praktisch'!$A$12:$A$2063,))","v":535},null,{"$f":"ROUND(E46*(1-$C$3)/Лист2!$A$6,0)","v":535}]
[null,"T-BS 01000370","Кронштейн G=370 (комплект)",2,{"$f":"INDEX('Детали Praktisch'!$C$12:$C$2063,MATCH('Сборки Praktisch'!B47,'Детали Praktisch'!$A$12:$A$2063,))","v":272},null,{"$f":"ROUND(E47*(1-$C$3)/Лист2!$A$6,0)","v":272}]
[null,"T-BS 01000310","Кронштейн G=310 (комплект)",2,{"$f":"INDEX('Детали Praktisch'!$C$12:$C$2063,MATCH('Сборки Praktisch'!B48,'Детали Praktisch'!$A$12:$A$2063,))","v":209},null,{"$f":"ROUND(E48*(1-$C$3)/Лист2!$A$6,0)","v":209}]
[null,5,"Стеллаж торговый с навесом и освещением L=1000 H=2300",1,null,{"$f":"SUMPRODUCT(D50:D59,E50:E59)","v":15579},null,{"$f":"SUMPRODUCT(D50:D59,G50:G59)","v":15579}]
[null,"T-LT 02802300","Стойка с двухсторонней перфорацией (30х80) H=2300",1,{"$f":"INDEX('Детали Praktisch'!$C$12:$C$2063,MATCH('Сборки Praktisch'!B50,'Детали Praktisch'!$A$12:$A$2063,))","v":1753},null,{"$f":"ROUND(E50*(1-$C$3)/Лист2!$A$6,0)","v":1753}]
[null,"T-BT 01000470","База стеллажа G=470",1,{"$f":"INDEX('Детали Praktisch'!$C$12:$C$2063,MATCH('Сборки Praktisch'!B51,'Детали Praktisch'!$A$12:$A$2063,))","v":1171},null,{"$f":"ROUND(E51*(1-$C$3)/Лист2!$A$6,0)","v":1171}]
[null,"T-BP 01151000","Панель сплошная L=1000 H=150",1,{"$f":"INDEX('Детали Praktisch'!$C$12:$C$2063,MATCH('Сборки Praktisch'!B52,'Детали Praktisch'!$A$12:$A$2063,))","v":300},null,{"$f":"ROUND(E52*(1-$C$3)/Лист2!$A$6,0)","v":300}]
[null,"T-BP 01401000","Панель сплошная L=1000 H=400",5,{"$f":"INDEX('Детали Praktisch'!$C$12:$C$2063,MATCH('Сборки Praktisch'!B53,'Детали Praktisch'!$A$12:$A$2063,))","v":576},null,{"$f":"ROUND(E53*(1-$C$3)/Лист2!$A$6,0)","v":576}]
[null,"T-TP 02471000","Навес прямой с подсветкой G=470 L=1000",1,{"$f":"INDEX('Детали Praktisch'!$C$12:$C$2063,MATCH('Сборки Praktisch'!B54,'Детали Praktisch'!$A$12:$A$2063,))","v":4270},null,{"$f":"ROUND(E54*(1-$C$3)/Лист2!$A$6,0)","v":4270}]
[null,"T-ST 01471000","Полка L=1000 G= 470",1,{"$f":"INDEX('Детали Praktisch'!$C$12:$C$2063,MATCH('Сборки Praktisch'!B55,'Детали Praktisch'!$A$12:$A$2063,))","v":1031},null,{"$f":"ROUND(E55*(1-$C$3)/Лист2!$A$6,0)","v":1031}]
[null,"T-ST 01371000","Полка L=1000 G=370",2,{"$f":"INDEX('Детали Praktisch'!$C$12:$C$2063,MATCH('Сборки Praktisch'!B56,'Детали Praktisch'!$A$12:$A$2063,))","v":918},null,{"$f":"ROUND(E56*(1-$C$3)/Лист2!$A$6,0)","v":918}]
[null,"T-ST 01311000","Полка L=1000 G=310",2,{"$f":"INDEX('Детали Praktisch'!$C$12:$C$2063,MATCH('Сборки Praktisch'!B57,'Детали Praktisch'!$A$12:$A$2063,))","v":688},null,{"$f":"ROUND(E57*(1-$C$3)/Лист2!$A$6,0)","v":688}]
[null,"T-BS 01000370","Кронштейн G=370 (комплект)",2,{"$f":"INDEX('Детали Praktisch'!$C$12:$C$2063,MATCH('Сборки Praktisch'!B58,'Детали Praktisch'!$A$12:$A$2063,))","v":272},null,{"$f":"ROUND(E58*(1-$C$3)/Лист2!$A$6,0)","v":272}]
[null,"T-BS 01000310","Кронштейн G=310 (комплект)",2,{"$f":"INDEX('Детали Praktisch'!$C$12:$C$2063,MATCH('Сборки Praktisch'!B59,'Детали Praktisch'!$A$12:$A$2063,))","v":209},null,{"$f":"ROUND(E59*(1-$C$3)/Лист2!$A$6,0)","v":209}]
[null,6,"Стеллаж торговый с навесом и освещением  L=1250 H=2300",1,null,{"$f":"SUMPRODUCT(D61:D70,E61:E70)","v":17873},null,{"$f":"SUMPRODUCT(D61:D70,G61:G70)","v":17873}]
[null,"T-LT 02802300","Стойка с двухсторонней перфорацией (30х80) H=2300",1,{"$f":"INDEX('Детали Praktisch'!$C$12:$C$2063,MATCH('Сборки Praktisch'!B61,'Детали Praktisch'!$A$12:$A$2063,))","v":1753},null,{"$f":"ROUND(E61*(1-$C$3)/Лист2!$A$6,0)","v":1753}]
[null,"T-BT 01000470","База стеллажа G=470",1,{"$f":"INDEX('Детали Praktisch'!$C$12:$C$2063,MATCH('Сборки Praktisch'!B62,'Детали Praktisch'!$A$12:$A$2063,))","v":1171},null,{"$f":"ROUND(E62*(1-$C$3)/Лист2!$A$6,0)","v":1171}]
[null,"T-BP 01151250","Панель сплошная L=1250 H=150",1,{"$f":"INDEX('Детали Praktisch'!$C$12:$C$2063,MATCH('Сборки Praktisch'!B63,'Детали Praktisch'!$A$12:$A$2063,))","v":360},null,{"$f":"ROUND(E63*(1-$C$3)/Лист2!$A$6,0)","v":360}]
[null,"T-BP 01401250","Панель сплошная L=1250 H=400",5,{"$f":"INDEX('Детали Praktisch'!$C$12:$C$2063,MATCH('Сборки Praktisch'!B64,'Детали Praktisch'!$A$12:$A$2063,))","v":724},null,{"$f":"ROUND(E64*(1-$C$3)/Лист2!$A$6,0)","v":724}]
[null,"T-TP 02471250","Навес прямой с подсветкой G=470 L=1250",1,{"$f":"INDEX('Детали Praktisch'!$C$12:$C$2063,MATCH('Сборки Praktisch'!B65,'Детали Praktisch'!$A$12:$A$2063,))","v":5119},null,{"$f":"ROUND(E65*(1-$C$3)/Лист2!$A$6,0)","v":5119}]
[null,"T-ST 01471250","Полка L=1250 G=470",1,{"$f":"INDEX('Детали Praktisch'!$C$12:$C$2063,MATCH('Сборки Praktisch'!B66,'Детали Praktisch'!$A$12:$A$2063,))","v":1220},null,{"$f":"ROUND(E66*(1-$C$3)/Лист2!$A$6,0)","v":1220}]
[null,"T-ST 01371250","Полка L=1250 G=370",2,{"$f":"INDEX('Детали Praktisch'!$C$12:$C$2063,MATCH('Сборки Praktisch'!B67,'Детали Praktisch'!$A$12:$A$2063,))","v":994},null,{"$f":"ROUND(E67*(1-$C$3)/Лист2!$A$6,0)","v":994}]
[null,"T-ST 01311250","Полка L=1250 G=310",2,{"$f":"INDEX('Детали Praktisch'!$C$12:$C$2063,MATCH('Сборки Praktisch'!B68,'Детали Praktisch'!$A$12:$A$2063,))","v":840},null,{"$f":"ROUND(E68*(1-$C$3)/Лист2!$A$6,0)","v":840}]
[null,"T-BS 01000370","Кронштейн G=370 (комплект)",2,{"$f":"INDEX('Детали Praktisch'!$C$12:$C$2063,MATCH('Сборки Praktisch'!B69,'Детали Praktisch'!$A$12:$A$2063,))","v":272},null,{"$f":"ROUND(E69*(1-$C$3)/Лист2!$A$6,0)","v":272}]
[null,"T-BS 01000310","Кронштейн G=310 (комплект)",2,{"$f":"INDEX('Детали Praktisch'!$C$12:$C$2063,MATCH('Сборки Praktisch'!B70,'Детали Praktisch'!$A$12:$A$2063,))","v":209},null,{"$f":"ROUND(E70*(1-$C$3)/Лист2!$A$6,0)","v":209}]
[null,7,"Стеллаж торговый угла внутреннего H=2300",1,null,{"$f":"SUMPRODUCT(D72:D81,E72:E81)","v":11703},null,{"$f":"SUMPRODUCT(D72:D81,G72:G81)","v":11703}]
[null,"T-LT 02802300","Стойка с двухсторонней перфорацией (30х80) H=2300",1,{"$f":"INDEX('Детали Praktisch'!$C$12:$C$2063,MATCH('Сборки Praktisch'!B72,'Детали Praktisch'!$A$12:$A$2063,))","v":1753},null,{"$f":"ROUND(E72*(1-$C$3)/Лист2!$A$6,0)","v":1753}]
[null,"T-BT 01000470","База стеллажа G=470",1,{"$f":"INDEX('Детали Praktisch'!$C$12:$C$2063,MATCH('Сборки Praktisch'!B73,'Детали Praktisch'!$A$12:$A$2063,))","v":1171},null,{"$f":"ROUND(E73*(1-$C$3)/Лист2!$A$6,0)","v":1171}]
[null,"T-BP 05900150","Панель угла внутреннего Н=150",1,{"$f":"INDEX('Детали Praktisch'!$C$12:$C$2063,MATCH('Сборки Praktisch'!B74,'Детали Praktisch'!$A$12:$A$2063,))","v":331},null,{"$f":"ROUND(E74*(1-$C$3)/Лист2!$A$6,0)","v":331}]
[null,"T-BP 05900400","Панель угла внутреннего Н=400",5,{"$f":"INDEX('Детали Praktisch'!$C$12:$C$2063,MATCH('Сборки Praktisch'!B75,'Детали Praktisch'!$A$12:$A$2063,))","v":621},null,{"$f":"ROUND(E75*(1-$C$3)/Лист2!$A$6,0)","v":621}]
[null,"T-ST 05000470","Полка угловая внутренняя G= 470",1,{"$f":"INDEX('Детали Praktisch'!$C$12:$C$2063,MATCH('Сборки Praktisch'!B76,'Детали Praktisch'!$A$12:$A$2063,))","v":968},null,{"$f":"ROUND(E76*(1-$C$3)/Лист2!$A$6,0)","v":968}]
[null,"T-PT 03000470","Плинтус угла внутреннего L=470мм",1,{"$f":"INDEX('Детали Praktisch'!$C$12:$C$2063,MATCH('Сборки Praktisch'!B77,'Детали Praktisch'!$A$12:$A$2063,))","v":203},null,{"$f":"ROUND(E77*(1-$C$3)/Лист2!$A$6,0)","v":203}]
[null,"T-ST 05000310","Полка угловая внутренняя G=310",2,{"$f":"INDEX('Детали Praktisch'!$C$12:$C$2063,MATCH('Сборки Praktisch'!B78,'Детали Praktisch'!$A$12:$A$2063,))","v":723},null,{"$f":"ROUND(E78*(1-$C$3)/Лист2!$A$6,0)","v":723}]
[null,"T-ST 05000370","Полка угловая внутренняя G=370",2,{"$f":"INDEX('Детали Praktisch'!$C$12:$C$2063,MATCH('Сборки Praktisch'!B79,'Детали Praktisch'!$A$12:$A$2063,))","v":882},null,{"$f":"ROUND(E79*(1-$C$3)/Лист2!$A$6,0)","v":882}]
[null,"T-BS 01000310","Кронштейн G=310 (комплект)",2,{"$f":"INDEX('Детали Praktisch'!$C$12:$C$2063,MATCH('Сборки Praktisch'!B80,'Детали Praktisch'!$A$12:$A$2063,))","v":209},null,{"$f":"ROUND(E80*(1-$C$3)/Лист2!$A$6,0)","v":209}]
[null,"T-BS 01000370","Кронштейн G=370 (комплект)",2,{"$f":"INDEX('Детали Praktisch'!$C$12:$C$2063,MATCH('Сборки Praktisch'!B81,'Детали Praktisch'!$A$12:$A$2063,))","v":272},null,{"$f":"ROUND(E81*(1-$C$3)/Лист2!$A$6,0)","v":272}]
[null,8,"Стеллаж торговый угла внешнего H=2300",1,null,{"$f":"SUMPRODUCT(D83:D92,E83:E92)","v":9491},null,{"$f":"SUMPRODUCT(D83:D92,G83:G92)","v":9491}]
[null,"T-LT 02802300","Стойка с двухсторонней перфорацией (30х80) H=2300",1,{"$f":"INDEX('Детали Praktisch'!$C$12:$C$2063,MATCH('Сборки Praktisch'!B83,'Детали Praktisch'!$A$12:$A$2063,))","v":1753},null,{"$f":"ROUND(E83*(1-$C$3)/Лист2!$A$6,0)","v":1753}]
[null,"T-BT 01000470","База стеллажа G=470",1,{"$f":"INDEX('Детали Praktisch'!$C$12:$C$2063,MATCH('Сборки Praktisch'!B84,'Детали Praktisch'!$A$12:$A$2063,))","v":1171},null,{"$f":"ROUND(E84*(1-$C$3)/Лист2!$A$6,0)","v":1171}]
[null,"T-BP 06900150","Панель угла внешнего Н=150",1,{"$f":"INDEX('Детали Praktisch'!$C$12:$C$2063,MATCH('Сборки Praktisch'!B85,'Детали Praktisch'!$A$12:$A$2063,))","v":183},null,{"$f":"ROUND(E85*(1-$C$3)/Лист2!$A$6,0)","v":183}]
[null,"T-BP 06900400","Панель угла внешнего Н=400",5,{"$f":"INDEX('Детали Praktisch'!$C$12:$C$2063,MATCH('Сборки Praktisch'!B86,'Детали Praktisch'!$A$12:$A$2063,))","v":271},null,{"$f":"ROUND(E86*(1-$C$3)/Лист2!$A$6,0)","v":271}]
[null,"T-ST 06000470","Полка угловая внешняя G= 470",1,{"$f":"INDEX('Детали Praktisch'!$C$12:$C$2063,MATCH('Сборки Praktisch'!B87,'Детали Praktisch'!$A$12:$A$2063,))","v":928},null,{"$f":"ROUND(E87*(1-$C$3)/Лист2!$A$6,0)","v":928}]
[null,"T-PT 04000470","Плинтус угла внешнего L=470мм",1,{"$f":"INDEX('Детали Praktisch'!$C$12:$C$2063,MATCH('Сборки Praktisch'!B88,'Детали Praktisch'!$A$12:$A$2063,))","v":301},null,{"$f":"ROUND(E88*(1-$C$3)/Лист2!$A$6,0)","v":301}]
[null,"T-ST 06000310","Полка угловая внешняя G=310",2,{"$f":"INDEX('Детали Praktisch'!$C$12:$C$2063,MATCH('Сборки Praktisch'!B89,'Детали Praktisch'!$A$12:$A$2063,))","v":621},null,{"$f":"ROUND(E89*(1-$C$3)/Лист2!$A$6,0)","v":621}]
[null,"T-ST 06000370","Полка угловая внешняя G=370",2,{"$f":"INDEX('Детали Praktisch'!$C$12:$C$2063,MATCH('Сборки Praktisch'!B90,'Детали Praktisch'!$A$12:$A$2063,))","v":798},null,{"$f":"ROUND(E90*(1-$C$3)/Лист2!$A$6,0)","v":798}]
[null,"T-BS 01000310","Кронштейн G=310 (комплект)",2,{"$f":"INDEX('Детали Praktisch'!$C$12:$C$2063,MATCH('Сборки Praktisch'!B91,'Детали Praktisch'!$A$12:$A$2063,))","v":209},null,{"$f":"ROUND(E91*(1-$C$3)/Лист2!$A$6,0)","v":209}]
[null,"T-BS 01000370","Кронштейн G=370 (комплект)",2,{"$f":"INDEX('Детали Praktisch'!$C$12:$C$2063,MATCH('Сборки Praktisch'!B92,'Детали Praktisch'!$A$12:$A$2063,))","v":272},null,{"$f":"ROUND(E92*(1-$C$3)/Лист2!$A$6,0)","v":272}]
[null,9,"Стеллаж торговый угла внутреннего c навесом и освещением  H=2300",1,null,{"$f":"SUMPRODUCT(D94:D103,E94:E103)","v":13521},null,{"$f":"SUMPRODUCT(D94:D103,G94:G103)","v":13521}]
[null,"T-LT 02802300","Стойка с двухсторонней перфорацией (30х80) H=2300",1,{"$f":"INDEX('Детали Praktisch'!$C$12:$C$2063,MATCH('Сборки Praktisch'!B94,'Детали Praktisch'!$A$12:$A$2063,))","v":1753},null,{"$f":"ROUND(E94*(1-$C$3)/Лист2!$A$6,0)","v":1753}]
[null,"T-BT 01000470","База стеллажа G=470",1,{"$f":"INDEX('Детали Praktisch'!$C$12:$C$2063,MATCH('Сборки Praktisch'!B95,'Детали Praktisch'!$A$12:$A$2063,))","v":1171},null,{"$f":"ROUND(E95*(1-$C$3)/Лист2!$A$6,0)","v":1171}]
[null,"T-TP 02470010","Навес прямой с подсветкой G=470 угловой внутренний",1,{"$f":"INDEX('Детали Praktisch'!$C$12:$C$2063,MATCH('Сборки Praktisch'!B96,'Детали Praktisch'!$A$12:$A$2063,))","v":2149},null,{"$f":"ROUND(E96*(1-$C$3)/Лист2!$A$6,0)","v":2149}]
[null,"T-BP 05900400","Панель угла внутреннего Н=400",5,{"$f":"INDEX('Детали Praktisch'!$C$12:$C$2063,MATCH('Сборки Praktisch'!B97,'Детали Praktisch'!$A$12:$A$2063,))","v":621},null,{"$f":"ROUND(E97*(1-$C$3)/Лист2!$A$6,0)","v":621}]
[null,"T-ST 05000470","Полка угловая внутренняя G= 470",1,{"$f":"INDEX('Детали Praktisch'!$C$12:$C$2063,MATCH('Сборки Praktisch'!B98,'Детали Praktisch'!$A$12:$A$2063,))","v":968},null,{"$f":"ROUND(E98*(1-$C$3)/Лист2!$A$6,0)","v":968}]
[null,"T-PT 03000470","Плинтус угла внутреннего L=470мм",1,{"$f":"INDEX('Детали Praktisch'!$C$12:$C$2063,MATCH('Сборки Praktisch'!B99,'Детали Praktisch'!$A$12:$A$2063,))","v":203},null,{"$f":"ROUND(E99*(1-$C$3)/Лист2!$A$6,0)","v":203}]
[null,"T-ST 05000310","Полка угловая внутренняя G=310",2,{"$f":"INDEX('Детали Praktisch'!$C$12:$C$2063,MATCH('Сборки Praktisch'!B100,'Детали Praktisch'!$A$12:$A$2063,))","v":723},null,{"$f":"ROUND(E100*(1-$C$3)/Лист2!$A$6,0)","v":723}]
[null,"T-ST 05000370","Полка угловая внутренняя G=370",2,{"$f":"INDEX('Детали Praktisch'!$C$12:$C$2063,MATCH('Сборки Praktisch'!B101,'Детали Praktisch'!$A$12:$A$2063,))","v":882},null,{"$f":"ROUND(E101*(1-$C$3)/Лист2!$A$6,0)","v":882}]
[null,"T-BS 01000310","Кронштейн G=310 (комплект)",2,{"$f":"INDEX('Детали Praktisch'!$C$12:$C$2063,MATCH('Сборки Praktisch'!B102,'Детали Praktisch'!$A$12:$A$2063,))","v":209},null,{"$f":"ROUND(E102*(1-$C$3)/Лист2!$A$6,0)","v":209}]
[null,"T-BS 01000370","Кронштейн G=370 (комплект)",2,{"$f":"INDEX('Детали Praktisch'!$C$12:$C$2063,MATCH('Сборки Praktisch'!B103,'Детали Praktisch'!$A$12:$A$2063,))","v":272},null,{"$f":"ROUND(E103*(1-$C$3)/Лист2!$A$6,0)","v":272}]
[null,10,"Стеллаж торговый угла внешнего с навесом и освещением H=2300",1,null,{"$f":"SUMPRODUCT(D105:D114,E105:E114)","v":12691},null,{"$f":"SUMPRODUCT(D105:D114,G105:G114)","v":12691}]
[null,"T-LT 02802300","Стойка с двухсторонней перфорацией (30х80) H=2300",1,{"$f":"INDEX('Детали Praktisch'!$C$12:$C$2063,MATCH('Сборки Praktisch'!B105,'Детали Praktisch'!$A$12:$A$2063,))","v":1753},null,{"$f":"ROUND(E105*(1-$C$3)/Лист2!$A$6,0)","v":1753}]
[null,"T-BT 01000470","База стеллажа G=470",1,{"$f":"INDEX('Детали Praktisch'!$C$12:$C$2063,MATCH('Сборки Praktisch'!B106,'Детали Praktisch'!$A$12:$A$2063,))","v":1171},null,{"$f":"ROUND(E106*(1-$C$3)/Лист2!$A$6,0)","v":1171}]
[null,"T-TP 02470020","Навес прямой с подсветкой G=470 угловой внешний",1,{"$f":"INDEX('Детали Praktisch'!$C$12:$C$2063,MATCH('Сборки Praktisch'!B107,'Детали Praktisch'!$A$12:$A$2063,))","v":3383},null,{"$f":"ROUND(E107*(1-$C$3)/Лист2!$A$6,0)","v":3383}]
[null,"T-BP 06900400","Панель угла внешнего Н=400",5,{"$f":"INDEX('Детали Praktisch'!$C$12:$C$2063,MATCH('Сборки Praktisch'!B108,'Детали Praktisch'!$A$12:$A$2063,))","v":271},null,{"$f":"ROUND(E108*(1-$C$3)/Лист2!$A$6,0)","v":271}]
[null,"T-ST 06000470","Полка угловая внешняя G= 470",1,{"$f":"INDEX('Детали Praktisch'!$C$12:$C$2063,MATCH('Сборки Praktisch'!B109,'Детали Praktisch'!$A$12:$A$2063,))","v":928},null,{"$f":"ROUND(E109*(1-$C$3)/Лист2!$A$6,0)","v":928}]
[null,"T-PT 04000470","Плинтус угла внешнего L=470мм",1,{"$f":"INDEX('Детали Praktisch'!$C$12:$C$2063,MATCH('Сборки Praktisch'!B110,'Детали Praktisch'!$A$12:$A$2063,))","v":301},null,{"$f":"ROUND(E110*(1-$C$3)/Лист2!$A$6,0)","v":301}]
[null,"T-ST 06000310","Полка угловая внешняя G=310",2,{"$f":"INDEX('Детали Praktisch'!$C$12:$C$2063,MATCH('Сборки Praktisch'!B111,'Детали Praktisch'!$A$12:$A$2063,))","v":621},null,{"$f":"ROUND(E111*(1-$C$3)/Лист2!$A$6,0)","v":621}]
[null,"T-ST 06000370","Полка угловая внешняя G=370",2,{"$f":"INDEX('Детали Praktisch'!$C$12:$C$2063,MATCH('Сборки Praktisch'!B112,'Детали Praktisch'!$A$12:$A$2063,))","v":798},null,{"$f":"ROUND(E112*(1-$C$3)/Лист2!$A$6,0)","v":798}]
[null,"T-BS 01000310","Кронштейн G=310 (комплект)",2,{"$f":"INDEX('Детали Praktisch'!$C$12:$C$2063,MATCH('Сборки Praktisch'!B113,'Детали Praktisch'!$A$12:$A$2063,))","v":209},null,{"$f":"ROUND(E113*(1-$C$3)/Лист2!$A$6,0)","v":209}]
[null,"T-BS 01000370","Кронштейн G=370 (комплект)",2,{"$f":"INDEX('Детали Praktisch'!$C$12:$C$2063,MATCH('Сборки Praktisch'!B114,'Детали Praktisch'!$A$12:$A$2063,))","v":272},null,{"$f":"ROUND(E114*(1-$C$3)/Лист2!$A$6,0)","v":272}]
[null,11,"Стеллаж торговый перфорированный L=665 H=2300",1,null,{"$f":"SUMPRODUCT(D116:D120,E116:E120)","v":7698},null,{"$f":"SUMPRODUCT(D116:D120,G116:G120)","v":7698}]
[null,"T-LT 02802300","Стойка с двухсторонней перфорацией (30х80) H=2300",1,{"$f":"INDEX('Детали Praktisch'!$C$12:$C$2063,MATCH('Сборки Praktisch'!B116,'Детали Praktisch'!$A$12:$A$2063,))","v":1753},null,{"$f":"ROUND(E116*(1-$C$3)/Лист2!$A$6,0)","v":1753}]
[null,"T-BT 01000470","База стеллажа G=470",1,{"$f":"INDEX('Детали Praktisch'!$C$12:$C$2063,MATCH('Сборки Praktisch'!B117,'Детали Praktisch'!$A$12:$A$2063,))","v":1171},null,{"$f":"ROUND(E117*(1-$C$3)/Лист2!$A$6,0)","v":1171}]
[null,"T-BP 01150665","Панель сплошная L=665 H=150",2,{"$f":"INDEX('Детали Praktisch'!$C$12:$C$2063,MATCH('Сборки Praktisch'!B118,'Детали Praktisch'!$A$12:$A$2063,))","v":241},null,{"$f":"ROUND(E118*(1-$C$3)/Лист2!$A$6,0)","v":241}]
[null,"T-BP 02400665","Панель перфорированная L=665 H=400",5,{"$f":"INDEX('Детали Praktisch'!$C$12:$C$2063,MATCH('Сборки Praktisch'!B119,'Детали Praktisch'!$A$12:$A$2063,))","v":702},null,{"$f":"ROUND(E119*(1-$C$3)/Лист2!$A$6,0)","v":702}]
[null,"T-ST 01470665","Полка L=665 G=470",1,{"$f":"INDEX('Детали Praktisch'!$C$12:$C$2063,MATCH('Сборки Praktisch'!B120,'Детали Praktisch'!$A$12:$A$2063,))","v":782},null,{"$f":"ROUND(E120*(1-$C$3)/Лист2!$A$6,0)","v":782}]
[null,12,"Стеллаж торговый перфорированный L=1000 H=2300",1,null,{"$f":"SUMPRODUCT(D122:D126,E122:E126)","v":9315},null,{"$f":"SUMPRODUCT(D122:D126,G122:G126)","v":9315}]
[null,"T-LT 02802300","Стойка с двухсторонней перфорацией (30х80) H=2300",1,{"$f":"INDEX('Детали Praktisch'!$C$12:$C$2063,MATCH('Сборки Praktisch'!B122,'Детали Praktisch'!$A$12:$A$2063,))","v":1753},null,{"$f":"ROUND(E122*(1-$C$3)/Лист2!$A$6,0)","v":1753}]
[null,"T-BT 01000470","База стеллажа G=470",1,{"$f":"INDEX('Детали Praktisch'!$C$12:$C$2063,MATCH('Сборки Praktisch'!B123,'Детали Praktisch'!$A$12:$A$2063,))","v":1171},null,{"$f":"ROUND(E123*(1-$C$3)/Лист2!$A$6,0)","v":1171}]
[null,"T-BP 01151000","Панель сплошная L=1000 H=150",2,{"$f":"INDEX('Детали Praktisch'!$C$12:$C$2063,MATCH('Сборки Praktisch'!B124,'Детали Praktisch'!$A$12:$A$2063,))","v":300},null,{"$f":"ROUND(E124*(1-$C$3)/Лист2!$A$6,0)","v":300}]
[null,"T-BP 02401000","Панель перфорированная L=1000 H=400",5,{"$f":"INDEX('Детали Praktisch'!$C$12:$C$2063,MATCH('Сборки Praktisch'!B125,'Детали Praktisch'!$A$12:$A$2063,))","v":952},null,{"$f":"ROUND(E125*(1-$C$3)/Лист2!$A$6,0)","v":952}]
[null,"T-ST 01471000","Полка L=1000 G= 470",1,{"$f":"INDEX('Детали Praktisch'!$C$12:$C$2063,MATCH('Сборки Praktisch'!B126,'Детали Praktisch'!$A$12:$A$2063,))","v":1031},null,{"$f":"ROUND(E126*(1-$C$3)/Лист2!$A$6,0)","v":1031}]
[null,13,"Стеллаж торговый перфорированный L=1250 H=2300",1,null,{"$f":"SUMPRODUCT(D128:D132,E128:E132)","v":10639},null,{"$f":"SUMPRODUCT(D128:D132,G128:G132)","v":10639}]
[null,"T-LT 02802300","Стойка с двухсторонней перфорацией (30х80) H=2300",1,{"$f":"INDEX('Детали Praktisch'!$C$12:$C$2063,MATCH('Сборки Praktisch'!B128,'Детали Praktisch'!$A$12:$A$2063,))","v":1753},null,{"$f":"ROUND(E128*(1-$C$3)/Лист2!$A$6,0)","v":1753}]
[null,"T-BT 01000470","База стеллажа G=470",1,{"$f":"INDEX('Детали Praktisch'!$C$12:$C$2063,MATCH('Сборки Praktisch'!B129,'Детали Praktisch'!$A$12:$A$2063,))","v":1171},null,{"$f":"ROUND(E129*(1-$C$3)/Лист2!$A$6,0)","v":1171}]
[null,"T-BP 01151250","Панель сплошная L=1250 H=150",2,{"$f":"INDEX('Детали Praktisch'!$C$12:$C$2063,MATCH('Сборки Praktisch'!B130,'Детали Praktisch'!$A$12:$A$2063,))","v":360},null,{"$f":"ROUND(E130*(1-$C$3)/Лист2!$A$6,0)","v":360}]
[null,"T-BP 02401250","Панель перфорированная L=1250 H=400",5,{"$f":"INDEX('Детали Praktisch'!$C$12:$C$2063,MATCH('Сборки Praktisch'!B131,'Детали Praktisch'!$A$12:$A$2063,))","v":1155},null,{"$f":"ROUND(E131*(1-$C$3)/Лист2!$A$6,0)","v":1155}]
[null,"T-ST 01471250","Полка L=1250 G=470",1,{"$f":"INDEX('Детали Praktisch'!$C$12:$C$2063,MATCH('Сборки Praktisch'!B132,'Детали Praktisch'!$A$12:$A$2063,))","v":1220},null,{"$f":"ROUND(E132*(1-$C$3)/Лист2!$A$6,0)","v":1220}]
[null,14,"Стеллаж торговый островной L=665 Н=1650",1,null,{"$f":"SUMPRODUCT(D134:D143,E134:E143)","v":14259},null,{"$f":"SUMPRODUCT(D134:D143,G134:G143)","v":14259}]
[null,"T-LT 02801650","Стойка с двухсторонней перфорацией (30х80) H=1650",1,{"$f":"INDEX('Детали Praktisch'!$C$12:$C$2063,MATCH('Сборки Praktisch'!B134,'Детали Praktisch'!$A$12:$A$2063,))","v":1361},null,{"$f":"ROUND(E134*(1-$C$3)/Лист2!$A$6,0)","v":1361}]
[null,"T-BT 01000470","База стеллажа G=470",2,{"$f":"INDEX('Детали Praktisch'!$C$12:$C$2063,MATCH('Сборки Praktisch'!B135,'Детали Praktisch'!$A$12:$A$2063,))","v":1171},null,{"$f":"ROUND(E135*(1-$C$3)/Лист2!$A$6,0)","v":1171}]
[null,"T-BP 01150665","Панель сплошная L=665 H=150",2,{"$f":"INDEX('Детали Praktisch'!$C$12:$C$2063,MATCH('Сборки Praktisch'!B136,'Детали Praktisch'!$A$12:$A$2063,))","v":241},null,{"$f":"ROUND(E136*(1-$C$3)/Лист2!$A$6,0)","v":241}]
[null,"T-BP 01300665","Панель сплошная L=665 H=300",2,{"$f":"INDEX('Детали Praktisch'!$C$12:$C$2063,MATCH('Сборки Praktisch'!B137,'Детали Praktisch'!$A$12:$A$2063,))","v":379},null,{"$f":"ROUND(E137*(1-$C$3)/Лист2!$A$6,0)","v":379}]
[null,"T-BP 01400665","Панель сплошная L=665 H=400",6,{"$f":"INDEX('Детали Praktisch'!$C$12:$C$2063,MATCH('Сборки Praktisch'!B138,'Детали Praktisch'!$A$12:$A$2063,))","v":440},null,{"$f":"ROUND(E138*(1-$C$3)/Лист2!$A$6,0)","v":440}]
[null,"T-ST 01470665","Полка L=665 G=470",2,{"$f":"INDEX('Детали Praktisch'!$C$12:$C$2063,MATCH('Сборки Praktisch'!B139,'Детали Praktisch'!$A$12:$A$2063,))","v":782},null,{"$f":"ROUND(E139*(1-$C$3)/Лист2!$A$6,0)","v":782}]
[null,"T-ST 01370665","Полка L=665 G=370",4,{"$f":"INDEX('Детали Praktisch'!$C$12:$C$2063,MATCH('Сборки Praktisch'!B140,'Детали Praktisch'!$A$12:$A$2063,))","v":634},null,{"$f":"ROUND(E140*(1-$C$3)/Лист2!$A$6,0)","v":634}]
[null,"T-ST 01310665","Полка L=665 G=310",2,{"$f":"INDEX('Детали Praktisch'!$C$12:$C$2063,MATCH('Сборки Praktisch'!B141,'Детали Praktisch'!$A$12:$A$2063,))","v":535},null,{"$f":"ROUND(E141*(1-$C$3)/Лист2!$A$6,0)","v":535}]
[null,"T-BS 01000370","Кронштейн G=370 (комплект)",4,{"$f":"INDEX('Детали Praktisch'!$C$12:$C$2063,MATCH('Сборки Praktisch'!B142,'Детали Praktisch'!$A$12:$A$2063,))","v":272},null,{"$f":"ROUND(E142*(1-$C$3)/Лист2!$A$6,0)","v":272}]
[null,"T-BS 01000310","Кронштейн G=310 (комплект)",2,{"$f":"INDEX('Детали Praktisch'!$C$12:$C$2063,MATCH('Сборки Praktisch'!B143,'Детали Praktisch'!$A$12:$A$2063,))","v":209},null,{"$f":"ROUND(E143*(1-$C$3)/Лист2!$A$6,0)","v":209}]
[null,15,"Стеллаж торговый островной L=1000 Н=1650",1,null,{"$f":"SUMPRODUCT(D145:D154,E145:E154)","v":17341},null,{"$f":"SUMPRODUCT(D145:D154,G145:G154)","v":17341}]
[null,"T-LT 02801650","Стойка с двухсторонней перфорацией (30х80) H=1650",1,{"$f":"INDEX('Детали Praktisch'!$C$12:$C$2063,MATCH('Сборки Praktisch'!B145,'Детали Praktisch'!$A$12:$A$2063,))","v":1361},null,{"$f":"ROUND(E145*(1-$C$3)/Лист2!$A$6,0)","v":1361}]
[null,"T-BT 01000470","База стеллажа G=470",2,{"$f":"INDEX('Детали Praktisch'!$C$12:$C$2063,MATCH('Сборки Praktisch'!B146,'Детали Praktisch'!$A$12:$A$2063,))","v":1171},null,{"$f":"ROUND(E146*(1-$C$3)/Лист2!$A$6,0)","v":1171}]
[null,"T-BP 01151000","Панель сплошная L=1000 H=150",2,{"$f":"INDEX('Детали Praktisch'!$C$12:$C$2063,MATCH('Сборки Praktisch'!B147,'Детали Praktisch'!$A$12:$A$2063,))","v":300},null,{"$f":"ROUND(E147*(1-$C$3)/Лист2!$A$6,0)","v":300}]
[null,"T-BP 01301000","Панель сплошная L=1000  H=300",2,{"$f":"INDEX('Детали Praktisch'!$C$12:$C$2063,MATCH('Сборки Praktisch'!B148,'Детали Praktisch'!$A$12:$A$2063,))","v":483},null,{"$f":"ROUND(E148*(1-$C$3)/Лист2!$A$6,0)","v":483}]
[null,"T-BP 01401000","Панель сплошная L=1000 H=400",6,{"$f":"INDEX('Детали Praktisch'!$C$12:$C$2063,MATCH('Сборки Praktisch'!B149,'Детали Praktisch'!$A$12:$A$2063,))","v":576},null,{"$f":"ROUND(E149*(1-$C$3)/Лист2!$A$6,0)","v":576}]
[null,"T-ST 01471000","Полка L=1000 G= 470",2,{"$f":"INDEX('Детали Praktisch'!$C$12:$C$2063,MATCH('Сборки Praktisch'!B150,'Детали Praktisch'!$A$12:$A$2063,))","v":1031},null,{"$f":"ROUND(E150*(1-$C$3)/Лист2!$A$6,0)","v":1031}]
[null,"T-ST 01371000","Полка L=1000 G=370",4,{"$f":"INDEX('Детали Praktisch'!$C$12:$C$2063,MATCH('Сборки Praktisch'!B151,'Детали Praktisch'!$A$12:$A$2063,))","v":918},null,{"$f":"ROUND(E151*(1-$C$3)/Лист2!$A$6,0)","v":918}]
[null,"T-ST 01311000","Полка L=1000 G=310",2,{"$f":"INDEX('Детали Praktisch'!$C$12:$C$2063,MATCH('Сборки Praktisch'!B152,'Детали Praktisch'!$A$12:$A$2063,))","v":688},null,{"$f":"ROUND(E152*(1-$C$3)/Лист2!$A$6,0)","v":688}]
[null,"T-BS 01000370","Кронштейн G=370 (комплект)",4,{"$f":"INDEX('Детали Praktisch'!$C$12:$C$2063,MATCH('Сборки Praktisch'!B153,'Детали Praktisch'!$A$12:$A$2063,))","v":272},null,{"$f":"ROUND(E153*(1-$C$3)/Лист2!$A$6,0)","v":272}]
[null,"T-BS 01000310","Кронштейн G=310 (комплект)",2,{"$f":"INDEX('Детали Praktisch'!$C$12:$C$2063,MATCH('Сборки Praktisch'!B154,'Детали Praktisch'!$A$12:$A$2063,))","v":209},null,{"$f":"ROUND(E154*(1-$C$3)/Лист2!$A$6,0)","v":209}]
[null,16,"Стеллаж торговый островной L=1250 Н=1650",1,null,{"$f":"SUMPRODUCT(D156:D165,E156:E165)","v":19521},null,{"$f":"SUMPRODUCT(D156:D165,G156:G165)","v":19521}]
[null,"T-LT 02801650","Стойка с двухсторонней перфорацией (30х80) H=1650",1,{"$f":"INDEX('Детали Praktisch'!$C$12:$C$2063,MATCH('Сборки Praktisch'!B156,'Детали Praktisch'!$A$12:$A$2063,))","v":1361},null,{"$f":"ROUND(E156*(1-$C$3)/Лист2!$A$6,0)","v":1361}]
[null,"T-BT 01000470","База стеллажа G=470",2,{"$f":"INDEX('Детали Praktisch'!$C$12:$C$2063,MATCH('Сборки Praktisch'!B157,'Детали Praktisch'!$A$12:$A$2063,))","v":1171},null,{"$f":"ROUND(E157*(1-$C$3)/Лист2!$A$6,0)","v":1171}]
[null,"T-BP 01151250","Панель сплошная L=1250 H=150",2,{"$f":"INDEX('Детали Praktisch'!$C$12:$C$2063,MATCH('Сборки Praktisch'!B158,'Детали Praktisch'!$A$12:$A$2063,))","v":360},null,{"$f":"ROUND(E158*(1-$C$3)/Лист2!$A$6,0)","v":360}]
[null,"T-BP 01301250","Панель сплошная L=1250  H=300",2,{"$f":"INDEX('Детали Praktisch'!$C$12:$C$2063,MATCH('Сборки Praktisch'!B159,'Детали Praktisch'!$A$12:$A$2063,))","v":576},null,{"$f":"ROUND(E159*(1-$C$3)/Лист2!$A$6,0)","v":576}]
[null,"T-BP 01401250","Панель сплошная L=1250 H=400",6,{"$f":"INDEX('Детали Praktisch'!$C$12:$C$2063,MATCH('Сборки Praktisch'!B160,'Детали Praktisch'!$A$12:$A$2063,))","v":724},null,{"$f":"ROUND(E160*(1-$C$3)/Лист2!$A$6,0)","v":724}]
[null,"T-ST 01471250","Полка L=1250 G=470",2,{"$f":"INDEX('Детали Praktisch'!$C$12:$C$2063,MATCH('Сборки Praktisch'!B161,'Детали Praktisch'!$A$12:$A$2063,))","v":1220},null,{"$f":"ROUND(E161*(1-$C$3)/Лист2!$A$6,0)","v":1220}]
[null,"T-ST 01371250","Полка L=1250 G=370",4,{"$f":"INDEX('Детали Praktisch'!$C$12:$C$2063,MATCH('Сборки Praktisch'!B162,'Детали Praktisch'!$A$12:$A$2063,))","v":994},null,{"$f":"ROUND(E162*(1-$C$3)/Лист2!$A$6,0)","v":994}]
[null,"T-ST 01311250","Полка L=1250 G=310",2,{"$f":"INDEX('Детали Praktisch'!$C$12:$C$2063,MATCH('Сборки Praktisch'!B163,'Детали Praktisch'!$A$12:$A$2063,))","v":840},null,{"$f":"ROUND(E163*(1-$C$3)/Лист2!$A$6,0)","v":840}]
[null,"T-BS 01000370","Кронштейн G=370 (комплект)",4,{"$f":"INDEX('Детали Praktisch'!$C$12:$C$2063,MATCH('Сборки Praktisch'!B164,'Детали Praktisch'!$A$12:$A$2063,))","v":272},null,{"$f":"ROUND(E164*(1-$C$3)/Лист2!$A$6,0)","v":272}]
[null,"T-BS 01000310","Кронштейн G=310 (комплект)",2,{"$f":"INDEX('Детали Praktisch'!$C$12:$C$2063,MATCH('Сборки Praktisch'!B165,'Детали Praktisch'!$A$12:$A$2063,))","v":209},null,{"$f":"ROUND(E165*(1-$C$3)/Лист2!$A$6,0)","v":209}]
[null,17,"Стеллаж торговый торцевой L=1000 Н=1650",1,null,{"$f":"SUMPRODUCT(D167:D176,E167:E176)","v":14394},null,{"$f":"SUMPRODUCT(D167:D176,G167:G176)","v":14394}]
[null,"T-LT 02801650","Стойка с двухсторонней перфорацией (30х80) H=1650",2,{"$f":"INDEX('Детали Praktisch'!$C$12:$C$2063,MATCH('Сборки Praktisch'!B167,'Детали Praktisch'!$A$12:$A$2063,))","v":1361},null,{"$f":"ROUND(E167*(1-$C$3)/Лист2!$A$6,0)","v":1361}]
[null,"T-BT 01000470","База стеллажа G=470",2,{"$f":"INDEX('Детали Praktisch'!$C$12:$C$2063,MATCH('Сборки Praktisch'!B168,'Детали Praktisch'!$A$12:$A$2063,))","v":1171},null,{"$f":"ROUND(E168*(1-$C$3)/Лист2!$A$6,0)","v":1171}]
[null,"T-BP 01151000","Панель сплошная L=1000 H=150",2,{"$f":"INDEX('Детали Praktisch'!$C$12:$C$2063,MATCH('Сборки Praktisch'!B169,'Детали Praktisch'!$A$12:$A$2063,))","v":300},null,{"$f":"ROUND(E169*(1-$C$3)/Лист2!$A$6,0)","v":300}]
[null,"T-BP 01301000","Панель сплошная L=1000  H=300",2,{"$f":"INDEX('Детали Praktisch'!$C$12:$C$2063,MATCH('Сборки Praktisch'!B170,'Детали Praktisch'!$A$12:$A$2063,))","v":483},null,{"$f":"ROUND(E170*(1-$C$3)/Лист2!$A$6,0)","v":483}]
[null,"T-BP 01401000","Панель сплошная L=1000 H=400",6,{"$f":"INDEX('Детали Praktisch'!$C$12:$C$2063,MATCH('Сборки Praktisch'!B171,'Детали Praktisch'!$A$12:$A$2063,))","v":576},null,{"$f":"ROUND(E171*(1-$C$3)/Лист2!$A$6,0)","v":576}]
[null,"T-ST 01471000","Полка L=1000 G= 470",1,{"$f":"INDEX('Детали Praktisch'!$C$12:$C$2063,MATCH('Сборки Praktisch'!B172,'Детали Praktisch'!$A$12:$A$2063,))","v":1031},null,{"$f":"ROUND(E172*(1-$C$3)/Лист2!$A$6,0)","v":1031}]
[null,"T-ST 01371000","Полка L=1000 G=370",2,{"$f":"INDEX('Детали Praktisch'!$C$12:$C$2063,MATCH('Сборки Praktisch'!B173,'Детали Praktisch'!$A$12:$A$2063,))","v":918},null,{"$f":"ROUND(E173*(1-$C$3)/Лист2!$A$6,0)","v":918}]
[null,"T-ST 01311000","Полка L=1000 G=310",1,{"$f":"INDEX('Детали Praktisch'!$C$12:$C$2063,MATCH('Сборки Praktisch'!B174,'Детали Praktisch'!$A$12:$A$2063,))","v":688},null,{"$f":"ROUND(E174*(1-$C$3)/Лист2!$A$6,0)","v":688}]
[null,"T-BS 01000370","Кронштейн G=370 (комплект)",2,{"$f":"INDEX('Детали Praktisch'!$C$12:$C$2063,MATCH('Сборки Praktisch'!B175,'Детали Praktisch'!$A$12:$A$2063,))","v":272},null,{"$f":"ROUND(E175*(1-$C$3)/Лист2!$A$6,0)","v":272}]
[null,"T-BS 01000310","Кронштейн G=310 (комплект)",1,{"$f":"INDEX('Детали Praktisch'!$C$12:$C$2063,MATCH('Сборки Praktisch'!B176,'Детали Praktisch'!$A$12:$A$2063,))","v":209},null,{"$f":"ROUND(E176*(1-$C$3)/Лист2!$A$6,0)","v":209}]
[null,18,"Стеллаж торговый торцевой полукруглый  L=1000 H=2300",1,null,{"$f":"SUMPRODUCT(D178:D184,E178:E184)","v":14933},null,{"$f":"SUMPRODUCT(D178:D184,G178:G184)","v":14933}]
[null,"T-BT 02000470","База полки торцевой G=470",1,{"$f":"INDEX('Детали Praktisch'!$C$12:$C$2063,MATCH('Сборки Praktisch'!B178,'Детали Praktisch'!$A$12:$A$2063,))","v":3130},null,{"$f":"ROUND(E178*(1-$C$3)/Лист2!$A$6,0)","v":3130}]
[null,"T-PT 06000470","Плинтус торцевой полукруглый  G=470мм",1,{"$f":"INDEX('Детали Praktisch'!$C$12:$C$2063,MATCH('Сборки Praktisch'!B179,'Детали Praktisch'!$A$12:$A$2063,))","v":966},null,{"$f":"ROUND(E179*(1-$C$3)/Лист2!$A$6,0)","v":966}]
[null,"T-ST 02300310","Полка торцевая полукруглая под ограничитель G=310",1,{"$f":"INDEX('Детали Praktisch'!$C$12:$C$2063,MATCH('Сборки Praktisch'!B180,'Детали Praktisch'!$A$12:$A$2063,))","v":1255},null,{"$f":"ROUND(E180*(1-$C$3)/Лист2!$A$6,0)","v":1255}]
[null,"T-ST 02300370","Полка торцевая полукруглая под ограничитель G=370",2,{"$f":"INDEX('Детали Praktisch'!$C$12:$C$2063,MATCH('Сборки Praktisch'!B181,'Детали Praktisch'!$A$12:$A$2063,))","v":1570},null,{"$f":"ROUND(E181*(1-$C$3)/Лист2!$A$6,0)","v":1570}]
[null,"T-ST 02300470","Полка торцевая полукруглая под ограничитель G=470",1,{"$f":"INDEX('Детали Praktisch'!$C$12:$C$2063,MATCH('Сборки Praktisch'!B182,'Детали Praktisch'!$A$12:$A$2063,))","v":2134},null,{"$f":"ROUND(E182*(1-$C$3)/Лист2!$A$6,0)","v":2134}]
[null,"T-BS 15020310","Кронштейн для торц полукр полок (комп с адапт)для стойк80х30 G=310",1,{"$f":"INDEX('Детали Praktisch'!$C$12:$C$2063,MATCH('Сборки Praktisch'!B183,'Детали Praktisch'!$A$12:$A$2063,))","v":1378},null,{"$f":"ROUND(E183*(1-$C$3)/Лист2!$A$6,0)","v":1378}]
[null,"T-BS 15020370","Кронштейн для торц полукр полок (комп с адапт)для стойк80х30 G=370",2,{"$f":"INDEX('Детали Praktisch'!$C$12:$C$2063,MATCH('Сборки Praktisch'!B184,'Детали Praktisch'!$A$12:$A$2063,))","v":1465},null,{"$f":"ROUND(E184*(1-$C$3)/Лист2!$A$6,0)","v":1465}]
[null,19,"Стеллаж торговый для CD / DVD L=1000 H=1650",1,null,{"$f":"SUMPRODUCT(D186:D196,E186:E196)","v":24446},null,{"$f":"SUMPRODUCT(D186:D196,G186:G196)","v":24446}]
[null,"T-LT 02801650","Стойка с двухсторонней перфорацией (30х80) H=1650",1,{"$f":"INDEX('Детали Praktisch'!$C$12:$C$2063,MATCH('Сборки Praktisch'!B186,'Детали Praktisch'!$A$12:$A$2063,))","v":1361},null,{"$f":"ROUND(E186*(1-$C$3)/Лист2!$A$6,0)","v":1361}]
[null,"T-BT 01000570","База стеллажа G=570",1,{"$f":"INDEX('Детали Praktisch'!$C$12:$C$2063,MATCH('Сборки Praktisch'!B187,'Детали Praktisch'!$A$12:$A$2063,))","v":1215},null,{"$f":"ROUND(E187*(1-$C$3)/Лист2!$A$6,0)","v":1215}]
[null,"T-PT 01001000","Плинтус L=1000",1,{"$f":"INDEX('Детали Praktisch'!$C$12:$C$2063,MATCH('Сборки Praktisch'!B188,'Детали Praktisch'!$A$12:$A$2063,))","v":287},null,{"$f":"ROUND(E188*(1-$C$3)/Лист2!$A$6,0)","v":287}]
[null,"T-BP 01401000","Панель сплошная L=1000 H=400",3,{"$f":"INDEX('Детали Praktisch'!$C$12:$C$2063,MATCH('Сборки Praktisch'!B189,'Детали Praktisch'!$A$12:$A$2063,))","v":576},null,{"$f":"ROUND(E189*(1-$C$3)/Лист2!$A$6,0)","v":576}]
[null,"T-BP 01301000","Панель сплошная L=1000  H=300",1,{"$f":"INDEX('Детали Praktisch'!$C$12:$C$2063,MATCH('Сборки Praktisch'!B190,'Детали Praktisch'!$A$12:$A$2063,))","v":483},null,{"$f":"ROUND(E190*(1-$C$3)/Лист2!$A$6,0)","v":483}]
[null,"T-ST 01571000","Полка G=570 L=1000",1,{"$f":"INDEX('Детали Praktisch'!$C$12:$C$2063,MATCH('Сборки Praktisch'!B191,'Детали Praktisch'!$A$12:$A$2063,))","v":1475},null,{"$f":"ROUND(E191*(1-$C$3)/Лист2!$A$6,0)","v":1475}]
[null,"N-LC 00003080","Заглушка стойки 30х80",1,{"$f":"INDEX('Детали Praktisch'!$C$12:$C$2063,MATCH('Сборки Praktisch'!B192,'Детали Praktisch'!$A$12:$A$2063,))","v":118},null,{"$f":"ROUND(E192*(1-$C$3)/Лист2!$A$6,0)","v":118}]
[null,"T-BS 06000100","Кронштейн для полки CD G=100 (комплект)  ",4,{"$f":"INDEX('Детали Praktisch'!$C$12:$C$2063,MATCH('Сборки Praktisch'!B193,'Детали Praktisch'!$A$12:$A$2063,))","v":458},null,{"$f":"ROUND(E193*(1-$C$3)/Лист2!$A$6,0)","v":458}]
[null,"T-BS 07000630","Кронштейн для пяти полок СD G=630 (клмплект)",1,{"$f":"INDEX('Детали Praktisch'!$C$12:$C$2063,MATCH('Сборки Praktisch'!B194,'Детали Praktisch'!$A$12:$A$2063,))","v":3402},null,{"$f":"ROUND(E194*(1-$C$3)/Лист2!$A$6,0)","v":3402}]
[null,"T-CD 01101000","Полка для CD дисков G=100 L=1000",9,{"$f":"INDEX('Детали Praktisch'!$C$12:$C$2063,MATCH('Сборки Praktisch'!B195,'Детали Praktisch'!$A$12:$A$2063,))","v":865},null,{"$f":"ROUND(E195*(1-$C$3)/Лист2!$A$6,0)","v":865}]
[null,"T-DS 08010010","Разделитель пластиковый G=100 H=100",70,68,null,{"$f":"ROUND(E196*(1-$C$3)/Лист2!$A$6,0)","v":68}]
[null,20,"Стеллаж торговый  для книг L=1000 H=1650",1,null,{"$f":"SUMPRODUCT(D198:D208,E198:E208)","v":17832},null,{"$f":"SUMPRODUCT(D198:D208,G198:G208)","v":17832}]
[null,"T-LT 02801650","Стойка с двухсторонней перфорацией (30х80) H=1650",1,{"$f":"INDEX('Детали Praktisch'!$C$12:$C$2063,MATCH('Сборки Praktisch'!B198,'Детали Praktisch'!$A$12:$A$2063,))","v":1361},null,{"$f":"ROUND(E198*(1-$C$3)/Лист2!$A$6,0)","v":1361}]
[null,"T-BT 01000470","База стеллажа G=470",1,{"$f":"INDEX('Детали Praktisch'!$C$12:$C$2063,MATCH('Сборки Praktisch'!B199,'Детали Praktisch'!$A$12:$A$2063,))","v":1171},null,{"$f":"ROUND(E199*(1-$C$3)/Лист2!$A$6,0)","v":1171}]
[null,"T-PT 01001000","Плинтус L=1000",1,{"$f":"INDEX('Детали Praktisch'!$C$12:$C$2063,MATCH('Сборки Praktisch'!B200,'Детали Praktisch'!$A$12:$A$2063,))","v":287},null,{"$f":"ROUND(E200*(1-$C$3)/Лист2!$A$6,0)","v":287}]
[null,"T-BP 01401000","Панель сплошная L=1000 H=400",3,{"$f":"INDEX('Детали Praktisch'!$C$12:$C$2063,MATCH('Сборки Praktisch'!B201,'Детали Praktisch'!$A$12:$A$2063,))","v":576},null,{"$f":"ROUND(E201*(1-$C$3)/Лист2!$A$6,0)","v":576}]
[null,"T-BP 01301000","Панель сплошная L=1000  H=300",1,{"$f":"INDEX('Детали Praktisch'!$C$12:$C$2063,MATCH('Сборки Praktisch'!B202,'Детали Praktisch'!$A$12:$A$2063,))","v":483},null,{"$f":"ROUND(E202*(1-$C$3)/Лист2!$A$6,0)","v":483}]
[null,"T-ST 01471000","Полка L=1000 G= 470",1,{"$f":"INDEX('Детали Praktisch'!$C$12:$C$2063,MATCH('Сборки Praktisch'!B203,'Детали Praktisch'!$A$12:$A$2063,))","v":1031},null,{"$f":"ROUND(E203*(1-$C$3)/Лист2!$A$6,0)","v":1031}]
[null,"N-LC 00003080","Заглушка стойки 30х80",1,{"$f":"INDEX('Детали Praktisch'!$C$12:$C$2063,MATCH('Сборки Praktisch'!B204,'Детали Praktisch'!$A$12:$A$2063,))","v":118},null,{"$f":"ROUND(E204*(1-$C$3)/Лист2!$A$6,0)","v":118}]
[null,"T-BB 01151000","Комплект боковин для книжной полки H=1500 L=1000",1,{"$f":"INDEX('Детали Praktisch'!$C$12:$C$2063,MATCH('Сборки Praktisch'!B205,'Детали Praktisch'!$A$12:$A$2063,))","v":2998},null,{"$f":"ROUND(E205*(1-$C$3)/Лист2!$A$6,0)","v":2998}]
[null,"T-SB 05201000","Полка ZIG-ZAG Н=200 L=1000 мм",2,{"$f":"INDEX('Детали Praktisch'!$C$12:$C$2063,MATCH('Сборки Praktisch'!B206,'Детали Praktisch'!$A$12:$A$2063,))","v":1956},null,{"$f":"ROUND(E206*(1-$C$3)/Лист2!$A$6,0)","v":1956}]
[null,"T-SB 01201000","Полка прямая для книг на боковины G=150 H=200",3,{"$f":"INDEX('Детали Praktisch'!$C$12:$C$2063,MATCH('Сборки Praktisch'!B207,'Детали Praktisch'!$A$12:$A$2063,))","v":1160},null,{"$f":"ROUND(E207*(1-$C$3)/Лист2!$A$6,0)","v":1160}]
[null,"T-SB 01251000","Полка прямая для книг на боковины G=150 H=250",1,{"$f":"INDEX('Детали Praktisch'!$C$12:$C$2063,MATCH('Сборки Praktisch'!B208,'Детали Praktisch'!$A$12:$A$2063,))","v":1263},null,{"$f":"ROUND(E208*(1-$C$3)/Лист2!$A$6,0)","v":1263}]
[null,21,"Стеллаж торговый для газет и журналов островной L=1000 H=1650",1,null,{"$f":"SUMPRODUCT(D210:D218,E210:E218)","v":27924},null,{"$f":"SUMPRODUCT(D210:D218,G210:G218)","v":27924}]
[null,"T-LT 02801650","Стойка с двухсторонней перфорацией (30х80) H=1650",1,{"$f":"INDEX('Детали Praktisch'!$C$12:$C$2063,MATCH('Сборки Praktisch'!B210,'Детали Praktisch'!$A$12:$A$2063,))","v":1361},null,{"$f":"ROUND(E210*(1-$C$3)/Лист2!$A$6,0)","v":1361}]
[null,"T-BT 01000570","База стеллажа G=570",2,{"$f":"INDEX('Детали Praktisch'!$C$12:$C$2063,MATCH('Сборки Praktisch'!B211,'Детали Praktisch'!$A$12:$A$2063,))","v":1215},null,{"$f":"ROUND(E211*(1-$C$3)/Лист2!$A$6,0)","v":1215}]
[null,"T-PT 01001000","Плинтус L=1000",2,{"$f":"INDEX('Детали Praktisch'!$C$12:$C$2063,MATCH('Сборки Praktisch'!B212,'Детали Praktisch'!$A$12:$A$2063,))","v":287},null,{"$f":"ROUND(E212*(1-$C$3)/Лист2!$A$6,0)","v":287}]
[null,"T-BP 01401000","Панель сплошная L=1000 H=400",6,{"$f":"INDEX('Детали Praktisch'!$C$12:$C$2063,MATCH('Сборки Praktisch'!B213,'Детали Praktisch'!$A$12:$A$2063,))","v":576},null,{"$f":"ROUND(E213*(1-$C$3)/Лист2!$A$6,0)","v":576}]
[null,"T-BP 01301000","Панель сплошная L=1000  H=300",2,{"$f":"INDEX('Детали Praktisch'!$C$12:$C$2063,MATCH('Сборки Praktisch'!B214,'Детали Praktisch'!$A$12:$A$2063,))","v":483},null,{"$f":"ROUND(E214*(1-$C$3)/Лист2!$A$6,0)","v":483}]
[null,"T-ST 01571000","Полка G=570 L=1000",2,{"$f":"INDEX('Детали Praktisch'!$C$12:$C$2063,MATCH('Сборки Praktisch'!B215,'Детали Praktisch'!$A$12:$A$2063,))","v":1475},null,{"$f":"ROUND(E215*(1-$C$3)/Лист2!$A$6,0)","v":1475}]
[null,"N-LC 00003080","Заглушка стойки 30х80",2,{"$f":"INDEX('Детали Praktisch'!$C$12:$C$2063,MATCH('Сборки Praktisch'!B216,'Детали Praktisch'!$A$12:$A$2063,))","v":118},null,{"$f":"ROUND(E216*(1-$C$3)/Лист2!$A$6,0)","v":118}]
[null,"T-TC 01801000","Крышка стеллажа А=80 L=1000",1,{"$f":"INDEX('Детали Praktisch'!$C$12:$C$2063,MATCH('Сборки Praktisch'!B217,'Детали Praktisch'!$A$12:$A$2063,))","v":359},null,{"$f":"ROUND(E217*(1-$C$3)/Лист2!$A$6,0)","v":359}]
[null,"T-SB 07131000","Полка для открыток Н=1380 (комплект) ",2,{"$f":"INDEX('Детали Praktisch'!$C$12:$C$2063,MATCH('Сборки Praktisch'!B218,'Детали Praktisch'!$A$12:$A$2063,))","v":7796},null,{"$f":"ROUND(E218*(1-$C$3)/Лист2!$A$6,0)","v":7796}]
[null,22,"Стеллаж торговый для журналов L=1000 H=2300",1,null,{"$f":"SUMPRODUCT(D220:D229,E220:E229)","v":20587},null,{"$f":"SUMPRODUCT(D220:D229,G220:G229)","v":20587}]
[null,"T-LT 02802300","Стойка с двухсторонней перфорацией (30х80) H=2300",1,{"$f":"INDEX('Детали Praktisch'!$C$12:$C$2063,MATCH('Сборки Praktisch'!B220,'Детали Praktisch'!$A$12:$A$2063,))","v":1753},null,{"$f":"ROUND(E220*(1-$C$3)/Лист2!$A$6,0)","v":1753}]
[null,"T-BT 01000470","База стеллажа G=470",1,{"$f":"INDEX('Детали Praktisch'!$C$12:$C$2063,MATCH('Сборки Praktisch'!B221,'Детали Praktisch'!$A$12:$A$2063,))","v":1171},null,{"$f":"ROUND(E221*(1-$C$3)/Лист2!$A$6,0)","v":1171}]
[null,"T-PT 01001000","Плинтус L=1000",1,{"$f":"INDEX('Детали Praktisch'!$C$12:$C$2063,MATCH('Сборки Praktisch'!B222,'Детали Praktisch'!$A$12:$A$2063,))","v":287},null,{"$f":"ROUND(E222*(1-$C$3)/Лист2!$A$6,0)","v":287}]
[null,"T-BP 01401000","Панель сплошная L=1000 H=400",5,{"$f":"INDEX('Детали Praktisch'!$C$12:$C$2063,MATCH('Сборки Praktisch'!B223,'Детали Praktisch'!$A$12:$A$2063,))","v":576},null,{"$f":"ROUND(E223*(1-$C$3)/Лист2!$A$6,0)","v":576}]
[null,"T-BP 01151000","Панель сплошная L=1000 H=150",1,{"$f":"INDEX('Детали Praktisch'!$C$12:$C$2063,MATCH('Сборки Praktisch'!B224,'Детали Praktisch'!$A$12:$A$2063,))","v":300},null,{"$f":"ROUND(E224*(1-$C$3)/Лист2!$A$6,0)","v":300}]
[null,"T-ST 01471000","Полка L=1000 G= 470",1,{"$f":"INDEX('Детали Praktisch'!$C$12:$C$2063,MATCH('Сборки Praktisch'!B225,'Детали Praktisch'!$A$12:$A$2063,))","v":1031},null,{"$f":"ROUND(E225*(1-$C$3)/Лист2!$A$6,0)","v":1031}]
[null,"T-SB 11151000","Полка для журналов  1-но ступенчатая G=150 H=220 L=1000 мм",1,{"$f":"INDEX('Детали Praktisch'!$C$12:$C$2063,MATCH('Сборки Praktisch'!B226,'Детали Praktisch'!$A$12:$A$2063,))","v":1952},null,{"$f":"ROUND(E226*(1-$C$3)/Лист2!$A$6,0)","v":1952}]
[null,"T-SB 11281000","Полка для журналов  2-х ступенчатая G=280 H=405  L=1000 мм",1,{"$f":"INDEX('Детали Praktisch'!$C$12:$C$2063,MATCH('Сборки Praktisch'!B227,'Детали Praktisch'!$A$12:$A$2063,))","v":4192},null,{"$f":"ROUND(E227*(1-$C$3)/Лист2!$A$6,0)","v":4192}]
[null,"T-SB 10311000","Полка для журналов и газет G=312 H=400 L = 1000",1,{"$f":"INDEX('Детали Praktisch'!$C$12:$C$2063,MATCH('Сборки Praktisch'!B228,'Детали Praktisch'!$A$12:$A$2063,))","v":2685},null,{"$f":"ROUND(E228*(1-$C$3)/Лист2!$A$6,0)","v":2685}]
[null,"T-SB 10471000","Полка для журналов и газет 5-и ступенчатая G=470 H=600 L=1000",1,{"$f":"INDEX('Детали Praktisch'!$C$12:$C$2063,MATCH('Сборки Praktisch'!B229,'Детали Praktisch'!$A$12:$A$2063,))","v":4336},null,{"$f":"ROUND(E229*(1-$C$3)/Лист2!$A$6,0)","v":4336}]
[null,23,"Стеллаж для печатной продукции с навесом и освещением L=1000 H=2200",1,null,{"$f":"SUMPRODUCT(D231:D239,E231:E239)","v":34592},null,{"$f":"SUMPRODUCT(D231:D239,G231:G239)","v":34592}]
[null,"T-LT 02802200","Стойка с двухсторонней перфорацией (30х80) H=2200",1,{"$f":"INDEX('Детали Praktisch'!$C$12:$C$2063,MATCH('Сборки Praktisch'!B231,'Детали Praktisch'!$A$12:$A$2063,))","v":1697},null,{"$f":"ROUND(E231*(1-$C$3)/Лист2!$A$6,0)","v":1697}]
[null,"T-BT 01000570","База стеллажа G=570",1,{"$f":"INDEX('Детали Praktisch'!$C$12:$C$2063,MATCH('Сборки Praktisch'!B232,'Детали Praktisch'!$A$12:$A$2063,))","v":1215},null,{"$f":"ROUND(E232*(1-$C$3)/Лист2!$A$6,0)","v":1215}]
[null,"T-PT 01001000","Плинтус L=1000",1,{"$f":"INDEX('Детали Praktisch'!$C$12:$C$2063,MATCH('Сборки Praktisch'!B233,'Детали Praktisch'!$A$12:$A$2063,))","v":287},null,{"$f":"ROUND(E233*(1-$C$3)/Лист2!$A$6,0)","v":287}]
[null,"T-BP 01301000","Панель сплошная L=1000 H=300",1,{"$f":"INDEX('Детали Praktisch'!$C$12:$C$2063,MATCH('Сборки Praktisch'!B234,'Детали Praktisch'!$A$12:$A$2063,))","v":483},null,{"$f":"ROUND(E234*(1-$C$3)/Лист2!$A$6,0)","v":483}]
[null,"T-BP 01401000","Панель сплошная L=1000 H=400",4,{"$f":"INDEX('Детали Praktisch'!$C$12:$C$2063,MATCH('Сборки Praktisch'!B235,'Детали Praktisch'!$A$12:$A$2063,))","v":576},null,{"$f":"ROUND(E235*(1-$C$3)/Лист2!$A$6,0)","v":576}]
[null,"T-ST 01571000","Полка G=570 L=1000",1,{"$f":"INDEX('Детали Praktisch'!$C$12:$C$2063,MATCH('Сборки Praktisch'!B236,'Детали Praktisch'!$A$12:$A$2063,))","v":1475},null,{"$f":"ROUND(E236*(1-$C$3)/Лист2!$A$6,0)","v":1475}]
[null,"T-SB 07571000","Полка для открыток (комплект) L=1000 мм",1,{"$f":"INDEX('Детали Praktisch'!$C$12:$C$2063,MATCH('Сборки Praktisch'!B237,'Детали Praktisch'!$A$12:$A$2063,))","v":16641},null,{"$f":"ROUND(E237*(1-$C$3)/Лист2!$A$6,0)","v":16641}]
[null,"T-TP 02571000","Навес прямой с подсветкой G=570 L=1000",1,{"$f":"INDEX('Детали Praktisch'!$C$12:$C$2063,MATCH('Сборки Praktisch'!B238,'Детали Praktisch'!$A$12:$A$2063,))","v":4538},null,{"$f":"ROUND(E238*(1-$C$3)/Лист2!$A$6,0)","v":4538}]
[null,"T-BB 07572200","Боковина полки для открыток (комплект) H=2200",2,{"$f":"INDEX('Детали Praktisch'!$C$12:$C$2063,MATCH('Сборки Praktisch'!B239,'Детали Praktisch'!$A$12:$A$2063,))","v":2976},null,{"$f":"ROUND(E239*(1-$C$3)/Лист2!$A$6,0)","v":2976}]
[null,24,"Стеллаж торговый усиленный L=1000 Н=2300, база G=570",1,null,{"$f":"SUMPRODUCT(D241:D252,E241:E252)","v":15898},null,{"$f":"SUMPRODUCT(D241:D252,G241:G252)","v":15898}]
[null,"T-LT 02802300","Стойка с двухсторонней перфорацией (30х80) H=2300",1,{"$f":"INDEX('Детали Praktisch'!$C$12:$C$2063,MATCH('Сборки Praktisch'!B241,'Детали Praktisch'!$A$12:$A$2063,))","v":1753},null,{"$f":"ROUND(E241*(1-$C$3)/Лист2!$A$6,0)","v":1753}]
[null,"T-LT 02301500","Дополнительная стойка усиленного стеллажа (30х30)  Н=1500",1,{"$f":"INDEX('Детали Praktisch'!$C$12:$C$2063,MATCH('Сборки Praktisch'!B242,'Детали Praktisch'!$A$12:$A$2063,))","v":808},null,{"$f":"ROUND(E242*(1-$C$3)/Лист2!$A$6,0)","v":808}]
[null,"T-BT 11000570","База усиленного стеллажа G=570",1,{"$f":"INDEX('Детали Praktisch'!$C$12:$C$2063,MATCH('Сборки Praktisch'!B243,'Детали Praktisch'!$A$12:$A$2063,))","v":1344},null,{"$f":"ROUND(E243*(1-$C$3)/Лист2!$A$6,0)","v":1344}]
[null,"T-PT 01001000","Плинтус L=1000",1,{"$f":"INDEX('Детали Praktisch'!$C$12:$C$2063,MATCH('Сборки Praktisch'!B244,'Детали Praktisch'!$A$12:$A$2063,))","v":287},null,{"$f":"ROUND(E244*(1-$C$3)/Лист2!$A$6,0)","v":287}]
[null,"T-BP 01401000","Панель сплошная L=1000 H=400",5,{"$f":"INDEX('Детали Praktisch'!$C$12:$C$2063,MATCH('Сборки Praktisch'!B245,'Детали Praktisch'!$A$12:$A$2063,))","v":576},null,{"$f":"ROUND(E245*(1-$C$3)/Лист2!$A$6,0)","v":576}]
[null,"T-BP 01151000","Панель сплошная L=1000 H=150",1,{"$f":"INDEX('Детали Praktisch'!$C$12:$C$2063,MATCH('Сборки Praktisch'!B246,'Детали Praktisch'!$A$12:$A$2063,))","v":300},null,{"$f":"ROUND(E246*(1-$C$3)/Лист2!$A$6,0)","v":300}]
[null,"T-ST 08211000","Полка G=210 усиленная L=1000",3,{"$f":"INDEX('Детали Praktisch'!$C$12:$C$2063,MATCH('Сборки Praktisch'!B247,'Детали Praktisch'!$A$12:$A$2063,))","v":558},null,{"$f":"ROUND(E247*(1-$C$3)/Лист2!$A$6,0)","v":558}]
[null,"T-ST 07571000","Полка G=570 усиленная L=1000",3,{"$f":"INDEX('Детали Praktisch'!$C$12:$C$2063,MATCH('Сборки Praktisch'!B248,'Детали Praktisch'!$A$12:$A$2063,))","v":1014},null,{"$f":"ROUND(E248*(1-$C$3)/Лист2!$A$6,0)","v":1014}]
[null,"T-BS 12000210","Кронштейн для усиленного стеллажа G=210мм (комплект)",2,{"$f":"INDEX('Детали Praktisch'!$C$12:$C$2063,MATCH('Сборки Praktisch'!B249,'Детали Praktisch'!$A$12:$A$2063,))","v":257},null,{"$f":"ROUND(E249*(1-$C$3)/Лист2!$A$6,0)","v":257}]
[null,"T-BS 12000350","Кронштейн для усиленного стеллажа G=350мм  (комплект)",2,{"$f":"INDEX('Детали Praktisch'!$C$12:$C$2063,MATCH('Сборки Praktisch'!B250,'Детали Praktisch'!$A$12:$A$2063,))","v":458},null,{"$f":"ROUND(E250*(1-$C$3)/Лист2!$A$6,0)","v":458}]
[null,"T-ST 01371000","Полка L=1000 G=370",2,{"$f":"INDEX('Детали Praktisch'!$C$12:$C$2063,MATCH('Сборки Praktisch'!B251,'Детали Praktisch'!$A$12:$A$2063,))","v":918},null,{"$f":"ROUND(E251*(1-$C$3)/Лист2!$A$6,0)","v":918}]
[null,"T-BS 01000370","Кронштейн G=370 (комплект)",2,{"$f":"INDEX('Детали Praktisch'!$C$12:$C$2063,MATCH('Сборки Praktisch'!B252,'Детали Praktisch'!$A$12:$A$2063,))","v":272},null,{"$f":"ROUND(E252*(1-$C$3)/Лист2!$A$6,0)","v":272}]
[null,25,"Стеллаж торговый усиленный L=1000 Н=2300, база G=770",1,null,{"$f":"SUMPRODUCT(D254:D265,E254:E265)","v":18378},null,{"$f":"SUMPRODUCT(D254:D265,G254:G265)","v":18378}]
[null,"T-LT 02802300","Стойка с двухсторонней перфорацией (30х80) H=2300",1,{"$f":"INDEX('Детали Praktisch'!$C$12:$C$2063,MATCH('Сборки Praktisch'!B254,'Детали Praktisch'!$A$12:$A$2063,))","v":1753},null,{"$f":"ROUND(E254*(1-$C$3)/Лист2!$A$6,0)","v":1753}]
[null,"T-LT 02301500","Дополнительная стойка усиленного стеллажа (30х30)  Н=1500",1,{"$f":"INDEX('Детали Praktisch'!$C$12:$C$2063,MATCH('Сборки Praktisch'!B255,'Детали Praktisch'!$A$12:$A$2063,))","v":808},null,{"$f":"ROUND(E255*(1-$C$3)/Лист2!$A$6,0)","v":808}]
[null,"T-BT 11000770","База усиленного стеллажа G=770",1,{"$f":"INDEX('Детали Praktisch'!$C$12:$C$2063,MATCH('Сборки Praktisch'!B256,'Детали Praktisch'!$A$12:$A$2063,))","v":1516},null,{"$f":"ROUND(E256*(1-$C$3)/Лист2!$A$6,0)","v":1516}]
[null,"T-PT 01001000","Плинтус L=1000",1,{"$f":"INDEX('Детали Praktisch'!$C$12:$C$2063,MATCH('Сборки Praktisch'!B257,'Детали Praktisch'!$A$12:$A$2063,))","v":287},null,{"$f":"ROUND(E257*(1-$C$3)/Лист2!$A$6,0)","v":287}]
[null,"T-BP 01401000","Панель сплошная L=1000 H=400",5,{"$f":"INDEX('Детали Praktisch'!$C$12:$C$2063,MATCH('Сборки Praktisch'!B258,'Детали Praktisch'!$A$12:$A$2063,))","v":576},null,{"$f":"ROUND(E258*(1-$C$3)/Лист2!$A$6,0)","v":576}]
[null,"T-BP 01151000","Панель сплошная L=1000 H=150",1,{"$f":"INDEX('Детали Praktisch'!$C$12:$C$2063,MATCH('Сборки Praktisch'!B259,'Детали Praktisch'!$A$12:$A$2063,))","v":300},null,{"$f":"ROUND(E259*(1-$C$3)/Лист2!$A$6,0)","v":300}]
[null,"T-ST 08211000","Полка G=210 усиленная L=1000",3,{"$f":"INDEX('Детали Praktisch'!$C$12:$C$2063,MATCH('Сборки Praktisch'!B260,'Детали Praktisch'!$A$12:$A$2063,))","v":558},null,{"$f":"ROUND(E260*(1-$C$3)/Лист2!$A$6,0)","v":558}]
[null,"T-ST 01471000","Полка L=1000 G= 470",5,{"$f":"INDEX('Детали Praktisch'!$C$12:$C$2063,MATCH('Сборки Praktisch'!B261,'Детали Praktisch'!$A$12:$A$2063,))","v":1031},null,{"$f":"ROUND(E261*(1-$C$3)/Лист2!$A$6,0)","v":1031}]
[null,"T-ST 07001000","Полка-проставка L=1000мм",3,{"$f":"INDEX('Детали Praktisch'!$C$12:$C$2063,MATCH('Сборки Praktisch'!B262,'Детали Praktisch'!$A$12:$A$2063,))","v":375},null,{"$f":"ROUND(E262*(1-$C$3)/Лист2!$A$6,0)","v":375}]
[null,"T-BS 12000210","Кронштейн для усиленного стеллажа G=210мм (комплект)",2,{"$f":"INDEX('Детали Praktisch'!$C$12:$C$2063,MATCH('Сборки Praktisch'!B263,'Детали Praktisch'!$A$12:$A$2063,))","v":257},null,{"$f":"ROUND(E263*(1-$C$3)/Лист2!$A$6,0)","v":257}]
[null,"T-BS 12000550","Кронштейн для усиленного стеллажа G=550мм  (комплект)",2,{"$f":"INDEX('Детали Praktisch'!$C$12:$C$2063,MATCH('Сборки Praktisch'!B264,'Детали Praktisch'!$A$12:$A$2063,))","v":651},null,{"$f":"ROUND(E264*(1-$C$3)/Лист2!$A$6,0)","v":651}]
[null,"T-BS 01000470","Кронштейн G=470 (комплект)",2,{"$f":"INDEX('Детали Praktisch'!$C$12:$C$2063,MATCH('Сборки Praktisch'!B265,'Детали Praktisch'!$A$12:$A$2063,))","v":532},null,{"$f":"ROUND(E265*(1-$C$3)/Лист2!$A$6,0)","v":532}]
[null,26,"Стеллаж торговый овощной с зеркальным навесом L=1000 Н=2300",1,null,{"$f":"SUMPRODUCT(D267:D276,E267:E276)","v":56911},null,{"$f":"SUMPRODUCT(D267:D276,G267:G276)","v":56911}]
[null,"T-LT 12802300","Стойка с двухсторонней перфорацией (30х80) для траверс H=2300",1,{"$f":"INDEX('Детали Praktisch'!$C$12:$C$2063,MATCH('Сборки Praktisch'!B267,'Детали Praktisch'!$A$12:$A$2063,))","v":2299},null,{"$f":"ROUND(E267*(1-$C$3)/Лист2!$A$6,0)","v":2299}]
[null,"T-BT 01010470","База полки из ДСП G=470",1,{"$f":"INDEX('Детали Praktisch'!$C$12:$C$2063,MATCH('Сборки Praktisch'!B268,'Детали Praktisch'!$A$12:$A$2063,))","v":1415},null,{"$f":"ROUND(E268*(1-$C$3)/Лист2!$A$6,0)","v":1415}]
[null,"T-TR 01011000","Траверса L=1000",3,{"$f":"INDEX('Детали Praktisch'!$C$12:$C$2063,MATCH('Сборки Praktisch'!B269,'Детали Praktisch'!$A$12:$A$2063,))","v":523},null,{"$f":"ROUND(E269*(1-$C$3)/Лист2!$A$6,0)","v":523}]
[null,"T-PW 01102300","Панель настенная ДСП L=1000 H=2300",1,{"$f":"INDEX('Детали Praktisch'!$C$12:$C$2063,MATCH('Сборки Praktisch'!B270,'Детали Praktisch'!$A$12:$A$2063,))","v":6418},null,{"$f":"ROUND(E270*(1-$C$3)/Лист2!$A$6,0)","v":6418}]
[null,"T-PT 01011000","Плинтус ДСП L=1000",1,{"$f":"INDEX('Детали Praktisch'!$C$12:$C$2063,MATCH('Сборки Praktisch'!B271,'Детали Praktisch'!$A$12:$A$2063,))","v":966},null,{"$f":"ROUND(E271*(1-$C$3)/Лист2!$A$6,0)","v":966}]
[null,"T-BR 01471000","Полка основания ДСП с полукруглым профилем прямая G=470 L=1000",1,{"$f":"INDEX('Детали Praktisch'!$C$12:$C$2063,MATCH('Сборки Praktisch'!B272,'Детали Praktisch'!$A$12:$A$2063,))","v":1880},null,{"$f":"ROUND(E272*(1-$C$3)/Лист2!$A$6,0)","v":1880}]
[null,"A-AA 01000470","Держатель базовой полки из ДСП G = 470 (комплект)",1,{"$f":"INDEX('Детали Praktisch'!$C$12:$C$2063,MATCH('Сборки Praktisch'!B273,'Детали Praktisch'!$A$12:$A$2063,))","v":116},null,{"$f":"ROUND(E273*(1-$C$3)/Лист2!$A$6,0)","v":116}]
[null,"T-TW 02471000","Навес с зеркалом с люминесцентным освещением G=470 L=1000",1,{"$f":"INDEX('Детали Praktisch'!$C$12:$C$2063,MATCH('Сборки Praktisch'!B274,'Детали Praktisch'!$A$12:$A$2063,))","v":10205},null,{"$f":"ROUND(E274*(1-$C$3)/Лист2!$A$6,0)","v":10205}]
[null,"T-WL 01001000","Полка реечная для овощей, усиленная, с поддоном G=470 L=1000 (Бук)",1,{"$f":"INDEX('Детали Praktisch'!$C$12:$C$2063,MATCH('Сборки Praktisch'!B275,'Детали Praktisch'!$A$12:$A$2063,))","v":12313},null,{"$f":"ROUND(E275*(1-$C$3)/Лист2!$A$6,0)","v":12313}]
[null,"T-WL 02001000","Полка реечная для овощей G=470 L=1000  (Бук)",2,{"$f":"INDEX('Детали Praktisch'!$C$12:$C$2063,MATCH('Сборки Praktisch'!B276,'Детали Praktisch'!$A$12:$A$2063,))","v":9865},null,{"$f":"ROUND(E276*(1-$C$3)/Лист2!$A$6,0)","v":9865}]
[null,27,"Стеллаж торговый хлебный с зеркальным навесом L=1000 Н=2300",1,null,{"$f":"SUMPRODUCT(D278:D288,E278:E288)","v":46310},null,{"$f":"SUMPRODUCT(D278:D288,G278:G288)","v":46310}]
[null,"T-LT 12802300","Стойка с двухсторонней перфорацией (30х80) для траверс H=2300",1,{"$f":"INDEX('Детали Praktisch'!$C$12:$C$2063,MATCH('Сборки Praktisch'!B278,'Детали Praktisch'!$A$12:$A$2063,))","v":2299},null,{"$f":"ROUND(E278*(1-$C$3)/Лист2!$A$6,0)","v":2299}]
[null,"T-BT 01010470","База полки из ДСП G=470",1,{"$f":"INDEX('Детали Praktisch'!$C$12:$C$2063,MATCH('Сборки Praktisch'!B279,'Детали Praktisch'!$A$12:$A$2063,))","v":1415},null,{"$f":"ROUND(E279*(1-$C$3)/Лист2!$A$6,0)","v":1415}]
[null,"T-TR 01011000","Траверса L=1000",3,{"$f":"INDEX('Детали Praktisch'!$C$12:$C$2063,MATCH('Сборки Praktisch'!B280,'Детали Praktisch'!$A$12:$A$2063,))","v":523},null,{"$f":"ROUND(E280*(1-$C$3)/Лист2!$A$6,0)","v":523}]
[null,"T-PW 01102300","Панель настенная ДСП L=1000 H=2300",1,{"$f":"INDEX('Детали Praktisch'!$C$12:$C$2063,MATCH('Сборки Praktisch'!B281,'Детали Praktisch'!$A$12:$A$2063,))","v":6418},null,{"$f":"ROUND(E281*(1-$C$3)/Лист2!$A$6,0)","v":6418}]
[null,"T-PT 01011000","Плинтус ДСП L=1000",1,{"$f":"INDEX('Детали Praktisch'!$C$12:$C$2063,MATCH('Сборки Praktisch'!B282,'Детали Praktisch'!$A$12:$A$2063,))","v":966},null,{"$f":"ROUND(E282*(1-$C$3)/Лист2!$A$6,0)","v":966}]
[null,"T-BR 01471000","Полка основания ДСП с полукруглым профилем прямая G=470 L=1000",1,{"$f":"INDEX('Детали Praktisch'!$C$12:$C$2063,MATCH('Сборки Praktisch'!B283,'Детали Praktisch'!$A$12:$A$2063,))","v":1880},null,{"$f":"ROUND(E283*(1-$C$3)/Лист2!$A$6,0)","v":1880}]
[null,"A-AA 01000470","Держатель базовой полки из ДСП G = 470 (комплект)",1,{"$f":"INDEX('Детали Praktisch'!$C$12:$C$2063,MATCH('Сборки Praktisch'!B284,'Детали Praktisch'!$A$12:$A$2063,))","v":116},null,{"$f":"ROUND(E284*(1-$C$3)/Лист2!$A$6,0)","v":116}]
[null,"T-TW 02471000","Навес с зеркалом с люминесцентным освещением G=470 L=1000",1,{"$f":"INDEX('Детали Praktisch'!$C$12:$C$2063,MATCH('Сборки Praktisch'!B285,'Детали Praktisch'!$A$12:$A$2063,))","v":10205},null,{"$f":"ROUND(E285*(1-$C$3)/Лист2!$A$6,0)","v":10205}]
[null,"T-BW 01501000","Накопитель реечный с поддоном G=470 H=500 L=1000 (Бук)",1,{"$f":"INDEX('Детали Praktisch'!$C$12:$C$2063,MATCH('Сборки Praktisch'!B286,'Детали Praktisch'!$A$12:$A$2063,))","v":8958},null,{"$f":"ROUND(E286*(1-$C$3)/Лист2!$A$6,0)","v":8958}]
[null,"T-BW 02251000","Полка реечная высокая G=470 H=250 L=1000 (Бук)",1,{"$f":"INDEX('Детали Praktisch'!$C$12:$C$2063,MATCH('Сборки Praktisch'!B287,'Детали Praktisch'!$A$12:$A$2063,))","v":4614},null,{"$f":"ROUND(E287*(1-$C$3)/Лист2!$A$6,0)","v":4614}]
[null,"T-BW 03081000","Полка реечная G=470 H=80 L=1000 (Бук)",2,{"$f":"INDEX('Детали Praktisch'!$C$12:$C$2063,MATCH('Сборки Praktisch'!B288,'Детали Praktisch'!$A$12:$A$2063,))","v":3935},null,{"$f":"ROUND(E288*(1-$C$3)/Лист2!$A$6,0)","v":3935}]
[null,28,"Стеллаж торговый с панелью ДСП с навесом и освещением L=1000 Н=2300",1,null,{"$f":"SUMPRODUCT(D290:D301,E290:E301)","v":30731},null,{"$f":"SUMPRODUCT(D290:D301,G290:G301)","v":30731}]
[null,"T-LT 12802300","Стойка с двухсторонней перфорацией (30х80) для траверс H=2300",1,{"$f":"INDEX('Детали Praktisch'!$C$12:$C$2063,MATCH('Сборки Praktisch'!B290,'Детали Praktisch'!$A$12:$A$2063,))","v":2299},null,{"$f":"ROUND(E290*(1-$C$3)/Лист2!$A$6,0)","v":2299}]
[null,"T-BT 01010470","База полки из ДСП G=470",1,{"$f":"INDEX('Детали Praktisch'!$C$12:$C$2063,MATCH('Сборки Praktisch'!B291,'Детали Praktisch'!$A$12:$A$2063,))","v":1415},null,{"$f":"ROUND(E291*(1-$C$3)/Лист2!$A$6,0)","v":1415}]
[null,"T-TR 01011000","Траверса L=1000",3,{"$f":"INDEX('Детали Praktisch'!$C$12:$C$2063,MATCH('Сборки Praktisch'!B292,'Детали Praktisch'!$A$12:$A$2063,))","v":523},null,{"$f":"ROUND(E292*(1-$C$3)/Лист2!$A$6,0)","v":523}]
[null,"T-PW 01102300","Панель настенная L=1000 H=2300",1,{"$f":"INDEX('Детали Praktisch'!$C$12:$C$2063,MATCH('Сборки Praktisch'!B293,'Детали Praktisch'!$A$12:$A$2063,))","v":6418},null,{"$f":"ROUND(E293*(1-$C$3)/Лист2!$A$6,0)","v":6418}]
[null,"T-PT 01011000","Плинтус ДСП L=1000",1,{"$f":"INDEX('Детали Praktisch'!$C$12:$C$2063,MATCH('Сборки Praktisch'!B294,'Детали Praktisch'!$A$12:$A$2063,))","v":966},null,{"$f":"ROUND(E294*(1-$C$3)/Лист2!$A$6,0)","v":966}]
[null,"T-BR 01471000","Полка основания ДСП с полукруглым профилем прямая G=470 L=1000",1,{"$f":"INDEX('Детали Praktisch'!$C$12:$C$2063,MATCH('Сборки Praktisch'!B295,'Детали Praktisch'!$A$12:$A$2063,))","v":1880},null,{"$f":"ROUND(E295*(1-$C$3)/Лист2!$A$6,0)","v":1880}]
[null,"A-AA 01000470","Держатель базовой полки из ДСП (комплект) G = 470",1,{"$f":"INDEX('Детали Praktisch'!$C$12:$C$2063,MATCH('Сборки Praktisch'!B296,'Детали Praktisch'!$A$12:$A$2063,))","v":116},null,{"$f":"ROUND(E296*(1-$C$3)/Лист2!$A$6,0)","v":116}]
[null,"T-TW 01471000","Навес ДСП с люминесцентным освещением G=470 L=1000",1,{"$f":"INDEX('Детали Praktisch'!$C$12:$C$2063,MATCH('Сборки Praktisch'!B297,'Детали Praktisch'!$A$12:$A$2063,))","v":6642},null,{"$f":"ROUND(E297*(1-$C$3)/Лист2!$A$6,0)","v":6642}]
[null,"T-SR 01311000","Полка ДСП с полукруглым профилем прямая G=310 L=1000",2,{"$f":"INDEX('Детали Praktisch'!$C$12:$C$2063,MATCH('Сборки Praktisch'!B298,'Детали Praktisch'!$A$12:$A$2063,))","v":1477},null,{"$f":"ROUND(E298*(1-$C$3)/Лист2!$A$6,0)","v":1477}]
[null,"T-SR 01371000","Полка ДСП с полукруглым профилем прямая G=370 L=1000",2,{"$f":"INDEX('Детали Praktisch'!$C$12:$C$2063,MATCH('Сборки Praktisch'!B299,'Детали Praktisch'!$A$12:$A$2063,))","v":1720},null,{"$f":"ROUND(E299*(1-$C$3)/Лист2!$A$6,0)","v":1720}]
[null,"T-BS 01030310","Кронштейн для полок из ДСП с полукруглым профилем (комплект) G=310",2,{"$f":"INDEX('Детали Praktisch'!$C$12:$C$2063,MATCH('Сборки Praktisch'!B300,'Детали Praktisch'!$A$12:$A$2063,))","v":691},null,{"$f":"ROUND(E300*(1-$C$3)/Лист2!$A$6,0)","v":691}]
[null,"T-BS 01030370","Кронштейн для полок из ДСП с полукруглым профилем (комплект) G=370",2,{"$f":"INDEX('Детали Praktisch'!$C$12:$C$2063,MATCH('Сборки Praktisch'!B301,'Детали Praktisch'!$A$12:$A$2063,))","v":825},null,{"$f":"ROUND(E301*(1-$C$3)/Лист2!$A$6,0)","v":825}]
[null,29,"Стеллаж винный с зеркальным навесом L=1000 Н=2300",1,null,{"$f":"SUMPRODUCT(D303:D315,E303:E315)","v":46777},null,{"$f":"SUMPRODUCT(D303:D315,G303:G315)","v":46777}]
[null,"T-LT 12802300","Стойка с двухсторонней перфорацией (30х80) для траверс H=2300",1,{"$f":"INDEX('Детали Praktisch'!$C$12:$C$2063,MATCH('Сборки Praktisch'!B303,'Детали Praktisch'!$A$12:$A$2063,))","v":2299},null,{"$f":"ROUND(E303*(1-$C$3)/Лист2!$A$6,0)","v":2299}]
[null,"T-BT 01010470","База полки из ДСП G=470",1,{"$f":"INDEX('Детали Praktisch'!$C$12:$C$2063,MATCH('Сборки Praktisch'!B304,'Детали Praktisch'!$A$12:$A$2063,))","v":1415},null,{"$f":"ROUND(E304*(1-$C$3)/Лист2!$A$6,0)","v":1415}]
[null,"T-TR 01011000","Траверса L=1000",3,{"$f":"INDEX('Детали Praktisch'!$C$12:$C$2063,MATCH('Сборки Praktisch'!B305,'Детали Praktisch'!$A$12:$A$2063,))","v":523},null,{"$f":"ROUND(E305*(1-$C$3)/Лист2!$A$6,0)","v":523}]
[null,"T-PT 01011000","Плинтус ДСП L=1000",1,{"$f":"INDEX('Детали Praktisch'!$C$12:$C$2063,MATCH('Сборки Praktisch'!B306,'Детали Praktisch'!$A$12:$A$2063,))","v":966},null,{"$f":"ROUND(E306*(1-$C$3)/Лист2!$A$6,0)","v":966}]
[null,"T-PW 01102300","Панель настенная L=1000 H=2300",1,{"$f":"INDEX('Детали Praktisch'!$C$12:$C$2063,MATCH('Сборки Praktisch'!B307,'Детали Praktisch'!$A$12:$A$2063,))","v":6418},null,{"$f":"ROUND(E307*(1-$C$3)/Лист2!$A$6,0)","v":6418}]
[null,"A-AA 01000470","Держатель базовой полки из ДСП G = 470 (комплект)",1,{"$f":"INDEX('Детали Praktisch'!$C$12:$C$2063,MATCH('Сборки Praktisch'!B308,'Детали Praktisch'!$A$12:$A$2063,))","v":116},null,{"$f":"ROUND(E308*(1-$C$3)/Лист2!$A$6,0)","v":116}]
[null,"T-BR 01471000","Полка основания ДСП с полукруглым профилем прямая G=470 L=1000",1,{"$f":"INDEX('Детали Praktisch'!$C$12:$C$2063,MATCH('Сборки Praktisch'!B309,'Детали Praktisch'!$A$12:$A$2063,))","v":1880},null,{"$f":"ROUND(E309*(1-$C$3)/Лист2!$A$6,0)","v":1880}]
[null,"T-BS 01030310","Кронштейн для полок из ДСП с полукруглым профилем (комплект) G=310",1,{"$f":"INDEX('Детали Praktisch'!$C$12:$C$2063,MATCH('Сборки Praktisch'!B310,'Детали Praktisch'!$A$12:$A$2063,))","v":691},null,{"$f":"ROUND(E310*(1-$C$3)/Лист2!$A$6,0)","v":691}]
[null,"T-BS 01030370","Кронштейн для полок из ДСП с полукруглым профилем (комплект) G=370",1,{"$f":"INDEX('Детали Praktisch'!$C$12:$C$2063,MATCH('Сборки Praktisch'!B311,'Детали Praktisch'!$A$12:$A$2063,))","v":825},null,{"$f":"ROUND(E311*(1-$C$3)/Лист2!$A$6,0)","v":825}]
[null,"T-SR 21311000","Полка ДСП с полукруглым профилем прямая (ограничитель H=20) G=310 L=1000",1,{"$f":"INDEX('Детали Praktisch'!$C$12:$C$2063,MATCH('Сборки Praktisch'!B312,'Детали Praktisch'!$A$12:$A$2063,))","v":4671},null,{"$f":"ROUND(E312*(1-$C$3)/Лист2!$A$6,0)","v":4671}]
[null,"T-SR 21371000","Полка ДСП с полукруглым профилем прямая (ограничитель H=20) G=370 L=1000",1,{"$f":"INDEX('Детали Praktisch'!$C$12:$C$2063,MATCH('Сборки Praktisch'!B313,'Детали Praktisch'!$A$12:$A$2063,))","v":4860},null,{"$f":"ROUND(E313*(1-$C$3)/Лист2!$A$6,0)","v":4860}]
[null,"T-SH 01771000","Накопитель для бутылок H=800 G=470 L=1000",1,{"$f":"INDEX('Детали Praktisch'!$C$12:$C$2063,MATCH('Сборки Praktisch'!B314,'Детали Praktisch'!$A$12:$A$2063,))","v":10862},null,{"$f":"ROUND(E314*(1-$C$3)/Лист2!$A$6,0)","v":10862}]
[null,"T-TW 02471000","Навес с зеркалом с люминесцентным освещением G=470 L=1000",1,{"$f":"INDEX('Детали Praktisch'!$C$12:$C$2063,MATCH('Сборки Praktisch'!B315,'Детали Praktisch'!$A$12:$A$2063,))","v":10205},null,{"$f":"ROUND(E315*(1-$C$3)/Лист2!$A$6,0)","v":10205}]
[null,30,"Стеллаж кондитерский с конфетными полками L=1000 Н=2300",1,null,{"$f":"SUMPRODUCT(D317:D322,E317:E322)","v":38123},null,{"$f":"SUMPRODUCT(D317:D322,G317:G322)","v":38123}]
[null,"T-LT 02802300","Стойка с двухсторонней перфорацией (30х80) H=2300",1,{"$f":"INDEX('Детали Praktisch'!$C$12:$C$2063,MATCH('Сборки Praktisch'!B317,'Детали Praktisch'!$A$12:$A$2063,))","v":1753},null,{"$f":"ROUND(E317*(1-$C$3)/Лист2!$A$6,0)","v":1753}]
[null,"T-BT 01000470","База стеллажа G=470",1,{"$f":"INDEX('Детали Praktisch'!$C$12:$C$2063,MATCH('Сборки Praktisch'!B318,'Детали Praktisch'!$A$12:$A$2063,))","v":1171},null,{"$f":"ROUND(E318*(1-$C$3)/Лист2!$A$6,0)","v":1171}]
[null,"T-BP 01151000","Панель сплошная L=1000 H=150",2,{"$f":"INDEX('Детали Praktisch'!$C$12:$C$2063,MATCH('Сборки Praktisch'!B319,'Детали Praktisch'!$A$12:$A$2063,))","v":300},null,{"$f":"ROUND(E319*(1-$C$3)/Лист2!$A$6,0)","v":300}]
[null,"T-BP 01401000","Панель сплошная L=1000 H=400",5,{"$f":"INDEX('Детали Praktisch'!$C$12:$C$2063,MATCH('Сборки Praktisch'!B320,'Детали Praktisch'!$A$12:$A$2063,))","v":576},null,{"$f":"ROUND(E320*(1-$C$3)/Лист2!$A$6,0)","v":576}]
[null,"T-ST 01471000","Полка L=1000 G= 470",1,{"$f":"INDEX('Детали Praktisch'!$C$12:$C$2063,MATCH('Сборки Praktisch'!B321,'Детали Praktisch'!$A$12:$A$2063,))","v":1031},null,{"$f":"ROUND(E321*(1-$C$3)/Лист2!$A$6,0)","v":1031}]
[null,"T-BW 05021000","Полка для конфет ЛДСП Н=250 G=470 L=1000",4,{"$f":"INDEX('Детали Praktisch'!$C$12:$C$2063,MATCH('Сборки Praktisch'!B322,'Детали Praktisch'!$A$12:$A$2063,))","v":7672},null,{"$f":"ROUND(E322*(1-$C$3)/Лист2!$A$6,0)","v":7672}]
[null,31,"Стеллаж торговый пристенный с разделителями L=1000 Н=2300",1,null,{"$f":"SUMPRODUCT(D324:D330,E324:E330)","v":18947},null,{"$f":"SUMPRODUCT(D324:D330,G324:G330)","v":18947}]
[null,"T-LT 02802300","Стойка с двухсторонней перфорацией (30х80) H=2300",1,{"$f":"INDEX('Детали Praktisch'!$C$12:$C$2063,MATCH('Сборки Praktisch'!B324,'Детали Praktisch'!$A$12:$A$2063,))","v":1753},null,{"$f":"ROUND(E324*(1-$C$3)/Лист2!$A$6,0)","v":1753}]
[null,"T-BT 01000470","База стеллажа G=470",1,{"$f":"INDEX('Детали Praktisch'!$C$12:$C$2063,MATCH('Сборки Praktisch'!B325,'Детали Praktisch'!$A$12:$A$2063,))","v":1171},null,{"$f":"ROUND(E325*(1-$C$3)/Лист2!$A$6,0)","v":1171}]
[null,"T-BP 01151000","Панель сплошная L=1000 H=150",2,{"$f":"INDEX('Детали Praktisch'!$C$12:$C$2063,MATCH('Сборки Praktisch'!B326,'Детали Praktisch'!$A$12:$A$2063,))","v":300},null,{"$f":"ROUND(E326*(1-$C$3)/Лист2!$A$6,0)","v":300}]
[null,"T-BP 01401000","Панель сплошная L=1000 H=400",5,{"$f":"INDEX('Детали Praktisch'!$C$12:$C$2063,MATCH('Сборки Praktisch'!B327,'Детали Praktisch'!$A$12:$A$2063,))","v":576},null,{"$f":"ROUND(E327*(1-$C$3)/Лист2!$A$6,0)","v":576}]
[null,"T-ST 01471000","Полка L=1000 G= 470",1,{"$f":"INDEX('Детали Praktisch'!$C$12:$C$2063,MATCH('Сборки Praktisch'!B328,'Детали Praktisch'!$A$12:$A$2063,))","v":1031},null,{"$f":"ROUND(E328*(1-$C$3)/Лист2!$A$6,0)","v":1031}]
[null,"T-WL 03031000","Полка металлическая с разделителями G=450 H=65 L=1000",2,{"$f":"INDEX('Детали Praktisch'!$C$12:$C$2063,MATCH('Сборки Praktisch'!B329,'Детали Praktisch'!$A$12:$A$2063,))","v":2850},null,{"$f":"ROUND(E329*(1-$C$3)/Лист2!$A$6,0)","v":2850}]
[null,"T-WL 03131000","Полка металлическая с разделителями под углом H=65 G=450 L=1000",2,{"$f":"INDEX('Детали Praktisch'!$C$12:$C$2063,MATCH('Сборки Praktisch'!B330,'Детали Praktisch'!$A$12:$A$2063,))","v":2906},null,{"$f":"ROUND(E330*(1-$C$3)/Лист2!$A$6,0)","v":2906}]
[null,32,"Стеллаж торговый с полками из стекла и с панелью ДСП L=1000 Н=2350",null,null,{"$f":"SUMPRODUCT(D332:D341,E332:E341)","v":17133},null,{"$f":"SUMPRODUCT(D332:D341,G332:G341)","v":{"$error":"#VALUE!"}}]
[null,"T-LT 12802350","Стойка с двухсторонней перфорацией (30х80) для траверс Н=2350 ",1,{"$f":"INDEX('Детали Praktisch'!$C$12:$C$2063,MATCH('Сборки Praktisch'!B332,'Детали Praktisch'!$A$12:$A$2063,))","v":2330},null,{"$f":"ROUND(E332*(1-$C$3)/Лист2!$A$6,0)","v":2330}]
[null,"T-BT 01010470","База полки из ДСП G=470",1,{"$f":"INDEX('Детали Praktisch'!$C$12:$C$2063,MATCH('Сборки Praktisch'!B333,'Детали Praktisch'!$A$12:$A$2063,))","v":1415},null,{"$f":"ROUND(E333*(1-$C$3)/Лист2!$A$6,0)","v":1415}]
[null,"T-TR 01011000","Траверса L=1000",3,{"$f":"INDEX('Детали Praktisch'!$C$12:$C$2063,MATCH('Сборки Praktisch'!B334,'Детали Praktisch'!$A$12:$A$2063,))","v":523},null,{"$f":"ROUND(E334*(1-$C$3)/Лист2!$A$6,0)","v":523}]
[null,"T-PT 01011000","Плинтус ДСП L=1000",1,{"$f":"INDEX('Детали Praktisch'!$C$12:$C$2063,MATCH('Сборки Praktisch'!B335,'Детали Praktisch'!$A$12:$A$2063,))","v":966},null,{"$f":"ROUND(E335*(1-$C$3)/Лист2!$A$6,0)","v":966}]
[null,"T-PW 01102350","Панель настенная L=1000 H=2350",1,{"$f":"INDEX('Детали Praktisch'!$C$12:$C$2063,MATCH('Сборки Praktisch'!B336,'Детали Praktisch'!$A$12:$A$2063,))","v":6585},null,{"$f":"ROUND(E336*(1-$C$3)/Лист2!$A$6,0)","v":6585}]
[null,"A-AA 01000470","Держатель базовой полки из ДСП G = 470 (комплект)",1,{"$f":"INDEX('Детали Praktisch'!$C$12:$C$2063,MATCH('Сборки Praktisch'!B337,'Детали Praktisch'!$A$12:$A$2063,))","v":116},null,{"$f":"ROUND(E337*(1-$C$3)/Лист2!$A$6,0)","v":116}]
[null,"T-BR 01471000","Полка основания ДСП с полукруглым профилем прямая G=470 L=1000",1,{"$f":"INDEX('Детали Praktisch'!$C$12:$C$2063,MATCH('Сборки Praktisch'!B338,'Детали Praktisch'!$A$12:$A$2063,))","v":1880},null,{"$f":"ROUND(E338*(1-$C$3)/Лист2!$A$6,0)","v":1880}]
[null,"T-BS 01040300","Кронштейн для стеклянной полки (комплект) G=300",4,{"$f":"INDEX('Детали Praktisch'!$C$12:$C$2063,MATCH('Сборки Praktisch'!B339,'Детали Praktisch'!$A$12:$A$2063,))","v":568},null,{"$f":"ROUND(E339*(1-$C$3)/Лист2!$A$6,0)","v":568}]
[null,"T-SG 01311000","Полка стеклянная  прямая G=310 L=1000",2,{"$f":"INDEX('Детали Praktisch'!$C$12:$C$2063,MATCH('Сборки Praktisch'!B340,'Детали Praktisch'!$A$12:$A$2063,))","v":"по запросу"},null,{"$f":"ROUND(E340*(1-$C$3)/Лист2!$A$6,0)","v":{"$error":"#VALUE!"}}]
[null,"T-SG 01371000","Полка стеклянная  прямая G=370 L=1000",2,{"$f":"INDEX('Детали Praktisch'!$C$12:$C$2063,MATCH('Сборки Praktisch'!B341,'Детали Praktisch'!$A$12:$A$2063,))","v":"по запросу"},null,{"$f":"ROUND(E341*(1-$C$3)/Лист2!$A$6,0)","v":{"$error":"#VALUE!"}}]
[null,33,"Стеллаж торговый с экономпанелью и навесом с подсветкой L=1000 H=2350",null,null,{"$f":"SUMPRODUCT(D343:D350,E343:E350)","v":26265},null,{"$f":"SUMPRODUCT(D343:D350,G343:G350)","v":26265}]
[null,"T-LT 12802350","Стойка с двухсторонней перфорацией (30х80) для траверс Н=2350 ",1,{"$f":"INDEX('Детали Praktisch'!$C$12:$C$2063,MATCH('Сборки Praktisch'!B343,'Детали Praktisch'!$A$12:$A$2063,))","v":2330},null,{"$f":"ROUND(E343*(1-$C$3)/Лист2!$A$6,0)","v":2330}]
[null,"T-BT 01010470","База полки из ДСП G=470",1,{"$f":"INDEX('Детали Praktisch'!$C$12:$C$2063,MATCH('Сборки Praktisch'!B344,'Детали Praktisch'!$A$12:$A$2063,))","v":1415},null,{"$f":"ROUND(E344*(1-$C$3)/Лист2!$A$6,0)","v":1415}]
[null,"T-TR 01011000","Траверса L=1000",3,{"$f":"INDEX('Детали Praktisch'!$C$12:$C$2063,MATCH('Сборки Praktisch'!B345,'Детали Praktisch'!$A$12:$A$2063,))","v":523},null,{"$f":"ROUND(E345*(1-$C$3)/Лист2!$A$6,0)","v":523}]
[null,"T-PT 01011000","Плинтус ДСП L=1000",1,{"$f":"INDEX('Детали Praktisch'!$C$12:$C$2063,MATCH('Сборки Praktisch'!B346,'Детали Praktisch'!$A$12:$A$2063,))","v":966},null,{"$f":"ROUND(E346*(1-$C$3)/Лист2!$A$6,0)","v":966}]
[null,"T-PW 02102350","Экономпанель L=1000 H=2350",1,{"$f":"INDEX('Детали Praktisch'!$C$12:$C$2063,MATCH('Сборки Praktisch'!B347,'Детали Praktisch'!$A$12:$A$2063,))","v":11347},null,{"$f":"ROUND(E347*(1-$C$3)/Лист2!$A$6,0)","v":11347}]
[null,"T-TW 01471000","Навес ДСП с люминесцентным освещением G=470 L=1000",1,{"$f":"INDEX('Детали Praktisch'!$C$12:$C$2063,MATCH('Сборки Praktisch'!B348,'Детали Praktisch'!$A$12:$A$2063,))","v":6642},null,{"$f":"ROUND(E348*(1-$C$3)/Лист2!$A$6,0)","v":6642}]
[null,"A-AA 01000470","Держатель базовой полки из ДСП G = 470 (комплект)",1,{"$f":"INDEX('Детали Praktisch'!$C$12:$C$2063,MATCH('Сборки Praktisch'!B349,'Детали Praktisch'!$A$12:$A$2063,))","v":116},null,{"$f":"ROUND(E349*(1-$C$3)/Лист2!$A$6,0)","v":116}]
[null,"T-BR 01471000","Полка основания ДСП с полукруглым профилем прямая G=470 L=1000",1,{"$f":"INDEX('Детали Praktisch'!$C$12:$C$2063,MATCH('Сборки Praktisch'!B350,'Детали Praktisch'!$A$12:$A$2063,))","v":1880},null,{"$f":"ROUND(E350*(1-$C$3)/Лист2!$A$6,0)","v":1880}]
[null,34,"Стеллаж торговый с полками из ДСП с тумбой и навесом с подсветкой",null,null,{"$f":"SUMPRODUCT(D352:D366,E352:E366)","v":48531},null,{"$f":"SUMPRODUCT(D352:D366,G352:G366)","v":48531}]
[null,"T-LT 12802350","Стойка с двухсторонней перфорацией (30х80) для траверс Н=2350 ",1,{"$f":"INDEX('Детали Praktisch'!$C$12:$C$2063,MATCH('Сборки Praktisch'!B352,'Детали Praktisch'!$A$12:$A$2063,))","v":2330},null,{"$f":"ROUND(E352*(1-$C$3)/Лист2!$A$6,0)","v":2330}]
[null,"T-BT 01010470","База полки из ДСП G=470",1,{"$f":"INDEX('Детали Praktisch'!$C$12:$C$2063,MATCH('Сборки Praktisch'!B353,'Детали Praktisch'!$A$12:$A$2063,))","v":1415},null,{"$f":"ROUND(E353*(1-$C$3)/Лист2!$A$6,0)","v":1415}]
[null,"T-TR 01011000","Траверса L=1000",3,{"$f":"INDEX('Детали Praktisch'!$C$12:$C$2063,MATCH('Сборки Praktisch'!B354,'Детали Praktisch'!$A$12:$A$2063,))","v":523},null,{"$f":"ROUND(E354*(1-$C$3)/Лист2!$A$6,0)","v":523}]
[null,"T-PT 01011000","Плинтус ДСП L=1000",1,{"$f":"INDEX('Детали Praktisch'!$C$12:$C$2063,MATCH('Сборки Praktisch'!B355,'Детали Praktisch'!$A$12:$A$2063,))","v":966},null,{"$f":"ROUND(E355*(1-$C$3)/Лист2!$A$6,0)","v":966}]
[null,"T-PW 01102350","Панель настенная L=1000 H=2350",1,{"$f":"INDEX('Детали Praktisch'!$C$12:$C$2063,MATCH('Сборки Praktisch'!B356,'Детали Praktisch'!$A$12:$A$2063,))","v":6585},null,{"$f":"ROUND(E356*(1-$C$3)/Лист2!$A$6,0)","v":6585}]
[null,"A-AA 01000470","Держатель базовой полки из ДСП G = 470 (комплект)",1,{"$f":"INDEX('Детали Praktisch'!$C$12:$C$2063,MATCH('Сборки Praktisch'!B357,'Детали Praktisch'!$A$12:$A$2063,))","v":116},null,{"$f":"ROUND(E357*(1-$C$3)/Лист2!$A$6,0)","v":116}]
[null,"T-BR 01471000","Полка основания ДСП с полукруглым профилем прямая G=470 L=1000",1,{"$f":"INDEX('Детали Praktisch'!$C$12:$C$2063,MATCH('Сборки Praktisch'!B358,'Детали Praktisch'!$A$12:$A$2063,))","v":1880},null,{"$f":"ROUND(E358*(1-$C$3)/Лист2!$A$6,0)","v":1880}]
[null,"T-BS 01030310","Кронштейн для полок из ДСП с полукруглым профилем (комплект) G=310",2,{"$f":"INDEX('Детали Praktisch'!$C$12:$C$2063,MATCH('Сборки Praktisch'!B359,'Детали Praktisch'!$A$12:$A$2063,))","v":691},null,{"$f":"ROUND(E359*(1-$C$3)/Лист2!$A$6,0)","v":691}]
[null,"T-BS 01030370","Кронштейн для полок из ДСП с полукруглым профилем (комплект) G=370",1,{"$f":"INDEX('Детали Praktisch'!$C$12:$C$2063,MATCH('Сборки Praktisch'!B360,'Детали Praktisch'!$A$12:$A$2063,))","v":825},null,{"$f":"ROUND(E360*(1-$C$3)/Лист2!$A$6,0)","v":825}]
[null,"T-SR 01311000","Полка ДСП с полукруглым профилем прямая G=310 L=1000",1,{"$f":"INDEX('Детали Praktisch'!$C$12:$C$2063,MATCH('Сборки Praktisch'!B361,'Детали Praktisch'!$A$12:$A$2063,))","v":1477},null,{"$f":"ROUND(E361*(1-$C$3)/Лист2!$A$6,0)","v":1477}]
[null,"T-SR 01371000","Полка ДСП с полукруглым профилем прямая G=370 L=1000",1,{"$f":"INDEX('Детали Praktisch'!$C$12:$C$2063,MATCH('Сборки Praktisch'!B362,'Детали Praktisch'!$A$12:$A$2063,))","v":1720},null,{"$f":"ROUND(E362*(1-$C$3)/Лист2!$A$6,0)","v":1720}]
[null,"T-SR 01401000","Полка с полукруглым профилем G=400 L=1000",1,{"$f":"INDEX('Детали Praktisch'!$C$12:$C$2063,MATCH('Сборки Praktisch'!B363,'Детали Praktisch'!$A$12:$A$2063,))","v":1766},null,{"$f":"ROUND(E363*(1-$C$3)/Лист2!$A$6,0)","v":1766}]
[null,"T-SW 10471000","Топ для тумбы L=1000 G=470",1,{"$f":"INDEX('Детали Praktisch'!$C$12:$C$2063,MATCH('Сборки Praktisch'!B364,'Детали Praktisch'!$A$12:$A$2063,))","v":2896},null,{"$f":"ROUND(E364*(1-$C$3)/Лист2!$A$6,0)","v":2896}]
[null,"T-SW 03471000","Тумба с тремя ящиками (низкая) L=1000 G=470",1,{"$f":"INDEX('Детали Praktisch'!$C$12:$C$2063,MATCH('Сборки Praktisch'!B365,'Детали Praktisch'!$A$12:$A$2063,))","v":16962},null,{"$f":"ROUND(E365*(1-$C$3)/Лист2!$A$6,0)","v":16962}]
[null,"T-TW 01471000","Навес ДСП с люминесцентным освещением G=470 L=1000",1,{"$f":"INDEX('Детали Praktisch'!$C$12:$C$2063,MATCH('Сборки Praktisch'!B366,'Детали Praktisch'!$A$12:$A$2063,))","v":6642},null,{"$f":"ROUND(E366*(1-$C$3)/Лист2!$A$6,0)","v":6642}]
[null,35,"Стеллаж торговый с навеской Н=2350 L=1000",null,null,{"$f":"SUMPRODUCT(D368:D378,E368:E378)","v":25920},null,{"$f":"SUMPRODUCT(D368:D378,G368:G378)","v":25920}]
[null,"T-LT 12802350","Стойка с двухсторонней перфорацией (30х80) для траверс Н=2350 ",1,{"$f":"INDEX('Детали Praktisch'!$C$12:$C$2063,MATCH('Сборки Praktisch'!B368,'Детали Praktisch'!$A$12:$A$2063,))","v":2330},null,{"$f":"ROUND(E368*(1-$C$3)/Лист2!$A$6,0)","v":2330}]
[null,"T-BT 01010470","База полки из ДСП G=470",1,{"$f":"INDEX('Детали Praktisch'!$C$12:$C$2063,MATCH('Сборки Praktisch'!B369,'Детали Praktisch'!$A$12:$A$2063,))","v":1415},null,{"$f":"ROUND(E369*(1-$C$3)/Лист2!$A$6,0)","v":1415}]
[null,"T-TR 01011000","Траверса L=1000",3,{"$f":"INDEX('Детали Praktisch'!$C$12:$C$2063,MATCH('Сборки Praktisch'!B370,'Детали Praktisch'!$A$12:$A$2063,))","v":523},null,{"$f":"ROUND(E370*(1-$C$3)/Лист2!$A$6,0)","v":523}]
[null,"T-PT 01011000","Плинтус ДСП L=1000",1,{"$f":"INDEX('Детали Praktisch'!$C$12:$C$2063,MATCH('Сборки Praktisch'!B371,'Детали Praktisch'!$A$12:$A$2063,))","v":966},null,{"$f":"ROUND(E371*(1-$C$3)/Лист2!$A$6,0)","v":966}]
[null,"T-PW 01102350","Панель настенная L=1000 H=2350",1,{"$f":"INDEX('Детали Praktisch'!$C$12:$C$2063,MATCH('Сборки Praktisch'!B372,'Детали Praktisch'!$A$12:$A$2063,))","v":6585},null,{"$f":"ROUND(E372*(1-$C$3)/Лист2!$A$6,0)","v":6585}]
[null,"A-AA 01000470","Держатель базовой полки из ДСП G = 470 (комплект)",1,{"$f":"INDEX('Детали Praktisch'!$C$12:$C$2063,MATCH('Сборки Praktisch'!B373,'Детали Praktisch'!$A$12:$A$2063,))","v":116},null,{"$f":"ROUND(E373*(1-$C$3)/Лист2!$A$6,0)","v":116}]
[null,"T-BR 01471000","Полка основания ДСП с полукруглым профилем прямая G=470 L=1000",1,{"$f":"INDEX('Детали Praktisch'!$C$12:$C$2063,MATCH('Сборки Praktisch'!B374,'Детали Praktisch'!$A$12:$A$2063,))","v":1880},null,{"$f":"ROUND(E374*(1-$C$3)/Лист2!$A$6,0)","v":1880}]
[null,"T-RM 04300100","Рама прямоугольная 15х30",1,1269,null,{"$f":"ROUND(E375*(1-$C$3)/Лист2!$A$6,0)","v":1269}]
[null,"T-HB 05001000","Балка для навески прямоугольная 15х30,L=1000",1,{"$f":"INDEX('Детали Praktisch'!$C$12:$C$2063,MATCH('Сборки Praktisch'!B376,'Детали Praktisch'!$A$12:$A$2063,))","v":724},null,{"$f":"ROUND(E376*(1-$C$3)/Лист2!$A$6,0)","v":724}]
[null,"A-WR 10153040 ","Вешало прямое с ограничителями на балку 15х30 G=400",2,1212,null,{"$f":"ROUND(E377*(1-$C$3)/Лист2!$A$6,0)","v":1212}]
[null,"T-TW 01471000","Навес ДСП с люминесцентным освещением G=470 L=1000",1,{"$f":"INDEX('Детали Praktisch'!$C$12:$C$2063,MATCH('Сборки Praktisch'!B378,'Детали Praktisch'!$A$12:$A$2063,))","v":6642},null,{"$f":"ROUND(E378*(1-$C$3)/Лист2!$A$6,0)","v":6642}]
[null,36,"Стеллаж торговый угловой внешний ДСП Н=2350",null,null,{"$f":"SUMPRODUCT(D380:D386,E380:E386)","v":12710},null,{"$f":"SUMPRODUCT(D380:D386,G380:G386)","v":12710}]
[null,"T-LT 12802350","Стойка с двухсторонней перфорацией (30х80) для траверс Н=2350 ",1,{"$f":"INDEX('Детали Praktisch'!$C$12:$C$2063,MATCH('Сборки Praktisch'!B380,'Детали Praktisch'!$A$12:$A$2063,))","v":2330},null,{"$f":"ROUND(E380*(1-$C$3)/Лист2!$A$6,0)","v":2330}]
[null,"T-BT 01010470","База полки из ДСП G=470",1,{"$f":"INDEX('Детали Praktisch'!$C$12:$C$2063,MATCH('Сборки Praktisch'!B381,'Детали Praktisch'!$A$12:$A$2063,))","v":1415},null,{"$f":"ROUND(E381*(1-$C$3)/Лист2!$A$6,0)","v":1415}]
[null,"T-TR 01450002","Траверса угла внешнего 45º",3,{"$f":"INDEX('Детали Praktisch'!$C$12:$C$2063,MATCH('Сборки Praktisch'!B382,'Детали Praktisch'!$A$12:$A$2063,))","v":373},null,{"$f":"ROUND(E382*(1-$C$3)/Лист2!$A$6,0)","v":373}]
[null,"T-PT 04450470","Плинтус ДСП угла внешнего 45º G=470",1,{"$f":"INDEX('Детали Praktisch'!$C$12:$C$2063,MATCH('Сборки Praktisch'!B383,'Детали Praktisch'!$A$12:$A$2063,))","v":2992},null,{"$f":"ROUND(E383*(1-$C$3)/Лист2!$A$6,0)","v":2992}]
[null,"Т-РW 06452350","Панель угла внешнего 45º H=2350",1,{"$f":"INDEX('Детали Praktisch'!$C$12:$C$2063,MATCH('Сборки Praktisch'!B384,'Детали Praktisch'!$A$12:$A$2063,))","v":2929},null,{"$f":"ROUND(E384*(1-$C$3)/Лист2!$A$6,0)","v":2929}]
[null,"A-AA 01000470","Держатель базовой полки из ДСП G = 470 (комплект)",1,{"$f":"INDEX('Детали Praktisch'!$C$12:$C$2063,MATCH('Сборки Praktisch'!B385,'Детали Praktisch'!$A$12:$A$2063,))","v":116},null,{"$f":"ROUND(E385*(1-$C$3)/Лист2!$A$6,0)","v":116}]
[null,"T-BR 06450470","Полка основания ДСП с полукруглым профилем угловая внешняя 45º  G=470",1,{"$f":"INDEX('Детали Praktisch'!$C$12:$C$2063,MATCH('Сборки Praktisch'!B386,'Детали Praktisch'!$A$12:$A$2063,))","v":1809},null,{"$f":"ROUND(E386*(1-$C$3)/Лист2!$A$6,0)","v":1809}]
[null,37,"Стеллаж угловой внутренний ДСП Н=2350",null,null,{"$f":"SUMPRODUCT(D388:D394,E388:E394)","v":19626},null,{"$f":"SUMPRODUCT(D388:D394,G388:G394)","v":19626}]
[null,"T-LT 12802350","Стойка с двухсторонней перфорацией (30х80) для траверс Н=2350 ",1,{"$f":"INDEX('Детали Praktisch'!$C$12:$C$2063,MATCH('Сборки Praktisch'!B388,'Детали Praktisch'!$A$12:$A$2063,))","v":2330},null,{"$f":"ROUND(E388*(1-$C$3)/Лист2!$A$6,0)","v":2330}]
[null,"T-BT 01010470","База полки из ДСП G=470",1,{"$f":"INDEX('Детали Praktisch'!$C$12:$C$2063,MATCH('Сборки Praktisch'!B389,'Детали Praktisch'!$A$12:$A$2063,))","v":1415},null,{"$f":"ROUND(E389*(1-$C$3)/Лист2!$A$6,0)","v":1415}]
[null,"T-TR 01450001","Траверса угла внутреннего 45º",3,{"$f":"INDEX('Детали Praktisch'!$C$12:$C$2063,MATCH('Сборки Praktisch'!B390,'Детали Praktisch'!$A$12:$A$2063,))","v":1377},null,{"$f":"ROUND(E390*(1-$C$3)/Лист2!$A$6,0)","v":1377}]
[null,"T-PT 03450470","Плинтус ДСП угла внутреннего 45º G=470",1,{"$f":"INDEX('Детали Praktisch'!$C$12:$C$2063,MATCH('Сборки Praktisch'!B391,'Детали Praktisch'!$A$12:$A$2063,))","v":4766},null,{"$f":"ROUND(E391*(1-$C$3)/Лист2!$A$6,0)","v":4766}]
[null,"T-PW 05452350","Панель угла внутреннего 45º H=2350",1,{"$f":"INDEX('Детали Praktisch'!$C$12:$C$2063,MATCH('Сборки Praktisch'!B392,'Детали Praktisch'!$A$12:$A$2063,))","v":4896},null,{"$f":"ROUND(E392*(1-$C$3)/Лист2!$A$6,0)","v":4896}]
[null,"A-AA 01000470","Держатель базовой полки из ДСП G = 470 (комплект)",1,{"$f":"INDEX('Детали Praktisch'!$C$12:$C$2063,MATCH('Сборки Praktisch'!B393,'Детали Praktisch'!$A$12:$A$2063,))","v":116},null,{"$f":"ROUND(E393*(1-$C$3)/Лист2!$A$6,0)","v":116}]
[null,"T-BR 05450470","Полка основания ДСП с полукруглым профилем угловая внутренняя 45º  G=470",1,{"$f":"INDEX('Детали Praktisch'!$C$12:$C$2063,MATCH('Сборки Praktisch'!B394,'Детали Praktisch'!$A$12:$A$2063,))","v":1972},null,{"$f":"ROUND(E394*(1-$C$3)/Лист2!$A$6,0)","v":1972}]
[null,38,"Стеллаж островной ДСП Н=1600 L=1000",null,null,{"$f":"SUMPRODUCT(D396:D403,E396:E403)","v":21421},null,{"$f":"SUMPRODUCT(D396:D403,G396:G403)","v":21421}]
[null,"T-LT 12801600","Стойка с двухсторонней перфорацией 30х80 для траверс H=1600",1,{"$f":"INDEX('Детали Praktisch'!$C$12:$C$2063,MATCH('Сборки Praktisch'!B396,'Детали Praktisch'!$A$12:$A$2063,))","v":1628},null,{"$f":"ROUND(E396*(1-$C$3)/Лист2!$A$6,0)","v":1628}]
[null,"T-BT 01010470","База полки из ДСП G=470",2,{"$f":"INDEX('Детали Praktisch'!$C$12:$C$2063,MATCH('Сборки Praktisch'!B397,'Детали Praktisch'!$A$12:$A$2063,))","v":1415},null,{"$f":"ROUND(E397*(1-$C$3)/Лист2!$A$6,0)","v":1415}]
[null,"T-TR 01011000","Траверса L=1000",2,{"$f":"INDEX('Детали Praktisch'!$C$12:$C$2063,MATCH('Сборки Praktisch'!B398,'Детали Praktisch'!$A$12:$A$2063,))","v":523},null,{"$f":"ROUND(E398*(1-$C$3)/Лист2!$A$6,0)","v":523}]
[null,"T-PT 01011000","Плинтус ДСП L=1000",2,{"$f":"INDEX('Детали Praktisch'!$C$12:$C$2063,MATCH('Сборки Praktisch'!B399,'Детали Praktisch'!$A$12:$A$2063,))","v":966},null,{"$f":"ROUND(E399*(1-$C$3)/Лист2!$A$6,0)","v":966}]
[null,"A-AA 01000470","Держатель базовой полки из ДСП G = 470 (комплект)",2,{"$f":"INDEX('Детали Praktisch'!$C$12:$C$2063,MATCH('Сборки Praktisch'!B400,'Детали Praktisch'!$A$12:$A$2063,))","v":116},null,{"$f":"ROUND(E400*(1-$C$3)/Лист2!$A$6,0)","v":116}]
[null,"T-BR 01471000","Полка основания ДСП с полукруглым профилем прямая G=470 L=1000",2,{"$f":"INDEX('Детали Praktisch'!$C$12:$C$2063,MATCH('Сборки Praktisch'!B401,'Детали Praktisch'!$A$12:$A$2063,))","v":1880},null,{"$f":"ROUND(E401*(1-$C$3)/Лист2!$A$6,0)","v":1880}]
[null,"T-PW 01101600","Панель настенная L=1000 H=1600",2,{"$f":"INDEX('Детали Praktisch'!$C$12:$C$2063,MATCH('Сборки Praktisch'!B402,'Детали Praktisch'!$A$12:$A$2063,))","v":4659},null,{"$f":"ROUND(E402*(1-$C$3)/Лист2!$A$6,0)","v":4659}]
[null,"T-TC 02801000","Крышка ДСП 80 L=1000",1,{"$f":"INDEX('Детали Praktisch'!$C$12:$C$2063,MATCH('Сборки Praktisch'!B403,'Детали Praktisch'!$A$12:$A$2063,))","v":675},null,{"$f":"ROUND(E403*(1-$C$3)/Лист2!$A$6,0)","v":675}]
[null,39,"Овощной развал H=600-1400 G=1000-2000 L=1250"]
[]
[]
[null,"T-WL 10001250","Овощной развал H=600-1400 G=1000-2000 L=1250 (массив лиственницы)",1,{"$f":"INDEX('Детали Praktisch'!$C$12:$C$2063,MATCH('Сборки Praktisch'!B407,'Детали Praktisch'!$A$12:$A$2063,))","v":32875},{"$f":"D407*E407","v":32875},{"$f":"ROUND(E407*(1-$C$3)/Лист2!$A$6,0)","v":32875},{"$f":"D407*G407","v":32875}]
[]
[]
[null,40,"Овощной развал H=1100 G=1000 L=1200"]
[]
[]
[null,"T-WL 10101200","Овощной развал H=1100 G=1000 L=1200 (массив лиственницы) ",1,{"$f":"INDEX('Детали Praktisch'!$C$12:$C$2063,MATCH('Сборки Praktisch'!B413,'Детали Praktisch'!$A$12:$A$2063,))","v":15983},{"$f":"D413*E413","v":15983},{"$f":"ROUND(E413*(1-$C$3)/Лист2!$A$6,0)","v":15983},{"$f":"D413*G413","v":15983}]
[]
[]
[null,41,"Полки реечные хлебные"]
[null,null,"Полка реечная G=470 H=80 ",null,null,{"$f":"SUMPRODUCT(D418:D423,E418:E423)","v":20928},null,{"$f":"SUMPRODUCT(D418:D423,G418:G423)","v":20928}]
[null,"T-BW 03080665","Полка реечная G=470 H=80 L=665 (Бук)",1,{"$f":"INDEX('Детали Praktisch'!$C$12:$C$2063,MATCH('Сборки Praktisch'!B418,'Детали Praktisch'!$A$12:$A$2063,))","v":3688},null,{"$f":"ROUND(E418*(1-$C$3)/Лист2!$A$6,0)","v":3688}]
[null,"T-BW 03081000","Полка реечная G=470 H=80 L=1000 (Бук)",1,{"$f":"INDEX('Детали Praktisch'!$C$12:$C$2063,MATCH('Сборки Praktisch'!B419,'Детали Praktisch'!$A$12:$A$2063,))","v":3935},null,{"$f":"ROUND(E419*(1-$C$3)/Лист2!$A$6,0)","v":3935}]
[null,"T-BW 03081250","Полка реечная G=470 H=80 L=1250 (Бук)",1,{"$f":"INDEX('Детали Praktisch'!$C$12:$C$2063,MATCH('Сборки Praktisch'!B420,'Детали Praktisch'!$A$12:$A$2063,))","v":4049},null,{"$f":"ROUND(E420*(1-$C$3)/Лист2!$A$6,0)","v":4049}]
[null,"T-BW 13080665","Полка реечная (Э) G=470 H=80 L=665 (массив листвен)",1,{"$f":"INDEX('Детали Praktisch'!$C$12:$C$2063,MATCH('Сборки Praktisch'!B421,'Детали Praktisch'!$A$12:$A$2063,))","v":3018},null,{"$f":"ROUND(E421*(1-$C$3)/Лист2!$A$6,0)","v":3018}]
[null,"T-BW 13081000","Полка реечная (Э) G=470 H=80 L=1000 (массив листвен)",1,{"$f":"INDEX('Детали Praktisch'!$C$12:$C$2063,MATCH('Сборки Praktisch'!B422,'Детали Praktisch'!$A$12:$A$2063,))","v":3082},null,{"$f":"ROUND(E422*(1-$C$3)/Лист2!$A$6,0)","v":3082}]
[null,"T-BW 13081250","Полка реечная (Э) G=470 H=80 L=1250 (массив листвен)",1,{"$f":"INDEX('Детали Praktisch'!$C$12:$C$2063,MATCH('Сборки Praktisch'!B423,'Детали Praktisch'!$A$12:$A$2063,))","v":3156},null,{"$f":"ROUND(E423*(1-$C$3)/Лист2!$A$6,0)","v":3156}]
[null,null,"Полка реечная высокая G=470 H=250 ",null,null,{"$f":"SUMPRODUCT(D425:D430,E425:E430)","v":24834},null,{"$f":"SUMPRODUCT(D425:D430,G425:G430)","v":24834}]
[null,"T-BW 02250665","Полка реечная высокая G=470 H=250 L=665 (Бук)",1,{"$f":"INDEX('Детали Praktisch'!$C$12:$C$2063,MATCH('Сборки Praktisch'!B425,'Детали Praktisch'!$A$12:$A$2063,))","v":4062},null,{"$f":"ROUND(E425*(1-$C$3)/Лист2!$A$6,0)","v":4062}]
[null,"T-BW 02251000","Полка реечная высокая G=470 H=250 L=1000 (Бук)",1,{"$f":"INDEX('Детали Praktisch'!$C$12:$C$2063,MATCH('Сборки Praktisch'!B426,'Детали Praktisch'!$A$12:$A$2063,))","v":4614},null,{"$f":"ROUND(E426*(1-$C$3)/Лист2!$A$6,0)","v":4614}]
[null,"T-BW 02251250","Полка реечная высокая G=470 H=250 L=1250 (Бук)",1,{"$f":"INDEX('Детали Praktisch'!$C$12:$C$2063,MATCH('Сборки Praktisch'!B427,'Детали Praktisch'!$A$12:$A$2063,))","v":5027},null,{"$f":"ROUND(E427*(1-$C$3)/Лист2!$A$6,0)","v":5027}]
[null,"T-BW 12250665","Полка реечная высокая (Э) G=470 H=250 L=665 (массив листвен)",1,{"$f":"INDEX('Детали Praktisch'!$C$12:$C$2063,MATCH('Сборки Praktisch'!B428,'Детали Praktisch'!$A$12:$A$2063,))","v":3608},null,{"$f":"ROUND(E428*(1-$C$3)/Лист2!$A$6,0)","v":3608}]
[null,"T-BW 12251000","Полка реечная высокая (Э) G=470 H=250 L=1000 (массив листвен)",1,{"$f":"INDEX('Детали Praktisch'!$C$12:$C$2063,MATCH('Сборки Praktisch'!B429,'Детали Praktisch'!$A$12:$A$2063,))","v":3683},null,{"$f":"ROUND(E429*(1-$C$3)/Лист2!$A$6,0)","v":3683}]
[null,"T-BW 12251250","Полка реечная высокая (Э) G=470 H=250 L=1250 (массив листвен)",1,{"$f":"INDEX('Детали Praktisch'!$C$12:$C$2063,MATCH('Сборки Praktisch'!B430,'Детали Praktisch'!$A$12:$A$2063,))","v":3840},null,{"$f":"ROUND(E430*(1-$C$3)/Лист2!$A$6,0)","v":3840}]
[null,null,"Накопитель реечный G=470 H=500 ",null,null,{"$f":"SUMPRODUCT(D432:D437,E432:E437)","v":40823},null,{"$f":"SUMPRODUCT(D432:D437,G432:G437)","v":40823}]
[null,"T-BW 01500665","Накопитель реечный с поддоном G=470 H=500 L=665 (Бук)",1,{"$f":"INDEX('Детали Praktisch'!$C$12:$C$2063,MATCH('Сборки Praktisch'!B432,'Детали Praktisch'!$A$12:$A$2063,))","v":8139},null,{"$f":"ROUND(E432*(1-$C$3)/Лист2!$A$6,0)","v":8139}]
[null,"T-BW 01501000","Накопитель реечный с поддоном G=470 H=500 L=1000 (Бук)",1,{"$f":"INDEX('Детали Praktisch'!$C$12:$C$2063,MATCH('Сборки Praktisch'!B433,'Детали Praktisch'!$A$12:$A$2063,))","v":8958},null,{"$f":"ROUND(E433*(1-$C$3)/Лист2!$A$6,0)","v":8958}]
[null,"T-BW 01501250","Накопитель реечный с поддоном G=470 H=500 L=1250 (Бук)",1,{"$f":"INDEX('Детали Praktisch'!$C$12:$C$2063,MATCH('Сборки Praktisch'!B434,'Детали Praktisch'!$A$12:$A$2063,))","v":9652},null,{"$f":"ROUND(E434*(1-$C$3)/Лист2!$A$6,0)","v":9652}]
[null,"T-BW 11500665","Накопитель реечный (Э) G=470 H=500 L=665 (массив листвен)",1,{"$f":"INDEX('Детали Praktisch'!$C$12:$C$2063,MATCH('Сборки Praktisch'!B435,'Детали Praktisch'!$A$12:$A$2063,))","v":4530},null,{"$f":"ROUND(E435*(1-$C$3)/Лист2!$A$6,0)","v":4530}]
[null,"T-BW 11501000","Накопитель реечный (Э) G=470 H=500 L=1000 (массив листвен)",1,{"$f":"INDEX('Детали Praktisch'!$C$12:$C$2063,MATCH('Сборки Praktisch'!B436,'Детали Praktisch'!$A$12:$A$2063,))","v":4683},null,{"$f":"ROUND(E436*(1-$C$3)/Лист2!$A$6,0)","v":4683}]
[null,"T-BW 11501250","Накопитель реечный (Э) G=470 H=500 L=1250 (массив листвен)",1,{"$f":"INDEX('Детали Praktisch'!$C$12:$C$2063,MATCH('Сборки Praktisch'!B437,'Детали Praktisch'!$A$12:$A$2063,))","v":4861},null,{"$f":"ROUND(E437*(1-$C$3)/Лист2!$A$6,0)","v":4861}]
[null,43,"Полки ЛДСП и металлические с разделителями "]
[null,null,"Полка для конфет ЛДСП Н=250 G=470"]
[null,"T-BW 05020665","Полка для конфет ЛДСП Н=250 G=470 L=665",1,{"$f":"INDEX('Детали Praktisch'!$C$12:$C$2063,MATCH('Сборки Praktisch'!B440,'Детали Praktisch'!$A$12:$A$2063,))","v":6743},{"$f":"SUMPRODUCT(D440:D442,E440:E442)","v":23488},{"$f":"ROUND(E440*(1-$C$3)/Лист2!$A$6,0)","v":6743},{"$f":"SUMPRODUCT(D440:D442,G440:G442)","v":23488}]
[null,"T-BW 05021000","Полка для конфет ЛДСП Н=250 G=470 L=1000",1,{"$f":"INDEX('Детали Praktisch'!$C$12:$C$2063,MATCH('Сборки Praktisch'!B441,'Детали Praktisch'!$A$12:$A$2063,))","v":7672},null,{"$f":"ROUND(E441*(1-$C$3)/Лист2!$A$6,0)","v":7672}]
[null,"T-BW 05021250","Полка для конфет ЛДСП Н=250 G=470 L=1250",1,{"$f":"INDEX('Детали Praktisch'!$C$12:$C$2063,MATCH('Сборки Praktisch'!B442,'Детали Praktisch'!$A$12:$A$2063,))","v":9073},null,{"$f":"ROUND(E442*(1-$C$3)/Лист2!$A$6,0)","v":9073}]
[null,null,"Полка металлическая высокая с разделителями H=200 G=470"]
[null,"T-BW 04010665","Полка металлическая высокая с разделителями H=200 G=470 L=665",1,{"$f":"INDEX('Детали Praktisch'!$C$12:$C$2063,MATCH('Сборки Praktisch'!B444,'Детали Praktisch'!$A$12:$A$2063,))","v":3152},{"$f":"SUMPRODUCT(D444:D446,E444:E446)","v":10908},{"$f":"ROUND(E444*(1-$C$3)/Лист2!$A$6,0)","v":3152},{"$f":"SUMPRODUCT(D444:D446,G444:G446)","v":10908}]
[null,"T-BW 04011000","Полка металлическая высокая с разделителями H=200 G=470 L=1000",1,{"$f":"INDEX('Детали Praktisch'!$C$12:$C$2063,MATCH('Сборки Praktisch'!B445,'Детали Praktisch'!$A$12:$A$2063,))","v":3664},null,{"$f":"ROUND(E445*(1-$C$3)/Лист2!$A$6,0)","v":3664}]
[null,"T-BW 04011250","Полка металлическая высокая с разделителямиH=200 G=470 L=1250",1,{"$f":"INDEX('Детали Praktisch'!$C$12:$C$2063,MATCH('Сборки Praktisch'!B446,'Детали Praktisch'!$A$12:$A$2063,))","v":4092},null,{"$f":"ROUND(E446*(1-$C$3)/Лист2!$A$6,0)","v":4092}]
[null,null,"Полка металлическая с разделителями под углом H=65 G=470"]
[null,"T-WL 03140665","Полка металлическая с разделителями под углом H=65 G=470 L=665",1,{"$f":"INDEX('Детали Praktisch'!$C$12:$C$2063,MATCH('Сборки Praktisch'!B448,'Детали Praktisch'!$A$12:$A$2063,))","v":3003},{"$f":"SUMPRODUCT(D448:D450,E448:E450)","v":9773},{"$f":"ROUND(E448*(1-$C$3)/Лист2!$A$6,0)","v":3003},{"$f":"SUMPRODUCT(D448:D450,G448:G450)","v":9773}]
[null,"T-WL 03131000","Полка металлическая с разделителями под углом H=65 G=470 L=1000",1,{"$f":"INDEX('Детали Praktisch'!$C$12:$C$2063,MATCH('Сборки Praktisch'!B449,'Детали Praktisch'!$A$12:$A$2063,))","v":2906},null,{"$f":"ROUND(E449*(1-$C$3)/Лист2!$A$6,0)","v":2906}]
[null,"T-WL 03141250","Полка металлическая с разделителями под углом H=65 G=470 L=1250",1,{"$f":"INDEX('Детали Praktisch'!$C$12:$C$2063,MATCH('Сборки Praktisch'!B450,'Детали Praktisch'!$A$12:$A$2063,))","v":3864},null,{"$f":"ROUND(E450*(1-$C$3)/Лист2!$A$6,0)","v":3864}]
[null,null,"Полка металлическая с разделителями под углом H=100 G=470"]
[null,"T-WL 03150665","Полка металлическая с разделителями под углом H=100 G=470 L=665",1,{"$f":"INDEX('Детали Praktisch'!$C$12:$C$2063,MATCH('Сборки Praktisch'!B452,'Детали Praktisch'!$A$12:$A$2063,))","v":2462},{"$f":"SUMPRODUCT(D452:D454,E452:E454)","v":9613},{"$f":"ROUND(E452*(1-$C$3)/Лист2!$A$6,0)","v":2462},{"$f":"SUMPRODUCT(D452:D454,G452:G454)","v":9613}]
[null,"T-WL 03111000","Полка металлическая с разделителями под углом H=100 G=470 L=1000",1,{"$f":"INDEX('Детали Praktisch'!$C$12:$C$2063,MATCH('Сборки Praktisch'!B453,'Детали Praktisch'!$A$12:$A$2063,))","v":3482},null,{"$f":"ROUND(E453*(1-$C$3)/Лист2!$A$6,0)","v":3482}]
[null,"T-WL 03151250","Полка металлическая с разделителями под углом H=100 G=470 L=1250",1,{"$f":"INDEX('Детали Praktisch'!$C$12:$C$2063,MATCH('Сборки Praktisch'!B454,'Детали Praktisch'!$A$12:$A$2063,))","v":3669},null,{"$f":"ROUND(E454*(1-$C$3)/Лист2!$A$6,0)","v":3669}]
[null,null,"Полка металлическая с разделителями G=470 H=65"]
[null,"T-WL 03030665","Полка металлическая с разделителями G=470 H=65 L=665",1,{"$f":"INDEX('Детали Praktisch'!$C$12:$C$2063,MATCH('Сборки Praktisch'!B456,'Детали Praktisch'!$A$12:$A$2063,))","v":2511},{"$f":"SUMPRODUCT(D456:D458,E456:E458)","v":8470},{"$f":"ROUND(E456*(1-$C$3)/Лист2!$A$6,0)","v":2511},{"$f":"SUMPRODUCT(D456:D458,G456:G458)","v":8470}]
[null,"T-WL 03031000","Полка металлическая с разделителями G=470 H=65 L=1000",1,{"$f":"INDEX('Детали Praktisch'!$C$12:$C$2063,MATCH('Сборки Praktisch'!B457,'Детали Praktisch'!$A$12:$A$2063,))","v":2850},null,{"$f":"ROUND(E457*(1-$C$3)/Лист2!$A$6,0)","v":2850}]
[null,"T-WL 03031250","Полка металлическая с разделителями G=470 H=65 L=1250",1,{"$f":"INDEX('Детали Praktisch'!$C$12:$C$2063,MATCH('Сборки Praktisch'!B458,'Детали Praktisch'!$A$12:$A$2063,))","v":3109},null,{"$f":"ROUND(E458*(1-$C$3)/Лист2!$A$6,0)","v":3109}]
[null,null,"Полка металлическая с разделителями G=470 H=100"]
[null,"T-WL 03010665","Полка металлическая с разделителями G=470 H=100 L=665",1,{"$f":"INDEX('Детали Praktisch'!$C$12:$C$2063,MATCH('Сборки Praktisch'!B460,'Детали Praktisch'!$A$12:$A$2063,))","v":3825},{"$f":"SUMPRODUCT(D460:D462,E460:E462)","v":12595},{"$f":"ROUND(E460*(1-$C$3)/Лист2!$A$6,0)","v":3825},{"$f":"SUMPRODUCT(D460:D462,G460:G462)","v":12595}]
[null,"T-WL 03011000","Полка металлическая с разделителями G=470 H=100 L=1000",1,{"$f":"INDEX('Детали Praktisch'!$C$12:$C$2063,MATCH('Сборки Praktisch'!B461,'Детали Praktisch'!$A$12:$A$2063,))","v":4215},null,{"$f":"ROUND(E461*(1-$C$3)/Лист2!$A$6,0)","v":4215}]
[null,"T-WL 03011250","Полка металлическая с разделителями G=470 H=100 L=1250",1,{"$f":"INDEX('Детали Praktisch'!$C$12:$C$2063,MATCH('Сборки Praktisch'!B462,'Детали Praktisch'!$A$12:$A$2063,))","v":4555},null,{"$f":"ROUND(E462*(1-$C$3)/Лист2!$A$6,0)","v":4555}]
[]
[null,"Стандартная окраска:"]
[null,null," - металл, цвет RAL 9010 стуктурная муар"]
[null,null,"- ЛДСП цвет Орех, Клен, Дуб Сонома"]

{"sheet":"Сборки сетчатых стел","index":10,"n_rows":280,"n_cols":9,"rows_kept":280,"cut":false,"hidden":false,"merged":[[5,3,6,3],[2,0,2,1],[3,0,3,1],[5,0,6,0],[5,1,6,1],[5,2,6,2],[5,4,5,5],[5,6,5,7],[7,5,19,5],[7,7,19,7],[20,5,32,5],[20,7,32,7],[33,5,45,5],[33,7,45,7],[46,5,58,5],[46,7,58,7],[59,5,71,5],[59,7,71,7],[73,5,82,5],[73,7,82,7],[83,5,93,5],[83,7,93,7],[94,5,104,5],[94,7,104,7],[105,5,114,5],[105,7,114,7],[115,5,124,5],[115,7,124,7],[125,5,134,5],[125,7,134,7],[135,5,144,5],[135,7,144,7],[145,5,154,5],[145,7,154,7],[155,5,164,5],[155,7,164,7],[165,5,175,5],[165,7,175,7],[176,5,186,5],[176,7,186,7],[187,5,197,5],[187,7,197,7],[198,5,209,5],[198,7,209,7],[210,5,221,5],[210,7,221,7],[222,5,233,5],[222,7,233,7],[265,5,279,5],[265,7,279,7],[234,5,241,5],[234,7,241,7],[242,5,252,5],[242,7,252,7],[253,5,264,5],[253,7,264,7]]}
["Cборки торговых сетчатых стеллажей Praktisch",null,null,null,null,null,null,null,"На главную"]
[]
["Ваша скидка:",null,{"$f":"Содержание!C2","v":0}]
["НДС:",null,{"$f":"IF(Лист2!A1=TRUE,\"С НДС\",\"БЕЗ НДС\")","v":"С НДС"}]
[]
["Изображение","Артикул","Наименование","Кол-во  в сборке, шт.","Базовая цена, руб. (с НДС)",null,"Ваша цена, руб."]
[null,null,null,null,"за элемент в сборке","за сборку","за элемент в сборке","за сборку"]
[null,1,"Стеллаж пристенный  сетчатый  2150 x 665 x 470",null,null,{"$f":"SUMPRODUCT(D9:D20,E9:E20)","v":18324},null,{"$f":"SUMPRODUCT(D9:D20,G9:G20)","v":18324}]
[null,"T-PT 01000665","Плинтус L = 665 ",1,{"$f":"VLOOKUP(B9,'Детали Praktisch'!$A$12:$C$2072,3,0)","v":230},null,{"$f":"ROUND(E9*(1-$C$3)/Лист2!$A$6,0)","v":230}]
[null,"T-FL 01060665","Ограничитель фронтальный Н=60 L=665\n",1,{"$f":"VLOOKUP(B10,Аксессуары!$A$105:$F$347,6,0)","v":195},null,{"$f":"ROUND(E10*(1-$C$3)/Лист2!$A$6,0)","v":195}]
[null,"T-TH 01001000","Ценникодержатель съемный L=1000",1,{"$f":"Аксессуары!F36","v":86},null,{"$f":"ROUND(E11*(1-$C$3)/Лист2!$A$6,0)","v":86}]
[null,"T-ST 11137665","Полка сетчатая L=665 G=370 ",4,{"$f":"VLOOKUP(B12,Аксессуары!$A$105:$F$347,6,0)","v":1625},null,{"$f":"ROUND(E12*(1-$C$3)/Лист2!$A$6,0)","v":1625}]
[null,"T-BS 14000370","Кронштейн полки сетчатой(компл) G=370 ",4,{"$f":"VLOOKUP(B13,Аксессуары!$A$105:$F$347,6,0)","v":264},null,{"$f":"ROUND(E13*(1-$C$3)/Лист2!$A$6,0)","v":264}]
[null,"T-TH 0640100","Ценникодержатель съемный сетчатой полки FRW39 L=1000",4,{"$f":"Аксессуары!F60","v":373},null,{"$f":"ROUND(E14*(1-$C$3)/Лист2!$A$6,0)","v":373}]
[null,"T-FL 02040665","Ограничитель фронтальный полки сетчатой H=40 L=665",4,{"$f":"VLOOKUP(B15,Аксессуары!$A$105:$F$347,6,0)","v":310},null,{"$f":"ROUND(E15*(1-$C$3)/Лист2!$A$6,0)","v":310}]
[null,"T-BP 13160665","Панель сетчатая H=600 L=665 ",3,{"$f":"VLOOKUP(B16,Аксессуары!$A$105:$F$347,6,0)","v":1120},null,{"$f":"ROUND(E16*(1-$C$3)/Лист2!$A$6,0)","v":1120}]
[null,"T-BP 13120665","Панель сетчатая H=200 L=665 ",1,{"$f":"VLOOKUP(B17,Аксессуары!$A$105:$F$347,6,0)","v":551},null,{"$f":"ROUND(E17*(1-$C$3)/Лист2!$A$6,0)","v":551}]
[null,"T-BT 01000470","База стеллажа G=470 ",1,{"$f":"VLOOKUP(B18,'Детали Praktisch'!$A$12:$C$2072,3,0)","v":1171},null,{"$f":"ROUND(E18*(1-$C$3)/Лист2!$A$6,0)","v":1171}]
[null,"T-LT 02802150","Стойка  80х30 с двухсторонней перфорацией Н = 2150 ",1,{"$f":"VLOOKUP(B19,'Детали Praktisch'!$A$12:$C$2072,3,0)","v":1661},null,{"$f":"ROUND(E19*(1-$C$3)/Лист2!$A$6,0)","v":1661}]
[null,"T-ST 01470665","Полка G=470 L = 665 ",1,{"$f":"VLOOKUP(B20,'Детали Praktisch'!$A$12:$C$2072,3,0)","v":782},null,{"$f":"ROUND(E20*(1-$C$3)/Лист2!$A$6,0)","v":782}]
[null,2,"Стеллаж пристенный  сетчатый  2150 x 1000 x 470",null,null,{"$f":"SUMPRODUCT(D22:D33,E22:E33)","v":21546},null,{"$f":"SUMPRODUCT(D22:D33,G22:G33)","v":21546}]
[null,"T-PT 01001000","Плинтус L = 1000 ",1,{"$f":"VLOOKUP(B22,'Детали Praktisch'!$A$12:$C$2072,3,0)","v":287},null,{"$f":"ROUND(E22*(1-$C$3)/Лист2!$A$6,0)","v":287}]
[null,"T-FL 01060100","Ограничитель фронтальный Н=60 L=1000\n",1,{"$f":"VLOOKUP(B23,Аксессуары!$A$105:$F$347,6,0)","v":246},null,{"$f":"ROUND(E23*(1-$C$3)/Лист2!$A$6,0)","v":246}]
[null,"T-TH 01001000","Ценникодержатель съемный L=1000",1,{"$f":"Аксессуары!F36","v":86},null,{"$f":"ROUND(E24*(1-$C$3)/Лист2!$A$6,0)","v":86}]
[null,"T-ST 11137100","Полка сетчатая L=1000 G=370 ",4,{"$f":"VLOOKUP(B25,Аксессуары!$A$105:$F$347,6,0)","v":2032},null,{"$f":"ROUND(E25*(1-$C$3)/Лист2!$A$6,0)","v":2032}]
[null,"T-BS 14000370","Кронштейн полки сетчатой(компл) G=370 ",4,{"$f":"VLOOKUP(B26,Аксессуары!$A$105:$F$347,6,0)","v":264},null,{"$f":"ROUND(E26*(1-$C$3)/Лист2!$A$6,0)","v":264}]
[null,"T-TH 0640100","Ценникодержатель съемный сетчатой полки FRW39 L=1000",4,{"$f":"Аксессуары!F60","v":373},null,{"$f":"ROUND(E27*(1-$C$3)/Лист2!$A$6,0)","v":373}]
[null,"T-FL 02040100","Ограничитель фронтальный полки сетчатой H=40 L=1000",4,{"$f":"VLOOKUP(B28,Аксессуары!$A$105:$F$347,6,0)","v":374},null,{"$f":"ROUND(E28*(1-$C$3)/Лист2!$A$6,0)","v":374}]
[null,"T-BP 13160100","Панель сетчатая H=600 L=1000 ",3,{"$f":"VLOOKUP(B29,Аксессуары!$A$105:$F$347,6,0)","v":1401},null,{"$f":"ROUND(E29*(1-$C$3)/Лист2!$A$6,0)","v":1401}]
[null,"T-BP 13120100","Панель сетчатая H=200 L=1000 ",1,{"$f":"VLOOKUP(B30,Аксессуары!$A$105:$F$347,6,0)","v":689},null,{"$f":"ROUND(E30*(1-$C$3)/Лист2!$A$6,0)","v":689}]
[null,"T-BT 01000470","База стеллажа G=470 ",1,{"$f":"VLOOKUP(B31,'Детали Praktisch'!$A$12:$C$2072,3,0)","v":1171},null,{"$f":"ROUND(E31*(1-$C$3)/Лист2!$A$6,0)","v":1171}]
[null,"T-LT 02802150","Стойка  80х30 с двухсторонней перфорацией Н = 2150 ",1,{"$f":"VLOOKUP(B32,'Детали Praktisch'!$A$12:$C$2072,3,0)","v":1661},null,{"$f":"ROUND(E32*(1-$C$3)/Лист2!$A$6,0)","v":1661}]
[null,"T-ST 01471000","Полка G=470 L = 1000 ",1,{"$f":"VLOOKUP(B33,'Детали Praktisch'!$A$12:$C$2072,3,0)","v":1031},null,{"$f":"ROUND(E33*(1-$C$3)/Лист2!$A$6,0)","v":1031}]
[null,3,"Стеллаж пристенный  сетчатый  2150 x 1250 x 470",null,null,{"$f":"SUMPRODUCT(D35:D46,E35:E46)","v":24948},null,{"$f":"SUMPRODUCT(D35:D46,G35:G46)","v":24948}]
[null,"T-PT 01001250","Плинтус L = 1250 ",1,{"$f":"VLOOKUP(B35,'Детали Praktisch'!$A$12:$C$2072,3,0)","v":345},{"$f":"E35*D35","v":345},{"$f":"ROUND(E35*(1-$C$3)/Лист2!$A$6,0)","v":345}]
[null,"T-FL 01060125","Ограничитель фронтальный Н=60 L=1250\n",1,{"$f":"VLOOKUP(B36,Аксессуары!$A$105:$F$347,6,0)","v":311},311,{"$f":"ROUND(E36*(1-$C$3)/Лист2!$A$6,0)","v":311}]
[null,"T-TH 01001250","Ценникодержатель съемный L=1250",1,{"$f":"Аксессуары!F42","v":110},110,{"$f":"ROUND(E37*(1-$C$3)/Лист2!$A$6,0)","v":110}]
[null,"T-ST 11137125","Полка сетчатая L=1250 G=370 ",4,{"$f":"VLOOKUP(B38,Аксессуары!$A$105:$F$347,6,0)","v":2417},9668,{"$f":"ROUND(E38*(1-$C$3)/Лист2!$A$6,0)","v":2417}]
[null,"T-BS 14000370","Кронштейн полки сетчатой(компл) G=370 ",4,{"$f":"VLOOKUP(B39,Аксессуары!$A$105:$F$347,6,0)","v":264},1056,{"$f":"ROUND(E39*(1-$C$3)/Лист2!$A$6,0)","v":264}]
[null,"T-TH 0640125","Ценникодержатель  съемный сетчатой полки FRW39 L=1250",4,{"$f":"Аксессуары!F61","v":468},1872,{"$f":"ROUND(E40*(1-$C$3)/Лист2!$A$6,0)","v":468}]
[null,"T-FL 02040125","Ограничитель фронтальный полки сетчатой H=40 L=1250",4,{"$f":"VLOOKUP(B41,Аксессуары!$A$105:$F$347,6,0)","v":415},1660,{"$f":"ROUND(E41*(1-$C$3)/Лист2!$A$6,0)","v":415}]
[null,"T-BP 13160125","Панель сетчатая H=600 L=1250 ",3,{"$f":"VLOOKUP(B42,Аксессуары!$A$105:$F$347,6,0)","v":1685},5055,{"$f":"ROUND(E42*(1-$C$3)/Лист2!$A$6,0)","v":1685}]
[null,"T-BP 13120125","Панель сетчатая H=200 L=1250 ",1,{"$f":"VLOOKUP(B43,Аксессуары!$A$105:$F$347,6,0)","v":819},819,{"$f":"ROUND(E43*(1-$C$3)/Лист2!$A$6,0)","v":819}]
[null,"T-BT 01000470","База стеллажа G=470 ",1,{"$f":"VLOOKUP(B44,'Детали Praktisch'!$A$12:$C$2072,3,0)","v":1171},1171,{"$f":"ROUND(E44*(1-$C$3)/Лист2!$A$6,0)","v":1171}]
[null,"T-LT 02802150","Стойка  80х30 с двухсторонней перфорацией Н = 2150 ",1,{"$f":"VLOOKUP(B45,'Детали Praktisch'!$A$12:$C$2072,3,0)","v":1661},1661,{"$f":"ROUND(E45*(1-$C$3)/Лист2!$A$6,0)","v":1661}]
[null,"T-ST 01471250","Полка G=470 L = 1250 ",1,{"$f":"VLOOKUP(B46,'Детали Praktisch'!$A$12:$C$2072,3,0)","v":1220},1220,{"$f":"ROUND(E46*(1-$C$3)/Лист2!$A$6,0)","v":1220}]
[null,4,"Стеллаж сетчатый угола внутреннего   2150 x 1022 x 470",null,null,{"$f":"SUMPRODUCT(D48:D59,E48:E59)","v":18533},null,{"$f":"SUMPRODUCT(D48:D59,G48:G59)","v":18533}]
[null,"T-PT 03000470","Плинтус угла внутреннего L=470 ",1,{"$f":"VLOOKUP(B48,'Детали Praktisch'!$A$12:$C$2072,3,0)","v":203},null,{"$f":"ROUND(E48*(1-$C$3)/Лист2!$A$6,0)","v":203}]
[null,"T-FL 05906047","Ограничитель фронтальный угла внутр.90гр.Н=60 G=470\n",1,{"$f":"VLOOKUP(B49,Аксессуары!$A$105:$F$347,6,0)","v":123},null,{"$f":"ROUND(E49*(1-$C$3)/Лист2!$A$6,0)","v":123}]
[null,"T-TH 01001000","Ценникодержатель съемный L=1000",1,{"$f":"Аксессуары!F36","v":86},null,{"$f":"ROUND(E50*(1-$C$3)/Лист2!$A$6,0)","v":86}]
[null,"T-ST 11159370","Полка сетч угловая внутр G=370 ",4,{"$f":"VLOOKUP(B51,Аксессуары!$A$105:$F$347,6,0)","v":1622},null,{"$f":"ROUND(E51*(1-$C$3)/Лист2!$A$6,0)","v":1622}]
[null,"T-BS 14000370","Кронштейн полки сетчатой(компл)  G=370 ",4,{"$f":"VLOOKUP(B52,Аксессуары!$A$105:$F$347,6,0)","v":264},null,{"$f":"ROUND(E52*(1-$C$3)/Лист2!$A$6,0)","v":264}]
[null,"T-FL 02140370","Ограничитель фронтальный сетчатой полки угла внутр.90гр.Н=40 G=370",4,{"$f":"VLOOKUP(B53,Аксессуары!$A$105:$F$347,6,0)","v":273},null,{"$f":"ROUND(E53*(1-$C$3)/Лист2!$A$6,0)","v":273}]
[null,"T-TH 0640100","Ценникодержатель съемный сетчатой полки FRW39 L=1000",4,{"$f":"Аксессуары!F60","v":373},null,{"$f":"ROUND(E54*(1-$C$3)/Лист2!$A$6,0)","v":373}]
[null,"T-BP 35900600","Панель сетчатая  угловая внутренняя H=600",3,{"$f":"VLOOKUP(B55,Аксессуары!$A$105:$F$347,6,0)","v":1185},null,{"$f":"ROUND(E55*(1-$C$3)/Лист2!$A$6,0)","v":1185}]
[null,"T-BP 35900200","Панель сетчатая  угловая внутренняя H=200 ",1,{"$f":"VLOOKUP(B56,Аксессуары!$A$105:$F$347,6,0)","v":638},null,{"$f":"ROUND(E56*(1-$C$3)/Лист2!$A$6,0)","v":638}]
[null,"T-BT 01000470","База стеллажа G=470 ",1,{"$f":"VLOOKUP(B57,'Детали Praktisch'!$A$12:$C$2072,3,0)","v":1171},null,{"$f":"ROUND(E57*(1-$C$3)/Лист2!$A$6,0)","v":1171}]
[null,"T-LT 02802150","Стойка  80х30 с двухсторонней перфорацией Н = 2150 ",1,{"$f":"VLOOKUP(B58,'Детали Praktisch'!$A$12:$C$2072,3,0)","v":1661},null,{"$f":"ROUND(E58*(1-$C$3)/Лист2!$A$6,0)","v":1661}]
[null,"T-ST 05000470","Полка угловая внутренняя G=470 ",1,{"$f":"VLOOKUP(B59,'Детали Praktisch'!$A$12:$C$2072,3,0)","v":968},null,{"$f":"ROUND(E59*(1-$C$3)/Лист2!$A$6,0)","v":968}]
[null,5,"Стеллаж сетчатый угола внешнего   2150 x 237 x 470",null,null,{"$f":"SUMPRODUCT(D61:D72,E61:E72)","v":16258},null,{"$f":"SUMPRODUCT(D61:D72,G61:G72)","v":16258}]
[null,"T-PT 04000470","Плинтус угла внешнего L=470 ",1,{"$f":"VLOOKUP(B61,'Детали Praktisch'!$A$12:$C$2072,3,0)","v":301},{"$f":"E61*D61","v":301},{"$f":"ROUND(E61*(1-$C$3)/Лист2!$A$6,0)","v":301}]
[null,"T-FL 06906047","Ограничитель фронтальный угла внешн.90гр.Н=60 G=470\n",1,{"$f":"VLOOKUP(B62,Аксессуары!$A$105:$F$347,6,0)","v":244},244,{"$f":"ROUND(E62*(1-$C$3)/Лист2!$A$6,0)","v":244}]
[null,"T-TH 01001000","Ценникодержатель съемный L=1000",1,{"$f":"Аксессуары!F36","v":86},86,{"$f":"ROUND(E63*(1-$C$3)/Лист2!$A$6,0)","v":86}]
[null,"T-ST 11169370","Полка сетч угловая внеш G=370 ",4,{"$f":"VLOOKUP(B64,Аксессуары!$A$105:$F$347,6,0)","v":1458},5832,{"$f":"ROUND(E64*(1-$C$3)/Лист2!$A$6,0)","v":1458}]
[null,"T-BS 14000370","Кронштейн полки сетчатой(компл) G=370 ",4,{"$f":"VLOOKUP(B65,Аксессуары!$A$105:$F$347,6,0)","v":264},1056,{"$f":"ROUND(E65*(1-$C$3)/Лист2!$A$6,0)","v":264}]
[null,"T-FL 02240370","Ограничитель фронтальный сетчатой полки угла внешн.90гр.Н=40 G=370",4,{"$f":"VLOOKUP(B66,Аксессуары!$A$105:$F$347,6,0)","v":343},1372,{"$f":"ROUND(E66*(1-$C$3)/Лист2!$A$6,0)","v":343}]
[null,"T-TH 0640100","Ценникодержатель съемный сетчатой полки FRW39 L=1000",4,{"$f":"Аксессуары!F60","v":373},1492,{"$f":"ROUND(E67*(1-$C$3)/Лист2!$A$6,0)","v":373}]
[null,"T-BP 36900600","Панель сетчатая  угловая внешняя H=600",3,{"$f":"VLOOKUP(B68,Аксессуары!$A$105:$F$347,6,0)","v":598},1794,{"$f":"ROUND(E68*(1-$C$3)/Лист2!$A$6,0)","v":598}]
[null,"T-BP 36900200","Панель сетчатая  угловая внешняя H=200 ",1,{"$f":"VLOOKUP(B69,Аксессуары!$A$105:$F$347,6,0)","v":321},321,{"$f":"ROUND(E69*(1-$C$3)/Лист2!$A$6,0)","v":321}]
[null,"T-BT 01000470","База стеллажа G=470 ",1,{"$f":"VLOOKUP(B70,'Детали Praktisch'!$A$12:$C$2072,3,0)","v":1171},1171,{"$f":"ROUND(E70*(1-$C$3)/Лист2!$A$6,0)","v":1171}]
[null,"T-LT 02802150","Стойка  80х30 с двухсторонней перфорацией Н = 2150 ",1,{"$f":"VLOOKUP(B71,'Детали Praktisch'!$A$12:$C$2072,3,0)","v":1661},1661,{"$f":"ROUND(E71*(1-$C$3)/Лист2!$A$6,0)","v":1661}]
[null,"T-ST 06000470","Полка угловая внешняя  G=470 ",1,{"$f":"VLOOKUP(B72,'Детали Praktisch'!$A$12:$C$2072,3,0)","v":928},928,{"$f":"ROUND(E72*(1-$C$3)/Лист2!$A$6,0)","v":928}]
[null,6,"Стеллаж пристенный  сетчатый, полки сплошные  2150 x 665 x 470"]
[null,"T-PT 01000665","Плинтус L = 665 ",1,{"$f":"VLOOKUP(B74,'Детали Praktisch'!$A$12:$C$2072,3,0)","v":230},{"$f":"SUMPRODUCT(D74:D83,E74:E83)","v":12784},{"$f":"ROUND(E74*(1-$C$3)/Лист2!$A$6,0)","v":230},{"$f":"SUMPRODUCT(D74:D83,G74:G83)","v":12784}]
[null,"T-ST 01370665","Полка G=370 L = 665 ",4,{"$f":"VLOOKUP(B75,'Детали Praktisch'!$A$12:$C$2072,3,0)","v":634},null,{"$f":"ROUND(E75*(1-$C$3)/Лист2!$A$6,0)","v":634}]
[null,"T-BS 01000370","Кронштейн (комплект) G = 370 ",4,{"$f":"VLOOKUP(B76,'Детали Praktisch'!$A$12:$C$2072,3,0)","v":272},null,{"$f":"ROUND(E76*(1-$C$3)/Лист2!$A$6,0)","v":272}]
[null,"T-FL 01060665","Ограничитель фронтальный Н=60 L=665\n",5,{"$f":"VLOOKUP(B77,Аксессуары!$A$105:$F$347,6,0)","v":195},null,{"$f":"ROUND(E77*(1-$C$3)/Лист2!$A$6,0)","v":195}]
[null,"T-TH 01001000","Ценникодержатель съемный L=1000",5,{"$f":"Аксессуары!F36","v":86},null,{"$f":"ROUND(E78*(1-$C$3)/Лист2!$A$6,0)","v":86}]
[null,"T-BP 13160665","Панель сетчатая H=600 L=665 ",3,{"$f":"VLOOKUP(B79,Аксессуары!$A$105:$F$347,6,0)","v":1120},null,{"$f":"ROUND(E79*(1-$C$3)/Лист2!$A$6,0)","v":1120}]
[null,"T-BP 13120665","Панель сетчатая H=200 L=665 ",1,{"$f":"VLOOKUP(B80,Аксессуары!$A$105:$F$347,6,0)","v":551},null,{"$f":"ROUND(E80*(1-$C$3)/Лист2!$A$6,0)","v":551}]
[null,"T-BT 01000470","База стеллажа G=470 ",1,{"$f":"VLOOKUP(B81,'Детали Praktisch'!$A$12:$C$2072,3,0)","v":1171},null,{"$f":"ROUND(E81*(1-$C$3)/Лист2!$A$6,0)","v":1171}]
[null,"T-LT 02802150","Стойка  80х30 с двухсторонней перфорацией Н = 2150 ",1,{"$f":"VLOOKUP(B82,'Детали Praktisch'!$A$12:$C$2072,3,0)","v":1661},null,{"$f":"ROUND(E82*(1-$C$3)/Лист2!$A$6,0)","v":1661}]
[null,"T-ST 01470665","Полка G=470 L = 665 ",1,{"$f":"VLOOKUP(B83,'Детали Praktisch'!$A$12:$C$2072,3,0)","v":782},null,{"$f":"ROUND(E83*(1-$C$3)/Лист2!$A$6,0)","v":782}]
[null,7,"Стеллаж пристенный  сетчатый, полки сплошные  2150 x 1000 x 470",null,null,{"$f":"SUMPRODUCT(D85:D94,E85:E94)","v":15462},null,{"$f":"SUMPRODUCT(D85:D94,G85:G94)","v":15462}]
[null,"T-PT 01001000","Плинтус L = 1000 ",1,{"$f":"VLOOKUP(B85,'Детали Praktisch'!$A$12:$C$2072,3,0)","v":287},null,{"$f":"ROUND(E85*(1-$C$3)/Лист2!$A$6,0)","v":287}]
[null,"T-ST 01371000","Полка G=370 L = 1000 ",4,{"$f":"VLOOKUP(B86,'Детали Praktisch'!$A$12:$C$2072,3,0)","v":918},null,{"$f":"ROUND(E86*(1-$C$3)/Лист2!$A$6,0)","v":918}]
[null,"T-BS 01000370","Кронштейн (комплект) G = 370 ",4,{"$f":"VLOOKUP(B87,'Детали Praktisch'!$A$12:$C$2072,3,0)","v":272},null,{"$f":"ROUND(E87*(1-$C$3)/Лист2!$A$6,0)","v":272}]
[null,"T-FL 01060100","Ограничитель фронтальный Н=60 L=1000\n",5,{"$f":"VLOOKUP(B88,Аксессуары!$A$105:$F$347,6,0)","v":246},null,{"$f":"ROUND(E88*(1-$C$3)/Лист2!$A$6,0)","v":246}]
[null,"T-TH 01001000","Ценникодержатель съемный L=1000",5,{"$f":"Аксессуары!F36","v":86},null,{"$f":"ROUND(E89*(1-$C$3)/Лист2!$A$6,0)","v":86}]
[null,"T-BP 13160100","Панель сетчатая H=600 L=1000 ",3,{"$f":"VLOOKUP(B90,Аксессуары!$A$105:$F$347,6,0)","v":1401},null,{"$f":"ROUND(E90*(1-$C$3)/Лист2!$A$6,0)","v":1401}]
[null,"T-BP 13120100","Панель сетчатая H=200 L=1000 ",1,{"$f":"VLOOKUP(B91,Аксессуары!$A$105:$F$347,6,0)","v":689},null,{"$f":"ROUND(E91*(1-$C$3)/Лист2!$A$6,0)","v":689}]
[null,"T-BT 01000470","База стеллажа G=470 ",1,{"$f":"VLOOKUP(B92,'Детали Praktisch'!$A$12:$C$2072,3,0)","v":1171},null,{"$f":"ROUND(E92*(1-$C$3)/Лист2!$A$6,0)","v":1171}]
[null,"T-LT 02802150","Стойка  80х30 с двухсторонней перфорацией Н = 2150 ",1,{"$f":"VLOOKUP(B93,'Детали Praktisch'!$A$12:$C$2072,3,0)","v":1661},null,{"$f":"ROUND(E93*(1-$C$3)/Лист2!$A$6,0)","v":1661}]
[null,"T-ST 01471000","Полка G=470 L = 1000 ",1,{"$f":"VLOOKUP(B94,'Детали Praktisch'!$A$12:$C$2072,3,0)","v":1031},null,{"$f":"ROUND(E94*(1-$C$3)/Лист2!$A$6,0)","v":1031}]
[null,8,"Стеллаж пристенный  сетчатый, полки сплошные  2150 x 1250 x 470",null,null,{"$f":"SUMPRODUCT(D96:D105,E96:E105)","v":17440},null,{"$f":"SUMPRODUCT(D96:D105,G96:G105)","v":17440}]
[null,"T-PT 01001250","Плинтус L = 1250 ",1,{"$f":"VLOOKUP(B96,'Детали Praktisch'!$A$12:$C$2072,3,0)","v":345},null,{"$f":"ROUND(E96*(1-$C$3)/Лист2!$A$6,0)","v":345}]
[null,"T-ST 01371250","Полка G=370 L = 1250 ",4,{"$f":"VLOOKUP(B97,'Детали Praktisch'!$A$12:$C$2072,3,0)","v":994},null,{"$f":"ROUND(E97*(1-$C$3)/Лист2!$A$6,0)","v":994}]
[null,"T-BS 01000370","Кронштейн (комплект) G = 370 ",4,{"$f":"VLOOKUP(B98,'Детали Praktisch'!$A$12:$C$2072,3,0)","v":272},null,{"$f":"ROUND(E98*(1-$C$3)/Лист2!$A$6,0)","v":272}]
[null,"T-FL 01060125","Ограничитель фронтальный Н=60 L=1250\n",5,{"$f":"VLOOKUP(B99,Аксессуары!$A$105:$F$347,6,0)","v":311},null,{"$f":"ROUND(E99*(1-$C$3)/Лист2!$A$6,0)","v":311}]
[null,"T-TH 01001250","Ценникодержатель съемный L=1250",5,{"$f":"Аксессуары!F42","v":110},null,{"$f":"ROUND(E100*(1-$C$3)/Лист2!$A$6,0)","v":110}]
[null,"T-BP 13160125","Панель сетчатая H=600 L=1250 ",3,{"$f":"VLOOKUP(B101,Аксессуары!$A$105:$F$347,6,0)","v":1685},null,{"$f":"ROUND(E101*(1-$C$3)/Лист2!$A$6,0)","v":1685}]
[null,"T-BP 13120125","Панель сетчатая H=200 L=1250 ",1,{"$f":"VLOOKUP(B102,Аксессуары!$A$105:$F$347,6,0)","v":819},null,{"$f":"ROUND(E102*(1-$C$3)/Лист2!$A$6,0)","v":819}]
[null,"T-BT 01000470","База стеллажа G=470 ",1,{"$f":"VLOOKUP(B103,'Детали Praktisch'!$A$12:$C$2072,3,0)","v":1171},null,{"$f":"ROUND(E103*(1-$C$3)/Лист2!$A$6,0)","v":1171}]
[null,"T-LT 02802150","Стойка  80х30 с двухсторонней перфорацией Н = 2150 ",1,{"$f":"VLOOKUP(B104,'Детали Praktisch'!$A$12:$C$2072,3,0)","v":1661},null,{"$f":"ROUND(E104*(1-$C$3)/Лист2!$A$6,0)","v":1661}]
[null,"T-ST 01471250","Полка G=470 L = 1250 ",1,{"$f":"VLOOKUP(B105,'Детали Praktisch'!$A$12:$C$2072,3,0)","v":1220},null,{"$f":"ROUND(E105*(1-$C$3)/Лист2!$A$6,0)","v":1220}]
[null,9,"Стеллаж пристенный сетчатый с доп. стойкой   2150 x 665 x 470",null,null,{"$f":"SUMPRODUCT(D107:D115,E107:E115)","v":21025},null,{"$f":"SUMPRODUCT(D107:D115,G107:G115)","v":21025}]
[null,"T-PT 09000665","Плинтус стеллажа с доп. стойкой L=665 ",1,{"$f":"VLOOKUP(B107,'Детали Praktisch'!$A$12:$C$2072,3,0)","v":257},null,{"$f":"ROUND(E107*(1-$C$3)/Лист2!$A$6,0)","v":257}]
[null,"T-ST 11147665","Полка сетчатая L=665 G=470 ",5,{"$f":"VLOOKUP(B108,Аксессуары!$A$105:$F$347,6,0)","v":1908},null,{"$f":"ROUND(E108*(1-$C$3)/Лист2!$A$6,0)","v":1908}]
[null,"T-BS 17000470","Кронштейн двухст для сетчатой полки стеллажа с доп стойк (комп) G=470  ",5,{"$f":"VLOOKUP(B109,Аксессуары!$A$105:$F$347,6,0)","v":480},null,{"$f":"ROUND(E109*(1-$C$3)/Лист2!$A$6,0)","v":480}]
[null,"T-BP 13160665","Панель сетчатая H=600 L=665 ",3,{"$f":"VLOOKUP(B110,Аксессуары!$A$105:$F$347,6,0)","v":1120},null,{"$f":"ROUND(E110*(1-$C$3)/Лист2!$A$6,0)","v":1120}]
[null,"T-BP 13120665","Панель сетчатая H=200 L=665 ",1,{"$f":"VLOOKUP(B111,Аксессуары!$A$105:$F$347,6,0)","v":551},null,{"$f":"ROUND(E111*(1-$C$3)/Лист2!$A$6,0)","v":551}]
[null,"T-LT 62302150","Стойка дополнительная 30х30 с двухсторонней перфорацией H=2150 ",1,{"$f":"VLOOKUP(B112,'Детали Praktisch'!$A$12:$C$2072,3,0)","v":1303},null,{"$f":"ROUND(E112*(1-$C$3)/Лист2!$A$6,0)","v":1303}]
[null,"T-BT 01000470","База стеллажа G=470 ",1,{"$f":"VLOOKUP(B113,'Детали Praktisch'!$A$12:$C$2072,3,0)","v":1171},null,{"$f":"ROUND(E113*(1-$C$3)/Лист2!$A$6,0)","v":1171}]
[null,"T-LT 02802150","Стойка  80х30 с двухсторонней перфорацией Н = 2150 ",1,{"$f":"VLOOKUP(B114,'Детали Praktisch'!$A$12:$C$2072,3,0)","v":1661},null,{"$f":"ROUND(E114*(1-$C$3)/Лист2!$A$6,0)","v":1661}]
[null,"T-ST 01470665","Полка G=470 L = 665 ",1,{"$f":"VLOOKUP(B115,'Детали Praktisch'!$A$12:$C$2072,3,0)","v":782},null,{"$f":"ROUND(E115*(1-$C$3)/Лист2!$A$6,0)","v":782}]
[null,10,"Стеллаж пристенный сетчатый с доп. стойкой   2150 x 1000 x 470",null,null,{"$f":"SUMPRODUCT(D117:D125,E117:E125)","v":24710},null,{"$f":"SUMPRODUCT(D117:D125,G117:G125)","v":24710}]
[null,"T-PT 09001000","Плинтус стеллажа с дополн стойкой L=1000 ",1,{"$f":"VLOOKUP(B117,'Детали Praktisch'!$A$12:$C$2072,3,0)","v":317},null,{"$f":"ROUND(E117*(1-$C$3)/Лист2!$A$6,0)","v":317}]
[null,"T-ST 11147100","Полка сетчатая L=1000 G=470 ",5,{"$f":"VLOOKUP(B118,Аксессуары!$A$105:$F$347,6,0)","v":2387},null,{"$f":"ROUND(E118*(1-$C$3)/Лист2!$A$6,0)","v":2387}]
[null,"T-BS 17000470","Кронштейн двухст для сетчатой полки стеллажа с доп стойк (комп) G=470  ",5,{"$f":"VLOOKUP(B119,Аксессуары!$A$105:$F$347,6,0)","v":480},null,{"$f":"ROUND(E119*(1-$C$3)/Лист2!$A$6,0)","v":480}]
[null,"T-BP 13160100","Панель сетчатая H=600 L=1000 ",3,{"$f":"VLOOKUP(B120,Аксессуары!$A$105:$F$347,6,0)","v":1401},null,{"$f":"ROUND(E120*(1-$C$3)/Лист2!$A$6,0)","v":1401}]
[null,"T-BP 13120100","Панель сетчатая H=200 L=1000 ",1,{"$f":"VLOOKUP(B121,Аксессуары!$A$105:$F$347,6,0)","v":689},null,{"$f":"ROUND(E121*(1-$C$3)/Лист2!$A$6,0)","v":689}]
[null,"T-LT 62302150","Стойка дополнительная 30х30 с двухсторонней перфорацией H=2150 ",1,{"$f":"VLOOKUP(B122,'Детали Praktisch'!$A$12:$C$2072,3,0)","v":1303},null,{"$f":"ROUND(E122*(1-$C$3)/Лист2!$A$6,0)","v":1303}]
[null,"T-BT 01000470","База стеллажа G=470 ",1,{"$f":"VLOOKUP(B123,'Детали Praktisch'!$A$12:$C$2072,3,0)","v":1171},null,{"$f":"ROUND(E123*(1-$C$3)/Лист2!$A$6,0)","v":1171}]
[null,"T-LT 02802150","Стойка  80х30 с двухсторонней перфорацией Н = 2150 ",1,{"$f":"VLOOKUP(B124,'Детали Praktisch'!$A$12:$C$2072,3,0)","v":1661},null,{"$f":"ROUND(E124*(1-$C$3)/Лист2!$A$6,0)","v":1661}]
[null,"T-ST 01471000","Полка G=470 L = 1000 ",1,{"$f":"VLOOKUP(B125,'Детали Praktisch'!$A$12:$C$2072,3,0)","v":1031},null,{"$f":"ROUND(E125*(1-$C$3)/Лист2!$A$6,0)","v":1031}]
[null,11,"Стеллаж пристенный сетчатый с доп. стойкой   2150 x 1250 x 470",null,null,{"$f":"SUMPRODUCT(E127:E135,D127:D135)","v":28225},null,{"$f":"SUMPRODUCT(G127:G135,D127:D135)","v":28225}]
[null,"T-PT 09001250","Плинтус стеллажа с дополн стойкой L=1250 ",1,{"$f":"VLOOKUP(B127,'Детали Praktisch'!$A$12:$C$2072,3,0)","v":391},null,{"$f":"ROUND(E127*(1-$C$3)/Лист2!$A$6,0)","v":391}]
[null,"T-ST 11147125","Полка сетчатая L=1250 G=470 ",5,{"$f":"VLOOKUP(B128,Аксессуары!$A$105:$F$347,6,0)","v":2841},null,{"$f":"ROUND(E128*(1-$C$3)/Лист2!$A$6,0)","v":2841}]
[null,"T-BS 17000470","Кронштейн двухст для сетчатой полки стеллажа с доп стойк (комп) G=470  ",5,{"$f":"VLOOKUP(B129,Аксессуары!$A$105:$F$347,6,0)","v":480},null,{"$f":"ROUND(E129*(1-$C$3)/Лист2!$A$6,0)","v":480}]
[null,"T-BP 13160125","Панель сетчатая H=600 L=1250 ",3,{"$f":"VLOOKUP(B130,Аксессуары!$A$105:$F$347,6,0)","v":1685},null,{"$f":"ROUND(E130*(1-$C$3)/Лист2!$A$6,0)","v":1685}]
[null,"T-BP 13120125","Панель сетчатая H=200 L=1250 ",1,{"$f":"VLOOKUP(B131,Аксессуары!$A$105:$F$347,6,0)","v":819},null,{"$f":"ROUND(E131*(1-$C$3)/Лист2!$A$6,0)","v":819}]
[null,"T-LT 62302150","Стойка дополнительная 30х30 с двухсторонней перфорацией H=2150 ",1,{"$f":"VLOOKUP(B132,'Детали Praktisch'!$A$12:$C$2072,3,0)","v":1303},null,{"$f":"ROUND(E132*(1-$C$3)/Лист2!$A$6,0)","v":1303}]
[null,"T-BT 01000470","База стеллажа G=470 ",1,{"$f":"VLOOKUP(B133,'Детали Praktisch'!$A$12:$C$2072,3,0)","v":1171},null,{"$f":"ROUND(E133*(1-$C$3)/Лист2!$A$6,0)","v":1171}]
[null,"T-LT 02802150","Стойка  80х30 с двухсторонней перфорацией Н = 2150 ",1,{"$f":"VLOOKUP(B134,'Детали Praktisch'!$A$12:$C$2072,3,0)","v":1661},null,{"$f":"ROUND(E134*(1-$C$3)/Лист2!$A$6,0)","v":1661}]
[null,"T-ST 01471250","Полка G=470 L = 1250 ",1,{"$f":"VLOOKUP(B135,'Детали Praktisch'!$A$12:$C$2072,3,0)","v":1220},null,{"$f":"ROUND(E135*(1-$C$3)/Лист2!$A$6,0)","v":1220}]
[null,12,"Стеллаж пристенный сетчатый с доп. стойкой, полки сплошные   2150 x 665 x 470",null,null,{"$f":"SUMPRODUCT(D137:D145,E137:E145)","v":15325},null,{"$f":"SUMPRODUCT(D137:D145,G137:G145)","v":15325}]
[null,"T-PT 09000665","Плинтус стеллажа с доп. стойкой L=665 ",1,{"$f":"VLOOKUP(B137,'Детали Praktisch'!$A$12:$C$2072,3,0)","v":257},null,{"$f":"ROUND(E137*(1-$C$3)/Лист2!$A$6,0)","v":257}]
[null,"T-ST 01470665","Полка G=470 L = 665",5,{"$f":"VLOOKUP(B138,'Детали Praktisch'!$A$12:$C$2072,3,0)","v":782},null,{"$f":"ROUND(E138*(1-$C$3)/Лист2!$A$6,0)","v":782}]
[null,"T-BS 13000470","Кронштейн двухст для стеллажа с доп стойк (комп) G=470  ",5,{"$f":"VLOOKUP(B139,'Детали Praktisch'!$A$12:$C$2072,3,0)","v":466},null,{"$f":"ROUND(E139*(1-$C$3)/Лист2!$A$6,0)","v":466}]
[null,"T-BP 13160665","Панель сетчатая H=600 L=665 ",3,{"$f":"VLOOKUP(B140,Аксессуары!$A$105:$F$347,6,0)","v":1120},null,{"$f":"ROUND(E140*(1-$C$3)/Лист2!$A$6,0)","v":1120}]
[null,"T-BP 13120665","Панель сетчатая H=200 L=665 ",1,{"$f":"VLOOKUP(B141,Аксессуары!$A$105:$F$347,6,0)","v":551},null,{"$f":"ROUND(E141*(1-$C$3)/Лист2!$A$6,0)","v":551}]
[null,"T-LT 62302150","Стойка дополнительная 30х30 с двухсторонней перфорацией H=2150 ",1,{"$f":"VLOOKUP(B142,'Детали Praktisch'!$A$12:$C$2072,3,0)","v":1303},null,{"$f":"ROUND(E142*(1-$C$3)/Лист2!$A$6,0)","v":1303}]
[null,"T-BT 01000470","База стеллажа G=470 ",1,{"$f":"VLOOKUP(B143,'Детали Praktisch'!$A$12:$C$2072,3,0)","v":1171},null,{"$f":"ROUND(E143*(1-$C$3)/Лист2!$A$6,0)","v":1171}]
[null,"T-LT 02802150","Стойка  80х30 с двухсторонней перфорацией Н = 2150 ",1,{"$f":"VLOOKUP(B144,'Детали Praktisch'!$A$12:$C$2072,3,0)","v":1661},null,{"$f":"ROUND(E144*(1-$C$3)/Лист2!$A$6,0)","v":1661}]
[null,"T-ST 01470665","Полка G=470 L = 665 ",1,{"$f":"VLOOKUP(B145,'Детали Praktisch'!$A$12:$C$2072,3,0)","v":782},null,{"$f":"ROUND(E145*(1-$C$3)/Лист2!$A$6,0)","v":782}]
[null,13,"Стеллаж пристенный сетчатый с доп. стойкой, полки сплошные  2150 x 1000 x 470",null,null,{"$f":"SUMPRODUCT(D147:D155,E147:E155)","v":17860},null,{"$f":"SUMPRODUCT(D147:D155,G147:G155)","v":17860}]
[null,"T-PT 09001000","Плинтус стеллажа с дополн стойкой L=1000 ",1,{"$f":"VLOOKUP(B147,'Детали Praktisch'!$A$12:$C$2072,3,0)","v":317},null,{"$f":"ROUND(E147*(1-$C$3)/Лист2!$A$6,0)","v":317}]
[null,"T-ST 01471000","Полка G=470 L = 1000",5,{"$f":"VLOOKUP(B148,'Детали Praktisch'!$A$12:$C$2072,3,0)","v":1031},null,{"$f":"ROUND(E148*(1-$C$3)/Лист2!$A$6,0)","v":1031}]
[null,"T-BS 13000470","Кронштейн двухст для стеллажа с доп стойк (комп) G=470  ",5,{"$f":"VLOOKUP(B149,'Детали Praktisch'!$A$12:$C$2072,3,0)","v":466},null,{"$f":"ROUND(E149*(1-$C$3)/Лист2!$A$6,0)","v":466}]
[null,"T-BP 13160100","Панель сетчатая H=600 L=1000 ",3,{"$f":"VLOOKUP(B150,Аксессуары!$A$105:$F$347,6,0)","v":1401},null,{"$f":"ROUND(E150*(1-$C$3)/Лист2!$A$6,0)","v":1401}]
[null,"T-BP 13120100","Панель сетчатая H=200 L=1000 ",1,{"$f":"VLOOKUP(B151,Аксессуары!$A$105:$F$347,6,0)","v":689},null,{"$f":"ROUND(E151*(1-$C$3)/Лист2!$A$6,0)","v":689}]
[null,"T-LT 62302150","Стойка дополнительная 30х30 с двухсторонней перфорацией H=2150 ",1,{"$f":"VLOOKUP(B152,'Детали Praktisch'!$A$12:$C$2072,3,0)","v":1303},null,{"$f":"ROUND(E152*(1-$C$3)/Лист2!$A$6,0)","v":1303}]
[null,"T-BT 01000470","База стеллажа G=470 ",1,{"$f":"VLOOKUP(B153,'Детали Praktisch'!$A$12:$C$2072,3,0)","v":1171},null,{"$f":"ROUND(E153*(1-$C$3)/Лист2!$A$6,0)","v":1171}]
[null,"T-LT 02802150","Стойка  80х30 с двухсторонней перфорацией Н = 2150 ",1,{"$f":"VLOOKUP(B154,'Детали Praktisch'!$A$12:$C$2072,3,0)","v":1661},null,{"$f":"ROUND(E154*(1-$C$3)/Лист2!$A$6,0)","v":1661}]
[null,"T-ST 01471000","Полка G=470 L = 1000 ",1,{"$f":"VLOOKUP(B155,'Детали Praktisch'!$A$12:$C$2072,3,0)","v":1031},null,{"$f":"ROUND(E155*(1-$C$3)/Лист2!$A$6,0)","v":1031}]
[null,14,"Стеллаж пристенный сетчатый с доп. стойкой, полки сплошные  2150 x 1250 x 470",null,null,{"$f":"SUMPRODUCT(D157:D165,E157:E165)","v":20050},null,{"$f":"SUMPRODUCT(D157:D165,G157:G165)","v":20050}]
[null,"T-PT 09001250","Плинтус стеллажа с дополн стойкой L=1250 ",1,{"$f":"VLOOKUP(B157,'Детали Praktisch'!$A$12:$C$2072,3,0)","v":391},null,{"$f":"ROUND(E157*(1-$C$3)/Лист2!$A$6,0)","v":391}]
[null,"T-ST 01471250","Полка G=470 L = 1250",5,{"$f":"VLOOKUP(B158,'Детали Praktisch'!$A$12:$C$2072,3,0)","v":1220},null,{"$f":"ROUND(E158*(1-$C$3)/Лист2!$A$6,0)","v":1220}]
[null,"T-BS 13000470","Кронштейн двухст для стеллажа с доп стойк (комп) G=470  ",5,{"$f":"VLOOKUP(B159,'Детали Praktisch'!$A$12:$C$2072,3,0)","v":466},null,{"$f":"ROUND(E159*(1-$C$3)/Лист2!$A$6,0)","v":466}]
[null,"T-BP 13160125","Панель сетчатая H=600 L=1250 ",3,{"$f":"VLOOKUP(B160,Аксессуары!$A$105:$F$347,6,0)","v":1685},null,{"$f":"ROUND(E160*(1-$C$3)/Лист2!$A$6,0)","v":1685}]
[null,"T-BP 13120125","Панель сетчатая H=200 L=1250 ",1,{"$f":"VLOOKUP(B161,Аксессуары!$A$105:$F$347,6,0)","v":819},null,{"$f":"ROUND(E161*(1-$C$3)/Лист2!$A$6,0)","v":819}]
[null,"T-LT 62302150","Стойка дополнительная 30х30 с двухсторонней перфорацией H=2150 ",1,{"$f":"VLOOKUP(B162,'Детали Praktisch'!$A$12:$C$2072,3,0)","v":1303},null,{"$f":"ROUND(E162*(1-$C$3)/Лист2!$A$6,0)","v":1303}]
[null,"T-BT 01000470","База стеллажа G=470 ",1,{"$f":"VLOOKUP(B163,'Детали Praktisch'!$A$12:$C$2072,3,0)","v":1171},null,{"$f":"ROUND(E163*(1-$C$3)/Лист2!$A$6,0)","v":1171}]
[null,"T-LT 02802150","Стойка  80х30 с двухсторонней перфорацией Н = 2150 ",1,{"$f":"VLOOKUP(B164,'Детали Praktisch'!$A$12:$C$2072,3,0)","v":1661},null,{"$f":"ROUND(E164*(1-$C$3)/Лист2!$A$6,0)","v":1661}]
[null,"T-ST 01471250","Полка G=470 L = 1250 ",1,{"$f":"VLOOKUP(B165,'Детали Praktisch'!$A$12:$C$2072,3,0)","v":1220},null,{"$f":"ROUND(E165*(1-$C$3)/Лист2!$A$6,0)","v":1220}]
[null,15,"Стеллаж островной сетчатый  (панель центральная)  1650 x 665 x 470",null,null,{"$f":"SUMPRODUCT(D167:D176,E167:E176)","v":20612},null,{"$f":"SUMPRODUCT(D167:D176,G167:G176)","v":20612}]
[null,"T-PT 01000665","Плинтус L = 665 ",2,{"$f":"VLOOKUP(B167,'Детали Praktisch'!$A$12:$C$2072,3,0)","v":230},null,{"$f":"ROUND(E167*(1-$C$3)/Лист2!$A$6,0)","v":230}]
[null,"T-ST 11037665","Полка сетч для центр панели L=665 G=370 ",6,{"$f":"VLOOKUP(B168,Аксессуары!$A$105:$F$347,6,0)","v":1631},null,{"$f":"ROUND(E168*(1-$C$3)/Лист2!$A$6,0)","v":1631}]
[null,"T-BS 14000370","Кронштейн полки сетчатой(компл) G=370 ",6,{"$f":"VLOOKUP(B169,Аксессуары!$A$105:$F$347,6,0)","v":264},null,{"$f":"ROUND(E169*(1-$C$3)/Лист2!$A$6,0)","v":264}]
[null,"T-ST 11308665","Полка-проставка базов к панели сетчат центр L=665 ",1,{"$f":"VLOOKUP(B170,Аксессуары!$A$105:$F$347,6,0)","v":382},null,{"$f":"ROUND(E170*(1-$C$3)/Лист2!$A$6,0)","v":382}]
[null,"T-BP 13060665","Панель сетчатая центральная H=600 L=665 ",2,{"$f":"VLOOKUP(B171,Аксессуары!$A$105:$F$347,6,0)","v":1130},null,{"$f":"ROUND(E171*(1-$C$3)/Лист2!$A$6,0)","v":1130}]
[null,"T-BP 13030665","Панель сетчатая центральная H=300 L=665 ",1,{"$f":"VLOOKUP(B172,Аксессуары!$A$105:$F$347,6,0)","v":755},null,{"$f":"ROUND(E172*(1-$C$3)/Лист2!$A$6,0)","v":755}]
[null,"T-BT 01000470","База стеллажа G=470 ",2,{"$f":"VLOOKUP(B173,'Детали Praktisch'!$A$12:$C$2072,3,0)","v":1171},null,{"$f":"ROUND(E173*(1-$C$3)/Лист2!$A$6,0)","v":1171}]
[null,"T-LT 02801650","Стойка  80х30 с двухсторонней перфорацией Н = 1650 ",1,{"$f":"VLOOKUP(B174,'Детали Praktisch'!$A$12:$C$2072,3,0)","v":1361},null,{"$f":"ROUND(E174*(1-$C$3)/Лист2!$A$6,0)","v":1361}]
[null,"N-LC 00003080","Заглушка стойки 30х80 ",1,{"$f":"VLOOKUP(B175,'Детали Praktisch'!$A$12:$C$2072,3,0)","v":118},null,{"$f":"ROUND(E175*(1-$C$3)/Лист2!$A$6,0)","v":118}]
[null,"T-ST 01470665","Полка G=470 L = 665 ",2,{"$f":"VLOOKUP(B176,'Детали Praktisch'!$A$12:$C$2072,3,0)","v":782},null,{"$f":"ROUND(E176*(1-$C$3)/Лист2!$A$6,0)","v":782}]
[null,16,"Стеллаж островной сетчатый  (панель центральная)  1650 x 1000 x 470",null,null,{"$f":"SUMPRODUCT(D178:D187,E178:E187)","v":24569},null,{"$f":"SUMPRODUCT(D178:D187,G178:G187)","v":24569}]
[null,"T-PT 01001000","Плинтус L = 1000 ",2,{"$f":"VLOOKUP(B178,'Детали Praktisch'!$A$12:$C$2072,3,0)","v":287},null,{"$f":"ROUND(E178*(1-$C$3)/Лист2!$A$6,0)","v":287}]
[null,"T-ST 11037100","Полка сетч для центр панели L=1000 G=370 ",6,{"$f":"VLOOKUP(B179,Аксессуары!$A$105:$F$347,6,0)","v":2039},null,{"$f":"ROUND(E179*(1-$C$3)/Лист2!$A$6,0)","v":2039}]
[null,"T-BS 14000370","Кронштейн полки сетчатой(компл) G=370 ",6,{"$f":"VLOOKUP(B180,Аксессуары!$A$105:$F$347,6,0)","v":264},null,{"$f":"ROUND(E180*(1-$C$3)/Лист2!$A$6,0)","v":264}]
[null,"T-ST 11308100","Полка-проставка базов к панели сетчат центр L=1000 ",1,{"$f":"VLOOKUP(B181,Аксессуары!$A$105:$F$347,6,0)","v":525},null,{"$f":"ROUND(E181*(1-$C$3)/Лист2!$A$6,0)","v":525}]
[null,"T-BP 13060100","Панель сетчатая центральная H=600 L=1000 ",2,{"$f":"VLOOKUP(B182,Аксессуары!$A$105:$F$347,6,0)","v":1411},null,{"$f":"ROUND(E182*(1-$C$3)/Лист2!$A$6,0)","v":1411}]
[null,"T-BP 13030100","Панель сетчатая центральная H=300 L=1000 ",1,{"$f":"VLOOKUP(B183,Аксессуары!$A$105:$F$347,6,0)","v":947},null,{"$f":"ROUND(E183*(1-$C$3)/Лист2!$A$6,0)","v":947}]
[null,"T-BT 01000470","База стеллажа G=470 ",2,{"$f":"VLOOKUP(B184,'Детали Praktisch'!$A$12:$C$2072,3,0)","v":1171},null,{"$f":"ROUND(E184*(1-$C$3)/Лист2!$A$6,0)","v":1171}]
[null,"T-LT 02801650","Стойка  80х30 с двухсторонней перфорацией Н = 1650 ",1,{"$f":"VLOOKUP(B185,'Детали Praktisch'!$A$12:$C$2072,3,0)","v":1361},null,{"$f":"ROUND(E185*(1-$C$3)/Лист2!$A$6,0)","v":1361}]
[null,"N-LC 00003080","Заглушка стойки 30х80 ",1,{"$f":"VLOOKUP(B186,'Детали Praktisch'!$A$12:$C$2072,3,0)","v":118},null,{"$f":"ROUND(E186*(1-$C$3)/Лист2!$A$6,0)","v":118}]
[null,"T-ST 01471000","Полка G=470 L = 1000 ",2,{"$f":"VLOOKUP(B187,'Детали Praktisch'!$A$12:$C$2072,3,0)","v":1031},null,{"$f":"ROUND(E187*(1-$C$3)/Лист2!$A$6,0)","v":1031}]
[null,17,"Стеллаж островной сетчатый  (панель центральная)  1650 x 1250 x 470",null,null,{"$f":"SUMPRODUCT(D189:D198,E189:E198)","v":28207},null,{"$f":"SUMPRODUCT(D189:D198,G189:G198)","v":28207}]
[null,"T-PT 01001250","Плинтус L = 1250 ",2,{"$f":"VLOOKUP(B189,'Детали Praktisch'!$A$12:$C$2072,3,0)","v":345},null,{"$f":"ROUND(E189*(1-$C$3)/Лист2!$A$6,0)","v":345}]
[null,"T-ST 11037125","Полка сетч для центр панели L=1250 G=370 ",6,{"$f":"VLOOKUP(B190,Аксессуары!$A$105:$F$347,6,0)","v":2428},null,{"$f":"ROUND(E190*(1-$C$3)/Лист2!$A$6,0)","v":2428}]
[null,"T-BS 14000370","Кронштейн полки сетчатой(компл) G=370 ",6,{"$f":"VLOOKUP(B191,Аксессуары!$A$105:$F$347,6,0)","v":264},null,{"$f":"ROUND(E191*(1-$C$3)/Лист2!$A$6,0)","v":264}]
[null,"T-ST 11308125","Полка-проставка базов к панели сетчат центр L=1250 ",1,{"$f":"VLOOKUP(B192,Аксессуары!$A$105:$F$347,6,0)","v":624},null,{"$f":"ROUND(E192*(1-$C$3)/Лист2!$A$6,0)","v":624}]
[null,"T-BP 13060125","Панель сетчатая центральная H=600 L=1250 ",2,{"$f":"VLOOKUP(B193,Аксессуары!$A$105:$F$347,6,0)","v":1678},null,{"$f":"ROUND(E193*(1-$C$3)/Лист2!$A$6,0)","v":1678}]
[null,"T-BP 13030125","Панель сетчатая центральная H=300 L=1250 ",1,{"$f":"VLOOKUP(B194,Аксессуары!$A$105:$F$347,6,0)","v":1124},null,{"$f":"ROUND(E194*(1-$C$3)/Лист2!$A$6,0)","v":1124}]
[null,"T-BT 01000470","База стеллажа G=470 ",2,{"$f":"VLOOKUP(B195,'Детали Praktisch'!$A$12:$C$2072,3,0)","v":1171},null,{"$f":"ROUND(E195*(1-$C$3)/Лист2!$A$6,0)","v":1171}]
[null,"T-LT 02801650","Стойка  80х30 с двухсторонней перфорацией Н = 1650 ",1,{"$f":"VLOOKUP(B196,'Детали Praktisch'!$A$12:$C$2072,3,0)","v":1361},null,{"$f":"ROUND(E196*(1-$C$3)/Лист2!$A$6,0)","v":1361}]
[null,"N-LC 00003080","Заглушка стойки 30х80 ",1,{"$f":"VLOOKUP(B197,'Детали Praktisch'!$A$12:$C$2072,3,0)","v":118},null,{"$f":"ROUND(E197*(1-$C$3)/Лист2!$A$6,0)","v":118}]
[null,"T-ST 01471250","Полка G=470 L = 1250 ",2,{"$f":"VLOOKUP(B198,'Детали Praktisch'!$A$12:$C$2072,3,0)","v":1220},null,{"$f":"ROUND(E198*(1-$C$3)/Лист2!$A$6,0)","v":1220}]
[null,18,"Стеллаж островной сетчатый  (панель центральная), полки сплошные  1650 x 665 x 470",null,null,{"$f":"SUMPRODUCT(D200:D210,E200:E210)","v":16262},null,{"$f":"SUMPRODUCT(D200:D210,G200:G210)","v":16262}]
[null,"T-PT 01000665","Плинтус L = 665 ",2,{"$f":"VLOOKUP(B200,'Детали Praktisch'!$A$12:$C$2072,3,0)","v":230},null,{"$f":"ROUND(E200*(1-$C$3)/Лист2!$A$6,0)","v":230}]
[null,"T-ST 01370665","Полка G=370 L = 665 ",6,{"$f":"VLOOKUP(B201,'Детали Praktisch'!$A$12:$C$2072,3,0)","v":634},null,{"$f":"ROUND(E201*(1-$C$3)/Лист2!$A$6,0)","v":634}]
[null,"T-BS 01000370","Кронштейн (комплект) G = 370 ",6,{"$f":"VLOOKUP(B202,'Детали Praktisch'!$A$12:$C$2072,3,0)","v":272},null,{"$f":"ROUND(E202*(1-$C$3)/Лист2!$A$6,0)","v":272}]
[null,"T-ST 11208665","Полка-проставка к панели сетчатой центральной L=665 ",6,{"$f":"VLOOKUP(B203,Аксессуары!$A$105:$F$347,6,0)","v":264},null,{"$f":"ROUND(E203*(1-$C$3)/Лист2!$A$6,0)","v":264}]
[null,"T-ST 11308665","Полка-проставка базов к панели сетчат центр L=665 ",1,{"$f":"VLOOKUP(B204,Аксессуары!$A$105:$F$347,6,0)","v":382},null,{"$f":"ROUND(E204*(1-$C$3)/Лист2!$A$6,0)","v":382}]
[null,"T-BP 13060665","Панель сетчатая центральная H=600 L=665 ",2,{"$f":"VLOOKUP(B205,Аксессуары!$A$105:$F$347,6,0)","v":1130},null,{"$f":"ROUND(E205*(1-$C$3)/Лист2!$A$6,0)","v":1130}]
[null,"T-BP 13030665","Панель сетчатая центральная H=300 L=665 ",1,{"$f":"VLOOKUP(B206,Аксессуары!$A$105:$F$347,6,0)","v":755},null,{"$f":"ROUND(E206*(1-$C$3)/Лист2!$A$6,0)","v":755}]
[null,"T-BT 01000470","База стеллажа G=470 ",2,{"$f":"VLOOKUP(B207,'Детали Praktisch'!$A$12:$C$2072,3,0)","v":1171},null,{"$f":"ROUND(E207*(1-$C$3)/Лист2!$A$6,0)","v":1171}]
[null,"T-LT 02801650","Стойка  80х30 с двухсторонней перфорацией Н = 1650 ",1,{"$f":"VLOOKUP(B208,'Детали Praktisch'!$A$12:$C$2072,3,0)","v":1361},null,{"$f":"ROUND(E208*(1-$C$3)/Лист2!$A$6,0)","v":1361}]
[null,"N-LC 00003080","Заглушка стойки 30х80 ",1,{"$f":"VLOOKUP(B209,'Детали Praktisch'!$A$12:$C$2072,3,0)","v":118},null,{"$f":"ROUND(E209*(1-$C$3)/Лист2!$A$6,0)","v":118}]
[null,"T-ST 01470665","Полка G=470 L = 665 ",2,{"$f":"VLOOKUP(B210,'Детали Praktisch'!$A$12:$C$2072,3,0)","v":782},null,{"$f":"ROUND(E210*(1-$C$3)/Лист2!$A$6,0)","v":782}]
[null,19,"Стеллаж островной сетчатый  (панель центральная), полки сплошные  1650 x 1000 x 470",null,null,{"$f":"SUMPRODUCT(D212:D222,E212:E222)","v":19931},null,{"$f":"SUMPRODUCT(D212:D222,G212:G222)","v":19931}]
[null,"T-PT 01001000","Плинтус L = 1000 ",2,{"$f":"VLOOKUP(B212,'Детали Praktisch'!$A$12:$C$2072,3,0)","v":287},null,{"$f":"ROUND(E212*(1-$C$3)/Лист2!$A$6,0)","v":287}]
[null,"T-ST 01371000","Полка G=370 L = 1000 ",6,{"$f":"VLOOKUP(B213,'Детали Praktisch'!$A$12:$C$2072,3,0)","v":918},null,{"$f":"ROUND(E213*(1-$C$3)/Лист2!$A$6,0)","v":918}]
[null,"T-BS 01000370","Кронштейн (комплект) G = 370 ",6,{"$f":"VLOOKUP(B214,'Детали Praktisch'!$A$12:$C$2072,3,0)","v":272},null,{"$f":"ROUND(E214*(1-$C$3)/Лист2!$A$6,0)","v":272}]
[null,"T-ST 11208100","Полка-проставка к панели сетчатой центральной L=1000 ",6,{"$f":"VLOOKUP(B215,Аксессуары!$A$105:$F$347,6,0)","v":340},null,{"$f":"ROUND(E215*(1-$C$3)/Лист2!$A$6,0)","v":340}]
[null,"T-ST 11308100","Полка-проставка базов к панели сетчат центр L=1000 ",1,{"$f":"VLOOKUP(B216,Аксессуары!$A$105:$F$347,6,0)","v":525},null,{"$f":"ROUND(E216*(1-$C$3)/Лист2!$A$6,0)","v":525}]
[null,"T-BP 13060100","Панель сетчатая центральная H=600 L=1000 ",2,{"$f":"VLOOKUP(B217,Аксессуары!$A$105:$F$347,6,0)","v":1411},null,{"$f":"ROUND(E217*(1-$C$3)/Лист2!$A$6,0)","v":1411}]
[null,"T-BP 13030100","Панель сетчатая центральная H=300 L=1000 ",1,{"$f":"VLOOKUP(B218,Аксессуары!$A$105:$F$347,6,0)","v":947},null,{"$f":"ROUND(E218*(1-$C$3)/Лист2!$A$6,0)","v":947}]
[null,"T-BT 01000470","База стеллажа G=470 ",2,{"$f":"VLOOKUP(B219,'Детали Praktisch'!$A$12:$C$2072,3,0)","v":1171},null,{"$f":"ROUND(E219*(1-$C$3)/Лист2!$A$6,0)","v":1171}]
[null,"T-LT 02801650","Стойка  80х30 с двухсторонней перфорацией Н = 1650 ",1,{"$f":"VLOOKUP(B220,'Детали Praktisch'!$A$12:$C$2072,3,0)","v":1361},null,{"$f":"ROUND(E220*(1-$C$3)/Лист2!$A$6,0)","v":1361}]
[null,"N-LC 00003080","Заглушка стойки 30х80 ",1,{"$f":"VLOOKUP(B221,'Детали Praktisch'!$A$12:$C$2072,3,0)","v":118},null,{"$f":"ROUND(E221*(1-$C$3)/Лист2!$A$6,0)","v":118}]
[null,"T-ST 01471000","Полка G=470 L = 1000 ",2,{"$f":"VLOOKUP(B222,'Детали Praktisch'!$A$12:$C$2072,3,0)","v":1031},null,{"$f":"ROUND(E222*(1-$C$3)/Лист2!$A$6,0)","v":1031}]
[null,20,"Стеллаж островной сетчатый  (панель центральная), полки сплошные   1650 x 1250 x 470",null,null,{"$f":"SUMPRODUCT(D224:D234,E224:E234)","v":22117},null,{"$f":"SUMPRODUCT(D224:D234,G224:G234)","v":22117}]
[null,"T-PT 01001250","Плинтус L = 1250 ",2,{"$f":"VLOOKUP(B224,'Детали Praktisch'!$A$12:$C$2072,3,0)","v":345},null,{"$f":"ROUND(E224*(1-$C$3)/Лист2!$A$6,0)","v":345}]
[null,"T-ST 01371250","Полка G=370 L = 1250 ",6,{"$f":"VLOOKUP(B225,'Детали Praktisch'!$A$12:$C$2072,3,0)","v":994},null,{"$f":"ROUND(E225*(1-$C$3)/Лист2!$A$6,0)","v":994}]
[null,"T-BS 01000370","Кронштейн (комплект) G = 370 ",6,{"$f":"VLOOKUP(B226,'Детали Praktisch'!$A$12:$C$2072,3,0)","v":272},null,{"$f":"ROUND(E226*(1-$C$3)/Лист2!$A$6,0)","v":272}]
[null,"T-ST 11208125","Полка-проставка к панели сетчатой центральной L=1250 ",6,{"$f":"VLOOKUP(B227,Аксессуары!$A$105:$F$347,6,0)","v":411},null,{"$f":"ROUND(E227*(1-$C$3)/Лист2!$A$6,0)","v":411}]
[null,"T-ST 11308125","Полка-проставка базов к панели сетчат центр L=1250 ",1,{"$f":"VLOOKUP(B228,Аксессуары!$A$105:$F$347,6,0)","v":624},null,{"$f":"ROUND(E228*(1-$C$3)/Лист2!$A$6,0)","v":624}]
[null,"T-BP 13060125","Панель сетчатая центральная H=600 L=1250 ",2,{"$f":"VLOOKUP(B229,Аксессуары!$A$105:$F$347,6,0)","v":1678},null,{"$f":"ROUND(E229*(1-$C$3)/Лист2!$A$6,0)","v":1678}]
[null,"T-BP 13030125","Панель сетчатая центральная H=300 L=1250 ",1,{"$f":"VLOOKUP(B230,Аксессуары!$A$105:$F$347,6,0)","v":1124},null,{"$f":"ROUND(E230*(1-$C$3)/Лист2!$A$6,0)","v":1124}]
[null,"T-BT 01000470","База стеллажа G=470 ",2,{"$f":"VLOOKUP(B231,'Детали Praktisch'!$A$12:$C$2072,3,0)","v":1171},null,{"$f":"ROUND(E231*(1-$C$3)/Лист2!$A$6,0)","v":1171}]
[null,"T-LT 02801650","Стойка  80х30 с двухсторонней перфорацией Н = 1650 ",1,{"$f":"VLOOKUP(B232,'Детали Praktisch'!$A$12:$C$2072,3,0)","v":1361},null,{"$f":"ROUND(E232*(1-$C$3)/Лист2!$A$6,0)","v":1361}]
[null,"N-LC 00003080","Заглушка стойки 30х80 ",1,{"$f":"VLOOKUP(B233,'Детали Praktisch'!$A$12:$C$2072,3,0)","v":118},null,{"$f":"ROUND(E233*(1-$C$3)/Лист2!$A$6,0)","v":118}]
[null,"T-ST 01471250","Полка G=470 L = 1250 ",2,{"$f":"VLOOKUP(B234,'Детали Praktisch'!$A$12:$C$2072,3,0)","v":1220},null,{"$f":"ROUND(E234*(1-$C$3)/Лист2!$A$6,0)","v":1220}]
[null,21,"Стеллаж торцевой полукруглый сетчатый   1000 x 470",null,null,{"$f":"SUMPRODUCT(D236:D242,E236:E242)","v":25525},null,{"$f":"SUMPRODUCT(D236:D242,G236:G242)","v":25525}]
[null,"T-PT 06000470","Плинтус торцевой полукруглый  G=470 ",1,{"$f":"VLOOKUP(B236,'Детали Praktisch'!$A$12:$C$2072,3,0)","v":966},null,{"$f":"ROUND(E236*(1-$C$3)/Лист2!$A$6,0)","v":966}]
[null,"T-FR 01040470","Ограничитель фронтальный торцевой полукруглый H=40 G=470",2,{"$f":"VLOOKUP(B237,Аксессуары!$A$105:$F$347,6,0)","v":310},null,{"$f":"ROUND(E237*(1-$C$3)/Лист2!$A$6,0)","v":310}]
[null,"T-ST 11400370","Полка сетчатая торцевая полукруглая G=370  ",3,{"$f":"VLOOKUP(B238,Аксессуары!A232:F359,6,0)","v":4386},null,{"$f":"ROUND(E238*(1-$C$3)/Лист2!$A$6,0)","v":4386}]
[null,"T-BS 16010370","Кронштейн для торцевых сетчатых полукруглых полок (комплект с адаптером 80х30)  G=370 ",3,{"$f":"VLOOKUP(B239,Аксессуары!$A$105:$F$347,6,0)","v":1264},null,{"$f":"ROUND(E239*(1-$C$3)/Лист2!$A$6,0)","v":1264}]
[null,"T-FL 11040370","Ограничитель сетчатой торцевой полукруглой полки H=40 G=370",3,{"$f":"VLOOKUP(B240,Аксессуары!$A$105:$F$347,6,0)","v":575},null,{"$f":"ROUND(E240*(1-$C$3)/Лист2!$A$6,0)","v":575}]
[null,"T-BT 02000470","База полки торцевой G=470 ",1,{"$f":"VLOOKUP(B241,'Детали Praktisch'!$A$12:$C$2072,3,0)","v":3130},null,{"$f":"ROUND(E241*(1-$C$3)/Лист2!$A$6,0)","v":3130}]
[null,"T-ST 02300470","Полка торцевая полукруглая под ограничитель G=470 ",1,{"$f":"VLOOKUP(B242,'Детали Praktisch'!$A$12:$C$2072,3,0)","v":2134},null,{"$f":"ROUND(E242*(1-$C$3)/Лист2!$A$6,0)","v":2134}]
[null,22,"Стеллаж торцевой сетчатый (центральная панель) 1650 x 1000 x 470",null,null,{"$f":"SUMPRODUCT(D244:D253,E244:E253)","v":17192},null,{"$f":"SUMPRODUCT(D244:D253,G244:G253)","v":17192}]
[null,"T-PT 01001000","Плинтус L = 1000 ",1,{"$f":"VLOOKUP(B244,'Детали Praktisch'!$A$12:$C$2072,3,0)","v":287},null,{"$f":"ROUND(E244*(1-$C$3)/Лист2!$A$6,0)","v":287}]
[null,"T-ST 11037100","Полка сетч для центр панели L=1000 G=370 ",4,{"$f":"VLOOKUP(B245,Аксессуары!$A$105:$F$347,6,0)","v":2039},null,{"$f":"ROUND(E245*(1-$C$3)/Лист2!$A$6,0)","v":2039}]
[null,"T-BS 14000370","Кронштейн полки сетчатой(компл) G=370 ",4,{"$f":"VLOOKUP(B246,Аксессуары!$A$105:$F$347,6,0)","v":264},null,{"$f":"ROUND(E246*(1-$C$3)/Лист2!$A$6,0)","v":264}]
[null,"T-ST 11218100","Полка-проставка БАЗОВОЙ полки пристенного стеллажа L=1000 ",1,{"$f":"VLOOKUP(B247,Аксессуары!$A$105:$F$347,6,0)","v":243},null,{"$f":"ROUND(E247*(1-$C$3)/Лист2!$A$6,0)","v":243}]
[null,"T-BP 13060100","Панель сетчатая центральная H=600 L=1000 ",2,{"$f":"VLOOKUP(B248,Аксессуары!$A$105:$F$347,6,0)","v":1411},null,{"$f":"ROUND(E248*(1-$C$3)/Лист2!$A$6,0)","v":1411}]
[null,"T-BP 13030100","Панель сетчатая центральная H=300 L=1000 ",1,{"$f":"VLOOKUP(B249,Аксессуары!$A$105:$F$347,6,0)","v":947},null,{"$f":"ROUND(E249*(1-$C$3)/Лист2!$A$6,0)","v":947}]
[null,"T-BT 01000470","База стеллажа G=470 ",1,{"$f":"VLOOKUP(B250,'Детали Praktisch'!$A$12:$C$2072,3,0)","v":1171},null,{"$f":"ROUND(E250*(1-$C$3)/Лист2!$A$6,0)","v":1171}]
[null,"T-LT 02801650","Стойка  80х30 с двухсторонней перфорацией Н = 1650 ",1,{"$f":"VLOOKUP(B251,'Детали Praktisch'!$A$12:$C$2072,3,0)","v":1361},null,{"$f":"ROUND(E251*(1-$C$3)/Лист2!$A$6,0)","v":1361}]
[null,"N-LC 00003080","Заглушка стойки 30х80 ",1,{"$f":"VLOOKUP(B252,'Детали Praktisch'!$A$12:$C$2072,3,0)","v":118},null,{"$f":"ROUND(E252*(1-$C$3)/Лист2!$A$6,0)","v":118}]
[null,"T-ST 01471000","Полка G=470 L = 1000 ",1,{"$f":"VLOOKUP(B253,'Детали Praktisch'!$A$12:$C$2072,3,0)","v":1031},null,{"$f":"ROUND(E253*(1-$C$3)/Лист2!$A$6,0)","v":1031}]
[null,23,"Стеллаж торцевой сетчатый (центральная панель), полки сплошные  1650 x 1000 x 470",null,null,{"$f":"SUMPRODUCT(D255:D265,E255:E265)","v":14100},null,{"$f":"SUMPRODUCT(D255:D265,G255:G265)","v":14100}]
[null,"T-PT 01001000","Плинтус L = 1000 ",1,{"$f":"VLOOKUP(B255,'Детали Praktisch'!$A$12:$C$2072,3,0)","v":287},null,{"$f":"ROUND(E255*(1-$C$3)/Лист2!$A$6,0)","v":287}]
[null,"T-ST 01371000","Полка G=370 L = 1000 ",4,{"$f":"VLOOKUP(B256,'Детали Praktisch'!$A$12:$C$2072,3,0)","v":918},null,{"$f":"ROUND(E256*(1-$C$3)/Лист2!$A$6,0)","v":918}]
[null,"T-BS 01000370","Кронштейн (комплект) G = 370 ",4,{"$f":"VLOOKUP(B257,'Детали Praktisch'!$A$12:$C$2072,3,0)","v":272},null,{"$f":"ROUND(E257*(1-$C$3)/Лист2!$A$6,0)","v":272}]
[null,"T-ST 11208100","Полка-проставка к панели сетчатой центральной L=1000 ",4,{"$f":"VLOOKUP(B258,Аксессуары!$A$105:$F$347,6,0)","v":340},null,{"$f":"ROUND(E258*(1-$C$3)/Лист2!$A$6,0)","v":340}]
[null,"T-ST 11218100","Полка-проставка БАЗОВОЙ полки пристенного стеллажа L=1000 ",1,{"$f":"VLOOKUP(B259,Аксессуары!$A$105:$F$347,6,0)","v":243},null,{"$f":"ROUND(E259*(1-$C$3)/Лист2!$A$6,0)","v":243}]
[null,"T-BP 13060100","Панель сетчатая центральная H=600 L=1000 ",2,{"$f":"VLOOKUP(B260,Аксессуары!$A$105:$F$347,6,0)","v":1411},null,{"$f":"ROUND(E260*(1-$C$3)/Лист2!$A$6,0)","v":1411}]
[null,"T-BP 13030100","Панель сетчатая центральная H=300 L=1000 ",1,{"$f":"VLOOKUP(B261,Аксессуары!$A$105:$F$347,6,0)","v":947},null,{"$f":"ROUND(E261*(1-$C$3)/Лист2!$A$6,0)","v":947}]
[null,"T-BT 01000470","База стеллажа G=470 ",1,{"$f":"VLOOKUP(B262,'Детали Praktisch'!$A$12:$C$2072,3,0)","v":1171},null,{"$f":"ROUND(E262*(1-$C$3)/Лист2!$A$6,0)","v":1171}]
[null,"T-LT 02801650","Стойка  80х30 с двухсторонней перфорацией Н = 1650 ",1,{"$f":"VLOOKUP(B263,'Детали Praktisch'!$A$12:$C$2072,3,0)","v":1361},null,{"$f":"ROUND(E263*(1-$C$3)/Лист2!$A$6,0)","v":1361}]
[null,"N-LC 00003080","Заглушка стойки 30х80 ",1,{"$f":"VLOOKUP(B264,'Детали Praktisch'!$A$12:$C$2072,3,0)","v":118},null,{"$f":"ROUND(E264*(1-$C$3)/Лист2!$A$6,0)","v":118}]
[null,"T-ST 01471000","Полка G=470 L = 1000 ",1,{"$f":"VLOOKUP(B265,'Детали Praktisch'!$A$12:$C$2072,3,0)","v":1031},null,{"$f":"ROUND(E265*(1-$C$3)/Лист2!$A$6,0)","v":1031}]
[null,24,"Аксессуары"]
[null,"N-DF 01470210","Декор МДФ П-образный стеллажа с дополнительной стойкой  H=2100  G=470",1,8301,null,{"$f":"ROUND(E267*(1-$C$3)/Лист2!$A$6,0)","v":8301}]
[null,"T-SS 03471650","Боковина сетчатая (470-370) H=1650 G=470 ",1,{"$f":"VLOOKUP(B268,Аксессуары!$A$105:$F$347,6,0)","v":3967},null,{"$f":"ROUND(E268*(1-$C$3)/Лист2!$A$6,0)","v":3967}]
[null,"T-SS 03471800","Боковина сетчатая (470-370) H=1800 G=470 ",1,{"$f":"VLOOKUP(B269,Аксессуары!$A$105:$F$347,6,0)","v":4093},null,{"$f":"ROUND(E269*(1-$C$3)/Лист2!$A$6,0)","v":4093}]
[null,"T-SS 03472150","Боковина сетчатая(470-370) H=2150 G=470 ",1,{"$f":"VLOOKUP(B270,Аксессуары!$A$105:$F$347,6,0)","v":5096},null,{"$f":"ROUND(E270*(1-$C$3)/Лист2!$A$6,0)","v":5096}]
[null,"T-SS 03472300","Боковина сетчатая (470-370) H=2300 G=470 ",1,{"$f":"VLOOKUP(B271,Аксессуары!$A$105:$F$347,6,0)","v":5166},null,{"$f":"ROUND(E271*(1-$C$3)/Лист2!$A$6,0)","v":5166}]
[null,"T-SS 04471600","Боковина сетчатая(470-470) H=1600 G=470 ",1,{"$f":"VLOOKUP(B272,Аксессуары!$A$105:$F$347,6,0)","v":4561},null,{"$f":"ROUND(E272*(1-$C$3)/Лист2!$A$6,0)","v":4561}]
[null,"T-SS 04471650","Боковина сетчатая(470-470) H=1650 G=470 ",1,{"$f":"VLOOKUP(B273,Аксессуары!$A$105:$F$347,6,0)","v":4661},null,{"$f":"ROUND(E273*(1-$C$3)/Лист2!$A$6,0)","v":4661}]
[null,"T-SS 04471700","Боковина сетчатая(470-470) H=1700 G=470 ",1,{"$f":"VLOOKUP(B274,Аксессуары!$A$105:$F$347,6,0)","v":4679},null,{"$f":"ROUND(E274*(1-$C$3)/Лист2!$A$6,0)","v":4679}]
[null,"T-SS 04472100","Боковина сетчатая(470-470) H=2100 G=470 ",1,{"$f":"VLOOKUP(B275,Аксессуары!$A$105:$F$347,6,0)","v":5669},null,{"$f":"ROUND(E275*(1-$C$3)/Лист2!$A$6,0)","v":5669}]
[null,"T-SS 04472150","Боковина сетчатая(470-470) H=2150 G=470 ",1,{"$f":"VLOOKUP(B276,Аксессуары!$A$105:$F$347,6,0)","v":5696},null,{"$f":"ROUND(E276*(1-$C$3)/Лист2!$A$6,0)","v":5696}]
[null,"T-SS 04472300","Боковина сетчатая(470-470) H=2300 G=470 ",1,{"$f":"VLOOKUP(B277,Аксессуары!$A$105:$F$347,6,0)","v":6361},null,{"$f":"ROUND(E277*(1-$C$3)/Лист2!$A$6,0)","v":6361}]
[null,"T-SS 04472500","Боковина сетчатая(470-470) H=2500 G=470 ",1,{"$f":"VLOOKUP(B278,Аксессуары!$A$105:$F$347,6,0)","v":7192},null,{"$f":"ROUND(E278*(1-$C$3)/Лист2!$A$6,0)","v":7192}]
[null,"T-WB 09401570","Корзина на сетчатую панель L=400 H=70 G=150 ",1,{"$f":"VLOOKUP(B279,Аксессуары!$A$105:$F$347,6,0)","v":480},null,{"$f":"ROUND(E279*(1-$C$3)/Лист2!$A$6,0)","v":480}]
[null,"A-SP 11250150","Крючок одинар с ценникод прутк для сетчат панели ",1,{"$f":"VLOOKUP(B280,Аксессуары!$A$105:$F$347,6,0)","v":118},null,{"$f":"ROUND(E280*(1-$C$3)/Лист2!$A$6,0)","v":118}]

{"sheet":"Сборки Lager","index":11,"n_rows":21,"n_cols":9,"rows_kept":21,"cut":false,"hidden":false,"merged":[[11,0,14,0],[11,5,14,5],[11,7,14,7],[2,0,2,1],[3,0,3,1],[5,0,6,0],[5,1,6,1],[5,2,6,2],[5,3,6,3],[5,4,5,5],[5,6,5,7],[7,0,10,0],[7,5,10,5],[7,7,10,7],[15,0,18,0],[15,5,18,5],[15,7,18,7],[19,0,20,0],[19,5,20,5],[19,7,20,7]]}
["Cборки полугрузовых стеллажей Lager",null,null,null,null,null,null,null,"На главную"]
[]
["Ваша скидка:",null,{"$f":"Содержание!C2","v":0}]
["НДС:",null,{"$f":"IF(Лист2!A1=TRUE,\"С НДС\",\"БЕЗ НДС\")","v":"С НДС"}]
[]
["Изображение","Артикул","Наименование","Кол-во  в сборке, шт.","Базовая цена, руб. (с НДС)",null,{"$f":"[7]Лист2!$A$5","v":"Ваша цена, руб."}]
[null,null,null,null,"за элемент в сборке","за сборку","за элемент комплекта","за сборку"]
[null,1,"Стеллаж LAGER 2200х600х950. 4 уровня хранения",null,null,{"$f":"SUMPRODUCT(D9:D11,E9:E11)","v":16807},null,{"$f":"SUMPRODUCT(D9:D11,G9:G11)","v":16807}]
[null,"L-FR 10602200","Рама стеллажа G=600 H=2200",1,{"$f":"INDEX('Детали Lager'!$D$10:$D$30,MATCH('Сборки Lager'!B9,'Детали Lager'!$B$10:$B$30,))","v":3823},null,{"$f":"ROUND(E9*(1-$C$3)/Лист2!$A$6,0)","v":3823}]
[null,"L-TR 10500950","Траверса L=950",8,{"$f":"INDEX('Детали Lager'!$D$10:$D$30,MATCH('Сборки Lager'!B10,'Детали Lager'!$B$10:$B$30,))","v":792},null,{"$f":"ROUND(E10*(1-$C$3)/Лист2!$A$6,0)","v":792}]
[null,"L-ST 01300600","Полка L=300 G=600",12,{"$f":"INDEX('Детали Lager'!$D$10:$D$30,MATCH('Сборки Lager'!B11,'Детали Lager'!$B$10:$B$30,))","v":554},null,{"$f":"ROUND(E11*(1-$C$3)/Лист2!$A$6,0)","v":554}]
[null,null,"Стеллаж LAGER 2200х600х1250. 4 уровня хранения",null,null,{"$f":"SUMPRODUCT(D13:D15,E13:E15)","v":20367},null,{"$f":"SUMPRODUCT(D13:D15,G13:G15)","v":20367}]
[null,"L-FR 10602200","Рама стеллажа G=600 H=2200",1,{"$f":"INDEX('Детали Lager'!$D$10:$D$30,MATCH('Сборки Lager'!B13,'Детали Lager'!$B$10:$B$30,))","v":3823},null,{"$f":"ROUND(E13*(1-$C$3)/Лист2!$A$6,0)","v":3823}]
[null,"L-TR 10501250","Траверса L=1250",8,{"$f":"INDEX('Детали Lager'!$D$10:$D$30,MATCH('Сборки Lager'!B14,'Детали Lager'!$B$10:$B$30,))","v":960},null,{"$f":"ROUND(E14*(1-$C$3)/Лист2!$A$6,0)","v":960}]
[null,"L-ST 01300600","Полка L=300 G=600",16,{"$f":"INDEX('Детали Lager'!$D$10:$D$30,MATCH('Сборки Lager'!B15,'Детали Lager'!$B$10:$B$30,))","v":554},null,{"$f":"ROUND(E15*(1-$C$3)/Лист2!$A$6,0)","v":554}]
[null,null,"Стеллаж LAGER 2200х600х1550. 4 уровня хранения",null,null,{"$f":"SUMPRODUCT(D17:D19,E17:E19)","v":23863},null,{"$f":"SUMPRODUCT(D17:D19,G17:G19)","v":23863}]
[null,"L-FR 10602200","Рама стеллажа G=600 H=2200",1,{"$f":"INDEX('Детали Lager'!$D$10:$D$30,MATCH('Сборки Lager'!B17,'Детали Lager'!$B$10:$B$30,))","v":3823},null,{"$f":"ROUND(E17*(1-$C$3)/Лист2!$A$6,0)","v":3823}]
[null,"L-TR 10501550","Траверса L=1550",8,{"$f":"INDEX('Детали Lager'!$D$10:$D$30,MATCH('Сборки Lager'!B18,'Детали Lager'!$B$10:$B$30,))","v":1120},null,{"$f":"ROUND(E18*(1-$C$3)/Лист2!$A$6,0)","v":1120}]
[null,"L-ST 01300600","Полка L=300 G=600",20,{"$f":"INDEX('Детали Lager'!$D$10:$D$30,MATCH('Сборки Lager'!B19,'Детали Lager'!$B$10:$B$30,))","v":554},null,{"$f":"ROUND(E19*(1-$C$3)/Лист2!$A$6,0)","v":554}]
[null,null,"Доп. Рама G=600 H=2200",null,null,{"$f":"D21*E21","v":3823},null,{"$f":"D21*G21","v":3823}]
[null,"L-FR 10602200","Рама стеллажа G=600 H=2200",1,{"$f":"INDEX('Детали Lager'!$D$10:$D$30,MATCH('Сборки Lager'!B21,'Детали Lager'!$B$10:$B$30,))","v":3823},null,{"$f":"ROUND(E21*(1-$C$3)/Лист2!$A$6,0)","v":3823}]

{"sheet":"Аксессуары","index":12,"n_rows":359,"n_cols":8,"rows_kept":359,"cut":false,"hidden":false,"merged":[[8,6,9,6],[1,0,1,1],[2,0,2,1],[3,0,3,1],[8,0,9,4],[8,5,9,5],[39,0,39,4],[10,0,10,1],[29,0,29,4],[30,0,30,4],[31,0,31,4],[32,0,32,4],[33,0,33,4],[34,0,34,4],[35,0,35,4],[36,0,36,4],[37,0,37,4],[38,0,38,4],[54,0,54,4],[40,0,40,4],[43,0,43,4],[44,0,44,4],[45,0,45,4],[46,0,46,4],[47,0,47,4],[48,0,48,4],[49,0,49,4],[51,0,51,4],[52,0,52,4],[53,0,53,4],[61,0,61,4],[55,0,55,4],[56,0,56,4],[57,0,57,4],[58,0,58,4],[59,0,59,4],[60,0,60,4]]}
["Аксессуары для серий Praktisch и Eco Line",null,null,null,null,null,null,"На главную"]
[]
["Ваша скидка:",null,{"$f":"Содержание!C2","v":0}]
["НДС:",null,{"$f":"IF(Лист2!A1=TRUE,\"С НДС\",\"БЕЗ НДС\")","v":"С НДС"}]
[]
[]
[null,"Новинки"]
[null,"Складская программа"]
["Наименование",null,null,null,null,"Базовая цена, руб. (с НДС)",{"$f":"[7]Лист2!$A$5","v":"Ваша цена, руб."}]
[null,null,null,null,null,null,{"$f":"[7]Лист2!$A$5","v":"Ваша цена, руб."}]
[" Крючки",null,"D","L","шаг"]
[null,"Крючок для перфорации"]
["A-HP 10050100 ","Крючок одинарный L=100 D=5 ",5,100,50,38,{"$f":"ROUND(F13*(1-$C$3)/Лист2!$A$6,0)","v":38}]
["A-HP 10050150 ","Крючок одинарный L=150 D=5 ",5,150,50,48,{"$f":"ROUND(F14*(1-$C$3)/Лист2!$A$6,0)","v":48}]
["A-HP 10050200 ","Крючок одинарный L=200 D=5 ",5,200,50,57,{"$f":"ROUND(F15*(1-$C$3)/Лист2!$A$6,0)","v":57}]
["A-HP 10050250 ","Крючок одинарный L=250 D=5 ",5,250,50,63,{"$f":"ROUND(F16*(1-$C$3)/Лист2!$A$6,0)","v":63}]
["A-HP 10050300","Крючок одинарный L=300 D=5 ",5,300,50,71,{"$f":"ROUND(F17*(1-$C$3)/Лист2!$A$6,0)","v":71}]
["A-HP 10050400 ","Крючок одинарный L=400 D=5",5,400,50,84,{"$f":"ROUND(F18*(1-$C$3)/Лист2!$A$6,0)","v":84}]
["A-HP 20050150 ","Крючок двойной L=150 D=5",4,150,50,75,{"$f":"ROUND(F19*(1-$C$3)/Лист2!$A$6,0)","v":75}]
["A-HP 20050200 ","Крючок двойной L=200 D=5",4,200,50,83,{"$f":"ROUND(F20*(1-$C$3)/Лист2!$A$6,0)","v":83}]
["A-HP 20050300 ","Крючок двойной L=300 D=5",4,300,50,118,{"$f":"ROUND(F21*(1-$C$3)/Лист2!$A$6,0)","v":118}]
["A-HP 20060400","Крючок двойной L=400 D=5",4,400,50,121,{"$f":"ROUND(F22*(1-$C$3)/Лист2!$A$6,0)","v":121}]
["A-HP 11250150","Крюк одинарный с ценникодержателем L=150 D=5",5,150,50,84,{"$f":"ROUND(F23*(1-$C$3)/Лист2!$A$6,0)","v":84}]
["A-HP 11250200","Крюк одинарный с ценникодержателем L=200 D=5",5,200,50,99,{"$f":"ROUND(F24*(1-$C$3)/Лист2!$A$6,0)","v":99}]
["A-HP 11250250","Крюк одинарный с ценникодержателем L=250 D=5",5,250,50,114,{"$f":"ROUND(F25*(1-$C$3)/Лист2!$A$6,0)","v":114}]
["A-HP 11250300","Крюк одинарный с ценникодержателем L=300 D=5",5,300,50,124,{"$f":"ROUND(F26*(1-$C$3)/Лист2!$A$6,0)","v":124}]
["A-HP 11250400","Крюк одинарный с ценникодержателем L=400 D=5",5,400,50,144,{"$f":"ROUND(F27*(1-$C$3)/Лист2!$A$6,0)","v":144}]
["A-HP 21250200 ","Крюк двойной с ценникодержателем L=200 D=4",4,200,50,103,{"$f":"ROUND(F28*(1-$C$3)/Лист2!$A$6,0)","v":103}]
["A-HP 21250300","Крюк двойной с ценникодержателем L=300 D=4",4,300,50,139,{"$f":"ROUND(F29*(1-$C$3)/Лист2!$A$6,0)","v":139}]
[" Ценникодержатели",null,null,null,null,0]
["Ценникодержатель съемный  L=1000 белый",null,null,null,null,86,{"$f":"ROUND(F31*(1-$C$3)/Лист2!$A$6,0)","v":86}]
["Ценникодержатель съемный  L=1000 желтый",null,null,null,null,86,{"$f":"ROUND(F32*(1-$C$3)/Лист2!$A$6,0)","v":86}]
["Ценникодержатель съемный  L=1000 зеленый",null,null,null,null,86,{"$f":"ROUND(F33*(1-$C$3)/Лист2!$A$6,0)","v":86}]
["Ценникодержатель съемный  L=1000 красный",null,null,null,null,86,{"$f":"ROUND(F34*(1-$C$3)/Лист2!$A$6,0)","v":86}]
["Ценникодержатель съемный  L=1000 синий",null,null,null,null,86,{"$f":"ROUND(F35*(1-$C$3)/Лист2!$A$6,0)","v":86}]
["Ценникодержатель съемный  L=1000 прозрачный",null,null,null,null,86,{"$f":"ROUND(F36*(1-$C$3)/Лист2!$A$6,0)","v":86}]
["Ценникодержатель съемный  L=1250 белый",null,null,null,null,110,{"$f":"ROUND(F37*(1-$C$3)/Лист2!$A$6,0)","v":110}]
["Ценникодержатель съемный  L=1250 желтый",null,null,null,null,110,{"$f":"ROUND(F38*(1-$C$3)/Лист2!$A$6,0)","v":110}]
["Ценникодержатель съемный  L=1250 зеленый",null,null,null,null,110,{"$f":"ROUND(F39*(1-$C$3)/Лист2!$A$6,0)","v":110}]
["Ценникодержатель съемный  L=1250 красный",null,null,null,null,110,{"$f":"ROUND(F40*(1-$C$3)/Лист2!$A$6,0)","v":110}]
["Ценникодержатель съемный  L=1250 синий",null,null,null,null,110,{"$f":"ROUND(F41*(1-$C$3)/Лист2!$A$6,0)","v":110}]
["Ценникодержатель съемный  L=1250 прозрачный",null,null,null,null,110,{"$f":"ROUND(F42*(1-$C$3)/Лист2!$A$6,0)","v":110}]
["Ценникодержатель съемный  L=1330 прозрачный",null,null,null,null,169,{"$f":"ROUND(F43*(1-$C$3)/Лист2!$A$6,0)","v":169}]
["Ценникодержатель съемный,L=1000, H=60 прозрачный",null,null,null,null,195,{"$f":"ROUND(F44*(1-$C$3)/Лист2!$A$6,0)","v":195}]
["Ценникодержатель съемный,L=1250, H=60 прозрачный",null,null,null,null,242,{"$f":"ROUND(F45*(1-$C$3)/Лист2!$A$6,0)","v":242}]
["Профиль из ПВХ DBR39 L=1000, белый",null,null,null,null,83,{"$f":"ROUND(F46*(1-$C$3)/Лист2!$A$6,0)","v":83}]
["Профиль из ПВХ DBR39 L=1000, желтый",null,null,null,null,83,{"$f":"ROUND(F47*(1-$C$3)/Лист2!$A$6,0)","v":83}]
["Профиль из ПВХ DBR39 L=1000, зеленый",null,null,null,null,83,{"$f":"ROUND(F48*(1-$C$3)/Лист2!$A$6,0)","v":83}]
["Профиль из ПВХ DBR39 L=1000, красный",null,null,null,null,83,{"$f":"ROUND(F49*(1-$C$3)/Лист2!$A$6,0)","v":83}]
["Профиль из ПВХ DBR39 L=1000, синий",null,null,null,null,83,{"$f":"ROUND(F50*(1-$C$3)/Лист2!$A$6,0)","v":83}]
["Профиль из ПВХ DBR39 L=1000, прозрачный",null,null,null,null,83,{"$f":"ROUND(F51*(1-$C$3)/Лист2!$A$6,0)","v":83}]
["Профиль из ПВХ DBR39 L=1250, белый",null,null,null,null,105,{"$f":"ROUND(F52*(1-$C$3)/Лист2!$A$6,0)","v":105}]
["Профиль из ПВХ DBR39 L=1250, желтый",null,null,null,null,105,{"$f":"ROUND(F53*(1-$C$3)/Лист2!$A$6,0)","v":105}]
["Профиль из ПВХ DBR39 L=1250, зеленый",null,null,null,null,105,{"$f":"ROUND(F54*(1-$C$3)/Лист2!$A$6,0)","v":105}]
["Профиль из ПВХ DBR39 L=1250, красный",null,null,null,null,105,{"$f":"ROUND(F55*(1-$C$3)/Лист2!$A$6,0)","v":105}]
["Профиль из ПВХ DBR39 L=1250, синий",null,null,null,null,105,{"$f":"ROUND(F56*(1-$C$3)/Лист2!$A$6,0)","v":105}]
["Профиль из ПВХ КЕ L=1000, прозрачный (для корзин)",null,null,null,null,184,{"$f":"ROUND(F57*(1-$C$3)/Лист2!$A$6,0)","v":184}]
["Профиль из ПВХ КЕ L=1250, прозрачный (для корзин)",null,null,null,null,208,{"$f":"ROUND(F58*(1-$C$3)/Лист2!$A$6,0)","v":208}]
["Профиль из ПВХ КЕ L=1330, прозрачный (для корзин)",null,null,null,null,218,{"$f":"ROUND(F59*(1-$C$3)/Лист2!$A$6,0)","v":218}]
["Ценникодержатель съемный сетчатой полки FRW39 L=1000",null,null,null,null,373,{"$f":"ROUND(F60*(1-$C$3)/Лист2!$A$6,0)","v":373}]
["Ценникодержатель съемный сетчатой полки FRW39 L=1250",null,null,null,null,468,{"$f":"ROUND(F61*(1-$C$3)/Лист2!$A$6,0)","v":468}]
["Сетчатые изделия"]
["T-WB 02370665","Корзина H=160 G=370 L=665",160,370,665,1569,{"$f":"ROUND(F63*(1-$C$3)/Лист2!$A$6,0)","v":1569}]
["T-WB 02370100","Корзина H=160 G=370 L=1000",160,370,1000,1976,{"$f":"ROUND(F64*(1-$C$3)/Лист2!$A$6,0)","v":1976}]
["T-WB 02370125","Корзина H=160 G=370 L=1250",160,370,1250,2322,{"$f":"ROUND(F65*(1-$C$3)/Лист2!$A$6,0)","v":2322}]
["T-WB 02370133","Корзина H=160 G=370 L=1330",160,370,1330,2665,{"$f":"ROUND(F66*(1-$C$3)/Лист2!$A$6,0)","v":2665}]
["T-WB 02470665","Корзина H=160 G=470 L=665",160,470,665,1731,{"$f":"ROUND(F67*(1-$C$3)/Лист2!$A$6,0)","v":1731}]
["T-WB 02470100","Корзина H=160 G=470 L=1000",160,470,1000,1993,{"$f":"ROUND(F68*(1-$C$3)/Лист2!$A$6,0)","v":1993}]
["T-WB 02470125","Корзина H=160 G=470 L=1250",160,470,1250,2457,{"$f":"ROUND(F69*(1-$C$3)/Лист2!$A$6,0)","v":2457}]
["T-WB 02470133","Корзина H=160 G=470 L=1330",160,470,1330,2639,{"$f":"ROUND(F70*(1-$C$3)/Лист2!$A$6,0)","v":2639}]
["T-WB 02570665","Корзина H=160 G=570 L=665",160,570,665,2057,{"$f":"ROUND(F71*(1-$C$3)/Лист2!$A$6,0)","v":2057}]
["T-WB 02570100","Корзина H=160 G=570 L=1000",160,570,1000,2322,{"$f":"ROUND(F72*(1-$C$3)/Лист2!$A$6,0)","v":2322}]
["T-WB 02570125","Корзина H=160 G=570 L=1250",160,570,1250,3028,{"$f":"ROUND(F73*(1-$C$3)/Лист2!$A$6,0)","v":3028}]
["T-WB 02570133","Корзина H=160 G=570 L=1330",160,570,1330,3249,{"$f":"ROUND(F74*(1-$C$3)/Лист2!$A$6,0)","v":3249}]
["T-WB 01370665","Корзина H=320 G=370 L=665",320,370,665,2325,{"$f":"ROUND(F75*(1-$C$3)/Лист2!$A$6,0)","v":2325}]
["T-WB 01370100","Корзина H=320 G=370 L=1000",320,370,1000,2697,{"$f":"ROUND(F76*(1-$C$3)/Лист2!$A$6,0)","v":2697}]
["T-WB 01370125","Корзина H=320 G=370 L=1250",320,370,1250,2987,{"$f":"ROUND(F77*(1-$C$3)/Лист2!$A$6,0)","v":2987}]
["T-WB 01370133","Корзина H=320 G=370 L=1330",320,370,1330,3144,{"$f":"ROUND(F78*(1-$C$3)/Лист2!$A$6,0)","v":3144}]
["T-WB 01470665","Корзина H=320 G=470 L=665",320,470,665,2007,{"$f":"ROUND(F79*(1-$C$3)/Лист2!$A$6,0)","v":2007}]
["T-WB 01470100","Корзина H=320 G=470 L=1000",320,470,1000,2636,{"$f":"ROUND(F80*(1-$C$3)/Лист2!$A$6,0)","v":2636}]
["T-WB 01470125","Корзина H=320 G=470 L=1250",320,470,1250,2847,{"$f":"ROUND(F81*(1-$C$3)/Лист2!$A$6,0)","v":2847}]
["T-WB 01470133","Корзина H=320 G=470 L=1330",320,470,1330,3239,{"$f":"ROUND(F82*(1-$C$3)/Лист2!$A$6,0)","v":3239}]
["T-WB 01570665","Корзина H=320 G=570 L=665",320,570,665,2290,{"$f":"ROUND(F83*(1-$C$3)/Лист2!$A$6,0)","v":2290}]
["T-WB 01570100","Корзина H=320 G=570 L=1000",320,570,1000,2866,{"$f":"ROUND(F84*(1-$C$3)/Лист2!$A$6,0)","v":2866}]
["T-WB 01570125","Корзина H=320 G=570 L=1250",320,570,1250,3289,{"$f":"ROUND(F85*(1-$C$3)/Лист2!$A$6,0)","v":3289}]
["T-WB 01570133","Корзина H=320 G=570 L=1330",320,570,1330,3562,{"$f":"ROUND(F86*(1-$C$3)/Лист2!$A$6,0)","v":3562}]
["T-WB 09370100","Корзина штабелируемая H=320 G=370 L=1000",320,370,100,2386,{"$f":"ROUND(F87*(1-$C$3)/Лист2!$A$6,0)","v":2386}]
["T-WB 09470665 ","Корзина штабелируемая H=320 G=470 L=665",320,470,665,2050,{"$f":"ROUND(F88*(1-$C$3)/Лист2!$A$6,0)","v":2050}]
["T-WB 09470100","Корзина штабелируемая H=320 G=470 L=1000",320,470,1000,2533,{"$f":"ROUND(F89*(1-$C$3)/Лист2!$A$6,0)","v":2533}]
["T-WB 09470125 ","Корзина штабелируемая H=320 G=470 L=1250",320,470,1250,3012,{"$f":"ROUND(F90*(1-$C$3)/Лист2!$A$6,0)","v":3012}]
["T-WB 09570665 ","Корзина штабелируемая  H=320 G=570 L=665",320,570,665,2311,{"$f":"ROUND(F91*(1-$C$3)/Лист2!$A$6,0)","v":2311}]
["T-WB 09570100 ","Корзина штабелируемая H=320 G=570 L=1000 ",320,570,1000,2808,{"$f":"ROUND(F92*(1-$C$3)/Лист2!$A$6,0)","v":2808}]
["T-WB 09570125 ","Корзина штабелируемая H=320 G=570 L=1250 ",320,570,1250,3317,{"$f":"ROUND(F93*(1-$C$3)/Лист2!$A$6,0)","v":3317}]
["T-WB 09570133 ","Корзина штабелируемая  H=320  G=570 L=1330 ",320,570,1330,3586,{"$f":"ROUND(F94*(1-$C$3)/Лист2!$A$6,0)","v":3586}]
["T-DS 04160370","Разделитель для корзин H=160 G=370",160,370,null,291,{"$f":"ROUND(F95*(1-$C$3)/Лист2!$A$6,0)","v":291}]
["T-DS 04160470","Разделитель для корзин H=160 G=470",160,470,null,306,{"$f":"ROUND(F96*(1-$C$3)/Лист2!$A$6,0)","v":306}]
["T-DS 04160570","Разделитель для корзин H=160 G=570",160,570,null,341,{"$f":"ROUND(F97*(1-$C$3)/Лист2!$A$6,0)","v":341}]
["T-DS 04160670","Разделитель для корзин H=160 G=670",160,670,null,379,{"$f":"ROUND(F98*(1-$C$3)/Лист2!$A$6,0)","v":379}]
["T-DS 04160770","Разделитель для корзин H=160 G=770",160,770,null,408,{"$f":"ROUND(F99*(1-$C$3)/Лист2!$A$6,0)","v":408}]
["T-DS 04320370","Разделитель для корзин H=320 G=370",320,370,null,300,{"$f":"ROUND(F100*(1-$C$3)/Лист2!$A$6,0)","v":300}]
["T-DS 04320470","Разделитель для корзин H=320 G=470",320,470,null,316,{"$f":"ROUND(F101*(1-$C$3)/Лист2!$A$6,0)","v":316}]
["T-DS 04320570","Разделитель для корзин H=320 G=570",320,570,null,373,{"$f":"ROUND(F102*(1-$C$3)/Лист2!$A$6,0)","v":373}]
["T-DS 04320670","Разделитель для корзин H=320 G=670",320,670,null,391,{"$f":"ROUND(F103*(1-$C$3)/Лист2!$A$6,0)","v":391}]
["T-DS 04320770","Разделитель для корзин H=320 G=770",320,770,null,427,{"$f":"ROUND(F104*(1-$C$3)/Лист2!$A$6,0)","v":427}]
["T-FL 01085665","Ограничитель фронтальный Н=85 L=665",85,null,665,195,{"$f":"ROUND(F105*(1-$C$3)/Лист2!$A$6,0)","v":195}]
["T-FL 01085850","Ограничитель фронтальный Н=85 L=850",85,null,850,258,{"$f":"ROUND(F106*(1-$C$3)/Лист2!$A$6,0)","v":258}]
["T-FL 01085100","Ограничитель фронтальный Н=85 L=1000",85,null,1000,264,{"$f":"ROUND(F107*(1-$C$3)/Лист2!$A$6,0)","v":264}]
["T-FL 01085125","Ограничитель фронтальный Н=85 L=1250",85,null,1250,323,{"$f":"ROUND(F108*(1-$C$3)/Лист2!$A$6,0)","v":323}]
["T-FL 01085133","Ограничитель фронтальный Н=85 L=1330",85,null,1330,323,{"$f":"ROUND(F109*(1-$C$3)/Лист2!$A$6,0)","v":323}]
["T-FL 07850665","Ограничитель фронтальный (с тремя петлями) H=85 G=665",85,null,665,206,{"$f":"ROUND(F110*(1-$C$3)/Лист2!$A$6,0)","v":206}]
["T-FL 07851000","Ограничитель фронтальный (с тремя петлями) H=85 G=1000",85,null,1000,264,{"$f":"ROUND(F111*(1-$C$3)/Лист2!$A$6,0)","v":264}]
["T-FL 07851250","Ограничитель фронтальный (с тремя петлями) H=85 G=1250",85,null,1250,297,{"$f":"ROUND(F112*(1-$C$3)/Лист2!$A$6,0)","v":297}]
["T-FL 07851330","Ограничитель фронтальный (с тремя петлями) H=85 G=1330",85,null,1330,321,{"$f":"ROUND(F113*(1-$C$3)/Лист2!$A$6,0)","v":321}]
["T-FL 01145665","Ограничитель фронтальный Н=145 L=665",145,null,665,215,{"$f":"ROUND(F114*(1-$C$3)/Лист2!$A$6,0)","v":215}]
["T-FL 01145100","Ограничитель фронтальный Н=145 L=1000",145,null,1000,285,{"$f":"ROUND(F115*(1-$C$3)/Лист2!$A$6,0)","v":285}]
["T-FL 01145125","Ограничитель фронтальный Н=145 L=1250",145,null,1250,344,{"$f":"ROUND(F116*(1-$C$3)/Лист2!$A$6,0)","v":344}]
["T-FL 01145133","Ограничитель фронтальный Н=145 L=1330",145,null,1330,361,{"$f":"ROUND(F117*(1-$C$3)/Лист2!$A$6,0)","v":361}]
["T-FL 01060333","Ограничитель фронтальный Н=60 L=333",60,null,333,127,{"$f":"ROUND(F118*(1-$C$3)/Лист2!$A$6,0)","v":127}]
["T-FL 01060665","Ограничитель фронтальный Н=60 L=665",60,null,665,195,{"$f":"ROUND(F119*(1-$C$3)/Лист2!$A$6,0)","v":195}]
["T-FL 01060850","Ограничитель фронтальный Н=60 L=850",60,null,850,234,{"$f":"ROUND(F120*(1-$C$3)/Лист2!$A$6,0)","v":234}]
["T-FL 01060100","Ограничитель фронтальный Н=60 L=1000",60,null,1000,246,{"$f":"ROUND(F121*(1-$C$3)/Лист2!$A$6,0)","v":246}]
["T-FL 01060125","Ограничитель фронтальный Н=60 L=1250",60,null,1250,311,{"$f":"ROUND(F122*(1-$C$3)/Лист2!$A$6,0)","v":311}]
["T-FL 01060133","Ограничитель фронтальный Н=60 L=1330",60,null,1330,323,{"$f":"ROUND(F123*(1-$C$3)/Лист2!$A$6,0)","v":323}]
["T-FL 05908531","Ограничитель фронтальный угла внутр.90гр.Н=85 G=310",85,310,560,175,{"$f":"ROUND(F124*(1-$C$3)/Лист2!$A$6,0)","v":175}]
["T-FL 05908537","Ограничитель фронтальный угла внутр.90гр.Н=85 G=370",85,370,450,158,{"$f":"ROUND(F125*(1-$C$3)/Лист2!$A$6,0)","v":158}]
["T-FL 05908547","Ограничитель фронтальный угла внутр.90гр.Н=85 G=470",85,470,320,133,{"$f":"ROUND(F126*(1-$C$3)/Лист2!$A$6,0)","v":133}]
["T-FL 05908557","Ограничитель фронтальный угла внутр.90гр.Н=85 G=570",85,570,180,121,{"$f":"ROUND(F127*(1-$C$3)/Лист2!$A$6,0)","v":121}]
["T-FL 07908531","Ограничитель фронтальный угла внутреннего 90гр. H=85 G=310 (с тремя петлями)",85,310,560,205,{"$f":"ROUND(F128*(1-$C$3)/Лист2!$A$6,0)","v":205}]
["T-FL 07908537","Ограничитель фронтальный угла внутреннего 90гр. H=85 G=370 (с тремя петлями)",85,370,450,185,{"$f":"ROUND(F129*(1-$C$3)/Лист2!$A$6,0)","v":185}]
["T-FL 07908547","Ограничитель фронтальный угла внутреннего 90гр. H=85 G=470 (с тремя петлями)",85,470,320,170,{"$f":"ROUND(F130*(1-$C$3)/Лист2!$A$6,0)","v":170}]
["T-FL 07908557","Ограничитель фронтальный угла внутреннего 90гр. H=85 G=570 (с тремя петлями)",85,570,180,153,{"$f":"ROUND(F131*(1-$C$3)/Лист2!$A$6,0)","v":153}]
["T-FL 06908531","Ограничитель фронтальный угла внешн.90гр.Н=85 G=310",85,310,630,195,{"$f":"ROUND(F132*(1-$C$3)/Лист2!$A$6,0)","v":195}]
["T-FL 06908537","Ограничитель фронтальный угла внешн.90гр.Н=85 G=370",85,370,730,205,{"$f":"ROUND(F133*(1-$C$3)/Лист2!$A$6,0)","v":205}]
["T-FL 06908547","Ограничитель фронтальный угла внешн.90гр.Н=85 G=470",85,470,870,262,{"$f":"ROUND(F134*(1-$C$3)/Лист2!$A$6,0)","v":262}]
["T-FL 06908557","Ограничитель фронтальный угла внешн.90гр.Н=85 G=570",85,570,1010,275,{"$f":"ROUND(F135*(1-$C$3)/Лист2!$A$6,0)","v":275}]
["T-FL 05906031","Ограничитель фронтальный угла внутр.90гр.Н=60 G=310",60,310,560,179,{"$f":"ROUND(F136*(1-$C$3)/Лист2!$A$6,0)","v":179}]
["T-FL 05906037","Ограничитель фронтальный угла внутр.90гр.Н=60 G=370",60,370,450,150,{"$f":"ROUND(F137*(1-$C$3)/Лист2!$A$6,0)","v":150}]
["T-FL 05906047","Ограничитель фронтальный угла внутр.90гр.Н=60 G=470",60,470,320,123,{"$f":"ROUND(F138*(1-$C$3)/Лист2!$A$6,0)","v":123}]
["T-FL 05906057","Ограничитель фронтальный угла внутр.90гр.Н=60 G=570",60,570,180,114,{"$f":"ROUND(F139*(1-$C$3)/Лист2!$A$6,0)","v":114}]
["T-FL 06906031","Ограничитель фронтальный угла внешн.90гр.Н=60 G=310",60,310,630,195,{"$f":"ROUND(F140*(1-$C$3)/Лист2!$A$6,0)","v":195}]
["T-FL 06906037","Ограничитель фронтальный угла внешн.90гр.Н=60 G=370",60,370,730,205,{"$f":"ROUND(F141*(1-$C$3)/Лист2!$A$6,0)","v":205}]
["T-FL 06906047","Ограничитель фронтальный угла внешн.90гр.Н=60 G=470",60,470,870,244,{"$f":"ROUND(F142*(1-$C$3)/Лист2!$A$6,0)","v":244}]
["T-FL 06906057","Ограничитель фронтальный угла внешн.90гр.Н=60 G=570",60,570,1010,275,{"$f":"ROUND(F143*(1-$C$3)/Лист2!$A$6,0)","v":275}]
["T-FR 01065310","Ограничитель фронтальный торцевой полукруглый H=65 G=310",65,310,null,280,{"$f":"ROUND(F144*(1-$C$3)/Лист2!$A$6,0)","v":280}]
["T-FR 01065370","Ограничитель фронтальный торцевой полукруглый H=65 G=370",65,370,null,291,{"$f":"ROUND(F145*(1-$C$3)/Лист2!$A$6,0)","v":291}]
["T-FR 01065470","Ограничитель фронтальный торцевой полукруглый H=65 G=470",65,470,null,325,{"$f":"ROUND(F146*(1-$C$3)/Лист2!$A$6,0)","v":325}]
["T-FR 01040310","Ограничитель фронтальный торцевой полукруглый H=40 G=310",40,310,null,279,{"$f":"ROUND(F147*(1-$C$3)/Лист2!$A$6,0)","v":279}]
["T-FR 01040370","Ограничитель фронтальный торцевой полукруглый H=40 G=370",40,370,null,285,{"$f":"ROUND(F148*(1-$C$3)/Лист2!$A$6,0)","v":285}]
["T-FR 01040470","Ограничитель фронтальный торцевой полукруглый H=40 G=470",40,470,null,310,{"$f":"ROUND(F149*(1-$C$3)/Лист2!$A$6,0)","v":310}]
["T-FR 01040570","Ограничитель фронтальный торцевой полукруглый H=40 G=570",40,570,null,321,{"$f":"ROUND(F150*(1-$C$3)/Лист2!$A$6,0)","v":321}]
["E-FR  01065310","Огран фронт торц полукр полки Эко H=65, G=310",65,310,null,273,{"$f":"ROUND(F151*(1-$C$3)/Лист2!$A$6,0)","v":273}]
["E-FR  01065370","Огран фронт торц полукр полки Эко H=65, G=370",65,370,null,282,{"$f":"ROUND(F152*(1-$C$3)/Лист2!$A$6,0)","v":282}]
["E-FR  01065470","Огран фронт торц полукр полки Эко H=65, G=470",65,470,null,317,{"$f":"ROUND(F153*(1-$C$3)/Лист2!$A$6,0)","v":317}]
["T-FL 02040665","Ограничитель фронт сетчатой полки L=665, H=40",40,null,665,310,{"$f":"ROUND(F154*(1-$C$3)/Лист2!$A$6,0)","v":310}]
["T-FL 02040850","Ограничитель фронт сетчатой полки L=850, H=40",40,null,850,354,{"$f":"ROUND(F155*(1-$C$3)/Лист2!$A$6,0)","v":354}]
["T-FL 02040100","Ограничитель фронт сетчатой полки L=1000, H=40",40,null,1000,374,{"$f":"ROUND(F156*(1-$C$3)/Лист2!$A$6,0)","v":374}]
["T-FL 02040125","Ограничитель фронт сетчатой полки L=1250, H=40",40,null,1250,415,{"$f":"ROUND(F157*(1-$C$3)/Лист2!$A$6,0)","v":415}]
["T-FL 02140370","Ограничитель фронтальный сетчатой полки угла внутр.90гр.Н=40 G=370",40,370,null,273,{"$f":"ROUND(F158*(1-$C$3)/Лист2!$A$6,0)","v":273}]
["T-FL 02140470","Ограничитель фронтальный сетчатой полки угла внутр.90гр.Н=40 G=470",40,470,null,250,{"$f":"ROUND(F159*(1-$C$3)/Лист2!$A$6,0)","v":250}]
["T-FL 02140570","Ограничитель фронтальный сетчатой полки угла внутр.90гр.Н=40 G=570",40,570,null,222,{"$f":"ROUND(F160*(1-$C$3)/Лист2!$A$6,0)","v":222}]
["T-FL 02240370","Ограничитель фронтальный сетчатой полки угла внешн.90гр.Н=40 G=370",40,370,null,343,{"$f":"ROUND(F161*(1-$C$3)/Лист2!$A$6,0)","v":343}]
["T-FL 02240470","Ограничитель фронтальный сетчатой полки угла внешн.90гр.Н=40 G=470",40,470,null,317,{"$f":"ROUND(F162*(1-$C$3)/Лист2!$A$6,0)","v":317}]
["T-FL 02240570","Ограничитель фронтальный сетчатой полки угла внешн.90гр.Н=40 G=570",40,570,null,282,{"$f":"ROUND(F163*(1-$C$3)/Лист2!$A$6,0)","v":282}]
["T-FL 11040370","Ограничитель сетчатой торцевой полукруглой полки H=40 G=370",40,370,null,575,{"$f":"ROUND(F164*(1-$C$3)/Лист2!$A$6,0)","v":575}]
["T-FL 11040470","Ограничитель сетчатой торцевой полукруглой полки H=40 G=470",40,370,null,670,{"$f":"ROUND(F165*(1-$C$3)/Лист2!$A$6,0)","v":670}]
["T-FL 07600665","Ограничитель пластиковый L=665, H=62, G=6",62,665,null,537,{"$f":"ROUND(F166*(1-$C$3)/Лист2!$A$6,0)","v":537}]
["T-FL 07600850","Ограничитель пластиковый L=850, H=62, G=6",62,850,null,567,{"$f":"ROUND(F167*(1-$C$3)/Лист2!$A$6,0)","v":567}]
["T-FL 07601000","Ограничитель пластиковый L=1000, H=62, G=6",62,1000,null,596,{"$f":"ROUND(F168*(1-$C$3)/Лист2!$A$6,0)","v":596}]
["T-FL 07601250","Ограничитель пластиковый L=1250, H=62, G=6",62,1250,null,746,{"$f":"ROUND(F169*(1-$C$3)/Лист2!$A$6,0)","v":746}]
["T-FL 07601330","Ограничитель пластиковый L=1330, H=62, G=6",62,1330,null,810,{"$f":"ROUND(F170*(1-$C$3)/Лист2!$A$6,0)","v":810}]
["T-FL 07621310","Ограничитель пластиковый угла внутр.90гр.Н=62 G=310",62,310,null,336,{"$f":"ROUND(F171*(1-$C$3)/Лист2!$A$6,0)","v":336}]
["T-FL 07621370","Ограничитель пластиковый угла внутр.90гр.Н=62 G=370",62,370,null,291,{"$f":"ROUND(F172*(1-$C$3)/Лист2!$A$6,0)","v":291}]
["T-FL 07621470","Ограничитель пластиковый угла внутр.90гр.Н=62 G=470",62,470,null,221,{"$f":"ROUND(F173*(1-$C$3)/Лист2!$A$6,0)","v":221}]
["T-FL 07621570","Ограничитель пластиковый угла внутр.90гр.Н=62 G=570",62,570,null,148,{"$f":"ROUND(F174*(1-$C$3)/Лист2!$A$6,0)","v":148}]
["T-FL 07622310","Ограничитель пластиковый угла внешн.90гр.Н=62 G=310",62,310,null,391,{"$f":"ROUND(F175*(1-$C$3)/Лист2!$A$6,0)","v":391}]
["T-FL 07622370","Ограничитель пластиковый угла внешн.90гр.Н=62 G=370",62,370,null,452,{"$f":"ROUND(F176*(1-$C$3)/Лист2!$A$6,0)","v":452}]
["T-FL 07622470","Ограничитель пластиковый угла внешн.90гр.Н=62 G=470",62,470,null,525,{"$f":"ROUND(F177*(1-$C$3)/Лист2!$A$6,0)","v":525}]
["T-FL 07622570","Ограничитель пластиковый угла внешн.90гр.Н=62 G=570",62,570,null,588,{"$f":"ROUND(F178*(1-$C$3)/Лист2!$A$6,0)","v":588}]
["T-DS 01160310","Разделитель Н=60 (с тремя петлями) G=310",60,310,null,179,{"$f":"ROUND(F179*(1-$C$3)/Лист2!$A$6,0)","v":179}]
["T-DS 01160370","Разделитель Н=60 (с тремя петлями) G=370",60,370,null,197,{"$f":"ROUND(F180*(1-$C$3)/Лист2!$A$6,0)","v":197}]
["T-DS 01160470","Разделитель Н=60 (с тремя петлями) G=470",60,470,null,215,{"$f":"ROUND(F181*(1-$C$3)/Лист2!$A$6,0)","v":215}]
["T-DS 01160570","Разделитель Н=60 (с тремя петлями) G=570",60,570,null,233,{"$f":"ROUND(F182*(1-$C$3)/Лист2!$A$6,0)","v":233}]
["T-DS 02060210","Разделитель прямой для полок H=60 G=210",60,210,null,159,{"$f":"ROUND(F183*(1-$C$3)/Лист2!$A$6,0)","v":159}]
["T-DS 02060310","Разделитель прямой для полок H=60 G=310",60,310,null,165,{"$f":"ROUND(F184*(1-$C$3)/Лист2!$A$6,0)","v":165}]
["T-DS 02060370","Разделитель прямой для полок H=60 G=370",60,370,null,175,{"$f":"ROUND(F185*(1-$C$3)/Лист2!$A$6,0)","v":175}]
["T-DS 02060470","Разделитель прямой для полок H=60 G=470",60,470,null,188,{"$f":"ROUND(F186*(1-$C$3)/Лист2!$A$6,0)","v":188}]
["T-DS 02060570","Разделитель прямой для полок H=60 G=570",60,570,null,208,{"$f":"ROUND(F187*(1-$C$3)/Лист2!$A$6,0)","v":208}]
["T-DS 02060670","Разделитель прямой для полок H=60 G=670",60,670,null,226,{"$f":"ROUND(F188*(1-$C$3)/Лист2!$A$6,0)","v":226}]
["T-DS 02060770","Разделитель прямой для полок H=60 G=770",60,770,null,243,{"$f":"ROUND(F189*(1-$C$3)/Лист2!$A$6,0)","v":243}]
["T-DS 02085210","Разделитель прямой для полок H=85 G=210",85,210,null,170,{"$f":"ROUND(F190*(1-$C$3)/Лист2!$A$6,0)","v":170}]
["T-DS 02085310","Разделитель прямой для полок H=85 G=310",85,310,null,169,{"$f":"ROUND(F191*(1-$C$3)/Лист2!$A$6,0)","v":169}]
["T-DS 02085370","Разделитель прямой для полок H=85 G=370",85,370,null,179,{"$f":"ROUND(F192*(1-$C$3)/Лист2!$A$6,0)","v":179}]
["T-DS 02085470","Разделитель прямой для полок H=85 G=470",85,470,null,196,{"$f":"ROUND(F193*(1-$C$3)/Лист2!$A$6,0)","v":196}]
["T-DS 02085570","Разделитель прямой для полок H=85 G=570",85,570,null,215,{"$f":"ROUND(F194*(1-$C$3)/Лист2!$A$6,0)","v":215}]
["T-DS 02085670","Разделитель прямой для полок H=85 G=670",85,670,null,234,{"$f":"ROUND(F195*(1-$C$3)/Лист2!$A$6,0)","v":234}]
["T-DS 02085770","Разделитель прямой для полок H=85 G=770",85,770,null,254,{"$f":"ROUND(F196*(1-$C$3)/Лист2!$A$6,0)","v":254}]
["T-DS 02145210","Разделитель прямой для полок H=145 G=210",145,210,null,175,{"$f":"ROUND(F197*(1-$C$3)/Лист2!$A$6,0)","v":175}]
["T-DS 02145310","Разделитель прямой для полок H=145 G=310",145,310,null,185,{"$f":"ROUND(F198*(1-$C$3)/Лист2!$A$6,0)","v":185}]
["T-DS 02145370","Разделитель прямой для полок H=145 G=370",145,370,null,195,{"$f":"ROUND(F199*(1-$C$3)/Лист2!$A$6,0)","v":195}]
["T-DS 02145470","Разделитель прямой для полок H=145 G=470",145,470,null,215,{"$f":"ROUND(F200*(1-$C$3)/Лист2!$A$6,0)","v":215}]
["T-DS 02145570","Разделитель прямой для полок H=145 G=570",145,570,null,233,{"$f":"ROUND(F201*(1-$C$3)/Лист2!$A$6,0)","v":233}]
["T-DS 02145670","Разделитель прямой для полок H=145 G=670",145,670,null,254,{"$f":"ROUND(F202*(1-$C$3)/Лист2!$A$6,0)","v":254}]
["T-DS 02145770","Разделитель прямой для полок H=145 G=770",145,770,null,273,{"$f":"ROUND(F203*(1-$C$3)/Лист2!$A$6,0)","v":273}]
["T-DS 03216210","Разделитель скошенный для полок Н=200/100 G=210",200,210,null,179,{"$f":"ROUND(F204*(1-$C$3)/Лист2!$A$6,0)","v":179}]
["T-DS 03216310","Разделитель скошенный для полок Н=200/100 G=310",200,310,null,205,{"$f":"ROUND(F205*(1-$C$3)/Лист2!$A$6,0)","v":205}]
["T-DS 03216370","Разделитель скошенный для полок Н=200/100 G=370",200,370,null,215,{"$f":"ROUND(F206*(1-$C$3)/Лист2!$A$6,0)","v":215}]
["T-DS 03216470","Разделитель скошенный для полок Н=200/100 G=470 ",200,470,null,245,{"$f":"ROUND(F207*(1-$C$3)/Лист2!$A$6,0)","v":245}]
["T-DS 03216570","Разделитель скошенный для полок Н=200/100 G=570 ",200,570,null,264,{"$f":"ROUND(F208*(1-$C$3)/Лист2!$A$6,0)","v":264}]
["T-DS 03216670","Разделитель скошенный для полок Н=200/100 G=670",200,670,null,280,{"$f":"ROUND(F209*(1-$C$3)/Лист2!$A$6,0)","v":280}]
["T-DS 03216770","Разделитель скошенный для полок Н=200/100 G=770",200,770,null,306,{"$f":"ROUND(F210*(1-$C$3)/Лист2!$A$6,0)","v":306}]
["T-DS 08166310","Разделитель скошенный с ножкой для полок Н=100/60 G=310 ",100,310,null,215,{"$f":"ROUND(F211*(1-$C$3)/Лист2!$A$6,0)","v":215}]
["T-DS 08166370","Разделитель скошенный с ножкой для полок Н=100/60 G=370 ",100,370,null,222,{"$f":"ROUND(F212*(1-$C$3)/Лист2!$A$6,0)","v":222}]
["T-DS 08166470","Разделитель скошенный с ножкой для полок Н=100/60 G=470 ",100,470,null,237,{"$f":"ROUND(F213*(1-$C$3)/Лист2!$A$6,0)","v":237}]
["T-DS 08166570","Разделитель скошенный с ножкой для полок Н=100/60 G=570",100,570,null,291,{"$f":"ROUND(F214*(1-$C$3)/Лист2!$A$6,0)","v":291}]
["T-DS 08216310","Разделитель скошенный с ножкой для полок Н=200/100 G=310 ",200,310,null,158,{"$f":"ROUND(F215*(1-$C$3)/Лист2!$A$6,0)","v":158}]
["T-DS 08216370","Разделитель скошенный с ножкой для полок Н=200/100 G=370 ",200,370,null,250,{"$f":"ROUND(F216*(1-$C$3)/Лист2!$A$6,0)","v":250}]
["T-DS 08216470","Разделитель скошенный с ножкой для полок Н=200/100 G=470 ",200,470,null,280,{"$f":"ROUND(F217*(1-$C$3)/Лист2!$A$6,0)","v":280}]
["T-DS 08216570","Разделитель скошенный с ножкой для полок Н=200/100 G=570 ",200,570,null,306,{"$f":"ROUND(F218*(1-$C$3)/Лист2!$A$6,0)","v":306}]
["T-DS 07120310","Разделитель прямой с ножкой для полок H=120 G=310",120,310,null,219,{"$f":"ROUND(F219*(1-$C$3)/Лист2!$A$6,0)","v":219}]
["T-DS 07120370","Разделитель прямой с ножкой для полок H=120 G=370",120,370,null,227,{"$f":"ROUND(F220*(1-$C$3)/Лист2!$A$6,0)","v":227}]
["T-DS 07120470","Разделитель прямой с ножкой для полок H=120 G=470",120,470,null,264,{"$f":"ROUND(F221*(1-$C$3)/Лист2!$A$6,0)","v":264}]
["T-DS 07120570","Разделитель прямой с ножкой для полок H=120 G=570",120,570,null,287,{"$f":"ROUND(F222*(1-$C$3)/Лист2!$A$6,0)","v":287}]
["T-DS 07120670","Разделитель прямой с ножкой для полок H=120 G=670",120,670,null,306,{"$f":"ROUND(F223*(1-$C$3)/Лист2!$A$6,0)","v":306}]
["T-DS 07060310","Разделитель прямой с ножкой для полок H=60 G=310",60,310,null,196,{"$f":"ROUND(F224*(1-$C$3)/Лист2!$A$6,0)","v":196}]
["T-DS 07060370","Разделитель прямой с ножкой для полок H=60 G=370",60,370,null,215,{"$f":"ROUND(F225*(1-$C$3)/Лист2!$A$6,0)","v":215}]
["T-DS 07060470","Разделитель прямой с ножкой для полок H=60 G=470",60,470,null,246,{"$f":"ROUND(F226*(1-$C$3)/Лист2!$A$6,0)","v":246}]
["T-DS 07060570","Разделитель прямой с ножкой для полок H=60 G=570",60,570,null,275,{"$f":"ROUND(F227*(1-$C$3)/Лист2!$A$6,0)","v":275}]
["T-DS 07060670","Разделитель прямой с ножкой для полок H=60 G=670",60,670,null,310,{"$f":"ROUND(F228*(1-$C$3)/Лист2!$A$6,0)","v":310}]
["T-DS 07035310","Разделитель прямой с ножкой для полок H=35 G=310",35,310,null,140,{"$f":"ROUND(F229*(1-$C$3)/Лист2!$A$6,0)","v":140}]
["T-DS 07035370","Разделитель прямой с ножкой для полок H=35 G=370",35,370,null,158,{"$f":"ROUND(F230*(1-$C$3)/Лист2!$A$6,0)","v":158}]
["T-DS 07035470","Разделитель прямой с ножкой для полок H=35 G=470",35,470,null,195,{"$f":"ROUND(F231*(1-$C$3)/Лист2!$A$6,0)","v":195}]
["A-PB 01046230","Держатель для плоек на перфорированную балку 20х40",null,null,null,356,{"$f":"ROUND(F232*(1-$C$3)/Лист2!$A$6,0)","v":356}]
["A-PB 01026300","Держатель для фенов на перфорированную  балку20х40",null,null,null,487,{"$f":"ROUND(F233*(1-$C$3)/Лист2!$A$6,0)","v":487}]
["T-WB 053502800","Корзина для аксессуаров",null,null,null,1014,{"$f":"ROUND(F234*(1-$C$3)/Лист2!$A$6,0)","v":1014}]
["А-DB 02018387","Держатель для молотков на балку 20х40L350 D8",null,null,null,291,{"$f":"ROUND(F235*(1-$C$3)/Лист2!$A$6,0)","v":291}]
["А-PP 02120085","Крюк для электродрели на перфопанель",null,null,null,140,{"$f":"ROUND(F236*(1-$C$3)/Лист2!$A$6,0)","v":140}]
["А-DB 01058500","Держатель для тарелок на балку 20х40 с ценникодержателем прутокL400",null,null,null,1011,{"$f":"ROUND(F237*(1-$C$3)/Лист2!$A$6,0)","v":1011}]
["А-НВ 1006300","Крюк один.на балку 20х40 без ценникодерж.диаметр6 L300",null,null,null,185,{"$f":"ROUND(F238*(1-$C$3)/Лист2!$A$6,0)","v":185}]
["А-НВ 1126400","Крюк одинарный на балку 20х40 с ценникодерж.диаметр 6 L400",null,null,null,158,{"$f":"ROUND(F239*(1-$C$3)/Лист2!$A$6,0)","v":158}]
["А-НВ 1128400","Крюк одинарный на балку 20х40 с ценнодерж. диаметр 8 L400",null,null,null,216,{"$f":"ROUND(F240*(1-$C$3)/Лист2!$A$6,0)","v":216}]
["A-DB 040004500","Экспозитор для садов.инструм.на балку20х40 L450",null,null,null,365,{"$f":"ROUND(F241*(1-$C$3)/Лист2!$A$6,0)","v":365}]
["А-PВ 10000300","Держатель для утюгов на перфорированную балку 20х40",null,null,null,346,{"$f":"ROUND(F242*(1-$C$3)/Лист2!$A$6,0)","v":346}]
["А-DB 01070860","Крючок на балку 20х40 для климатической техники",null,null,null,130,{"$f":"ROUND(F243*(1-$C$3)/Лист2!$A$6,0)","v":130}]
["T-CN 02003972","Ценникодержатель для крючков 39х72",null,null,null,19,{"$f":"ROUND(F244*(1-$C$3)/Лист2!$A$6,0)","v":19}]
["T-DS 08010010","Разделитель CD/DVD (оргстекло)",100,100,null,85,{"$f":"ROUND(F245*(1-$C$3)/Лист2!$A$6,0)","v":85}]
["A-WS 080004000","Вешало наклонное на стойку с ограничителями G=400",null,null,null,1375,{"$f":"ROUND(F246*(1-$C$3)/Лист2!$A$6,0)","v":1375}]
["T-BP 13115665","Панель сетчатая H=150 L=665",150,null,665,487,{"$f":"ROUND(F247*(1-$C$3)/Лист2!$A$6,0)","v":487}]
["T-BP 13120665","Панель сетчатая H=200 L=665",200,null,665,551,{"$f":"ROUND(F248*(1-$C$3)/Лист2!$A$6,0)","v":551}]
["T-BP 13130665","Панель сетчатая H=300 L=665",300,null,665,746,{"$f":"ROUND(F249*(1-$C$3)/Лист2!$A$6,0)","v":746}]
["T-BP 13140665","Панель сетчатая H=400 L=665",400,null,665,861,{"$f":"ROUND(F250*(1-$C$3)/Лист2!$A$6,0)","v":861}]
["T-BP 13160665","Панель сетчатая H=600 L=665",600,null,665,1120,{"$f":"ROUND(F251*(1-$C$3)/Лист2!$A$6,0)","v":1120}]
["T-BP 13115100","Панель сетчатая H=150 L=1000",150,null,1000,609,{"$f":"ROUND(F252*(1-$C$3)/Лист2!$A$6,0)","v":609}]
["T-BP 13120100","Панель сетчатая H=200 L=1000",200,null,1000,689,{"$f":"ROUND(F253*(1-$C$3)/Лист2!$A$6,0)","v":689}]
["T-BP 13130100","Панель сетчатая H=300 L=1000",300,null,1000,932,{"$f":"ROUND(F254*(1-$C$3)/Лист2!$A$6,0)","v":932}]
["T-BP 13140100","Панель сетчатая H=400 L=1000",400,null,1000,1075,{"$f":"ROUND(F255*(1-$C$3)/Лист2!$A$6,0)","v":1075}]
["T-BP 13160100","Панель сетчатая H=600 L=1000",600,null,1000,1401,{"$f":"ROUND(F256*(1-$C$3)/Лист2!$A$6,0)","v":1401}]
["T-BP 13115125","Панель сетчатая H=150 L=1250",150,null,1250,726,{"$f":"ROUND(F257*(1-$C$3)/Лист2!$A$6,0)","v":726}]
["T-BP 13120125","Панель сетчатая H=200 L=1250",200,null,1250,819,{"$f":"ROUND(F258*(1-$C$3)/Лист2!$A$6,0)","v":819}]
["T-BP 13130125","Панель сетчатая H=300 L=1250",300,null,1250,1112,{"$f":"ROUND(F259*(1-$C$3)/Лист2!$A$6,0)","v":1112}]
["T-BP 13140125","Панель сетчатая H=400 L=1250",400,null,1250,1396,{"$f":"ROUND(F260*(1-$C$3)/Лист2!$A$6,0)","v":1396}]
["T-BP 13160125","Панель сетчатая H=600 L=1250",600,null,1250,1685,{"$f":"ROUND(F261*(1-$C$3)/Лист2!$A$6,0)","v":1685}]
["T-BP 13015665","Панель сетчатая центральная H=150 L=665",150,null,665,498,{"$f":"ROUND(F262*(1-$C$3)/Лист2!$A$6,0)","v":498}]
["T-BP 13020665","Панель сетчатая центральная H=200 L=665",200,null,665,559,{"$f":"ROUND(F263*(1-$C$3)/Лист2!$A$6,0)","v":559}]
["T-BP 13030665","Панель сетчатая центральная H=300 L=665",300,null,665,755,{"$f":"ROUND(F264*(1-$C$3)/Лист2!$A$6,0)","v":755}]
["T-BP 13040665","Панель сетчатая центральная H=400 L=665",400,null,665,861,{"$f":"ROUND(F265*(1-$C$3)/Лист2!$A$6,0)","v":861}]
["T-BP 13060665","Панель сетчатая центральная H=600 L=665",600,null,665,1130,{"$f":"ROUND(F266*(1-$C$3)/Лист2!$A$6,0)","v":1130}]
["T-BP 13015100","Панель сетчатая центральная H=150 L=1000",150,null,1000,620,{"$f":"ROUND(F267*(1-$C$3)/Лист2!$A$6,0)","v":620}]
["T-BP 13020100","Панель сетчатая центральная H=200 L=1000",200,null,1000,699,{"$f":"ROUND(F268*(1-$C$3)/Лист2!$A$6,0)","v":699}]
["T-BP 13030100","Панель сетчатая центральная H=300 L=1000",300,null,1000,947,{"$f":"ROUND(F269*(1-$C$3)/Лист2!$A$6,0)","v":947}]
["T-BP 13040100","Панель сетчатая центральная H=400 L=1000",400,null,1000,1075,{"$f":"ROUND(F270*(1-$C$3)/Лист2!$A$6,0)","v":1075}]
["T-BP 13060100","Панель сетчатая центральная H=600 L=1000",600,null,1000,1411,{"$f":"ROUND(F271*(1-$C$3)/Лист2!$A$6,0)","v":1411}]
["T-BP 13015125","Панель сетчатая центральная H=150 L=1250",150,null,1250,740,{"$f":"ROUND(F272*(1-$C$3)/Лист2!$A$6,0)","v":740}]
["T-BP 13020125","Панель сетчатая центральная H=200 L=1250",200,null,1250,831,{"$f":"ROUND(F273*(1-$C$3)/Лист2!$A$6,0)","v":831}]
["T-BP 13030125","Панель сетчатая центральная H=300 L=1250",300,null,1250,1124,{"$f":"ROUND(F274*(1-$C$3)/Лист2!$A$6,0)","v":1124}]
["T-BP 13040125","Панель сетчатая центральная H=400 L=1250",400,null,1250,1281,{"$f":"ROUND(F275*(1-$C$3)/Лист2!$A$6,0)","v":1281}]
["T-BP 13060125","Панель сетчатая центральная H=600 L=1250",600,null,1250,1678,{"$f":"ROUND(F276*(1-$C$3)/Лист2!$A$6,0)","v":1678}]
["T-BP 35900150","Панель сетчатая  угловая внутренняя H=150 ",150,null,null,575,{"$f":"ROUND(F277*(1-$C$3)/Лист2!$A$6,0)","v":575}]
["T-BP 35900200","Панель сетчатая  угловая внутренняя H=200 ",200,null,null,638,{"$f":"ROUND(F278*(1-$C$3)/Лист2!$A$6,0)","v":638}]
["T-BP 35900300","Панель сетчатая  угловая внутренняя H=300 ",300,null,null,842,{"$f":"ROUND(F279*(1-$C$3)/Лист2!$A$6,0)","v":842}]
["T-BP 35900400","Панель сетчатая  угловая внутренняя H=400 ",400,null,null,941,{"$f":"ROUND(F280*(1-$C$3)/Лист2!$A$6,0)","v":941}]
["T-BP 35900600","Панель сетчатая  угловая внутренняя H=600",600,null,null,1185,{"$f":"ROUND(F281*(1-$C$3)/Лист2!$A$6,0)","v":1185}]
["T-BP 36900150","Панель сетчатая  угловая внешняя H=150 ",150,null,null,292,{"$f":"ROUND(F282*(1-$C$3)/Лист2!$A$6,0)","v":292}]
["T-BP 36900200","Панель сетчатая  угловая внешняя H=200 ",200,null,null,321,{"$f":"ROUND(F283*(1-$C$3)/Лист2!$A$6,0)","v":321}]
["T-BP 36900300","Панель сетчатая  угловая внешняя H=300 ",300,null,null,423,{"$f":"ROUND(F284*(1-$C$3)/Лист2!$A$6,0)","v":423}]
["T-BP 36900400","Панель сетчатая  угловая внешняя H=400 ",400,null,null,475,{"$f":"ROUND(F285*(1-$C$3)/Лист2!$A$6,0)","v":475}]
["T-BP 36900600","Панель сетчатая  угловая внешняя H=600",600,null,null,598,{"$f":"ROUND(F286*(1-$C$3)/Лист2!$A$6,0)","v":598}]
["T-ST 11308665","Полка-проставка базов к панели сетчат центр L=665",null,null,665,382,{"$f":"ROUND(F287*(1-$C$3)/Лист2!$A$6,0)","v":382}]
["T-ST 11308100","Полка-проставка базов к панели сетчат центр L=1000",null,null,1000,525,{"$f":"ROUND(F288*(1-$C$3)/Лист2!$A$6,0)","v":525}]
["T-ST 11308125","Полка-проставка базов к панели сетчат центр L=1250",null,null,1250,624,{"$f":"ROUND(F289*(1-$C$3)/Лист2!$A$6,0)","v":624}]
["T-ST 11308133","Полка-проставка базов к панели сетчат центр L=1330",null,null,1330,654,{"$f":"ROUND(F290*(1-$C$3)/Лист2!$A$6,0)","v":654}]
["T-ST 11208665","Полка-проставка к панели сетчатой центральной L=665",null,null,665,264,{"$f":"ROUND(F291*(1-$C$3)/Лист2!$A$6,0)","v":264}]
["T-ST 11208100","Полка-проставка к панели сетчатой центральной L=1000",null,null,1000,340,{"$f":"ROUND(F292*(1-$C$3)/Лист2!$A$6,0)","v":340}]
["T-ST 11208125","Полка-проставка к панели сетчатой центральной L=1250",null,null,1250,411,{"$f":"ROUND(F293*(1-$C$3)/Лист2!$A$6,0)","v":411}]
["T-ST 11208133","Полка-проставка к панели сетчатой центральной L=1330",null,null,1330,441,{"$f":"ROUND(F294*(1-$C$3)/Лист2!$A$6,0)","v":441}]
["T-SS 03471650","Боковина сетчатая H=1650(470-370)",null,null,null,3967,{"$f":"ROUND(F295*(1-$C$3)/Лист2!$A$6,0)","v":3967}]
["T-SS 03471800","Боковина сетчатая H=1800,G=470",null,null,null,4093,{"$f":"ROUND(F296*(1-$C$3)/Лист2!$A$6,0)","v":4093}]
["T-SS 03472150","Боковина сетчатая(470-370),H=2150, G=470",null,null,null,5096,{"$f":"ROUND(F297*(1-$C$3)/Лист2!$A$6,0)","v":5096}]
["T-SS 03472300","Боковина сетчатая H=2300,G=470",null,null,null,5166,{"$f":"ROUND(F298*(1-$C$3)/Лист2!$A$6,0)","v":5166}]
["T-SS 04471600","Боковина сетчатая(470-470),H=1600, G=470",null,null,null,4561,{"$f":"ROUND(F299*(1-$C$3)/Лист2!$A$6,0)","v":4561}]
["T-SS 04471650","Боковина сетчатая(470-470),H=1650, G=470",null,null,null,4661,{"$f":"ROUND(F300*(1-$C$3)/Лист2!$A$6,0)","v":4661}]
["T-SS 04471700","Боковина сетчатая(470-470),H=1700, G=470",null,null,null,4679,{"$f":"ROUND(F301*(1-$C$3)/Лист2!$A$6,0)","v":4679}]
["T-SS 04472100","Боковина сетчатая(470-470),H=2100, G=470",null,null,null,5669,{"$f":"ROUND(F302*(1-$C$3)/Лист2!$A$6,0)","v":5669}]
["T-SS 04472150","Боковина сетчатая(470-470),H=2150, G=470",null,null,null,5696,{"$f":"ROUND(F303*(1-$C$3)/Лист2!$A$6,0)","v":5696}]
["T-SS 04472300","Боковина сетчатая(470-470),H=2300, G=470",null,null,null,6361,{"$f":"ROUND(F304*(1-$C$3)/Лист2!$A$6,0)","v":6361}]
["T-SS 04472500","Боковина сетчатая(470-470),H=2500, G=470",null,null,null,7192,{"$f":"ROUND(F305*(1-$C$3)/Лист2!$A$6,0)","v":7192}]
["T-WB 09401570","Корзина на сетчатую панель,L=400, H=70, G=150",null,null,null,480,{"$f":"ROUND(F306*(1-$C$3)/Лист2!$A$6,0)","v":480}]
["A-SP 11250150","Крючок одинар с ценникод прутк для сетчат панели",null,null,null,118,{"$f":"ROUND(F307*(1-$C$3)/Лист2!$A$6,0)","v":118}]
["T-DS 01000120","Разделитель пластиковый (обламывающийся) H=120",120,null,1000,245,{"$f":"ROUND(F308*(1-$C$3)/Лист2!$A$6,0)","v":245}]
["T-DS 01370150","Разделитель пластик Т-обр, H=150, G=370",150,370,null,361,{"$f":"ROUND(F309*(1-$C$3)/Лист2!$A$6,0)","v":361}]
["T-FL 01100080","Ограничитель пластик передний L-обр с Т-обр. профилем с магнитным скотчем H=80 L=1000",80,null,1000,713,{"$f":"ROUND(F310*(1-$C$3)/Лист2!$A$6,0)","v":713}]
["T-FL 02101000","Т-образный пластиковый профиль для крепления разделителей G=10 L=1000",null,10,1000,97,{"$f":"ROUND(F311*(1-$C$3)/Лист2!$A$6,0)","v":97}]
["T-ST 11137665","Полка сетчатая,L=665, G=370",null,370,665,1625,{"$f":"ROUND(F312*(1-$C$3)/Лист2!$A$6,0)","v":1625}]
["T-ST 11137100","Полка сетчатая,L=1000, G=370",null,370,1000,2032,{"$f":"ROUND(F313*(1-$C$3)/Лист2!$A$6,0)","v":2032}]
["T-ST 11137125","Полка сетчатая,L=1250, G=370",null,370,1250,2417,{"$f":"ROUND(F314*(1-$C$3)/Лист2!$A$6,0)","v":2417}]
["T-ST 11137133","Полка сетчатая,L=1330, G=370",null,370,1330,2734,{"$f":"ROUND(F315*(1-$C$3)/Лист2!$A$6,0)","v":2734}]
["T-ST 11147665","Полка сетчатая,L=665, G=470",null,470,665,1908,{"$f":"ROUND(F316*(1-$C$3)/Лист2!$A$6,0)","v":1908}]
["T-ST 11147100","Полка сетчатая,L=1000, G=470",null,470,1000,2387,{"$f":"ROUND(F317*(1-$C$3)/Лист2!$A$6,0)","v":2387}]
["T-ST 11147125","Полка сетчатая,L=1250, G=470",null,470,1250,2841,{"$f":"ROUND(F318*(1-$C$3)/Лист2!$A$6,0)","v":2841}]
["T-ST 11147133","Полка сетчатая,L=1330, G=470",null,470,1330,3210,{"$f":"ROUND(F319*(1-$C$3)/Лист2!$A$6,0)","v":3210}]
["T-ST 11157665","Полка сетчатая,L=665, G=570",null,570,665,2190,{"$f":"ROUND(F320*(1-$C$3)/Лист2!$A$6,0)","v":2190}]
["T-ST 11157100","Полка сетчатая,L=1000, G=570",null,570,1000,2734,{"$f":"ROUND(F321*(1-$C$3)/Лист2!$A$6,0)","v":2734}]
["T-ST 11157125","Полка сетчатая,L=1250, G=570",null,570,1250,3256,{"$f":"ROUND(F322*(1-$C$3)/Лист2!$A$6,0)","v":3256}]
["T-ST 11157133","Полка сетчатая,L=1330, G=570",null,570,1330,3679,{"$f":"ROUND(F323*(1-$C$3)/Лист2!$A$6,0)","v":3679}]
["T-BS 14000370","Кронштейн полки сетчатой(компл), G=370",null,370,null,264,{"$f":"ROUND(F324*(1-$C$3)/Лист2!$A$6,0)","v":264}]
["T-BS 14000470","Кронштейн полки сетчатой(компл), G=470",null,470,null,521,{"$f":"ROUND(F325*(1-$C$3)/Лист2!$A$6,0)","v":521}]
["T-BS 16010370","Кронштейн для торцевых сетчатых полукруглых полок (комплект с адаптером 80х30)  G=370 ",null,370,null,1264,{"$f":"ROUND(F326*(1-$C$3)/Лист2!$A$6,0)","v":1264}]
["T-BS 16010470","Кронштейн для торцевых сетчатых полукруглых полок (комплект с адаптером 80х30)  G=470",null,470,null,1746,{"$f":"ROUND(F327*(1-$C$3)/Лист2!$A$6,0)","v":1746}]
["T-BS 17000370","Кронштейн двухсторонний для сетчатой полки стеллажа с доп. cтойкой (комплект), G=370",null,370,null,382,{"$f":"ROUND(F328*(1-$C$3)/Лист2!$A$6,0)","v":382}]
["T-BS 17000470","Кронштейн двухсторонний для сетчатой полки стеллажа с доп. cтойкой (комплект), G=470",null,470,null,480,{"$f":"ROUND(F329*(1-$C$3)/Лист2!$A$6,0)","v":480}]
["T-BS 17000570","Кронштейн двухсторонний для сетчатой полки стеллажа с доп. cтойкой (комплект), G=570",null,570,null,575,{"$f":"ROUND(F330*(1-$C$3)/Лист2!$A$6,0)","v":575}]
["T-ST 11037665","Полка сетч для центр панели,L=665, G=370",null,370,665,1631,{"$f":"ROUND(F331*(1-$C$3)/Лист2!$A$6,0)","v":1631}]
["T-ST 11037100","Полка сетч для центр панели,L=1000, G=370",null,370,1000,2039,{"$f":"ROUND(F332*(1-$C$3)/Лист2!$A$6,0)","v":2039}]
["T-ST 11037125","Полка сетч для центр панели,L=1250, G=370",null,370,1250,2428,{"$f":"ROUND(F333*(1-$C$3)/Лист2!$A$6,0)","v":2428}]
["T-ST 11047665","Полка сетч для центр панели,L=665, G=470",null,470,665,1939,{"$f":"ROUND(F334*(1-$C$3)/Лист2!$A$6,0)","v":1939}]
["T-ST 11047100","Полка сетч для центр панели,L=1000, G=470",null,470,1000,2423,{"$f":"ROUND(F335*(1-$C$3)/Лист2!$A$6,0)","v":2423}]
["T-ST 11047125","Полка сетч для центр панели,L=1250, G=470",null,470,1250,2881,{"$f":"ROUND(F336*(1-$C$3)/Лист2!$A$6,0)","v":2881}]
["T-ST 11218665","Полка-проставка базов полки пристен стеллажа L=665",null,null,665,171,{"$f":"ROUND(F337*(1-$C$3)/Лист2!$A$6,0)","v":171}]
["T-ST 11218850","Полка-проставка базов полки пристен стеллажа L=850",null,null,850,216,{"$f":"ROUND(F338*(1-$C$3)/Лист2!$A$6,0)","v":216}]
["T-ST 11218100","Полка-проставка базов полки пристен стеллажа L=1000",null,null,1000,243,{"$f":"ROUND(F339*(1-$C$3)/Лист2!$A$6,0)","v":243}]
["T-ST 11218125","Полка-проставка базов полки пристен стеллажа L=1250",null,null,1250,288,{"$f":"ROUND(F340*(1-$C$3)/Лист2!$A$6,0)","v":288}]
["T-ST 11218133","Полка-проставка базов полки пристен стеллажа L=1330",null,null,1330,311,{"$f":"ROUND(F341*(1-$C$3)/Лист2!$A$6,0)","v":311}]
["T-ST 11159370","Полка сетч угловая внутр,G=370",null,370,null,1622,{"$f":"ROUND(F342*(1-$C$3)/Лист2!$A$6,0)","v":1622}]
["T-ST 11159470","Полка сетч угловая внутр,G=470",null,470,null,1970,{"$f":"ROUND(F343*(1-$C$3)/Лист2!$A$6,0)","v":1970}]
["T-ST 11159570","Полка сетч угловая внутр,G=570",null,570,null,2428,{"$f":"ROUND(F344*(1-$C$3)/Лист2!$A$6,0)","v":2428}]
["T-ST 11169370","Полка сетч угловая внеш,G=370",null,370,null,1458,{"$f":"ROUND(F345*(1-$C$3)/Лист2!$A$6,0)","v":1458}]
["T-ST 11169470","Полка сетч угловая внеш,G=470",null,470,null,1828,{"$f":"ROUND(F346*(1-$C$3)/Лист2!$A$6,0)","v":1828}]
["T-ST 11169570","Полка сетч угловая внеш,G=570",null,570,null,2292,{"$f":"ROUND(F347*(1-$C$3)/Лист2!$A$6,0)","v":2292}]
["T-ST 11400370","Полка сетчатая торцевая полукруглая G=370  ",null,370,null,4386,{"$f":"ROUND(F348*(1-$C$3)/Лист2!$A$6,0)","v":4386}]
["T-ST 11400470","Полка сетчатая торцевая полукруглая G=470  ",null,470,null,5380,{"$f":"ROUND(F349*(1-$C$3)/Лист2!$A$6,0)","v":5380}]
["A-WR 01015300","Вешало прямое на балку 15х30 с ограничителем G=300",null,null,null,1294,{"$f":"ROUND(F350*(1-$C$3)/Лист2!$A$6,0)","v":1294}]
["A-WR 01015400","Вешало прямое на балку 15х30 с ограничителем G=400",null,null,null,1348,{"$f":"ROUND(F351*(1-$C$3)/Лист2!$A$6,0)","v":1348}]
["A-WS 09015400","Вешало наклонное с крючками на балку 15х30 G=400",null,null,null,1750,{"$f":"ROUND(F352*(1-$C$3)/Лист2!$A$6,0)","v":1750}]
["A-WS 01015300","Вешало наклонное на балку 15х30 с ограничителем G=300",null,null,null,1375,{"$f":"ROUND(F353*(1-$C$3)/Лист2!$A$6,0)","v":1375}]
["A-WS 01015400","Вешало наклонное на балку 15х30 с ограничителем G=400",null,null,null,1673,{"$f":"ROUND(F354*(1-$C$3)/Лист2!$A$6,0)","v":1673}]
["A-WS 03015400","Вешало наклонное на балку 15х30 с ограничителями  G=400",null,null,null,1448,{"$f":"ROUND(F355*(1-$C$3)/Лист2!$A$6,0)","v":1448}]
["A-WS 05010300","Вешало ступенчатое на балку 15х30 G=300",null,null,null,1695,{"$f":"ROUND(F356*(1-$C$3)/Лист2!$A$6,0)","v":1695}]
["A-HP 050481500","Крючок одинарный на балку 15х30 D=4,8 G=150",null,null,null,130,{"$f":"ROUND(F357*(1-$C$3)/Лист2!$A$6,0)","v":130}]
["A-HP 050482000","Крючок одинарный на балку 15х30 D=4,8 G=200",null,null,null,139,{"$f":"ROUND(F358*(1-$C$3)/Лист2!$A$6,0)","v":139}]
["A-HP 050482500","Крючок одинарный на балку 15х30 D=4,8 G=250",null,null,null,146,{"$f":"ROUND(F359*(1-$C$3)/Лист2!$A$6,0)","v":146}]

{"sheet":"Оргстекло","index":13,"n_rows":18,"n_cols":5,"rows_kept":18,"cut":false,"hidden":false,"merged":[[5,2,6,2],[5,3,6,3],[7,0,7,1],[2,0,2,1],[3,0,3,1],[5,0,6,0],[5,1,6,1]]}
["Изделия из оргстекла",null,null,null,"На главную"]
[]
["Ваша скидка:",null,{"$f":"Содержание!C2","v":0}]
["НДС:",null,{"$f":"IF(Лист2!A1=TRUE,\"С НДС\",\"БЕЗ НДС\")","v":"С НДС"}]
[]
["Изображение","Номенклатура","Базовая цена, руб. (с НДС)",{"$f":"[7]Лист2!$A$5","v":"Ваша цена, руб."}]
[null,null,null,{"$f":"[7]Лист2!$A$5","v":"Ваша цена, руб."}]
["  Накопители (стеллажные)"]
[null,"Накопитель 90х30х10, стеллажный 5 секций 173.01",null,{"$f":"ROUND(C9*(1-$C$3)/Лист2!$A$6,0)","v":0},"по запросу"]
[null,"Накопитель 90х40х10, стеллажный 5 секций 173.02",null,{"$f":"ROUND(C10*(1-$C$3)/Лист2!$A$6,0)","v":0},"по запросу"]
[null,"Накопитель 100х45х10, стеллажный 5 секций 173.03",null,{"$f":"ROUND(C11*(1-$C$3)/Лист2!$A$6,0)","v":0},"по запросу"]
[null,"Накопитель 100х40х10, стеллажный 5 секций 173.04",null,{"$f":"ROUND(C12*(1-$C$3)/Лист2!$A$6,0)","v":0},"по запросу"]
[null,"Накопитель 100х35х10, стеллажный 5 секций 173.05",null,{"$f":"ROUND(C13*(1-$C$3)/Лист2!$A$6,0)","v":0},"по запросу"]
[null,"Накопитель 100х30х10, стеллажный 5 секций 173.06",null,{"$f":"ROUND(C14*(1-$C$3)/Лист2!$A$6,0)","v":0},"по запросу"]
[null,"Накопитель 100х45х10, стеллажный 10 секций 173.07",null,{"$f":"ROUND(C15*(1-$C$3)/Лист2!$A$6,0)","v":0},"по запросу"]
[null,"Накопитель 85х35х10, стеллажный 4 секции 173.08",null,{"$f":"ROUND(C16*(1-$C$3)/Лист2!$A$6,0)","v":0},"по запросу"]
[null,"Накопитель 60х20х13/20, стеллажный 3 секции 173.09",null,{"$f":"ROUND(C17*(1-$C$3)/Лист2!$A$6,0)","v":0},"по запросу"]
[null,"Накопитель 100х30х8/18, стеллажный 5 секций 173.10",null,{"$f":"ROUND(C18*(1-$C$3)/Лист2!$A$6,0)","v":0},"по запросу"]

{"sheet":"Детали и аксессуары  KAISER","index":14,"n_rows":50,"n_cols":6,"rows_kept":50,"cut":false,"hidden":false,"merged":[[45,0,48,0],[6,4,7,4],[6,5,7,5],[2,0,2,1],[3,0,3,1],[6,0,40,0],[6,1,7,1],[6,2,7,2],[6,3,7,3]]}
["Детали и аксессуары KAISER"]
[]
["Ваша скидка:",null,{"$f":"Содержание!C2","v":0}]
["НДС:",null,{"$f":"IF(Лист2!A1=TRUE,\"С НДС\",\"БЕЗ НДС\")","v":"С НДС"}]
[]
[null,null,"новинки"]
[null,"Артикул","Наименование","Характеристика","Базовая цена, руб. (с НДС)",{"$f":"[7]Лист2!$A$5","v":"Ваша цена, руб."}]
[null,null,null,null,null,{"$f":"[7]Лист2!$A$5","v":"Ваша цена, руб."}]
[null,"N-LT 22470900","Стойка кассового модуля 60х30 L-образная  G=470 Н=900 (для траверс)","9010 стр. муар",1919,{"$f":"ROUND(E9*(1-$C$3)/Лист2!$A$6,0)","v":1919}]
[null,"N-LT 22470115","Стойка кассового модуля 60х30 L-образная  G=470 Н=1150 (для траверс)","9010 стр. муар",2113,{"$f":"ROUND(E10*(1-$C$3)/Лист2!$A$6,0)","v":2113}]
[null,"N-LT 22000900","Стойка с опорой кассового модуля Н=900 (для траверс)","9010 стр. муар",1124,{"$f":"ROUND(E11*(1-$C$3)/Лист2!$A$6,0)","v":1124}]
[null,"N-LT 22001150","Стойка с опорой кассового модуля Н=1150 (для траверс)","9010 стр. муар",1297,{"$f":"ROUND(E12*(1-$C$3)/Лист2!$A$6,0)","v":1297}]
[null,"N-ST 14100900","Экономпанель (мет.вставки) L=1000 H=900","дуб сонома",7920,{"$f":"ROUND(E13*(1-$C$3)/Лист2!$A$6,0)","v":7920}]
[null,"N-ST 14100115","Экономпанель (мет.вставки) L=1000 H=1150","дуб сонома",8340,{"$f":"ROUND(E14*(1-$C$3)/Лист2!$A$6,0)","v":8340}]
[null,"N-ST 14665900","Экономпанель (мет.вставки) L=665 H=900","дуб сонома",7432,{"$f":"ROUND(E15*(1-$C$3)/Лист2!$A$6,0)","v":7432}]
[null,"N-ST 14665115","Экономпанель (мет.вставки) L=665 H=1150","дуб сонома",7820,{"$f":"ROUND(E16*(1-$C$3)/Лист2!$A$6,0)","v":7820}]
[null,"N-SD 24001200","Экономпанель на стену 2400х1200 (мет встав)","дуб сонома",11572,{"$f":"ROUND(E17*(1-$C$3)/Лист2!$A$6,0)","v":11572}]
[null,"N-DB 04476656","Столешница  прямого модуля L=665 G=470 Н=36","дуб сонома",3109,{"$f":"ROUND(E18*(1-$C$3)/Лист2!$A$6,0)","v":3109}]
[null,"N-DB 04471006","Столешница  прямого модуля L=1000 G=470 Н=36","дуб сонома",4191,{"$f":"ROUND(E19*(1-$C$3)/Лист2!$A$6,0)","v":4191}]
[null,"N-DB 32147665","Столешница прям модуля центр L=665, H=32, G=470","дуб сонома",3200,{"$f":"ROUND(E20*(1-$C$3)/Лист2!$A$6,0)","v":3200}]
[null,"N-DB 32147100","Столешница прям модуля центр L=1000, H=32, G=470","дуб сонома",4315,{"$f":"ROUND(E21*(1-$C$3)/Лист2!$A$6,0)","v":4315}]
[null,"N-DB 04656506","Столешница  углового модуля L=665 G=665 Н=36","дуб сонома",5064,{"$f":"ROUND(E22*(1-$C$3)/Лист2!$A$6,0)","v":5064}]
[null,"N-DB 04210665","Столешница  надставки прямого модуля L=665 G=210 Н=32","дуб сонома",1431,{"$f":"ROUND(E23*(1-$C$3)/Лист2!$A$6,0)","v":1431}]
[null,"N-DB 04210100","Столешница  надставки прямого модуля L=1000 G=210 Н=32","дуб сонома",1886,{"$f":"ROUND(E24*(1-$C$3)/Лист2!$A$6,0)","v":1886}]
[null,"N-BB 09047900","Боковина ЛДСП кассового модуля h=32  G=470 H=900 (правая)","дуб сонома",4231,{"$f":"ROUND(E25*(1-$C$3)/Лист2!$A$6,0)","v":4231}]
[null,"N-BB 09147900","Боковина ЛДСП кассового модуля h=32  G=470 H=900 (левая)","дуб сонома",4231,{"$f":"ROUND(E26*(1-$C$3)/Лист2!$A$6,0)","v":4231}]
[null,"N-BB 09247115","Боковина ЛДСП кассового модуля h=32  G=470 H=1150 (правая)","дуб сонома",4965,{"$f":"ROUND(E27*(1-$C$3)/Лист2!$A$6,0)","v":4965}]
[null,"N-BB 09347115","Боковина ЛДСП кассового модуля h=32  G=470 H=1150 (левая)","дуб сонома",4965,{"$f":"ROUND(E28*(1-$C$3)/Лист2!$A$6,0)","v":4965}]
[null,"N-BB 09447115","Боковина ЛДСП кассового модуля (с вырезом) h=32  G=470 H=1150 (правая)","дуб сонома",4965,{"$f":"ROUND(E29*(1-$C$3)/Лист2!$A$6,0)","v":4965}]
[null,"N-BB 09547115","Боковина ЛДСП кассового модуля (с вырезом) h=32  G=470 H=1150 (левая)","дуб сонома",4965,{"$f":"ROUND(E30*(1-$C$3)/Лист2!$A$6,0)","v":4965}]
[null,"N-BB 03014732","Боковина ЛДСП кассового модуля 32/32 H=300 (правая)","дуб сонома",2116,{"$f":"ROUND(E31*(1-$C$3)/Лист2!$A$6,0)","v":2116}]
[null,"N-BB 03114732","Боковина ЛДСП кассового модуля 32/32 H=300 (левая)","дуб сонома",2116,{"$f":"ROUND(E32*(1-$C$3)/Лист2!$A$6,0)","v":2116}]
[null,"N-ST 06900900","Панель настенная угла внешнего 90гр. Н=900","дуб сонома",1618,{"$f":"ROUND(E33*(1-$C$3)/Лист2!$A$6,0)","v":1618}]
[null,"N-ST 14090900","Экономпанель (мет.вставки) угла внешнего 90гр. Н=900","дуб сонома",2606,{"$f":"ROUND(E34*(1-$C$3)/Лист2!$A$6,0)","v":2606}]
[null,"T-ST 01471000","Полка G=470 L = 1000","9010 стр. муар",1031,{"$f":"ROUND(E35*(1-$C$3)/Лист2!$A$6,0)","v":1031}]
[null,"T-TR 01010665","Траверса L=665","9010 стр. муар",437,{"$f":"ROUND(E36*(1-$C$3)/Лист2!$A$6,0)","v":437}]
[null,"T-TR 01011000","Траверса L=1000","9010 стр. муар",523,{"$f":"ROUND(E37*(1-$C$3)/Лист2!$A$6,0)","v":523}]
[null,"T-BS 01010470","Кронштейн Г-образный для ДСП (комплект)  G=470","9010 стр. муар",807,{"$f":"ROUND(E38*(1-$C$3)/Лист2!$A$6,0)","v":807}]
[null,"T-BS 01010210","Кронштейн Г-образный для ДСП (комплект)  G=210","9010 стр. муар",345,{"$f":"ROUND(E39*(1-$C$3)/Лист2!$A$6,0)","v":345}]
[null,"T-SC 01210665","Полка ДСП для Г-образного кронштейна  G=210 L=665","дуб сонома",847,{"$f":"ROUND(E40*(1-$C$3)/Лист2!$A$6,0)","v":847}]
[null,"T-SC 01211000","Полка ДСП для Г-образного кронштейна G=210 L=1000","дуб сонома",1253,{"$f":"ROUND(E41*(1-$C$3)/Лист2!$A$6,0)","v":1253}]
[null,"T-WB 10303060","Полка наклонная 30 град. на экономпанель L=600, H=50, G=300","цинк",530,{"$f":"ROUND(E42*(1-$C$3)/Лист2!$A$6,0)","v":530}]
[null,"T-WB 10803060","Корзина прямая на экономпанель L=600, H=80, G=300","цинк",689,{"$f":"ROUND(E43*(1-$C$3)/Лист2!$A$6,0)","v":689}]
[null,"T-WB 10503060","Полка прямая на экономпанель L=600, H=50, G=300","цинк",611,{"$f":"ROUND(E44*(1-$C$3)/Лист2!$A$6,0)","v":611}]
[null,"A-ЕP 11250200","Крючок одинарный с ценникодержателем прутком для экономпанели L=200,  D=5","цинк",114,{"$f":"ROUND(E45*(1-$C$3)/Лист2!$A$6,0)","v":114}]
[null,"N-RC 02200665","Полка сетчатая L=665, G=200","цинк",1400,{"$f":"ROUND(E46*(1-$C$3)/Лист2!$A$6,0)","v":1400}]
[null,"N-RC 02200100","Полка сетчатая L=1000, G=200","цинк",1655,{"$f":"ROUND(E47*(1-$C$3)/Лист2!$A$6,0)","v":1655}]
[null,"N-RC 02300665","Полка сетчатая L=665, G=300","цинк",0]
[null,"N-RC 02300100","Полка сетчатая L=1000, G=300","цинк",0]
[null,"T-WB 10151515","Короб пластиковый прозрачный на экономпанель 150х150х150","оргстекло",331,{"$f":"ROUND(E50*(1-$C$3)/Лист2!$A$6,0)","v":331}]

{"sheet":"Сборки KAISER","index":15,"n_rows":241,"n_cols":10,"rows_kept":241,"cut":false,"hidden":false,"merged":[[3,0,3,1],[4,0,4,1],[6,0,7,0],[6,1,7,1],[6,2,7,2],[3,2,3,3],[4,2,4,3],[6,4,7,4],[6,5,6,6],[6,7,6,8],[8,0,8,6],[9,0,16,0],[10,6,16,6],[10,8,16,8],[6,3,7,3],[17,0,24,0],[18,6,24,6],[18,8,24,8],[25,0,34,0],[26,6,34,6],[26,8,34,8],[35,0,43,0],[36,6,43,6],[36,8,43,8],[44,0,52,0],[45,6,52,6],[45,8,52,8],[53,0,64,0],[54,6,64,6],[54,8,64,8],[65,0,75,0],[66,6,75,6],[66,8,75,8],[76,0,86,0],[77,6,86,6],[77,8,86,8],[87,0,94,0],[88,6,94,6],[88,8,94,8],[95,0,102,0],[96,6,102,6],[96,8,102,8],[103,0,112,0],[104,6,112,6],[104,8,112,8],[113,0,121,0],[114,6,121,6],[114,8,121,8],[122,0,130,0],[123,6,130,6],[123,8,130,8],[131,0,142,0],[132,6,142,6],[132,8,142,8],[143,0,153,0],[144,6,153,6],[144,8,153,8],[154,0,164,0],[155,6,164,6],[155,8,164,8],[165,0,172,0],[166,6,172,6],[166,8,172,8],[173,0,180,0],[174,6,180,6],[174,8,180,8],[181,0,190,0],[182,6,190,6],[182,8,190,8],[191,0,200,0],[192,6,200,6],[192,8,200,8],[201,0,210,0],[202,6,210,6],[202,8,210,8],[211,0,211,6],[213,0,216,0],[213,6,220,6],[213,8,220,8],[217,0,218,0],[219,0,220,0],[221,0,223,0],[222,6,223,6],[222,8,223,8],[224,0,227,0],[225,6,227,6],[225,8,227,8],[236,6,240,6],[236,8,240,8],[228,0,231,0],[229,6,231,6],[229,8,231,8],[232,0,234,0],[233,6,234,6],[233,8,234,8]]}
[]
["Cборки модулей Кайзер",null,null,null,null,null,null,null,null,"На главную"]
[]
["Ваша скидка:",null,{"$f":"Содержание!C2","v":0}]
["НДС:",null,{"$f":"IF(Лист2!A1=TRUE,\"С НДС\",\"БЕЗ НДС\")","v":"С НДС"}]
[]
["Изображение","Артикул","Наименование","Характеристика","Кол-во  в сборке, шт.","Базовая цена, руб. (с НДС)",null,{"$f":"[7]Лист2!$A$5","v":"Ваша цена, руб."}]
[null,null,null,null,null,"за элемент в сборке","за сборку","за элемент комплекта","за сборку"]
["1 Кассовые модули KAISER"]
[null,1,"Модуль прямой L=665 G=470 H=900"]
[null,"N-LT 22470900","Стойка кассового модуля 60х30 L-образная  G=470 Н=900 (для траверс)   ","9010 стр. муар",1,{"$f":"VLOOKUP(B11,'Детали и аксессуары  KAISER'!B$9:E$50,4,0\n)","v":1919},{"$f":"SUMPRODUCT(E11:E17,F11:F17)","v":9685},{"$f":"ROUND(F11*(1-C4)/Лист2!$A$6,0)","v":1919},{"$f":"SUMPRODUCT(E11:E17,H11:H17)","v":9685}]
[null,"N-DB 04476656","Столешница  прямого модуля L=665 G=470 Н=36   ","дуб сонома",1,{"$f":"VLOOKUP(B12,'Детали и аксессуары  KAISER'!B$9:E$50,4,0\n)","v":3109},null,{"$f":"ROUND(F12*(1-C4)/Лист2!$A$6,0)","v":3109}]
[null,"T-BS 01010470","Кронштейн Г-образный для ДСП (комплект)  G=470   ","9010 стр. муар",1,{"$f":"VLOOKUP(B13,'Детали и аксессуары  KAISER'!B$9:E$50,4,0\n)","v":807},null,{"$f":"ROUND(F13*(1-C4)/Лист2!$A$6,0)","v":807}]
[null,"T-BP 01400665","Панель сплошная H=400 L = 665   ","9010 стр. муар",2,{"$f":"VLOOKUP(B14,'Детали Praktisch'!$A$12:$C$2072,3,0)","v":440},null,{"$f":"ROUND(F14*(1-C4)/Лист2!$A$6,0)","v":440}]
[null,"T-TR 01010665","Траверса L=665   ","9010 стр. муар",2,{"$f":"VLOOKUP(B15,'Детали и аксессуары  KAISER'!B$9:E$50,4,0\n)","v":437},null,{"$f":"ROUND(F15*(1-C4)/Лист2!$A$6,0)","v":437}]
[null,"T-ST 01470665","Полка G=470 L = 665   ","9010 стр. муар",2,{"$f":"VLOOKUP(B16,'Детали Praktisch'!A14:C2089,3,0)","v":782},null,{"$f":"ROUND(F16*(1-C4)/Лист2!$A$6,0)","v":782}]
[null,"T-BS 01000470","Кронштейн (комплект) G = 470   ","9010 стр. муар",1,{"$f":"VLOOKUP(B17,'Детали Praktisch'!A15:C2090,3,0)","v":532},null,{"$f":"ROUND(F17*(1-C4)/Лист2!$A$6,0)","v":532}]
[null,2,"Модуль прямой L=1000 G=470 H=900"]
[null,"N-LT 22470900","Стойка кассового модуля 60х30 L-образная  G=470 Н=900 (для траверс)   ","9010 стр. муар",1,{"$f":"VLOOKUP(B19,'Детали и аксессуары  KAISER'!B$9:E$50,4,0\n)","v":1919},{"$f":"SUMPRODUCT(E19:E25,F19:F25)","v":11709},{"$f":"ROUND(F19*(1-$C$4)/Лист2!$A$6,0)","v":1919},{"$f":"SUMPRODUCT(E19:E25,H19:H25)","v":11709}]
[null,"N-DB 04471006","Столешница  прямого модуля L=1000 G=470 Н=36   ","дуб сонома",1,{"$f":"VLOOKUP(B20,'Детали и аксессуары  KAISER'!B$9:E$50,4,0\n)","v":4191},null,{"$f":"ROUND(F20*(1-$C$4)/Лист2!$A$6,0)","v":4191}]
[null,"T-BS 01010470","Кронштейн Г-образный для ДСП (комплект)  G=470   ","9010 стр. муар",1,{"$f":"VLOOKUP(B21,'Детали и аксессуары  KAISER'!B$9:E$50,4,0\n)","v":807},null,{"$f":"ROUND(F21*(1-$C$4)/Лист2!$A$6,0)","v":807}]
[null,"T-BP 01401000","Панель сплошная H=400 L = 1000   ","9010 стр. муар",2,{"$f":"VLOOKUP(B22,'Детали Praktisch'!A20:C2095,3,0)","v":576},null,{"$f":"ROUND(F22*(1-$C$4)/Лист2!$A$6,0)","v":576}]
[null,"T-TR 01011000","Траверса L=1000   ","9010 стр. муар",2,{"$f":"VLOOKUP(B23,'Детали и аксессуары  KAISER'!B$9:E$50,4,0\n)","v":523},null,{"$f":"ROUND(F23*(1-$C$4)/Лист2!$A$6,0)","v":523}]
[null,"T-ST 01471000","Полка G=470 L = 1000   ","9010 стр. муар",2,{"$f":"VLOOKUP(B24,'Детали и аксессуары  KAISER'!B$9:E$50,4,0\n)","v":1031},null,{"$f":"ROUND(F24*(1-$C$4)/Лист2!$A$6,0)","v":1031}]
[null,"T-BS 01000470","Кронштейн (комплект) G = 470   ","9010 стр. муар",1,{"$f":"VLOOKUP(B25,'Детали Praktisch'!A23:C2096,3,0)","v":532},null,{"$f":"ROUND(F25*(1-$C$4)/Лист2!$A$6,0)","v":532}]
[null,3,"Модуль угловой L=665 G=665 H=900"]
[null,"N-LT 22470900","Стойка кассового модуля 60х30 L-образная  G=470 Н=900 (для траверс)   ","9010 стр. муар",2,{"$f":"VLOOKUP(B27,'Детали и аксессуары  KAISER'!B$9:E$50,4,0\n)","v":1919},{"$f":"SUMPRODUCT(E27:E35,F27:F35)","v":17786},{"$f":"ROUND(F27*(1-$C$4)/Лист2!$A$6,0)","v":1919},{"$f":"SUMPRODUCT(E27:E35,H27:H35)","v":17786}]
[null,"N-LT 22000900","Стойка с опорой кассового модуля Н=900 (для траверс)    ","9010 стр. муар",1,{"$f":"VLOOKUP(B28,'Детали и аксессуары  KAISER'!B$9:E$50,4,0\n)","v":1124},null,{"$f":"ROUND(F28*(1-$C$4)/Лист2!$A$6,0)","v":1124}]
[null,"N-DB 04656506","Столешница  углового модуля L=665 G=665 Н=36   ","дуб сонома",1,{"$f":"VLOOKUP(B29,'Детали и аксессуары  KAISER'!B$9:E$50,4,0\n)","v":5064},null,{"$f":"ROUND(F29*(1-$C$4)/Лист2!$A$6,0)","v":5064}]
[null,"T-BS 01010470","Кронштейн Г-образный для ДСП (комплект)  G=470   ","9010 стр. муар",2,{"$f":"VLOOKUP(B30,'Детали и аксессуары  KAISER'!B$9:E$50,4,0\n)","v":807},null,{"$f":"ROUND(F30*(1-$C$4)/Лист2!$A$6,0)","v":807}]
[null,"T-BP 01400665","Панель сплошная H=400 L = 665   ","9010 стр. муар",4,{"$f":"VLOOKUP(B31,'Детали Praktisch'!A29:C2100,3,0)","v":440},null,{"$f":"ROUND(F31*(1-$C$4)/Лист2!$A$6,0)","v":440}]
[null,"T-BP 06900400","Панель сплошная угловая внешняя  Н = 400   ","9010 стр. муар",2,{"$f":"VLOOKUP(B32,'Детали Praktisch'!A30:C2101,3,0)","v":271},null,{"$f":"ROUND(F32*(1-$C$4)/Лист2!$A$6,0)","v":271}]
[null,"T-TR 01010665","Траверса L=665   ","9010 стр. муар",4,{"$f":"VLOOKUP(B33,'Детали и аксессуары  KAISER'!B$9:E$50,4,0\n)","v":437},null,{"$f":"ROUND(F33*(1-$C$4)/Лист2!$A$6,0)","v":437}]
[null,"T-ST 01470665","Полка G=470 L = 665   ","9010 стр. муар",2,{"$f":"VLOOKUP(B34,'Детали Praktisch'!A32:C2103,3,0)","v":782},null,{"$f":"ROUND(F34*(1-$C$4)/Лист2!$A$6,0)","v":782}]
[null,"T-BS 01000470","Кронштейн (комплект) G = 470   ","9010 стр. муар",1,{"$f":"VLOOKUP(B35,'Детали Praktisch'!A33:C2104,3,0)","v":532},null,{"$f":"ROUND(F35*(1-$C$4)/Лист2!$A$6,0)","v":532}]
[null,4,"Модуль прямой L=665 G=470 H=1150"]
[null,"N-LT 22470115","Стойка кассового модуля 60х30 L-образная  G=470 Н=1150 (для траверс)   ","9010 стр. муар",1,{"$f":"VLOOKUP(B37,'Детали и аксессуары  KAISER'!B$9:E$50,4,0\n)","v":2113},{"$f":"SUMPRODUCT(E37:E44,F37:F44)","v":10258},{"$f":"ROUND(F37*(1-$C$4)/Лист2!$A$6,0)","v":2113},{"$f":"SUMPRODUCT(E37:E44,H37:H44)","v":10258}]
[null,"N-DB 04476656","Столешница  прямого модуля L=665 G=470 Н=36   ","дуб сонома",1,{"$f":"VLOOKUP(B38,'Детали и аксессуары  KAISER'!B$9:E$50,4,0\n)","v":3109},null,{"$f":"ROUND(F38*(1-$C$4)/Лист2!$A$6,0)","v":3109}]
[null,"T-BS 01010470","Кронштейн Г-образный для ДСП (комплект)  G=470   ","9010 стр. муар",1,{"$f":"VLOOKUP(B39,'Детали и аксессуары  KAISER'!B$9:E$50,4,0\n)","v":807},null,{"$f":"ROUND(F39*(1-$C$4)/Лист2!$A$6,0)","v":807}]
[null,"T-BP 01300665","Панель сплошная H=300 L = 665   ","9010 стр. муар",1,{"$f":"VLOOKUP(B40,'Детали Praktisch'!A38:C2109,3,0)","v":379},null,{"$f":"ROUND(F40*(1-$C$4)/Лист2!$A$6,0)","v":379}]
[null,"T-BP 01400665","Панель сплошная H=400 L = 665   ","9010 стр. муар",2,{"$f":"VLOOKUP(B41,'Детали Praktisch'!A39:C2110,3,0)","v":440},null,{"$f":"ROUND(F41*(1-$C$4)/Лист2!$A$6,0)","v":440}]
[null,"T-TR 01010665","Траверса L=665   ","9010 стр. муар",2,{"$f":"VLOOKUP(B42,'Детали и аксессуары  KAISER'!B$9:E$50,4,0\n)","v":437},null,{"$f":"ROUND(F42*(1-$C$4)/Лист2!$A$6,0)","v":437}]
[null,"T-ST 01470665","Полка G=470 L = 665   ","9010 стр. муар",2,{"$f":"VLOOKUP(B43,'Детали Praktisch'!A41:C2112,3,0)","v":782},null,{"$f":"ROUND(F43*(1-$C$4)/Лист2!$A$6,0)","v":782}]
[null,"T-BS 01000470","Кронштейн (комплект) G = 470   ","9010 стр. муар",1,{"$f":"VLOOKUP(B44,'Детали Praktisch'!A42:C2113,3,0)","v":532},null,{"$f":"ROUND(F44*(1-$C$4)/Лист2!$A$6,0)","v":532}]
[null,5,"Модуль прямой L=1000 G=470 H=1150"]
[null,"N-LT 22470115","Стойка кассового модуля 60х30 L-образная  G=470 Н=1150 (для траверс)   ","9010 стр. муар",1,{"$f":"VLOOKUP(B46,'Детали и аксессуары  KAISER'!B$9:E$50,4,0\n)","v":2113},{"$f":"SUMPRODUCT(E46:E53,F46:F53)","v":12386},{"$f":"ROUND(F46*(1-$C$4)/Лист2!$A$6,0)","v":2113},{"$f":"SUMPRODUCT(E46:E53,H46:H53)","v":12386}]
[null,"N-DB 04471006","Столешница  прямого модуля L=1000 G=470 Н=36   ","дуб сонома",1,{"$f":"VLOOKUP(B47,'Детали и аксессуары  KAISER'!B$9:E$50,4,0\n)","v":4191},null,{"$f":"ROUND(F47*(1-$C$4)/Лист2!$A$6,0)","v":4191}]
[null,"T-BS 01010470","Кронштейн Г-образный для ДСП (комплект)  G=470   ","9010 стр. муар",1,{"$f":"VLOOKUP(B48,'Детали и аксессуары  KAISER'!B$9:E$50,4,0\n)","v":807},null,{"$f":"ROUND(F48*(1-$C$4)/Лист2!$A$6,0)","v":807}]
[null,"T-BP 01301000","Панель сплошная H=300 L = 1000   ","9010 стр. муар",1,{"$f":"VLOOKUP(B49,'Детали Praktisch'!A47:C2118,3,0)","v":483},null,{"$f":"ROUND(F49*(1-$C$4)/Лист2!$A$6,0)","v":483}]
[null,"T-BP 01401000","Панель сплошная H=400 L = 1000   ","9010 стр. муар",2,{"$f":"VLOOKUP(B50,'Детали Praktisch'!A48:C2119,3,0)","v":576},null,{"$f":"ROUND(F50*(1-$C$4)/Лист2!$A$6,0)","v":576}]
[null,"T-TR 01011000","Траверса L=1000   ","9010 стр. муар",2,{"$f":"VLOOKUP(B51,'Детали и аксессуары  KAISER'!B$9:E$50,4,0\n)","v":523},null,{"$f":"ROUND(F51*(1-$C$4)/Лист2!$A$6,0)","v":523}]
[null,"T-ST 01471000","Полка G=470 L = 1000   ","9010 стр. муар",2,{"$f":"VLOOKUP(B52,'Детали и аксессуары  KAISER'!B$9:E$50,4,0\n)","v":1031},null,{"$f":"ROUND(F52*(1-$C$4)/Лист2!$A$6,0)","v":1031}]
[null,"T-BS 01000470","Кронштейн (комплект) G = 470   ","9010 стр. муар",1,{"$f":"VLOOKUP(B53,'Детали Praktisch'!A51:C2122,3,0)","v":532},null,{"$f":"ROUND(F53*(1-$C$4)/Лист2!$A$6,0)","v":532}]
[null,6,"Модуль угловой L=665 G=665 H=1150 "]
[null,"N-LT 22470115","Стойка кассового модуля 60х30 L-образная  G=470 Н=1150 (для траверс)   ","9010 стр. муар",2,{"$f":"VLOOKUP(B55,'Детали и аксессуары  KAISER'!B$9:E$50,4,0\n)","v":2113},{"$f":"SUMPRODUCT(E55:E65,F55:F65)","v":19346},{"$f":"ROUND(F55*(1-$C$4)/Лист2!$A$6,0)","v":2113},{"$f":"SUMPRODUCT(E55:E65,H55:H65)","v":19346}]
[null,"N-LT 22001150","Стойка с опорой кассового модуля Н=1150 (для траверс)    ","9010 стр. муар",1,{"$f":"VLOOKUP(B56,'Детали и аксессуары  KAISER'!B$9:E$50,4,0\n)","v":1297},null,{"$f":"ROUND(F56*(1-$C$4)/Лист2!$A$6,0)","v":1297}]
[null,"N-DB 04656506","Столешница  углового модуля L=665 G=665 Н=36   ","дуб сонома",1,{"$f":"VLOOKUP(B57,'Детали и аксессуары  KAISER'!B$9:E$50,4,0\n)","v":5064},null,{"$f":"ROUND(F57*(1-$C$4)/Лист2!$A$6,0)","v":5064}]
[null,"T-BS 01010470","Кронштейн Г-образный для ДСП (комплект)  G=470   ","9010 стр. муар",2,{"$f":"VLOOKUP(B58,'Детали и аксессуары  KAISER'!B$9:E$50,4,0\n)","v":807},null,{"$f":"ROUND(F58*(1-$C$4)/Лист2!$A$6,0)","v":807}]
[null,"T-BP 01300665","Панель сплошная H=300 L = 665   ","9010 стр. муар",2,{"$f":"VLOOKUP(B59,'Детали Praktisch'!A57:C2128,3,0)","v":379},null,{"$f":"ROUND(F59*(1-$C$4)/Лист2!$A$6,0)","v":379}]
[null,"T-BP 01400665","Панель сплошная H=400 L = 665   ","9010 стр. муар",4,{"$f":"VLOOKUP(B60,'Детали Praktisch'!A58:C2129,3,0)","v":440},null,{"$f":"ROUND(F60*(1-$C$4)/Лист2!$A$6,0)","v":440}]
[null,"T-BP 06900300","Панель сплошная угловая внешняя  Н = 300   ","9010 стр. муар",1,{"$f":"VLOOKUP(B61,'Детали Praktisch'!A59:C2130,3,0)","v":241},null,{"$f":"ROUND(F61*(1-$C$4)/Лист2!$A$6,0)","v":241}]
[null,"T-BP 06900400","Панель сплошная угловая внешняя  Н = 400   ","9010 стр. муар",2,{"$f":"VLOOKUP(B62,'Детали Praktisch'!A60:C2131,3,0)","v":271},null,{"$f":"ROUND(F62*(1-$C$4)/Лист2!$A$6,0)","v":271}]
[null,"T-TR 01010665","Траверса L=665   ","9010 стр. муар",4,{"$f":"VLOOKUP(B63,'Детали и аксессуары  KAISER'!B$9:E$50,4,0\n)","v":437},null,{"$f":"ROUND(F63*(1-$C$4)/Лист2!$A$6,0)","v":437}]
[null,"T-ST 01470665","Полка G=470 L = 665   ","9010 стр. муар",2,{"$f":"VLOOKUP(B64,'Детали Praktisch'!A62:C2133,3,0)","v":782},null,{"$f":"ROUND(F64*(1-$C$4)/Лист2!$A$6,0)","v":782}]
[null,"T-BS 01000470","Кронштейн (комплект) G = 470   ","9010 стр. муар",1,{"$f":"VLOOKUP(B65,'Детали Praktisch'!A63:C2134,3,0)","v":532},null,{"$f":"ROUND(F65*(1-$C$4)/Лист2!$A$6,0)","v":532}]
[null,7,"Модуль прямой L=665 G=470 H=1150 с надставкой"]
[null,"N-LT 22470115","Стойка кассового модуля 60х30 L-образная  G=470 Н=1150 (для траверс)   ","9010 стр. муар",1,{"$f":"VLOOKUP(B67,'Детали и аксессуары  KAISER'!B$9:E$50,4,0\n)","v":2113},{"$f":"SUMPRODUCT(E67:E76,F67:F76)","v":12125},{"$f":"ROUND(F67*(1-$C$4)/Лист2!$A$6,0)","v":2113},{"$f":"SUMPRODUCT(E67:E76,H67:H76)","v":12125}]
[null,"N-DB 32147665","Столешница прям модуля центр L=665, H=32, G=470   ","дуб сонома",1,{"$f":"VLOOKUP(B68,'Детали и аксессуары  KAISER'!B$9:E$50,4,0\n)","v":3200},null,{"$f":"ROUND(F68*(1-$C$4)/Лист2!$A$6,0)","v":3200}]
[null,"T-BS 01010470","Кронштейн Г-образный для ДСП (комплект)  G=470   ","9010 стр. муар",1,{"$f":"VLOOKUP(B69,'Детали и аксессуары  KAISER'!B$9:E$50,4,0\n)","v":807},null,{"$f":"ROUND(F69*(1-$C$4)/Лист2!$A$6,0)","v":807}]
[null,"N-DB 04210665","Столешница  надставки прямого модуля L=665 G=210 Н=32   ","дуб сонома",1,{"$f":"VLOOKUP(B70,'Детали и аксессуары  KAISER'!B$9:E$50,4,0\n)","v":1431},null,{"$f":"ROUND(F70*(1-$C$4)/Лист2!$A$6,0)","v":1431}]
[null,"T-BS 01010210","Кронштейн Г-образный для ДСП (комплект)  G=210   ","9010 стр. муар",1,{"$f":"VLOOKUP(B71,'Детали и аксессуары  KAISER'!B$9:E$50,4,0\n)","v":345},null,{"$f":"ROUND(F71*(1-$C$4)/Лист2!$A$6,0)","v":345}]
[null,"T-BP 01300665","Панель сплошная H=300 L = 665   ","9010 стр. муар",1,{"$f":"VLOOKUP(B72,'Детали Praktisch'!A70:C2141,3,0)","v":379},null,{"$f":"ROUND(F72*(1-$C$4)/Лист2!$A$6,0)","v":379}]
[null,"T-BP 01400665","Панель сплошная H=400 L = 665   ","9010 стр. муар",2,{"$f":"VLOOKUP(B73,'Детали Praktisch'!A71:C2142,3,0)","v":440},null,{"$f":"ROUND(F73*(1-$C$4)/Лист2!$A$6,0)","v":440}]
[null,"T-TR 01010665","Траверса L=665   ","9010 стр. муар",2,{"$f":"VLOOKUP(B74,'Детали и аксессуары  KAISER'!B$9:E$50,4,0\n)","v":437},null,{"$f":"ROUND(F74*(1-$C$4)/Лист2!$A$6,0)","v":437}]
[null,"T-ST 01470665","Полка G=470 L = 665   ","9010 стр. муар",2,{"$f":"VLOOKUP(B75,'Детали Praktisch'!A73:C2144,3,0)","v":782},null,{"$f":"ROUND(F75*(1-$C$4)/Лист2!$A$6,0)","v":782}]
[null,"T-BS 01000470","Кронштейн (комплект) G = 470   ","9010 стр. муар",1,{"$f":"VLOOKUP(B76,'Детали Praktisch'!A74:C2145,3,0)","v":532},null,{"$f":"ROUND(F76*(1-$C$4)/Лист2!$A$6,0)","v":532}]
[null,8,"Модуль прямой L=1000 G=470 H=1150 с надставкой"]
[null,"N-LT 22470115","Стойка кассового модуля 60х30 L-образная  G=470 Н=1150 (для траверс)   ","9010 стр. муар",1,{"$f":"VLOOKUP(B78,'Детали и аксессуары  KAISER'!B$9:E$50,4,0\n)","v":2113},{"$f":"SUMPRODUCT(E78:E87,F78:F87)","v":14741},{"$f":"ROUND(F78*(1-$C$4)/Лист2!$A$6,0)","v":2113},{"$f":"SUMPRODUCT(E78:E87,H78:H87)","v":14741}]
[null,"N-DB 32147100","Столешница прям модуля центр L=1000, H=32, G=470   ","дуб сонома",1,{"$f":"VLOOKUP(B79,'Детали и аксессуары  KAISER'!B$9:E$50,4,0\n)","v":4315},null,{"$f":"ROUND(F79*(1-$C$4)/Лист2!$A$6,0)","v":4315}]
[null,"T-BS 01010470","Кронштейн Г-образный для ДСП (комплект)  G=470   ","9010 стр. муар",1,{"$f":"VLOOKUP(B80,'Детали и аксессуары  KAISER'!B$9:E$50,4,0\n)","v":807},null,{"$f":"ROUND(F80*(1-$C$4)/Лист2!$A$6,0)","v":807}]
[null,"N-DB 04210100","Столешница  надставки прямого модуля L=1000 G=210 Н=32    ","дуб сонома",1,{"$f":"VLOOKUP(B81,'Детали и аксессуары  KAISER'!B$9:E$50,4,0\n)","v":1886},null,{"$f":"ROUND(F81*(1-$C$4)/Лист2!$A$6,0)","v":1886}]
[null,"T-BS 01010210","Кронштейн Г-образный для ДСП (комплект)  G=210   ","9010 стр. муар",1,{"$f":"VLOOKUP(B82,'Детали и аксессуары  KAISER'!B$9:E$50,4,0\n)","v":345},null,{"$f":"ROUND(F82*(1-$C$4)/Лист2!$A$6,0)","v":345}]
[null,"T-BP 01301000","Панель сплошная H=300 L = 1000   ","9010 стр. муар",1,{"$f":"VLOOKUP(B83,'Детали Praktisch'!A81:C2152,3,0)","v":483},null,{"$f":"ROUND(F83*(1-$C$4)/Лист2!$A$6,0)","v":483}]
[null,"T-BP 01401000","Панель сплошная H=400 L = 1000   ","9010 стр. муар",2,{"$f":"VLOOKUP(B84,'Детали Praktisch'!A82:C2153,3,0)","v":576},null,{"$f":"ROUND(F84*(1-$C$4)/Лист2!$A$6,0)","v":576}]
[null,"T-TR 01011000","Траверса L=1000   ","9010 стр. муар",2,{"$f":"VLOOKUP(B85,'Детали и аксессуары  KAISER'!B$9:E$50,4,0\n)","v":523},null,{"$f":"ROUND(F85*(1-$C$4)/Лист2!$A$6,0)","v":523}]
[null,"T-ST 01471000","Полка G=470 L = 1000   ","9010 стр. муар",2,{"$f":"VLOOKUP(B86,'Детали и аксессуары  KAISER'!B$9:E$50,4,0\n)","v":1031},null,{"$f":"ROUND(F86*(1-$C$4)/Лист2!$A$6,0)","v":1031}]
[null,"T-BS 01000470","Кронштейн (комплект) G = 470   ","9010 стр. муар",1,{"$f":"VLOOKUP(B87,'Детали Praktisch'!A85:C2156,3,0)","v":532},null,{"$f":"ROUND(F87*(1-$C$4)/Лист2!$A$6,0)","v":532}]
[null,9,"Модуль прямой L=665 G=470 H=900 с перфорацией"]
[null,"N-LT 22470900","Стойка кассового модуля 60х30 L-образная  G=470 Н=900 (для траверс)   ","9010 стр. муар",1,{"$f":"VLOOKUP(B89,'Детали и аксессуары  KAISER'!B$9:E$50,4,0\n)","v":1919},{"$f":"SUMPRODUCT(E89:E95,F89:F95)","v":10209},{"$f":"ROUND(F89*(1-$C$4)/Лист2!$A$6,0)","v":1919},{"$f":"SUMPRODUCT(E89:E95,H89:H95)","v":10209}]
[null,"N-DB 04476656","Столешница  прямого модуля L=665 G=470 Н=36   ","дуб сонома",1,{"$f":"VLOOKUP(B90,'Детали и аксессуары  KAISER'!B$9:E$50,4,0\n)","v":3109},null,{"$f":"ROUND(F90*(1-$C$4)/Лист2!$A$6,0)","v":3109}]
[null,"T-BS 01010470","Кронштейн Г-образный для ДСП (комплект)  G=470   ","9010 стр. муар",1,{"$f":"VLOOKUP(B91,'Детали и аксессуары  KAISER'!B$9:E$50,4,0\n)","v":807},null,{"$f":"ROUND(F91*(1-$C$4)/Лист2!$A$6,0)","v":807}]
[null,"T-BP 02400665","Панель перфорированная H=400 L = 665   ","9010 стр. муар",2,{"$f":"VLOOKUP(B92,'Детали Praktisch'!A90:C2161,3,0)","v":702},null,{"$f":"ROUND(F92*(1-$C$4)/Лист2!$A$6,0)","v":702}]
[null,"T-TR 01010665","Траверса L=665   ","9010 стр. муар",2,{"$f":"VLOOKUP(B93,'Детали и аксессуары  KAISER'!B$9:E$50,4,0\n)","v":437},null,{"$f":"ROUND(F93*(1-$C$4)/Лист2!$A$6,0)","v":437}]
[null,"T-ST 01470665","Полка G=470 L = 665   ","9010 стр. муар",2,{"$f":"VLOOKUP(B94,'Детали Praktisch'!A92:C2163,3,0)","v":782},null,{"$f":"ROUND(F94*(1-$C$4)/Лист2!$A$6,0)","v":782}]
[null,"T-BS 01000470","Кронштейн (комплект) G = 470   ","9010 стр. муар",1,{"$f":"VLOOKUP(B95,'Детали Praktisch'!A93:C2164,3,0)","v":532},null,{"$f":"ROUND(F95*(1-$C$4)/Лист2!$A$6,0)","v":532}]
[null,10,"Модуль прямой L=1000 G=470 H=900 с перфорацией"]
[null,"N-LT 22470900","Стойка кассового модуля 60х30 L-образная  G=470 Н=900 (для траверс)   ","9010 стр. муар",1,{"$f":"VLOOKUP(B97,'Детали и аксессуары  KAISER'!B$9:E$50,4,0\n)","v":1919},{"$f":"SUMPRODUCT(E97:E103,F97:F103)","v":12461},{"$f":"ROUND(F97*(1-$C$4)/Лист2!$A$6,0)","v":1919},{"$f":"SUMPRODUCT(E97:E103,H97:H103)","v":12461}]
[null,"N-DB 04471006","Столешница  прямого модуля L=1000 G=470 Н=36   ","дуб сонома",1,{"$f":"VLOOKUP(B98,'Детали и аксессуары  KAISER'!B$9:E$50,4,0\n)","v":4191},null,{"$f":"ROUND(F98*(1-$C$4)/Лист2!$A$6,0)","v":4191}]
[null,"T-BS 01010470","Кронштейн Г-образный для ДСП (комплект)  G=470   ","9010 стр. муар",1,{"$f":"VLOOKUP(B99,'Детали и аксессуары  KAISER'!B$9:E$50,4,0\n)","v":807},null,{"$f":"ROUND(F99*(1-$C$4)/Лист2!$A$6,0)","v":807}]
[null,"T-BP 02401000","Панель перфорированная H=400 L = 1000   ","9010 стр. муар",2,{"$f":"VLOOKUP(B100,'Детали Praktisch'!A98:C2169,3,0)","v":952},null,{"$f":"ROUND(F100*(1-$C$4)/Лист2!$A$6,0)","v":952}]
[null,"T-TR 01011000","Траверса L=1000   ","9010 стр. муар",2,{"$f":"VLOOKUP(B101,'Детали и аксессуары  KAISER'!B$9:E$50,4,0\n)","v":523},null,{"$f":"ROUND(F101*(1-$C$4)/Лист2!$A$6,0)","v":523}]
[null,"T-ST 01471000","Полка G=470 L = 1000   ","9010 стр. муар",2,{"$f":"VLOOKUP(B102,'Детали и аксессуары  KAISER'!B$9:E$50,4,0\n)","v":1031},null,{"$f":"ROUND(F102*(1-$C$4)/Лист2!$A$6,0)","v":1031}]
[null,"T-BS 01000470","Кронштейн (комплект) G = 470   ","9010 стр. муар",1,{"$f":"VLOOKUP(B103,'Детали Praktisch'!A101:C2172,3,0)","v":532},null,{"$f":"ROUND(F103*(1-$C$4)/Лист2!$A$6,0)","v":532}]
[null,11,"Модуль угловой L=665 G=665 H=900 с перфорацией"]
[null,"N-LT 22470900","Стойка кассового модуля 60х30 L-образная  G=470 Н=900 (для траверс)   ","9010 стр. муар",2,{"$f":"VLOOKUP(B105,'Детали и аксессуары  KAISER'!B$9:E$50,4,0\n)","v":1919},{"$f":"SUMPRODUCT(E105:E113,F105:F113)","v":18834},{"$f":"ROUND(F105*(1-$C$4)/Лист2!$A$6,0)","v":1919},{"$f":"SUMPRODUCT(E105:E113,H105:H113)","v":18834}]
[null,"N-LT 22000900","Стойка с опорой кассового модуля Н=900 (для траверс)    ","9010 стр. муар",1,{"$f":"VLOOKUP(B106,'Детали и аксессуары  KAISER'!B$9:E$50,4,0\n)","v":1124},null,{"$f":"ROUND(F106*(1-$C$4)/Лист2!$A$6,0)","v":1124}]
[null,"N-DB 04656506","Столешница  углового модуля L=665 G=665 Н=36   ","дуб сонома",1,{"$f":"VLOOKUP(B107,'Детали и аксессуары  KAISER'!B$9:E$50,4,0\n)","v":5064},null,{"$f":"ROUND(F107*(1-$C$4)/Лист2!$A$6,0)","v":5064}]
[null,"T-BS 01010470","Кронштейн Г-образный для ДСП (комплект)  G=470   ","9010 стр. муар",2,{"$f":"VLOOKUP(B108,'Детали и аксессуары  KAISER'!B$9:E$50,4,0\n)","v":807},null,{"$f":"ROUND(F108*(1-$C$4)/Лист2!$A$6,0)","v":807}]
[null,"T-BP 02400665","Панель перфорированная H=400 L = 665   ","9010 стр. муар",4,{"$f":"VLOOKUP(B109,'Детали Praktisch'!A107:C2178,3,0)","v":702},null,{"$f":"ROUND(F109*(1-$C$4)/Лист2!$A$6,0)","v":702}]
[null,"T-BP 06900400","Панель сплошная угловая внешняя  Н = 400   ","9010 стр. муар",2,{"$f":"VLOOKUP(B110,'Детали Praktisch'!A108:C2179,3,0)","v":271},null,{"$f":"ROUND(F110*(1-$C$4)/Лист2!$A$6,0)","v":271}]
[null,"T-TR 01010665","Траверса L=665   ","9010 стр. муар",4,{"$f":"VLOOKUP(B111,'Детали и аксессуары  KAISER'!B$9:E$50,4,0\n)","v":437},null,{"$f":"ROUND(F111*(1-$C$4)/Лист2!$A$6,0)","v":437}]
[null,"T-ST 01470665","Полка G=470 L = 665   ","9010 стр. муар",2,{"$f":"VLOOKUP(B112,'Детали Praktisch'!A110:C2181,3,0)","v":782},null,{"$f":"ROUND(F112*(1-$C$4)/Лист2!$A$6,0)","v":782}]
[null,"T-BS 01000470","Кронштейн (комплект) G = 470   ","9010 стр. муар",1,{"$f":"VLOOKUP(B113,'Детали Praktisch'!A111:C2182,3,0)","v":532},null,{"$f":"ROUND(F113*(1-$C$4)/Лист2!$A$6,0)","v":532}]
[null,12,"Модуль прямой L=665 G=470 H=1150 с перфорацией"]
[null,"N-LT 22470115","Стойка кассового модуля 60х30 L-образная  G=470 Н=1150 (для траверс)   ","9010 стр. муар",1,{"$f":"VLOOKUP(B115,'Детали и аксессуары  KAISER'!B$9:E$50,4,0\n)","v":2113},{"$f":"SUMPRODUCT(E115:E122,F115:F122)","v":11063},{"$f":"ROUND(F115*(1-$C$4)/Лист2!$A$6,0)","v":2113},{"$f":"SUMPRODUCT(E115:E122,H115:H122)","v":11063}]
[null,"N-DB 04476656","Столешница  прямого модуля L=665 G=470 Н=36   ","дуб сонома",1,{"$f":"VLOOKUP(B116,'Детали и аксессуары  KAISER'!B$9:E$50,4,0\n)","v":3109},null,{"$f":"ROUND(F116*(1-$C$4)/Лист2!$A$6,0)","v":3109}]
[null,"T-BS 01010470","Кронштейн Г-образный для ДСП (комплект)  G=470   ","9010 стр. муар",1,{"$f":"VLOOKUP(B117,'Детали и аксессуары  KAISER'!B$9:E$50,4,0\n)","v":807},null,{"$f":"ROUND(F117*(1-$C$4)/Лист2!$A$6,0)","v":807}]
[null,"T-BP 02300665","Панель перфорированная H=300 L = 665   ","9010 стр. муар",1,{"$f":"VLOOKUP(B118,'Детали Praktisch'!A118:C2187,3,0)","v":660},null,{"$f":"ROUND(F118*(1-$C$4)/Лист2!$A$6,0)","v":660}]
[null,"T-BP 02400665","Панель перфорированная H=400 L = 665   ","9010 стр. муар",2,{"$f":"VLOOKUP(B119,'Детали Praktisch'!A119:C2188,3,0)","v":702},null,{"$f":"ROUND(F119*(1-$C$4)/Лист2!$A$6,0)","v":702}]
[null,"T-TR 01010665","Траверса L=665   ","9010 стр. муар",2,{"$f":"VLOOKUP(B120,'Детали и аксессуары  KAISER'!B$9:E$50,4,0\n)","v":437},null,{"$f":"ROUND(F120*(1-$C$4)/Лист2!$A$6,0)","v":437}]
[null,"T-ST 01470665","Полка G=470 L = 665   ","9010 стр. муар",2,{"$f":"VLOOKUP(B121,'Детали Praktisch'!A121:C2190,3,0)","v":782},null,{"$f":"ROUND(F121*(1-$C$4)/Лист2!$A$6,0)","v":782}]
[null,"T-BS 01000470","Кронштейн (комплект) G = 470   ","9010 стр. муар",1,{"$f":"VLOOKUP(B122,'Детали Praktisch'!A122:C2191,3,0)","v":532},null,{"$f":"ROUND(F122*(1-$C$4)/Лист2!$A$6,0)","v":532}]
[null,13,"Модуль прямой L=1000 G=470 H=1150 с перфорацией"]
[null,"N-LT 22470115","Стойка кассового модуля 60х30 L-образная  G=470 Н=1150 (для траверс)   ","9010 стр. муар",1,{"$f":"VLOOKUP(B124,'Детали и аксессуары  KAISER'!B$9:E$50,4,0\n)","v":2113},{"$f":"SUMPRODUCT(E124:E131,F124:F131)","v":13592},{"$f":"ROUND(F124*(1-$C$4)/Лист2!$A$6,0)","v":2113},{"$f":"SUMPRODUCT(E124:E131,H124:H131)","v":13592}]
[null,"N-DB 04471006","Столешница  прямого модуля L=1000 G=470 Н=36   ","дуб сонома",1,{"$f":"VLOOKUP(B125,'Детали и аксессуары  KAISER'!B$9:E$50,4,0\n)","v":4191},null,{"$f":"ROUND(F125*(1-$C$4)/Лист2!$A$6,0)","v":4191}]
[null,"T-BS 01010470","Кронштейн Г-образный для ДСП (комплект)  G=470   ","9010 стр. муар",1,{"$f":"VLOOKUP(B126,'Детали и аксессуары  KAISER'!B$9:E$50,4,0\n)","v":807},null,{"$f":"ROUND(F126*(1-$C$4)/Лист2!$A$6,0)","v":807}]
[null,"T-BP 02301000","Панель перфорированная H=300 L = 1000   ","9010 стр. муар",1,{"$f":"VLOOKUP(B127,'Детали Praktisch'!A127:C2196,3,0)","v":937},null,{"$f":"ROUND(F127*(1-$C$4)/Лист2!$A$6,0)","v":937}]
[null,"T-BP 02401000","Панель перфорированная H=400 L = 1000   ","9010 стр. муар",2,{"$f":"VLOOKUP(B128,'Детали Praktisch'!A128:C2197,3,0)","v":952},null,{"$f":"ROUND(F128*(1-$C$4)/Лист2!$A$6,0)","v":952}]
[null,"T-TR 01011000","Траверса L=1000   ","9010 стр. муар",2,{"$f":"VLOOKUP(B129,'Детали и аксессуары  KAISER'!B$9:E$50,4,0\n)","v":523},null,{"$f":"ROUND(F129*(1-$C$4)/Лист2!$A$6,0)","v":523}]
[null,"T-ST 01471000","Полка G=470 L = 1000   ","9010 стр. муар",2,{"$f":"VLOOKUP(B130,'Детали и аксессуары  KAISER'!B$9:E$50,4,0\n)","v":1031},null,{"$f":"ROUND(F130*(1-$C$4)/Лист2!$A$6,0)","v":1031}]
[null,"T-BS 01000470","Кронштейн (комплект) G = 470   ","9010 стр. муар",1,{"$f":"VLOOKUP(B131,'Детали Praktisch'!A131:C2200,3,0)","v":532},null,{"$f":"ROUND(F131*(1-$C$4)/Лист2!$A$6,0)","v":532}]
[null,14,"Модуль угловой L=665 G=665 H=1150 с перфорацией"]
[null,"N-LT 22470115","Стойка кассового модуля 60х30 L-образная  G=470 Н=1150 (для траверс)   ","9010 стр. муар",2,{"$f":"VLOOKUP(B133,'Детали и аксессуары  KAISER'!B$9:E$50,4,0\n)","v":2113},{"$f":"SUMPRODUCT(E133:E143,F133:F143)","v":20956},{"$f":"ROUND(F133*(1-$C$4)/Лист2!$A$6,0)","v":2113},{"$f":"SUMPRODUCT(E133:E143,H133:H143)","v":20956}]
[null,"N-LT 22001150","Стойка с опорой кассового модуля Н=1150 (для траверс)    ","9010 стр. муар",1,{"$f":"VLOOKUP(B134,'Детали и аксессуары  KAISER'!B$9:E$50,4,0\n)","v":1297},null,{"$f":"ROUND(F134*(1-$C$4)/Лист2!$A$6,0)","v":1297}]
[null,"N-DB 04656506","Столешница  углового модуля L=665 G=665 Н=36   ","дуб сонома",1,{"$f":"VLOOKUP(B135,'Детали и аксессуары  KAISER'!B$9:E$50,4,0\n)","v":5064},null,{"$f":"ROUND(F135*(1-$C$4)/Лист2!$A$6,0)","v":5064}]
[null,"T-BS 01010470","Кронштейн Г-образный для ДСП (комплект)  G=470   ","9010 стр. муар",2,{"$f":"VLOOKUP(B136,'Детали и аксессуары  KAISER'!B$9:E$50,4,0\n)","v":807},null,{"$f":"ROUND(F136*(1-$C$4)/Лист2!$A$6,0)","v":807}]
[null,"T-BP 02300665","Панель перфорированная H=300 L = 665   ","9010 стр. муар",2,{"$f":"VLOOKUP(B137,'Детали Praktisch'!A137:C2206,3,0)","v":660},null,{"$f":"ROUND(F137*(1-$C$4)/Лист2!$A$6,0)","v":660}]
[null,"T-BP 02400665","Панель перфорированная H=400 L = 665   ","9010 стр. муар",4,{"$f":"VLOOKUP(B138,'Детали Praktisch'!A138:C2207,3,0)","v":702},null,{"$f":"ROUND(F138*(1-$C$4)/Лист2!$A$6,0)","v":702}]
[null,"T-BP 06900300","Панель сплошная угловая внешняя  Н = 300   ","9010 стр. муар",1,{"$f":"VLOOKUP(B139,'Детали Praktisch'!A139:C2208,3,0)","v":241},null,{"$f":"ROUND(F139*(1-$C$4)/Лист2!$A$6,0)","v":241}]
[null,"T-BP 06900400","Панель сплошная угловая внешняя  Н = 400   ","9010 стр. муар",2,{"$f":"VLOOKUP(B140,'Детали Praktisch'!A140:C2209,3,0)","v":271},null,{"$f":"ROUND(F140*(1-$C$4)/Лист2!$A$6,0)","v":271}]
[null,"T-TR 01010665","Траверса L=665   ","9010 стр. муар",4,{"$f":"VLOOKUP(B141,'Детали и аксессуары  KAISER'!B$9:E$50,4,0\n)","v":437},null,{"$f":"ROUND(F141*(1-$C$4)/Лист2!$A$6,0)","v":437}]
[null,"T-ST 01470665","Полка G=470 L = 665   ","9010 стр. муар",2,{"$f":"VLOOKUP(B142,'Детали Praktisch'!A142:C2211,3,0)","v":782},null,{"$f":"ROUND(F142*(1-$C$4)/Лист2!$A$6,0)","v":782}]
[null,"T-BS 01000470","Кронштейн (комплект) G = 470   ","9010 стр. муар",1,{"$f":"VLOOKUP(B143,'Детали Praktisch'!A143:C2212,3,0)","v":532},null,{"$f":"ROUND(F143*(1-$C$4)/Лист2!$A$6,0)","v":532}]
[null,15,"Модуль прямой L=665 G=470 H=1150 с надставкой с перфорацией"]
[null,"N-LT 22470115","Стойка кассового модуля 60х30 L-образная  G=470 Н=1150 (для траверс)   ","9010 стр. муар",1,{"$f":"VLOOKUP(B145,'Детали и аксессуары  KAISER'!B$9:E$50,4,0\n)","v":2113},{"$f":"SUMPRODUCT(E145:E154,F145:F154)","v":12930},{"$f":"ROUND(F145*(1-$C$4)/Лист2!$A$6,0)","v":2113},{"$f":"SUMPRODUCT(E145:E154,H145:H154)","v":12930}]
[null,"N-DB 32147665","Столешница прям модуля центр L=665, H=32, G=470   ","дуб сонома",1,{"$f":"VLOOKUP(B146,'Детали и аксессуары  KAISER'!B$9:E$50,4,0\n)","v":3200},null,{"$f":"ROUND(F146*(1-$C$4)/Лист2!$A$6,0)","v":3200}]
[null,"T-BS 01010470","Кронштейн Г-образный для ДСП (комплект)  G=470   ","9010 стр. муар",1,{"$f":"VLOOKUP(B147,'Детали и аксессуары  KAISER'!B$9:E$50,4,0\n)","v":807},null,{"$f":"ROUND(F147*(1-$C$4)/Лист2!$A$6,0)","v":807}]
[null,"N-DB 04210665","Столешница  надставки прямого модуля L=665 G=210 Н=32   ","дуб сонома",1,{"$f":"VLOOKUP(B148,'Детали и аксессуары  KAISER'!B$9:E$50,4,0\n)","v":1431},null,{"$f":"ROUND(F148*(1-$C$4)/Лист2!$A$6,0)","v":1431}]
[null,"T-BS 01010210","Кронштейн Г-образный для ДСП (комплект)  G=210   ","9010 стр. муар",1,{"$f":"VLOOKUP(B149,'Детали и аксессуары  KAISER'!B$9:E$50,4,0\n)","v":345},null,{"$f":"ROUND(F149*(1-$C$4)/Лист2!$A$6,0)","v":345}]
[null,"T-BP 02300665","Панель перфорированная H=300 L = 665   ","9010 стр. муар",1,{"$f":"VLOOKUP(B150,'Детали Praktisch'!A150:C2219,3,0)","v":660},null,{"$f":"ROUND(F150*(1-$C$4)/Лист2!$A$6,0)","v":660}]
[null,"T-BP 02400665","Панель перфорированная H=400 L = 665   ","9010 стр. муар",2,{"$f":"VLOOKUP(B151,'Детали Praktisch'!A151:C2220,3,0)","v":702},null,{"$f":"ROUND(F151*(1-$C$4)/Лист2!$A$6,0)","v":702}]
[null,"T-TR 01010665","Траверса L=665   ","9010 стр. муар",2,{"$f":"VLOOKUP(B152,'Детали и аксессуары  KAISER'!B$9:E$50,4,0\n)","v":437},null,{"$f":"ROUND(F152*(1-$C$4)/Лист2!$A$6,0)","v":437}]
[null,"T-ST 01470665","Полка G=470 L = 665   ","9010 стр. муар",2,{"$f":"VLOOKUP(B153,'Детали Praktisch'!A153:C2222,3,0)","v":782},null,{"$f":"ROUND(F153*(1-$C$4)/Лист2!$A$6,0)","v":782}]
[null,"T-BS 01000470","Кронштейн (комплект) G = 470   ","9010 стр. муар",1,{"$f":"VLOOKUP(B154,'Детали Praktisch'!A154:C2223,3,0)","v":532},null,{"$f":"ROUND(F154*(1-$C$4)/Лист2!$A$6,0)","v":532}]
[null,16,"Модуль прямой L=1000 G=470 H=1150 с надставкой с перфорацией"]
[null,"N-LT 22470115","Стойка кассового модуля 60х30 L-образная  G=470 Н=1150 (для траверс)   ","9010 стр. муар",1,{"$f":"VLOOKUP(B156,'Детали и аксессуары  KAISER'!B$9:E$50,4,0\n)","v":2113},{"$f":"SUMPRODUCT(E156:E165,F156:F165)","v":15947},{"$f":"ROUND(F156*(1-$C$4)/Лист2!$A$6,0)","v":2113},{"$f":"SUMPRODUCT(E156:E165,H156:H165)","v":15947}]
[null,"N-DB 32147100","Столешница прям модуля центр L=1000, H=32, G=470   ","дуб сонома",1,{"$f":"VLOOKUP(B157,'Детали и аксессуары  KAISER'!B$9:E$50,4,0\n)","v":4315},null,{"$f":"ROUND(F157*(1-$C$4)/Лист2!$A$6,0)","v":4315}]
[null,"T-BS 01010470","Кронштейн Г-образный для ДСП (комплект)  G=470   ","9010 стр. муар",1,{"$f":"VLOOKUP(B158,'Детали и аксессуары  KAISER'!B$9:E$50,4,0\n)","v":807},null,{"$f":"ROUND(F158*(1-$C$4)/Лист2!$A$6,0)","v":807}]
[null,"N-DB 04210100","Столешница  надставки прямого модуля L=1000 G=210 Н=32    ","дуб сонома",1,{"$f":"VLOOKUP(B159,'Детали и аксессуары  KAISER'!B$9:E$50,4,0\n)","v":1886},null,{"$f":"ROUND(F159*(1-$C$4)/Лист2!$A$6,0)","v":1886}]
[null,"T-BS 01010210","Кронштейн Г-образный для ДСП (комплект)  G=210   ","9010 стр. муар",1,{"$f":"VLOOKUP(B160,'Детали и аксессуары  KAISER'!B$9:E$50,4,0\n)","v":345},null,{"$f":"ROUND(F160*(1-$C$4)/Лист2!$A$6,0)","v":345}]
[null,"T-BP 02301000","Панель перфорированная H=300 L = 1000   ","9010 стр. муар",1,{"$f":"VLOOKUP(B161,'Детали Praktisch'!A161:C2230,3,0)","v":937},null,{"$f":"ROUND(F161*(1-$C$4)/Лист2!$A$6,0)","v":937}]
[null,"T-BP 02401000","Панель перфорированная H=400 L = 1000   ","9010 стр. муар",2,{"$f":"VLOOKUP(B162,'Детали Praktisch'!A162:C2231,3,0)","v":952},null,{"$f":"ROUND(F162*(1-$C$4)/Лист2!$A$6,0)","v":952}]
[null,"T-TR 01011000","Траверса L=1000   ","9010 стр. муар",2,{"$f":"VLOOKUP(B163,'Детали и аксессуары  KAISER'!B$9:E$50,4,0\n)","v":523},null,{"$f":"ROUND(F163*(1-$C$4)/Лист2!$A$6,0)","v":523}]
[null,"T-ST 01471000","Полка G=470 L = 1000   ","9010 стр. муар",2,{"$f":"VLOOKUP(B164,'Детали и аксессуары  KAISER'!B$9:E$50,4,0\n)","v":1031},null,{"$f":"ROUND(F164*(1-$C$4)/Лист2!$A$6,0)","v":1031}]
[null,"T-BS 01000470","Кронштейн (комплект) G = 470   ","9010 стр. муар",1,{"$f":"VLOOKUP(B165,'Детали Praktisch'!A165:C2234,3,0)","v":532},null,{"$f":"ROUND(F165*(1-$C$4)/Лист2!$A$6,0)","v":532}]
[null,17,"Модуль прямой L=665 G=470 H=900 с экономпанелью"]
[null,"N-LT 22470900","Стойка кассового модуля 60х30 L-образная  G=470 Н=900 (для траверс)   ","9010 стр. муар",1,{"$f":"VLOOKUP(B167,'Детали и аксессуары  KAISER'!B$9:E$50,4,0\n)","v":1919},{"$f":"SUMPRODUCT(E167:E173,F167:F173)","v":16237},{"$f":"ROUND(F167*(1-$C$4)/Лист2!$A$6,0)","v":1919},{"$f":"SUMPRODUCT(E167:E173,H167:H173)","v":16237}]
[null,"N-DB 04476656","Столешница  прямого модуля L=665 G=470 Н=36   ","дуб сонома",1,{"$f":"VLOOKUP(B168,'Детали и аксессуары  KAISER'!B$9:E$50,4,0\n)","v":3109},null,{"$f":"ROUND(F168*(1-$C$4)/Лист2!$A$6,0)","v":3109}]
[null,"T-BS 01010470","Кронштейн Г-образный для ДСП (комплект)  G=470   ","9010 стр. муар",1,{"$f":"VLOOKUP(B169,'Детали и аксессуары  KAISER'!B$9:E$50,4,0\n)","v":807},null,{"$f":"ROUND(F169*(1-$C$4)/Лист2!$A$6,0)","v":807}]
[null,"N-ST 14665900","Экономпанель (мет.вставки) L=665 H=900   ","дуб сонома",1,{"$f":"VLOOKUP(B170,'Детали и аксессуары  KAISER'!B$9:E$50,4,0\n)","v":7432},null,{"$f":"ROUND(F170*(1-$C$4)/Лист2!$A$6,0)","v":7432}]
[null,"T-TR 01010665","Траверса L=665   ","9010 стр. муар",2,{"$f":"VLOOKUP(B171,'Детали и аксессуары  KAISER'!B$9:E$50,4,0\n)","v":437},null,{"$f":"ROUND(F171*(1-$C$4)/Лист2!$A$6,0)","v":437}]
[null,"T-ST 01470665","Полка G=470 L = 665   ","9010 стр. муар",2,{"$f":"VLOOKUP(B172,'Детали Praktisch'!A172:C2241,3,0)","v":782},null,{"$f":"ROUND(F172*(1-$C$4)/Лист2!$A$6,0)","v":782}]
[null,"T-BS 01000470","Кронштейн (комплект) G = 470   ","9010 стр. муар",1,{"$f":"VLOOKUP(B173,'Детали Praktisch'!A173:C2242,3,0)","v":532},null,{"$f":"ROUND(F173*(1-$C$4)/Лист2!$A$6,0)","v":532}]
[null,18,"Модуль прямой L=1000 G=470 H=900 с экономпанелью"]
[null,"N-LT 22470900","Стойка кассового модуля 60х30 L-образная  G=470 Н=900 (для траверс)   ","9010 стр. муар",1,{"$f":"VLOOKUP(B175,'Детали и аксессуары  KAISER'!B$9:E$50,4,0\n)","v":1919},{"$f":"SUMPRODUCT(E175:E181,F175:F181)","v":18477},{"$f":"ROUND(F175*(1-$C$4)/Лист2!$A$6,0)","v":1919},{"$f":"SUMPRODUCT(E175:E181,H175:H181)","v":18477}]
[null,"N-DB 04471006","Столешница  прямого модуля L=1000 G=470 Н=36   ","дуб сонома",1,{"$f":"VLOOKUP(B176,'Детали и аксессуары  KAISER'!B$9:E$50,4,0\n)","v":4191},null,{"$f":"ROUND(F176*(1-$C$4)/Лист2!$A$6,0)","v":4191}]
[null,"T-BS 01010470","Кронштейн Г-образный для ДСП (комплект)  G=470   ","9010 стр. муар",1,{"$f":"VLOOKUP(B177,'Детали и аксессуары  KAISER'!B$9:E$50,4,0\n)","v":807},null,{"$f":"ROUND(F177*(1-$C$4)/Лист2!$A$6,0)","v":807}]
[null,"N-ST 14100900","Экономпанель (мет.вставки) L=1000 H=900   ","дуб сонома",1,{"$f":"VLOOKUP(B178,'Детали и аксессуары  KAISER'!B$9:E$50,4,0\n)","v":7920},null,{"$f":"ROUND(F178*(1-$C$4)/Лист2!$A$6,0)","v":7920}]
[null,"T-TR 01011000","Траверса L=1000   ","9010 стр. муар",2,{"$f":"VLOOKUP(B179,'Детали и аксессуары  KAISER'!B$9:E$50,4,0\n)","v":523},null,{"$f":"ROUND(F179*(1-$C$4)/Лист2!$A$6,0)","v":523}]
[null,"T-ST 01471000","Полка G=470 L = 1000   ","9010 стр. муар",2,{"$f":"VLOOKUP(B180,'Детали и аксессуары  KAISER'!B$9:E$50,4,0\n)","v":1031},null,{"$f":"ROUND(F180*(1-$C$4)/Лист2!$A$6,0)","v":1031}]
[null,"T-BS 01000470","Кронштейн (комплект) G = 470   ","9010 стр. муар",1,{"$f":"VLOOKUP(B181,'Детали Praktisch'!A181:C2250,3,0)","v":532},null,{"$f":"ROUND(F181*(1-$C$4)/Лист2!$A$6,0)","v":532}]
[null,19,"Модуль угловой L=665 G=665 H=900 с экономпанелью"]
[null,"N-LT 22470900","Стойка кассового модуля 60х30 L-образная  G=470 Н=900 (для траверс)   ","9010 стр. муар",2,{"$f":"VLOOKUP(B183,'Детали и аксессуары  KAISER'!B$9:E$50,4,0\n)","v":1919},{"$f":"SUMPRODUCT(E183:E191,F183:F191)","v":32954},{"$f":"ROUND(F183*(1-$C$4)/Лист2!$A$6,0)","v":1919},{"$f":"SUMPRODUCT(E183:E191,H183:H191)","v":32954}]
[null,"N-LT 22000900","Стойка с опорой кассового модуля Н=900 (для траверс)    ","9010 стр. муар",1,{"$f":"VLOOKUP(B184,'Детали и аксессуары  KAISER'!B$9:E$50,4,0\n)","v":1124},null,{"$f":"ROUND(F184*(1-$C$4)/Лист2!$A$6,0)","v":1124}]
[null,"N-DB 04656506","Столешница  углового модуля L=665 G=665 Н=36   ","дуб сонома",1,{"$f":"VLOOKUP(B185,'Детали и аксессуары  KAISER'!B$9:E$50,4,0\n)","v":5064},null,{"$f":"ROUND(F185*(1-$C$4)/Лист2!$A$6,0)","v":5064}]
[null,"T-BS 01010470","Кронштейн Г-образный для ДСП (комплект)  G=470   ","9010 стр. муар",2,{"$f":"VLOOKUP(B186,'Детали и аксессуары  KAISER'!B$9:E$50,4,0\n)","v":807},null,{"$f":"ROUND(F186*(1-$C$4)/Лист2!$A$6,0)","v":807}]
[null,"N-ST 14665900","Экономпанель (мет.вставки) L=665 H=900   ","дуб сонома",2,{"$f":"VLOOKUP(B187,'Детали и аксессуары  KAISER'!B$9:E$50,4,0\n)","v":7432},null,{"$f":"ROUND(F187*(1-$C$4)/Лист2!$A$6,0)","v":7432}]
[null,"N-ST 14090900","Экономпанель (мет.вставки) угла внешнего 90гр. Н=900   ","дуб сонома",1,{"$f":"VLOOKUP(B188,'Детали и аксессуары  KAISER'!B$9:E$50,4,0\n)","v":2606},null,{"$f":"ROUND(F188*(1-$C$4)/Лист2!$A$6,0)","v":2606}]
[null,"T-TR 01010665","Траверса L=665   ","9010 стр. муар",4,{"$f":"VLOOKUP(B189,'Детали и аксессуары  KAISER'!B$9:E$50,4,0\n)","v":437},null,{"$f":"ROUND(F189*(1-$C$4)/Лист2!$A$6,0)","v":437}]
[null,"T-ST 01470665","Полка G=470 L = 665   ","9010 стр. муар",2,{"$f":"VLOOKUP(B190,'Детали Praktisch'!A190:C2259,3,0)","v":782},null,{"$f":"ROUND(F190*(1-$C$4)/Лист2!$A$6,0)","v":782}]
[null,"T-BS 01000470","Кронштейн (комплект) G = 470   ","9010 стр. муар",1,{"$f":"VLOOKUP(B191,'Детали Praktisch'!A191:C2260,3,0)","v":532},null,{"$f":"ROUND(F191*(1-$C$4)/Лист2!$A$6,0)","v":532}]
[null,20,"Модуль прямой L=665 G=470 H=1150 с надставкой с экономпанелью"]
[null,"N-LT 22470115","Стойка кассового модуля 60х30 L-образная  G=470 Н=1150 (для траверс)   ","9010 стр. муар",1,{"$f":"VLOOKUP(B193,'Детали и аксессуары  KAISER'!B$9:E$50,4,0\n)","v":2113},{"$f":"SUMPRODUCT(E193:E201,F193:F201)","v":18686},{"$f":"ROUND(F193*(1-$C$4)/Лист2!$A$6,0)","v":2113},{"$f":"SUMPRODUCT(E193:E201,H193:H201)","v":18686}]
[null,"N-DB 32147665","Столешница прям модуля центр L=665, H=32, G=470   ","дуб сонома",1,{"$f":"VLOOKUP(B194,'Детали и аксессуары  KAISER'!B$9:E$50,4,0\n)","v":3200},null,{"$f":"ROUND(F194*(1-$C$4)/Лист2!$A$6,0)","v":3200}]
[null,"T-BS 01010470","Кронштейн Г-образный для ДСП (комплект)  G=470   ","9010 стр. муар",1,{"$f":"VLOOKUP(B195,'Детали и аксессуары  KAISER'!B$9:E$50,4,0\n)","v":807},null,{"$f":"ROUND(F195*(1-$C$4)/Лист2!$A$6,0)","v":807}]
[null,"N-DB 04210665","Столешница  надставки прямого модуля L=665 G=210 Н=32   ","дуб сонома",1,{"$f":"VLOOKUP(B196,'Детали и аксессуары  KAISER'!B$9:E$50,4,0\n)","v":1431},null,{"$f":"ROUND(F196*(1-$C$4)/Лист2!$A$6,0)","v":1431}]
[null,"T-BS 01010210","Кронштейн Г-образный для ДСП (комплект)  G=210   ","9010 стр. муар",1,{"$f":"VLOOKUP(B197,'Детали и аксессуары  KAISER'!B$9:E$50,4,0\n)","v":345},null,{"$f":"ROUND(F197*(1-$C$4)/Лист2!$A$6,0)","v":345}]
[null,"N-ST 14665115","Экономпанель (мет.вставки) L=665 Н=1150   ","дуб сонома",1,{"$f":"VLOOKUP(B198,'Детали и аксессуары  KAISER'!B$9:E$50,4,0\n)","v":7820},null,{"$f":"ROUND(F198*(1-$C$4)/Лист2!$A$6,0)","v":7820}]
[null,"T-TR 01010665","Траверса L=665   ","9010 стр. муар",2,{"$f":"VLOOKUP(B199,'Детали и аксессуары  KAISER'!B$9:E$50,4,0\n)","v":437},null,{"$f":"ROUND(F199*(1-$C$4)/Лист2!$A$6,0)","v":437}]
[null,"T-ST 01470665","Полка G=470 L = 665   ","9010 стр. муар",2,{"$f":"VLOOKUP(B200,'Детали Praktisch'!A203:C2269,3,0)","v":782},null,{"$f":"ROUND(F200*(1-$C$4)/Лист2!$A$6,0)","v":782}]
[null,"T-BS 01000470","Кронштейн (комплект) G = 470   ","9010 стр. муар",1,{"$f":"VLOOKUP(B201,'Детали Praktisch'!A205:C2270,3,0)","v":532},null,{"$f":"ROUND(F201*(1-$C$4)/Лист2!$A$6,0)","v":532}]
[null,21,"Модуль прямой L=1000 G=470 H=1150 с надставкой с экономпанелью"]
[null,"N-LT 22470115","Стойка кассового модуля 60х30 L-образная  G=470 Н=1150 (для траверс)   ","9010 стр. муар",1,{"$f":"VLOOKUP(B203,'Детали и аксессуары  KAISER'!B$9:E$50,4,0\n)","v":2113},{"$f":"SUMPRODUCT(E203:E211,F203:F211)","v":21446},{"$f":"ROUND(F203*(1-$C$4)/Лист2!$A$6,0)","v":2113},{"$f":"SUMPRODUCT(E203:E211,H203:H211)","v":21446}]
[null,"N-DB 32147100","Столешница прям модуля центр L=1000, H=32, G=470   ","дуб сонома",1,{"$f":"VLOOKUP(B204,'Детали и аксессуары  KAISER'!B$9:E$50,4,0\n)","v":4315},null,{"$f":"ROUND(F204*(1-$C$4)/Лист2!$A$6,0)","v":4315}]
[null,"T-BS 01010470","Кронштейн Г-образный для ДСП (комплект)  G=470   ","9010 стр. муар",1,{"$f":"VLOOKUP(B205,'Детали и аксессуары  KAISER'!B$9:E$50,4,0\n)","v":807},null,{"$f":"ROUND(F205*(1-$C$4)/Лист2!$A$6,0)","v":807}]
[null,"N-DB 04210100","Столешница  надставки прямого модуля L=1000 G=210 Н=32    ","дуб сонома",1,{"$f":"VLOOKUP(B206,'Детали и аксессуары  KAISER'!B$9:E$50,4,0\n)","v":1886},null,{"$f":"ROUND(F206*(1-$C$4)/Лист2!$A$6,0)","v":1886}]
[null,"T-BS 01010210","Кронштейн Г-образный для ДСП (комплект)  G=210   ","9010 стр. муар",1,{"$f":"VLOOKUP(B207,'Детали и аксессуары  KAISER'!B$9:E$50,4,0\n)","v":345},null,{"$f":"ROUND(F207*(1-$C$4)/Лист2!$A$6,0)","v":345}]
[null,"N-ST 14100115","Экономпанель (мет.вставки) L=1000 H=1150    ","дуб сонома",1,{"$f":"VLOOKUP(B208,'Детали и аксессуары  KAISER'!B$9:E$50,4,0\n)","v":8340},null,{"$f":"ROUND(F208*(1-$C$4)/Лист2!$A$6,0)","v":8340}]
[null,"T-TR 01011000","Траверса L=1000   ","9010 стр. муар",2,{"$f":"VLOOKUP(B209,'Детали и аксессуары  KAISER'!B$9:E$50,4,0\n)","v":523},null,{"$f":"ROUND(F209*(1-$C$4)/Лист2!$A$6,0)","v":523}]
[null,"T-ST 01471000","Полка G=470 L = 1000   ","9010 стр. муар",2,{"$f":"VLOOKUP(B210,'Детали и аксессуары  KAISER'!B$9:E$50,4,0\n)","v":1031},null,{"$f":"ROUND(F210*(1-$C$4)/Лист2!$A$6,0)","v":1031}]
[null,"T-BS 01000470","Кронштейн (комплект) G = 470   ","9010 стр. муар",1,{"$f":"VLOOKUP(B211,'Детали Praktisch'!A215:C2280,3,0)","v":532},null,{"$f":"ROUND(F211*(1-$C$4)/Лист2!$A$6,0)","v":532}]
["2 Опции к кассовым модулям KAISER"]
[null,22,"Боковины ЛДСП кассового модуля G=470"]
[null,"N-BB 09047900","Боковина ЛДСП кассового модуля G=470 H=900 (правая), h=32   ","дуб сонома",1,{"$f":"VLOOKUP(B214,'Детали и аксессуары  KAISER'!B$9:E$50,4,0\n)","v":4231},null,{"$f":"ROUND(F214*(1-$C$4)/Лист2!$A$6,0)","v":4231}]
[null,"N-BB 09147900","Боковина ЛДСП кассового модуля G=470 H=900 (левая), h=32   ","дуб сонома",1,{"$f":"VLOOKUP(B215,'Детали и аксессуары  KAISER'!B$9:E$50,4,0\n)","v":4231},null,{"$f":"ROUND(F215*(1-$C$4)/Лист2!$A$6,0)","v":4231}]
[null,"N-BB 09447115","Боковина ЛДСП кассового модуля (с вырезом) h=32  G=470 H=1150 (правая)","дуб сонома",1,{"$f":"VLOOKUP(B216,'Детали и аксессуары  KAISER'!B$9:E$50,4,0\n)","v":4965},null,{"$f":"ROUND(F216*(1-$C$4)/Лист2!$A$6,0)","v":4965}]
[null,"N-BB 09547115","Боковина ЛДСП кассового модуля (с вырезом) h=32  G=470 H=1150 (левая)","дуб сонома",1,{"$f":"VLOOKUP(B217,'Детали и аксессуары  KAISER'!B$9:E$50,4,0\n)","v":4965},null,{"$f":"ROUND(F217*(1-$C$4)/Лист2!$A$6,0)","v":4965}]
[null,"N-BB 09247115","Боковина ЛДСП кассового модуля h=32  G=470 H=1150 (правая)   ","дуб сонома",1,{"$f":"VLOOKUP(B218,'Детали и аксессуары  KAISER'!B$9:E$50,4,0\n)","v":4965},null,{"$f":"ROUND(F218*(1-$C$4)/Лист2!$A$6,0)","v":4965}]
[null,"N-BB 09347115","Боковина ЛДСП кассового модуля h=32  G=470 H=1150 (левая)   ","дуб сонома",1,{"$f":"VLOOKUP(B219,'Детали и аксессуары  KAISER'!B$9:E$50,4,0\n)","v":4965},null,{"$f":"ROUND(F219*(1-$C$4)/Лист2!$A$6,0)","v":4965}]
[null,"N-BB 03014732","Боковина ЛДСП кассового модуля 32/32 H=300 (правая)","дуб сонома",1,{"$f":"VLOOKUP(B220,'Детали и аксессуары  KAISER'!B$9:E$50,4,0\n)","v":2116},null,{"$f":"ROUND(F220*(1-$C$4)/Лист2!$A$6,0)","v":2116}]
[null,"N-BB 03114732","Боковина ЛДСП кассового модуля 32/32 H=300 (левая)","дуб сонома",1,{"$f":"VLOOKUP(B221,'Детали и аксессуары  KAISER'!B$9:E$50,4,0\n)","v":2116},null,{"$f":"ROUND(F221*(1-$C$4)/Лист2!$A$6,0)","v":2116}]
[null,23,"Дополнительные стойки G=470 "]
[null,"N-LT 22470900","Стойка кассового модуля 60х30 L-образная  G=470 Н=900 (для траверс)   ","9010 стр. муар",1,{"$f":"VLOOKUP(B223,'Детали и аксессуары  KAISER'!B$9:E$50,4,0\n)","v":1919},null,{"$f":"ROUND(F223*(1-$C$4)/Лист2!$A$6,0)","v":1919}]
[null,"N-LT 22470115","Стойка кассового модуля 60х30 L-образная  G=470 Н=1150 (для траверс)   ","9010 стр. муар",1,{"$f":"VLOOKUP(B224,'Детали и аксессуары  KAISER'!B$9:E$50,4,0\n)","v":2113},null,{"$f":"ROUND(F224*(1-$C$4)/Лист2!$A$6,0)","v":2113}]
[null,24,"Полки для сумок G=210"]
[null,"T-SC 01210665","Полка ДСП для Г-образного кронштейна  G=210 L=665   ","дуб сонома",1,{"$f":"VLOOKUP(B226,'Детали и аксессуары  KAISER'!$B$9:$E$50,4,0)","v":847},null,{"$f":"ROUND(F226*(1-$C$4)/Лист2!$A$6,0)","v":847}]
[null,"T-SC 01211000","Полка ДСП для Г-образного кронштейна G=210 L=1000   ","дуб сонома",1,{"$f":"VLOOKUP(B227,'Детали и аксессуары  KAISER'!$B$9:$E$50,4,0)","v":1253},null,{"$f":"ROUND(F227*(1-$C$4)/Лист2!$A$6,0)","v":1253}]
[null,"T-BS 01010210","Кронштейн Г-образный для ДСП (комплект)  G=210   ","9010 стр. муар",1,{"$f":"VLOOKUP(B228,'Детали и аксессуары  KAISER'!$B$9:$E$50,4,0)","v":345},null,{"$f":"ROUND(F228*(1-$C$4)/Лист2!$A$6,0)","v":345}]
[null,25,"Полки прямые G=210"]
[null,"T-ST 01210665","Полка прямая G=210 L=665","9010 стр. муар",1,{"$f":"VLOOKUP(B230,'Детали Praktisch'!$A$12:$C$2074,3,0)","v":496},null,{"$f":"ROUND(F230*(1-$C$4)/Лист2!$A$6,0)","v":496}]
[null,"T-ST 01211000","Полка прямая G=210 L=1000","9010 стр. муар",1,{"$f":"VLOOKUP(B231,'Детали Praktisch'!$A$12:$C$2074,3,0)","v":667},null,{"$f":"ROUND(F231*(1-$C$4)/Лист2!$A$6,0)","v":667}]
[null,"T-BS 01000210","Кронштейн (комплект) G = 210","9010 стр. муар",1,{"$f":"VLOOKUP(B232,'Детали Praktisch'!$A$12:$C$2074,3,0)","v":189},null,{"$f":"ROUND(F232*(1-$C$4)/Лист2!$A$6,0)","v":189}]
[null,26,"Полки сетчатые G=200"]
[null,"N-RC 02200665","Полка сетчатая L=665, G=200","цинк",1,{"$f":"VLOOKUP(B234,'Детали и аксессуары  KAISER'!B$9:E$50,4,0\n)","v":1400},null,{"$f":"ROUND(F234*(1-$C$4)/Лист2!$A$6,0)","v":1400}]
[null,"N-RC 02200100","Полка сетчатая L=1000, G=200","цинк",1,{"$f":"VLOOKUP(B235,'Детали и аксессуары  KAISER'!B$9:E$50,4,0\n)","v":1655},null,{"$f":"ROUND(F235*(1-$C$4)/Лист2!$A$6,0)","v":1655}]
[null,27,"Аксессуары на экономпанель"]
[null,"T-WB 10303060","Полка наклонная 30 град. на экономпанель L=600, H=50, G=300","цинк",1,{"$f":"VLOOKUP(B237,'Детали и аксессуары  KAISER'!B$9:E$50,4,0\n)","v":530},null,{"$f":"ROUND(F237*(1-$C$4)/Лист2!$A$6,0)","v":530}]
[null,"T-WB 10803060","Корзина прямая на экономпанель L=600, H=80, G=300","цинк",1,{"$f":"VLOOKUP(B238,'Детали и аксессуары  KAISER'!B$9:E$50,4,0\n)","v":689},null,{"$f":"ROUND(F238*(1-$C$4)/Лист2!$A$6,0)","v":689}]
[null,"T-WB 10503060","Полка прямая на экономпанель L=600, H=50, G=300","цинк",1,{"$f":"VLOOKUP(B239,'Детали и аксессуары  KAISER'!B$9:E$50,4,0\n)","v":611},null,{"$f":"ROUND(F239*(1-$C$4)/Лист2!$A$6,0)","v":611}]
[null,"A-ЕP 11250200","Крючок одинарный с ценникодержателем прутком для экономпанели L=200,  D=5","цинк",1,{"$f":"VLOOKUP(B240,'Детали и аксессуары  KAISER'!B$9:E$50,4,0\n)","v":114},null,{"$f":"ROUND(F240*(1-$C$4)/Лист2!$A$6,0)","v":114}]
[null,"T-WB 10151515","Короб пластиковый прозрачный на экономпанель 150х150х150","оргстекло",1,{"$f":"VLOOKUP(B241,'Детали и аксессуары  KAISER'!B$9:E$50,4,0\n)","v":331},null,{"$f":"ROUND(F241*(1-$C$4)/Лист2!$A$6,0)","v":331}]

{"sheet":"Кассовые боксы","index":16,"n_rows":42,"n_cols":5,"rows_kept":42,"cut":false,"hidden":false,"merged":[[5,2,6,2],[5,3,6,3],[18,0,18,1],[7,0,7,1],[14,0,14,1],[0,0,1,0],[2,0,2,1],[3,0,3,1],[5,0,6,0],[5,1,6,1]]}
["Кассовые боксы",null,null,null,"На главную"]
[]
["Ваша скидка:",null,{"$f":"Содержание!C2","v":0}]
["НДС:",null,{"$f":"IF(Лист2!A1=TRUE,\"С НДС\",\"БЕЗ НДС\")","v":"С НДС"}]
[]
["Изображение","Номенклатура","Базовая цена, руб. (с НДС)",{"$f":"[7]Лист2!$A$5","v":"Ваша цена, руб."}]
[null,null,null,{"$f":"[7]Лист2!$A$5","v":"Ваша цена, руб."}]
["Кассовые боксы"]
[null,"Кассовый бокс Standart Mini 1500 (узкий накопитель, тумба под денежный ящик)",29042,{"$f":"ROUND(C9*(1-$C$3)/Лист2!$A$6,0)","v":29042}]
[null,"Кассовый бокс Standart Mini 1900 (узкий накопитель, тумба под денежный ящик)",33399,{"$f":"ROUND(C10*(1-$C$3)/Лист2!$A$6,0)","v":33399}]
[]
[null,"Standart Maxi 1900 (широкий накопитель, тумба под денежный ящик)",48428,{"$f":"ROUND(C12*(1-$C$3)/Лист2!$A$6,0)","v":48428}]
[]
[null,"Денежный ящик вертикальн (flip-top) с внутренн запираемым блоком для купюр 460х170х100 н№99.1144",9529,{"$f":"ROUND(C14*(1-$C$3)/Лист2!$A$6,0)","v":9529}]
["* Столешница выполнена из шлифованной нержавеющей стали"]
[]
[]
[]
["*Сечение кассового бокса с узким накопителем"]
[]
[]
[]
[]
[]
[]
[]
[]
[]
[]
[]
[]
[]
[]
[]
[]
[]
[]
[]
[]
[]
[]
["* Наценка за нестандартный цвет (после согласования с менеджером) 3%"]

{"sheet":"Лист1","index":17,"n_rows":0,"n_cols":0,"rows_kept":0,"cut":false,"hidden":true,"merged":[]}

{"sheet":"Лист2","index":18,"n_rows":7,"n_cols":1,"rows_kept":7,"cut":false,"hidden":true,"merged":[]}
[true]
["Базовая \nцена, руб."]
["Базовая \nцена, руб. б/НДС"]
[{"$f":"IF(A1=TRUE,\"руб.\",\"руб. б/НДС\")","v":"руб."}]
[{"$f":"CONCATENATE(\"Ваша цена, \",A4)","v":"Ваша цена, руб."}]
[{"$f":"IF(A1=TRUE,1,1.22)","v":1}]
[{"$f":"IF(A1=TRUE,1,1.22)","v":1}]