{"text_format":"1","workbook":"xlsx","n_sheets":23,"sheets":["Содержание","Витрины Cryspi","Витрины Cryspi (выносное ХО)","Кондитерские витрины","Опции для витрин Cryspi","Витрины Italfrigo","Опции для витрин Italfrigo","Горки Cryspi","Опции для горок Cryspi","Горки Italfrigo","Gamma в линию","Опции для горок Italfrigo","Низкотемпературные шкафы","Лари ItalFrost","Лари-бонеты Italfrost","Столы Italfrost с боковым","Столы Italfrost с нижним","Ледогенераторы","Цвет стандарт","Расчет нестанд.RAL","Брендирование","Лист1","Лист2"],"not_rendered":{"charts":0,"images":125,"macros":1,"external_links":7,"defined_names":419,"comments":2,"pivot_tables":0},"unopened":[],"bounds":{"document_bytes":16777216,"sheet_cells":100000,"rows_first":2000,"rows_last":500,"rows_between":2000,"halvings":0,"cell_chars":16384,"cell_head_chars":4096},"cells_cut":0,"cells_raw":0,"read":"whole","date_system":"1900"}

{"sheet":"Содержание","index":0,"n_rows":48,"n_cols":4,"rows_kept":48,"cut":false,"hidden":false,"merged":[[3,1,3,3],[4,2,40,2]]}
[null,"205.14.00.02",null,"ЗАВОД «ОПК»\nТел.: +7 (496) 704-52-11\ne-mail:manager@ozpk.ru\nсайт: ozpk.ru"]
[null,"Ваша скидка","-",0]
[null,"НДС","-"]
[null,"Холодильное оборудование (встроенное холодоснабжение)"]
[null,"Холодильные витрины Cryspi",null,"Низкотемпературные шкафы Cryspi "]
[null,"Витрины со статической системой охлаждения",null,"VERONA"]
[null,null,null,"Шкаф-надстройка Milan"]
[null,null,null,"MILAN S"]
[null,"Витрины OCTAVA",null,"Лари Italfrost"]
[null,"Витрины OCTAVA Quadro",null,"Морозильные лари с гнутыми раздвижными стеклами"]
[null,"Витрины OCTAVA XL",null,"Морозильные лари с прямыми раздвижными стеклами"]
[null,"Витрины GAMMA-2",null,"Морозильные лари с глухой крышкой"]
[null,"Витрины GAMMA Quadro",null,"Морозильные лари с глухой крышкой (крышка из нерж. стали)"]
[null,"Витрины GAMMA Quadro Fish",null,"Морозильные лари с гнутыми раздвижными стеклами (4+)"]
[null,"Витрины GAMMA Quadro SELF",null,"Морозильные лари с прямыми раздвижными стеклами (4+)"]
[null,"Витрины Sonata Quadro",null,"Морозильные лари для мягкого мороженого"]
[null,"Витрины настольные Vivo 1000",null,"Опции для ларей"]
[null,"Витрины с динамической системой охлаждения"]
[null,"Витрины Magnum",null,"Ларь-бонеты ITALFROST"]
[null,"Витрины Magnum ECO",null,"Лари-бонеты ITALFROST"]
[null,"Витрины Magnum Quadro",null,"Лари-бонеты ITALFROST Push"]
[null,null,null,"Лари-бонеты RONDO с термостатом"]
[null,"Витрины Cryspi без агрегата (под выносное хладоснабжение)",null,"Лари-бонеты RONDO с контроллером"]
[null,"Витрины GAMMA-2 БА",null,"Комплектующие для ларей-бонет"]
[null,"Витрины GAMMA QUADRO БА"]
[null,"Витрины MAGNUM ECO БА",null,"Ледогенераторы"]
[null,"Витрины MAGNUM БА",null,"Льдогенератор кубикового льда"]
[null,"Витрины MAGNUM QUADRO БА"]
[null,"Кондитерские витрины"]
[null,"Витрины Adagio"]
[null,"Витрины Elegia"]
[null,"Опции и аксессуары для витрин Cryspi"]
[null,"Опции и аксессуары для витрин и стеллажей Cryspi"]
[]
[null,"Витрины Italfrigo без агрегата"]
[null,"Витрины TOSCANA Q"]
[null,"Витрины серии Veneto Quadro"]
[null,"Опции для витрин Italfrigo"]
[]
[null,"Горки Cryspi",null,"Cтандартные цвета"]
[null,"Solo L7/L9",null,"Таблица расчета нестандартных RAL"]
[null,"Solo SML",null," БРЕНДИРОВАНИЕ ЛАРЕЙ ITALFROST"]
[null,"Опции для витрин Cryspi"]
[]
[null,"Стеллажи Italfrigo под выносное холодообеспечение"]
[null,"Охлаждаемые стеллажи RIMINI"]
[null,"Охлаждаемые стеллажи LAZIO"]
[null,"Опции для cтеллажей Italfrigo"]

{"sheet":"Витрины Cryspi","index":1,"n_rows":384,"n_cols":14,"rows_kept":384,"cut":false,"hidden":false,"merged":[[350,3,350,11],[346,7,347,7],[348,7,349,7],[330,7,331,7],[344,7,345,7],[344,4,345,4],[337,4,338,4],[337,7,338,7],[12,3,12,9],[180,1,180,9],[213,1,213,11],[221,1,221,11],[228,1,228,11],[103,7,104,7],[154,6,155,6],[205,7,206,7],[184,7,185,7],[182,7,183,7],[115,6,116,6],[115,7,116,7],[168,6,169,6],[172,1,172,5],[339,4,340,4],[339,7,340,7],[373,12,376,12],[250,12,267,12],[269,12,286,12],[287,12,295,12],[296,12,304,12],[305,12,309,12],[310,12,313,12],[314,12,321,12],[323,12,340,12],[341,12,349,12],[350,12,358,12],[359,12,363,12],[364,12,367,12],[368,12,372,12],[344,9,345,9],[346,9,347,9],[348,9,349,9],[328,7,329,7],[326,4,327,4],[337,9,338,9],[339,9,340,9],[342,9,343,9],[335,7,336,7],[333,4,334,4],[333,7,334,7],[269,0,321,2],[323,3,323,8],[315,5,321,5],[322,10,323,11],[278,3,278,11],[322,1,322,9],[351,6,358,6],[332,3,332,11],[324,6,331,6],[299,7,300,7],[301,7,302,7],[299,4,300,4],[342,6,349,6],[335,4,336,4],[276,4,277,4],[281,7,282,7],[290,7,291,7],[292,4,293,4],[274,4,275,4],[288,7,289,7],[306,7,307,7],[294,7,295,7],[342,4,343,4],[341,3,341,11],[154,4,155,4],[168,7,169,7],[150,1,150,5],[214,0,220,2],[222,0,227,2],[229,0,240,2],[259,3,259,11],[260,4,261,4],[222,8,223,8],[215,7,216,7],[250,0,267,2],[250,3,250,9],[249,2,249,9],[249,10,250,11],[251,9,252,9],[253,9,254,9],[255,9,256,9],[257,9,258,9],[260,9,261,9],[262,9,263,9],[248,5,248,11],[251,6,258,6],[257,7,258,7],[264,7,265,7],[288,4,289,4],[161,7,162,7],[168,4,169,4],[156,6,157,6],[163,4,164,4],[159,4,160,4],[156,4,157,4],[226,4,227,4],[174,7,175,7],[176,7,177,7],[174,4,175,4],[174,6,175,6],[178,6,179,6],[203,6,204,6],[226,6,227,6],[205,4,206,4],[181,3,181,8],[188,3,188,11],[195,3,195,11],[176,4,177,4],[176,6,177,6],[189,7,190,7],[178,7,179,7],[191,7,192,7],[324,7,325,7],[297,7,298,7],[308,7,309,7],[315,7,321,7],[283,7,284,7],[279,6,286,6],[315,6,321,6],[297,6,304,6],[305,3,305,11],[314,3,314,11],[310,7,311,7],[306,6,313,6],[303,4,304,4],[303,7,304,7],[296,3,296,11],[287,3,287,11],[288,6,295,6],[290,4,291,4],[281,9,282,9],[283,9,284,9],[285,9,286,9],[288,9,289,9],[312,7,313,7],[306,9,309,9],[80,4,80,5],[94,7,95,7],[91,7,92,7],[333,6,340,6],[292,7,293,7],[94,6,95,6],[98,6,99,6],[108,4,109,4],[108,6,109,6],[117,4,118,4],[101,4,102,4],[101,6,102,6],[107,3,107,11],[114,3,114,11],[119,3,119,11],[112,4,113,4],[112,6,113,6],[110,7,111,7],[105,6,106,6],[159,7,160,7],[166,7,167,7],[170,7,171,7],[115,4,116,4],[161,6,162,6],[193,7,194,7],[189,6,190,6],[193,6,194,6],[203,7,204,7],[182,6,183,6],[219,4,220,4],[226,7,227,7],[224,7,225,7],[205,6,206,6],[214,3,214,11],[224,4,225,4],[196,7,197,7],[224,8,225,8],[211,7,212,7],[186,7,187,7],[198,7,199,7],[217,7,218,7],[222,6,223,6],[224,6,225,6],[219,6,220,6],[184,4,185,4],[8,0,8,5],[8,6,8,11],[247,0,247,11],[248,0,248,4],[173,2,179,2],[243,1,243,11],[91,6,92,6],[152,4,153,4],[152,7,153,7],[94,4,95,4],[9,10,10,10],[173,0,179,0],[211,6,212,6],[217,4,218,4],[217,6,218,6],[202,3,202,11],[198,4,199,4],[189,4,190,4],[184,6,185,6],[186,6,187,6],[186,4,187,4],[191,6,192,6],[193,4,194,4],[178,4,179,4],[383,8,384,8],[351,4,352,4],[351,7,352,7],[353,4,354,4],[353,7,354,7],[355,4,356,4],[355,7,356,7],[369,7,370,7],[371,4,372,4],[369,4,370,4],[362,7,363,7],[364,4,365,4],[366,4,367,4],[366,7,367,7],[371,7,372,7],[373,7,374,7],[375,4,376,4],[364,7,365,7],[357,7,358,7],[359,3,359,11],[369,6,376,6],[375,7,376,7],[360,6,367,6],[360,7,361,7],[1,2,1,4],[2,2,2,4],[3,2,3,4],[159,6,160,6],[163,7,164,7],[154,7,155,7],[166,4,167,4],[166,6,167,6],[117,6,118,6],[77,4,77,5],[17,4,17,5],[18,4,18,5],[19,4,19,5],[100,3,100,11],[101,7,102,7],[163,6,164,6],[0,8,4,11],[81,4,81,5],[87,7,88,7],[89,7,90,7],[98,7,99,7],[108,7,109,7],[22,4,22,5],[6,0,7,11],[74,3,74,11],[78,3,78,11],[82,3,82,11],[86,3,86,8],[72,4,72,5],[76,4,76,5],[84,4,84,5],[79,4,79,5],[371,9,372,9],[207,3,207,11],[200,7,201,7],[203,4,204,4],[281,4,282,4],[156,7,157,7],[152,6,153,6],[244,8,246,8],[242,0,242,5],[242,6,242,11],[222,7,223,7],[255,4,256,4],[264,4,265,4],[257,4,258,4],[276,7,277,7],[262,7,263,7],[93,3,93,11],[85,10,86,11],[85,1,85,9],[86,0,149,2],[87,4,88,4],[87,6,88,6],[89,4,90,4],[89,6,90,6],[96,4,97,4],[96,6,97,6],[103,6,104,6],[96,7,97,7],[112,7,113,7],[117,7,118,7],[98,4,99,4],[105,7,106,7],[103,4,104,4],[105,4,106,4],[110,4,111,4],[83,4,83,5],[151,2,171,2],[151,0,171,0],[170,6,171,6],[70,0,84,2],[110,6,111,6],[161,4,162,4],[170,4,171,4],[9,0,10,0],[9,1,10,1],[9,2,10,2],[9,4,10,5],[9,6,10,6],[13,4,13,5],[14,4,14,5],[12,0,55,2],[9,3,10,3],[71,4,71,5],[60,4,60,5],[70,3,70,11],[69,1,69,11],[63,4,63,5],[64,4,64,5],[91,4,92,4],[9,8,10,8],[24,3,24,11],[27,3,27,11],[9,11,10,11],[15,4,15,5],[9,9,10,9],[11,1,11,9],[21,4,21,5],[11,10,12,11],[16,3,16,11],[20,3,20,11],[23,4,23,5],[25,4,25,5],[9,7,10,7],[26,4,26,5],[28,4,28,5],[59,4,59,5],[56,1,56,11],[57,0,68,2],[73,4,73,5],[57,3,57,11],[61,3,61,11],[65,3,65,11],[62,4,62,5],[58,4,58,5],[66,4,66,5],[29,4,29,5],[30,4,30,5],[31,4,31,5],[32,4,32,5],[33,4,33,5],[34,4,34,5],[35,4,35,5],[36,4,36,5],[37,4,37,5],[38,4,38,5],[44,4,44,5],[45,4,45,5],[48,4,48,5],[75,4,75,5],[67,4,67,5],[68,4,68,5],[323,0,376,2],[360,4,361,4],[362,4,363,4],[373,4,374,4],[324,4,325,4],[294,4,295,4],[306,4,307,4],[310,4,311,4],[357,4,358,4],[346,4,347,4],[348,4,349,4],[328,4,329,4],[312,4,313,4],[308,4,309,4],[330,4,331,4],[301,4,302,4],[297,4,298,4],[283,4,284,4],[241,0,241,11],[326,7,327,7],[342,7,343,7],[285,7,286,7],[274,7,275,7],[279,4,280,4],[285,4,286,4],[251,4,252,4],[251,7,252,7],[253,4,254,4],[253,7,254,7],[255,7,256,7],[260,7,261,7],[270,4,271,4],[266,4,267,4],[279,7,280,7],[272,4,273,4],[272,7,273,7],[270,6,277,6],[270,7,271,7],[262,4,263,4],[233,3,233,11],[244,9,246,9],[264,9,265,9],[266,9,267,9],[237,3,237,11],[268,10,269,11],[268,1,268,9],[181,0,212,2],[269,3,269,8],[198,6,199,6],[200,6,201,6],[196,6,197,6],[244,0,246,2],[196,4,197,4],[222,4,223,4],[180,10,181,11],[200,4,201,4],[182,4,183,4],[219,7,220,7],[266,7,267,7],[191,4,192,4],[215,4,216,4],[215,6,216,6],[260,6,267,6],[373,9,374,9],[375,9,376,9],[351,9,352,9],[353,9,354,9],[355,9,356,9],[357,9,358,9],[360,9,361,9],[362,9,363,9],[364,9,365,9],[366,9,367,9],[369,9,370,9],[368,3,368,11],[324,9,325,9],[326,9,327,9],[328,9,329,9],[330,9,331,9],[333,9,334,9],[335,9,336,9],[49,4,49,5],[50,4,50,5],[51,4,51,5],[55,4,55,5],[310,9,313,9],[270,9,271,9],[272,9,273,9],[274,9,275,9],[276,9,277,9],[279,9,280,9],[290,9,291,9],[292,9,293,9],[294,9,295,9],[297,9,298,9],[299,9,300,9],[301,9,302,9],[303,9,304,9],[229,3,229,11],[39,4,39,5],[40,4,40,5],[41,4,41,5],[42,4,42,5],[43,4,43,5],[52,4,52,5],[53,4,53,5],[54,4,54,5],[46,4,46,5],[47,4,47,5]]}
[null,null,null,null,null,null,null,null,"ЗАВОД «ОПК»\nТел.: +7 (496) 704-52-11\ne-mail:manager@ozpk.ru\nсайт: ozpk.ru"]
[]
[null,null,"Ваша скидка:",null,null,{"$f":"Содержание!D2","v":0}]
[null,null,"НДС:",null,null,{"$f":"IF(Лист2!A1=TRUE,\"С НДС\",\"БЕЗ НДС\")","v":"С НДС"}]
[]
[]
["Витрины Cryspi со встроенным агрегатом. Статическая система охлаждения "]
[]
["Базовая комплектация:\n- Статическая система охлаждения, компрессор R-290;\n- Электронный контроллер для управления работой витрины;\n- Оттайка для версий ВПС - естественная (без ТЭНа), для версий ВПСН и ВПН - ТЭН (по умолчанию);\n- Общее светодиодное освещение для версий с высоким стеклом - стандартный - 4000К, опционально - 3000К, 6500К;\n- Товарный накопитель для линейных модулей (запасник с дверкой) (кроме НТ);\n- Упаковка в деревянную обрешетку;",null,null,null,null,null,"- Внутренний объем для витрин ВПС и ВПСН - оцинкованный металл, внутренний объем в зоне выкладки - нерж.сталь;\n- Внутренний объем для витрин ВПН - оцинкованный металл с полимерным покрытием\n- Ночные шторки для витрин с высоким стеклом;\n- Фронтальное стекло закаленное, не открывается;\n- Емкость для сбора талой воды, опционально возможно применение выпаривателя;\n"]
["№","Комплектация","Изображение","Артикул","Наименование",null,"Температурный режим,°C","Площадь экспозиции, кв.м.","Габариты, \n(LxWxH) мм","Габариты в упаковке, \n(LxWxH) мм","Базовая \nцена, руб.\n(с НДС)",{"$f":"[5]Лист2!$A$5","v":"Ваша цена, руб."}]
[]
[1,"Витрины серии OCTAVA, глубина выкладки 660 мм, стандартный Ral 3002.",null,null,null,null,null,null,null,null,"Опции Octava ",null,"EL.2.G3002гл.В7021гл.V0.PS"]
[null,null,null,{"$f":"D58","v":"Среднетемпературные, ВПС"},null,null,null,null,null,null,null,null,"нажмите чтобы перейти в список опций"]
[null,null,null,"О ВПС1 120ГR290","Octava 1200 ",null,"0…+7",0.72,"1180х955х1265","1400х1200х1110",81292,{"$f":"ROUND(K14*(1-$F$3)/Лист2!$A$6,0)","v":81292}]
[null,null,null,"О ВПС1 150ГR290","Octava 1500 ",null,"0…+7",0.92,"1480х955х1265","1700х1200х1110",88183,{"$f":"ROUND(K15*(1-$F$3)/Лист2!$A$6,0)","v":88183}]
[null,null,null,"О ВПС1 180ГR290","Octava 1800 ",null,"0…+7",1.1200000000000001,"1780х955х1265","2000х1200х1110",97998,{"$f":"ROUND(K16*(1-$F$3)/Лист2!$A$6,0)","v":97998}]
[null,null,null,{"$f":"D62","v":"Средне-низкотемпературные, ВПСН"}]
[null,null,null,"О ВПСН1 120ГR290","Octava SN 1200 ",null,"-6…+6",0.72,"1180х955х1265","1400х1200х1110",90377,{"$f":"ROUND(K18*(1-$F$3)/Лист2!$A$6,0)","v":90377}]
[null,null,null,"О ВПСН1 150ГR290","Octava SN 1500 ",null,"-6…+6",0.92,"1480х955х1265","1700х1200х1110",101905,{"$f":"ROUND(K19*(1-$F$3)/Лист2!$A$6,0)","v":101905}]
[null,null,null,"О ВПСН1 180ГR290","Octava SN 1800 ",null,"-6…+6",1.1200000000000001,"1780х955х1265","2000х1200х1110",113177,{"$f":"ROUND(K20*(1-$F$3)/Лист2!$A$6,0)","v":113177}]
[null,null,null,{"$f":"D66","v":"Низкотемпературные, ВПН"}]
[null,null,null,"О ВПН1 120ГR290","Octava M 1200 ",null," -13…-15",0.69,"1180х955х1265","1400х1200х1110",96509,{"$f":"ROUND(K22*(1-$F$3)/Лист2!$A$6,0)","v":96509}]
[null,null,null,"О ВПН1 150ГR290","Octava M 1500 ",null," -13…-15",0.89,"1480х955х1265","1700х1200х1110",110391,{"$f":"ROUND(K23*(1-$F$3)/Лист2!$A$6,0)","v":110391}]
[null,null,null,"О ВПН1 180ГR290","Octava M 1800 ",null," -13…-15",1.08,"1780х955х1265","2000х1200х1110",121972,{"$f":"ROUND(K24*(1-$F$3)/Лист2!$A$6,0)","v":121972}]
[null,null,null,"Угловые витрины"]
[null,null,null,"O ВПС1 OC90Д R290","Octava OC (угол внеш.)",null,"0…+7",0.79,"1180х1180х1265","1750х1250х1110",137982,{"$f":"ROUND(K26*(1-$F$3)/Лист2!$A$6,0)","v":137982}]
[null,null,null,"O ВПС1 IC90Д R290","Octava IC (угол внутр.)",null,"0…+7",0.61,"1354х1354х1265","2050х1150х1110",125667,{"$f":"ROUND(K27*(1-$F$3)/Лист2!$A$6,0)","v":125667}]
[null,null,null," Кассовые прилавки"]
[null,null,null,"O КНП 50ББ","Прилавок Octava КНП 500 ББ (без боковин)",null,null,null,"500 х 910 х 905","800х1100х1110",21190,{"$f":"ROUND(K29*(1-$F$3)/Лист2!$A$6,0)","v":21190}]
[null,null,null,"O КНП 50ББ К","Прилавок Octava КНП 500 ББ (без боковин, с колесами)",null,null,null,"500 х 910 х 905","800х1100х1110",24525,{"$f":"ROUND(K30*(1-$F$3)/Лист2!$A$6,0)","v":24525}]
[null,null,null,"O КНП 60","Прилавок Octava КНП 600 (с боковинами)",null,null,null,"580 х 910 х 905","800х1100х1110",31047,{"$f":"ROUND(K31*(1-$F$3)/Лист2!$A$6,0)","v":31047}]
[null,null,null,"O КНП 60 К","Прилавок Octava КНП 600 (с боковинами, с колесами)",null,null,null,"580 х 910 х 905","800х1100х1110",34787,{"$f":"ROUND(K32*(1-$F$3)/Лист2!$A$6,0)","v":34787}]
[null,null,null,"O КНП 60ББ","Прилавок Octava КНП 600 ББ (без боковин)",null,null,null,"600 х 910 х 905","900х1100х1110",22695,{"$f":"ROUND(K33*(1-$F$3)/Лист2!$A$6,0)","v":22695}]
[null,null,null,"O КНП 60ББ К","Прилавок Octava КНП 600 ББ (без боковин, с колесами)",null,null,null,"600 х 910 х 905","900х1100х1110",26339,{"$f":"ROUND(K34*(1-$F$3)/Лист2!$A$6,0)","v":26339}]
[null,null,null,"O КНП 70","Прилавок Octava КНП 700 (с боковинами)",null,null,null,"680 х 910 х 905","900х1100х1110",32604,{"$f":"ROUND(K35*(1-$F$3)/Лист2!$A$6,0)","v":32604}]
[null,null,null,"O КНП 70 К","Прилавок Octava КНП 700 (с боковинами, с колесами)",null,null,null,"680 х 910 х 905","900х1100х1110",36139,{"$f":"ROUND(K36*(1-$F$3)/Лист2!$A$6,0)","v":36139}]
[null,null,null,"O КНП 70ББ","Прилавок Octava КНП 700 ББ (без боковин)",null,null,null,"700 х 910 х 905","1000х1100х1110",24118,{"$f":"ROUND(K37*(1-$F$3)/Лист2!$A$6,0)","v":24118}]
[null,null,null,"O КНП 70ББ К","Прилавок Octava КНП 700 ББ (без боковин, с колесами)",null,null,null,"700 х 910 х 905","1000х1100х1110",27606,{"$f":"ROUND(K38*(1-$F$3)/Лист2!$A$6,0)","v":27606}]
[null,null,null,"O КНП 80","Прилавок Octava КНП 800 (с боковинами)",null,null,null,"780 х 910 х 905","1000х1100х1110",34426,{"$f":"ROUND(K39*(1-$F$3)/Лист2!$A$6,0)","v":34426}]
[null,null,null,"O КНП 80 К","Прилавок Octava КНП 800 (с боковинами, с колесами)",null,null,null,"780 х 910 х 905","1000х1100х1110",37726,{"$f":"ROUND(K40*(1-$F$3)/Лист2!$A$6,0)","v":37726}]
[null,null,null,"O КНП 80 ББ","Прилавок Octava КНП 800 ББ (без боковин)",null,null,null,"800 х 910 х 905","1100х1100х1110",25881,{"$f":"ROUND(K41*(1-$F$3)/Лист2!$A$6,0)","v":25881}]
[null,null,null,"O КНП 80 ББ К","Прилавок Octava КНП 800 ББ (без боковин, с колесами)",null,null,null,"800 х 910 х 905","1100х1100х1110",29142,{"$f":"ROUND(K42*(1-$F$3)/Лист2!$A$6,0)","v":29142}]
[null,null,null,"O КНП 90","Прилавок Octava КНП 900 (с боковинами)",null,null,null,"880 х 910 х 905","1100х1100х1110",35993,{"$f":"ROUND(K43*(1-$F$3)/Лист2!$A$6,0)","v":35993}]
[null,null,null,"O КНП 90 К","Прилавок Octava КНП 900 (с боковинами, с колесами)",null,null,null,"880 х 910 х 905","1100х1100х1110",39259,{"$f":"ROUND(K44*(1-$F$3)/Лист2!$A$6,0)","v":39259}]
[null,null,null,"O КНП 90 ББ","Прилавок Octava КНП 900 ББ (без боковин)",null,null,null,"900 х 910 х 905","1200х1100х1110",27559,{"$f":"ROUND(K45*(1-$F$3)/Лист2!$A$6,0)","v":27559}]
[null,null,null,"O КНП 90 ББ К","Прилавок Octava КНП 900 ББ (без боковин, с колесами)",null,null,null,"900 х 910 х 905","1200х1100х1110",31054,{"$f":"ROUND(K46*(1-$F$3)/Лист2!$A$6,0)","v":31054}]
[null,null,null,"O КНП IC90","Прилавок Octava КНП IC (угол внутр., с боковинами)",null,null,null,"1720 х 1000 х 905","2050х1300х1085",43740,{"$f":"ROUND(K47*(1-$F$3)/Лист2!$A$6,0)","v":43740}]
[null,null,null,"O КНП IC90 ББ","Прилавок Octava КНП IC ББ (угол внутр., без боковин)",null,null,null,"1670 х 980 х 905","2050х1300х1085",33691,{"$f":"ROUND(K48*(1-$F$3)/Лист2!$A$6,0)","v":33691}]
[null,null,null,"O КНП OC90","Прилавок Octava КНП OC (угол внеш., с боковинами)",null,null,null,"1410 х 1040 х 905","1700х1200х1110",40612,{"$f":"ROUND(K49*(1-$F$3)/Лист2!$A$6,0)","v":40612}]
[null,null,null,"O КНП OC90 ББ","Прилавок Octava КНП OC ББ (угол внеш., без боковин)",null,null,null,"1365 х 1015 х 905","1700х1200х1110",30220,{"$f":"ROUND(K50*(1-$F$3)/Лист2!$A$6,0)","v":30220}]
[null,null,null,"O КНП 100","Прилавок Octava КНП 1000 (с боковинами)",null,null,null,"980 х 910 х 905","1200х1100х1110",37778,{"$f":"ROUND(K51*(1-$F$3)/Лист2!$A$6,0)","v":37778}]
[null,null,null,"O КНП 100 К","Прилавок Octava КНП 1000 (с боковинами, с колесами)",null,null,null,"9800 х 910 х 905","1200х1100х1110",41425,{"$f":"ROUND(K52*(1-$F$3)/Лист2!$A$6,0)","v":41425}]
[null,null,null,"O КНП 100 ББ","Прилавок Octava КНП 1000 ББ (без боковин)",null,null,null,"1000 х 910 х 905","1300х1100х1110",28897,{"$f":"ROUND(K53*(1-$F$3)/Лист2!$A$6,0)","v":28897}]
[null,null,null,"O КНП 100 ББ К","Прилавок Octava КНП 1000 ББ (без боковин, с колесами)",null,null,null,"1000 х 910 х 905","1300х1100х1110",32303,{"$f":"ROUND(K54*(1-$F$3)/Лист2!$A$6,0)","v":32303}]
[null,null,null,"O КНП 1100","Прилавок Octava КНП 1100 (с боковинами)",null,null,null,"1080 х 910 х 905","1300х1100х1110",39121,{"$f":"ROUND(K55*(1-$F$3)/Лист2!$A$6,0)","v":39121}]
[null,null,null,"O КНП 1100 К","Прилавок Octava КНП 1100 (с боковинами, с колесами)",null,null,null,"1080 х 910 х 905","1300х1100х1110",42210,{"$f":"ROUND(K56*(1-$F$3)/Лист2!$A$6,0)","v":42210}]
[2,"Витрины серии OCTAVA Q, глубина выкладки 660 мм, стандартный RAL 7016",null,null,null,null,null,null,null,null,null,null,"EL.2.G7016гл.В7016гл.V0.PS"]
[null,null,null,"Среднетемпературные, ВПС"]
[null,null,null,"OKQВПС 120 R290","Octava Q 1200",null,"0…+7",0.72,"1180х925х1200","1400х1200х1110",85884,{"$f":"ROUND(K59*(1-$F$3)/Лист2!$A$6,0)","v":85884}]
[null,null,null,"OKQВПС 150 R290","Octava Q 1500",null,"0…+7",0.92,"1480х925х1200","1700х1200х1110",96769,{"$f":"ROUND(K60*(1-$F$3)/Лист2!$A$6,0)","v":96769}]
[null,null,null,"OKQВПС 180 R290","Octava Q 1800",null,"0…+7",1.1200000000000001,"1780х925х1200","2000х1200х1110",110663,{"$f":"ROUND(K61*(1-$F$3)/Лист2!$A$6,0)","v":110663}]
[null,null,null,"Средне-низкотемпературные, ВПСН"]
[null,null,null,"OKQВПСН 120 R290","Octava Q SN 1200",null,"-6…+6",0.72,"1180х925х1200","1400х1200х1110",94390,{"$f":"ROUND(K63*(1-$F$3)/Лист2!$A$6,0)","v":94390}]
[null,null,null,"OKQВПСН 150 R290","Octava Q SN 1500",null,"-6…+6",0.92,"1480х925х1200","1700х1200х1110",108110,{"$f":"ROUND(K64*(1-$F$3)/Лист2!$A$6,0)","v":108110}]
[null,null,null,"OKQВПСН 180 R290","Octava Q SN 1800",null,"-6…+6",1.1200000000000001,"1780х925х1200","2000х1200х1110",121721,{"$f":"ROUND(K65*(1-$F$3)/Лист2!$A$6,0)","v":121721}]
[null,null,null,"Низкотемпературные, ВПН"]
[null,null,null,"OKQВПН 120 R290","Octava Q M 1200",null," -15…-18",0.69,"1180х925х1200","1400х1200х1110",105997,{"$f":"ROUND(K67*(1-$F$3)/Лист2!$A$6,0)","v":105997}]
[null,null,null,"OKQВПН 150 R290","Octava Q M 1500",null," -15…-18",0.89,"1480х925х1200","1700х1200х1110",116873,{"$f":"ROUND(K68*(1-$F$3)/Лист2!$A$6,0)","v":116873}]
[null,null,null,"OKQВПН 180 R290","Octava Q M 1800",null," -15…-18",1.08,"1780х925х1200","2000х1200х1110",132254,{"$f":"ROUND(K69*(1-$F$3)/Лист2!$A$6,0)","v":132254}]
[3,"Витрины серии OCTAVA XL, глубина выкладки 780 мм, стандартный Ral 7016.",null,null,null,null,null,null,null,null,null,null,"EL.2.В7016гл.V0.PS"]
["Стандартная комплектация:",null,null,"Среднетемпературные, ВПС"]
[null,null,null,"OХL ВПС1 120 R290","Octava XL 1200 ",null,"0…+7",0.93,"1218х1069х1214","1400х1200х1110",86129,{"$f":"ROUND(K72*(1-$F$3)/Лист2!$A$6,0)","v":86129}]
[null,null,null,"OХL ВПС1 150 R290","Octava XL 1500 ",null,"0…+7",1.1499999999999999,"1518х1069х1214","1700х1200х1110",95334,{"$f":"ROUND(K73*(1-$F$3)/Лист2!$A$6,0)","v":95334}]
[null,null,null,"OХL ВПС1 180 R290","Octava XL 1800 ",null,"0…+7",1.4,"1818х1069х1214","2000х1200х1110",108098,{"$f":"ROUND(K74*(1-$F$3)/Лист2!$A$6,0)","v":108098}]
[null,null,null,"Средне-низкотемпературные, ВПСН"]
[null,null,null,"OXL ВПСН1 120 R290","Octava XL SN 1200 ",null,"-6…+6",0.93,"1218х1069х1214","1400х1200х1110",101446,{"$f":"ROUND(K76*(1-$F$3)/Лист2!$A$6,0)","v":101446}]
[null,null,null,"OXL ВПСН1 150 R290","Octava XL SN 1500 ",null,"-6…+6",1.1499999999999999,"1518х1069х1214","1700х1200х1110",107250,{"$f":"ROUND(K77*(1-$F$3)/Лист2!$A$6,0)","v":107250}]
[null,null,null,"OXL ВПСН1 180 R290","Octava XL SN 1800 ",null,"-6…+6",1.4,"1818х1069х1214","2000х1200х1110",124992,{"$f":"ROUND(K78*(1-$F$3)/Лист2!$A$6,0)","v":124992}]
[null,null,null,"Низкотемпературные, ВПН"]
[null,null,null,"OХL ВПН1 120 R290","Octava XL М 1200 ",null," -15…-18",0.85,"1218х1093х1300","1400х1200х1110",125000,{"$f":"ROUND(K80*(1-$F$3)/Лист2!$A$6,0)","v":125000}]
[null,null,null,"OХL ВПН1 150 R290","Octava XL М 1500 ",null," -15…-18",1.1000000000000001,"1518х1093х1300","1700х1200х1110",144618,{"$f":"ROUND(K81*(1-$F$3)/Лист2!$A$6,0)","v":144618}]
[null,null,null,"OХL ВПН1 180 R290","Octava XL М 1800 ",null," -15…-18",1.3,"1818х1093х1300","2000х1200х1110",158716,{"$f":"ROUND(K82*(1-$F$3)/Лист2!$A$6,0)","v":158716}]
[null,null,null,"Кассовые прилавки"]
[null,null,null,"OХЛ КНП 500 ББ","Octava XL КНП 500 ББ",null,"-","-",null,null,24733,{"$f":"ROUND(K84*(1-$F$3)/Лист2!$A$6,0)","v":24733}]
[null,null,null,"OХЛ КНП 620 ББ","Octava XL КНП 620 ББ",null,"-","-","600х1069х940","750х1250х1095",26959,{"$f":"ROUND(K85*(1-$F$3)/Лист2!$A$6,0)","v":26959}]
[4,"Витрины серии GAMMA-2, глубина выкладки 760 мм, стандартный Ral 3004.",null,null,null,null,null,null,null,null,"Опции Gamma-2",null,"EL.2.G3004гл.В3004гл.V0.PS"]
[null,null,null,"                                                                   Среднетемпературные, ВПС",null,null,null,null,null,null,null,null,"*нажмите чтобы перейти в список опций"]
[null,null,null,"G2 ВПС1 120 R290","Gamma-2 1200","с боковинами","0…+7",0.85,"1218х1093х1300","1400х1200х1110",92747,{"$f":"ROUND(K88*(1-$F$3)/Лист2!$A$6,0)","v":92747}]
[null,null,null,"G2 ВПС1 120 R290ББ",null,"без боковин",null,null,"1118х1093х1300","1400х1200х1110",79540,{"$f":"ROUND(K89*(1-$F$3)/Лист2!$A$6,0)","v":79540}]
[null,null,null,"G2 ВПС1 150 R290","Gamma-2 1500","с боковинами","0…+7",1.1000000000000001,"1518х1093х1300","1700х1200х1110",98815,{"$f":"ROUND(K90*(1-$F$3)/Лист2!$A$6,0)","v":98815}]
[null,null,null,"G2 ВПС1 150 R290ББ",null,"без боковин",null,null,"1418х1093х1300","1700х1200х1110",85607,{"$f":"ROUND(K91*(1-$F$3)/Лист2!$A$6,0)","v":85607}]
[null,null,null,"G2 ВПС1 180 R290","Gamma-2 1800","с боковинами","0…+7",1.3,"1818х1093х1300","2000х1200х1110",115595,{"$f":"ROUND(K92*(1-$F$3)/Лист2!$A$6,0)","v":115595}]
[null,null,null,"G2 ВПС1 180 R290ББ",null,"без боковин",null,null,"1718х1093х1300","2000х1200х1110",102387,{"$f":"ROUND(K93*(1-$F$3)/Лист2!$A$6,0)","v":102387}]
[null,null,null,"Средне-низкотемпературные, ВПСН"]
[null,null,null,"G2 ВПСН1 120 R290","Gamma-2 SN 1200","с боковинами","-6…+6",0.85,"1218х1093х1300","1400х1200х1110",104052,{"$f":"ROUND(K95*(1-$F$3)/Лист2!$A$6,0)","v":104052}]
[null,null,null,"G2 ВПСН1 120 R290ББ",null,"без боковин",null,null,"1118х1093х1300","1400х1200х1110",90844,{"$f":"ROUND(K96*(1-$F$3)/Лист2!$A$6,0)","v":90844}]
[null,null,null,"G2 ВПСН1 150 R290","Gamma-2 SN 1500","с боковинами","-6…+6",1.1000000000000001,"1518х1093х1300","1700х1200х1110",116508,{"$f":"ROUND(K97*(1-$F$3)/Лист2!$A$6,0)","v":116508}]
[null,null,null,"G2 ВПСН1 150 ББ R290",null,"без боковин",null,null,"1418х1093х1300","1700х1200х1110",103300,{"$f":"ROUND(K98*(1-$F$3)/Лист2!$A$6,0)","v":103300}]
[null,null,null,"G2 ВПСН1 180 R290","Gamma-2 SN 1800","с боковинами","-6…+6",1.3,"1818х1093х1300","2000х1200х1110",132736,{"$f":"ROUND(K99*(1-$F$3)/Лист2!$A$6,0)","v":132736}]
[null,null,null,"G2 ВПСН1 180 ББ R290",null,"без боковин",null,null,"1718х1093х1300","2000х1200х1110",119528,{"$f":"ROUND(K100*(1-$F$3)/Лист2!$A$6,0)","v":119528}]
[null,null,null,"Средне-низкотемпературные для рыбы, ВПСН"]
[null,null,null,"G2ВПСН1 120F R290","Gamma-2 Fish 1200","с боковинами","-6…+6",0.85,"1218х1093х1300","1400х1200х1110",115452,{"$f":"ROUND(K102*(1-$F$3)/Лист2!$A$6,0)","v":115452}]
[null,null,null,null,null,"без боковин",null,null,"1118х1093х1300","1400х1200х1110",102244,{"$f":"ROUND(K103*(1-$F$3)/Лист2!$A$6,0)","v":102244}]
[null,null,null,"G2ВПСН1 150F R290","Gamma-2 Fish 1500","с боковинами","-6…+6",1.1000000000000001,"1518х1093х1300","1700х1200х1110",133628,{"$f":"ROUND(K104*(1-$F$3)/Лист2!$A$6,0)","v":133628}]
[null,null,null,null,null,"без боковин",null,null,"1418х1093х1300","1700х1200х1110",120420,{"$f":"ROUND(K105*(1-$F$3)/Лист2!$A$6,0)","v":120420}]
[null,null,null,"G2ВПСН1 180F R290","Gamma-2 Fish 1800","с боковинами","-6…+6",1.3,"1818х1093х1300","2000х1200х1110",172815,{"$f":"ROUND(K106*(1-$F$3)/Лист2!$A$6,0)","v":172815}]
[null,null,null,null,null,"без боковин",null,null,"1718х1093х1300","2000х1200х1110",159608,{"$f":"ROUND(K107*(1-$F$3)/Лист2!$A$6,0)","v":159608}]
[null,null,null,"Низкотемпературные, ВПН"]
[null,null,null,"G2 ВПН1 120 R290","Gamma-2 М 1200","с боковинами","от -18",0.85,"1218х1093х1300","1400х1200х1110",128445,{"$f":"ROUND(K109*(1-$F$3)/Лист2!$A$6,0)","v":128445}]
[null,null,null,"G2 ВПН1 120 ББ R290",null,"без боковин",null,null,"1118х1093х1300","1400х1200х1110",115034,{"$f":"ROUND(K110*(1-$F$3)/Лист2!$A$6,0)","v":115034}]
[null,null,null,"G2 ВПН1 150 R290","Gamma-2 М 1500","с боковинами","от -18",1.1000000000000001,"1518х1093х1300","1700х1200х1110",146856,{"$f":"ROUND(K111*(1-$F$3)/Лист2!$A$6,0)","v":146856}]
[null,null,null,"G2 ВПН1 150 ББ R290",null,"без боковин",null,null,"1418х1093х1300","1700х1200х1110",133446,{"$f":"ROUND(K112*(1-$F$3)/Лист2!$A$6,0)","v":133446}]
[null,null,null,"G2 ВПН1 180 R290","Gamma-2 М 1800","с боковинами","от -18",1.3,"1818х1093х1300","2000х1200х1110",161700,{"$f":"ROUND(K113*(1-$F$3)/Лист2!$A$6,0)","v":161700}]
[null,null,null,"G2 ВПН1 180 ББ R290",null,"без боковин",null,null,"1718х1093х1300","2000х1200х1110",148289,{"$f":"ROUND(K114*(1-$F$3)/Лист2!$A$6,0)","v":148289}]
[null,null,null,"Угловые витрины (ВПС)"]
[null,null,null,"G2ВПС1 ОС90Д R290","Gamma-2 OC 90 (угол внеш.)","с боковинами","0…+7",0.92,"1180х1180х1300","1750х1400х1110",134946,{"$f":"ROUND(K116*(1-$F$3)/Лист2!$A$6,0)","v":134946}]
[null,null,null,"G2ВПС1 ОС90Д R290ББ",null,"без боковин",null,null,"1130х1130х1300","1750х1400х1110",121739,{"$f":"ROUND(K117*(1-$F$3)/Лист2!$A$6,0)","v":121739}]
[null,null,null,"G2ВПС1 IС90 R290","Gamma-2 IC 90 (угол внутр.)","с боковинами","0…+7",0.74,"1355х1355х1300","2050х1200х1110",149289,{"$f":"ROUND(K118*(1-$F$3)/Лист2!$A$6,0)","v":149289}]
[null,null,null,"G2ВПС1 IС90 R290 ББ",null,"без боковин",null,null,"1305х1305х1300","2050х1200х1110",136082,{"$f":"ROUND(K119*(1-$F$3)/Лист2!$A$6,0)","v":136082}]
[null,null,null," Кассовые прилавки"]
[null,null,null,"G КНП 50ББ","Прилавок Gamma КНП 500 ББ (без боковин)","без боковин",null,null,"500 х 1090 х 940","800х1200х1110",21327,{"$f":"ROUND(K121*(1-$F$3)/Лист2!$A$6,0)","v":21327}]
[null,null,null,"G КНП 50ББ К","Прилавок Gamma КНП 500 ББ (без боковин, с колесами)","без боковин, с колесами",null,null,"500 х 1090 х 940","800х1200х1110",25088,{"$f":"ROUND(K122*(1-$F$3)/Лист2!$A$6,0)","v":25088}]
[null,null,null,"G КНП 60","Прилавок Gamma КНП 600 (с боковинами)","с боковинами",null,null,"600 х 1090 х 940","800х1200х1110",32581,{"$f":"ROUND(K123*(1-$F$3)/Лист2!$A$6,0)","v":32581}]
[null,null,null,"G КНП 60 К","Прилавок Gamma КНП 600 (с боковинами, с колесами)","c боковинами, с колесами",null,null,"600 х 1090 х 940","800х1200х1110",36343,{"$f":"ROUND(K124*(1-$F$3)/Лист2!$A$6,0)","v":36343}]
[null,null,null,"G КНП 60ББ","Прилавок Gamma КНП 600 ББ (без боковин)","без боковин",null,null,"600 х 1090 х 940","900х1200х1110",24496,{"$f":"ROUND(K125*(1-$F$3)/Лист2!$A$6,0)","v":24496}]
[null,null,null,"G КНП 60ББ К","Прилавок Gamma КНП 600 ББ (без боковин, с колесами)","без боковин, с колесами",null,null,"600 х 1090 х 940","900х1200х1110",28257,{"$f":"ROUND(K126*(1-$F$3)/Лист2!$A$6,0)","v":28257}]
[null,null,null,"G КНП 70","Прилавок Gamma КНП 700 (с боковинами)","с боковинами",null,null,"700 х 1090 х 940","900х1200х1110",34077,{"$f":"ROUND(K127*(1-$F$3)/Лист2!$A$6,0)","v":34077}]
[null,null,null,"G КНП 70 К","Прилавок Gamma КНП 700 (с боковинами, с колесами)","c боковинами, с колесами",null,null,"700 х 1090 х 940","900х1200х1110",37838,{"$f":"ROUND(K128*(1-$F$3)/Лист2!$A$6,0)","v":37838}]
[null,null,null,"G КНП 70ББ","Прилавок Gamma КНП 700 ББ (без боковин)","без боковин",null,null,"700 х 1090 х 940","1000х1200х1110",25991,{"$f":"ROUND(K129*(1-$F$3)/Лист2!$A$6,0)","v":25991}]
[null,null,null,"G КНП 70ББ К","Прилавок Gamma КНП 700 ББ (без боковин, с колесами)","без боковин, с колесами",null,null,"700 х 1090 х 940","1000х1200х1110",29753,{"$f":"ROUND(K130*(1-$F$3)/Лист2!$A$6,0)","v":29753}]
[null,null,null,"G КНП 80","Прилавок Gamma КНП 800 (с боковинами)","с боковинами",null,null,"800 х 1090 х 940","1000х1200х1110",34831,{"$f":"ROUND(K131*(1-$F$3)/Лист2!$A$6,0)","v":34831}]
[null,null,null,"G КНП 80 К","Прилавок Gamma КНП 800 (с боковинами, с колесами)","c боковинами, с колесами",null,null,"800 х 1090 х 940","1000х1200х1110",38593,{"$f":"ROUND(K132*(1-$F$3)/Лист2!$A$6,0)","v":38593}]
[null,null,null,"G КНП 80 ББ","Прилавок Gamma КНП 800 ББ (без боковин)","без боковин",null,null,"800 х 1090 х 940","1100х1200х1110",28966,{"$f":"ROUND(K133*(1-$F$3)/Лист2!$A$6,0)","v":28966}]
[null,null,null,"G КНП 80 ББ К","Прилавок Gamma КНП 800 ББ (без боковин, с колесами)","без боковин, с колесами",null,null,"800 х 1090 х 940","1100х1200х1110",32728,{"$f":"ROUND(K134*(1-$F$3)/Лист2!$A$6,0)","v":32728}]
[null,null,null,"G КНП 90","Прилавок Gamma КНП 900 (с боковинами)","с боковинами",null,null,"900 х 1090 х 940","1100х1200х1110",36451,{"$f":"ROUND(K135*(1-$F$3)/Лист2!$A$6,0)","v":36451}]
[null,null,null,"G КНП 90 К","Прилавок Gamma КНП 900 (с боковинами, с колесами)","c боковинами, с колесами",null,null,"900 х 1090 х 940","1100х1200х1110",40212,{"$f":"ROUND(K136*(1-$F$3)/Лист2!$A$6,0)","v":40212}]
[null,null,null,"G КНП 90 ББ","Прилавок Gamma КНП 900 ББ (без боковин)","без боковин",null,null,"900 х 1090 х 940","1200х1200х1110",29985,{"$f":"ROUND(K137*(1-$F$3)/Лист2!$A$6,0)","v":29985}]
[null,null,null,"G КНП 90 ББ К","Прилавок Gamma КНП 900 ББ (без боковин, с колесами)","без боковин, с колесами",null,null,"900 х 1090 х 940","1200х1200х1110",33746,{"$f":"ROUND(K138*(1-$F$3)/Лист2!$A$6,0)","v":33746}]
[null,null,null,"G КНП IC90","Прилавок Gamma КНП IC (угол внутр., с боковинами)","с боковинами",null,null,"1885 х 1120 х 940","2050х1300х1095",48083,{"$f":"ROUND(K139*(1-$F$3)/Лист2!$A$6,0)","v":48083}]
[null,null,null,"G КНП IC90 ББ","Прилавок Gamma КНП IC ББ (угол внутр., без боковин)","без боковин",null,null,"1835 х 1105 х 940","2050х1300х1095",36831,{"$f":"ROUND(K140*(1-$F$3)/Лист2!$A$6,0)","v":36831}]
[null,null,null,"G КНП OC90","Прилавок Gamma КНП OC (угол внеш., с боковинами)","с боковинами",null,null,"1665 х 1220 х 940","1850х1390х1095",48938,{"$f":"ROUND(K141*(1-$F$3)/Лист2!$A$6,0)","v":48938}]
[null,null,null,"G КНП OC90 ББ","Прилавок Gamma КНП OC ББ (угол внеш., без боковин)","без боковин",null,null,"1620 х 1195 х 940","1850х1390х1095",37686,{"$f":"ROUND(K142*(1-$F$3)/Лист2!$A$6,0)","v":37686}]
[null,null,null,"G КНП 100","Прилавок Gamma КНП 1000 (с боковинами)","с боковинами",null,null,"1000 х 1090 х 940","1200х1200х1110",36833,{"$f":"ROUND(K143*(1-$F$3)/Лист2!$A$6,0)","v":36833}]
[null,null,null,"G КНП 100 К","Прилавок Gamma КНП 1000 (с боковинами, с колесами)","c боковинами, с колесами",null,null,"1000 х 1090 х 940","1200х1200х1110",40594,{"$f":"ROUND(K144*(1-$F$3)/Лист2!$A$6,0)","v":40594}]
[null,null,null,"G КНП 100 ББ","Прилавок Gamma КНП 1000 ББ (без боковин)","без боковин",null,null,"1000 х 1090 х 940","1300х1200х1110",33074,{"$f":"ROUND(K145*(1-$F$3)/Лист2!$A$6,0)","v":33074}]
[null,null,null,"G КНП 100 ББ К","Прилавок Gamma КНП 1000 ББ (без боковин, с колесами)","без боковин, с колесами",null,null,"1000 х 1090 х 940","1300х1200х1110",36835,{"$f":"ROUND(K146*(1-$F$3)/Лист2!$A$6,0)","v":36835}]
[null,null,null,"G КНП 1100","Прилавок Gamma КНП 1100 (с боковинами)","с боковинами",null,null,"1100 х 1090 х 940","1300х1200х1110",38970,{"$f":"ROUND(K147*(1-$F$3)/Лист2!$A$6,0)","v":38970}]
[null,null,null,"G КНП 1100 К","Прилавок Gamma КНП 1100 (с боковинами, с колесами)","c боковинами, с колесами",null,null,"1100 х 1090 х 940","1300х1200х1110",42731,{"$f":"ROUND(K148*(1-$F$3)/Лист2!$A$6,0)","v":42731}]
[null,null,null,null,"Комплект колес для КНП",null,null,null,null,null,3762,{"$f":"ROUND(K149*(1-$F$3)/Лист2!$A$6,0)","v":3762}]
[null,null,null,null,"Ящик для КНП",null,null,null,null,null,2643,{"$f":"ROUND(K150*(1-$F$3)/Лист2!$A$6,0)","v":2643}]
[5,"Витрины серии GAMMA-2 LED, глубина выкладки 760 мм, стандартный Ral 3004."]
[null,"Стандартная комплектация:",null,null,"Среднетемпературные"]
[null,"- агрегат",null,null,"Gamma-2 1200 LED","с боковинами","0…+7",0.85,"1218х1093х1300",null,79279,{"$f":"ROUND(K153*(1-$F$3)/Лист2!$A$6,0)","v":79279}]
[null,"- испаритель",null,null,null,"без боковин",null,null,"1118х1093х1300",null,68488,{"$f":"ROUND(K154*(1-$F$3)/Лист2!$A$6,0)","v":68488}]
[null,"- шторки из оргстекла",null,null,"Gamma-2 1500 LED","с боковинами","0…+7",1.1000000000000001,"1518х1093х1300",null,84487,{"$f":"ROUND(K155*(1-$F$3)/Лист2!$A$6,0)","v":84487}]
[null,"- комплект боковин и боковых стекол",null,null,null,"без боковин",null,null,"1418х1093х1300",null,73696,{"$f":"ROUND(K156*(1-$F$3)/Лист2!$A$6,0)","v":73696}]
[null,"- комплект фронтальных стекол",null,null,"Gamma-2 1800 LED","с боковинами","0…+7",1.3,"1818х1093х1300",null,99221,{"$f":"ROUND(K157*(1-$F$3)/Лист2!$A$6,0)","v":99221}]
[null,"- экспозиционные полки из шлифованной стали",null,null,null,"без боковин",null,null,"1718х1093х1300",null,88105,{"$f":"ROUND(K158*(1-$F$3)/Лист2!$A$6,0)","v":88105}]
[null,"- ёмкость для сбора талой воды",null,null,"Средне-низкотемпературные"]
[null,"- светодиодная подсветка",null,null,"Gamma-2 SN 1200 LED","с боковинами","-6…+6",0.85,"1218х1093х1300",null,89313,{"$f":"ROUND(K160*(1-$F$3)/Лист2!$A$6,0)","v":89313}]
[null,"- электронный пульт управления",null,null,null,"без боковин",null,null,"1118х1093х1300",null,78198,{"$f":"ROUND(K161*(1-$F$3)/Лист2!$A$6,0)","v":78198}]
[null,"- деревянная тара",null,null,"Gamma-2 SN 1500 LED","с боковинами","-6…+6",1.1000000000000001,"1518х1093х1300",null,100002,{"$f":"ROUND(K162*(1-$F$3)/Лист2!$A$6,0)","v":100002}]
[null,null,null,null,null,"без боковин",null,null,"1418х1093х1300",null,88888,{"$f":"ROUND(K163*(1-$F$3)/Лист2!$A$6,0)","v":88888}]
[null,null,null,null,"Gamma-2 SN 1800 LED","с боковинами","-6…+6",1.3,"1818х1093х1300",null,113934,{"$f":"ROUND(K164*(1-$F$3)/Лист2!$A$6,0)","v":113934}]
[null,null,null,null,null,"без боковин",null,null,"1718х1093х1300",null,102818,{"$f":"ROUND(K165*(1-$F$3)/Лист2!$A$6,0)","v":102818}]
[null,null,null,null,"Низкотемпературные"]
[null,null,null,null,"Gamma-2 М 1200 LED","с боковинами","от -18",0.85,"1218х1093х1300",null,110250,{"$f":"ROUND(K167*(1-$F$3)/Лист2!$A$6,0)","v":110250}]
[null,null,null,null,null,"без боковин",null,null,"1118х1093х1300",null,98964,{"$f":"ROUND(K168*(1-$F$3)/Лист2!$A$6,0)","v":98964}]
[null,null,null,null,"Gamma-2 М 1500 LED","с боковинами","от -18",1.1000000000000001,"1518х1093х1300",null,126052,{"$f":"ROUND(K169*(1-$F$3)/Лист2!$A$6,0)","v":126052}]
[null,null,null,null,null,"без боковин",null,null,"1418х1093х1300",null,114766,{"$f":"ROUND(K170*(1-$F$3)/Лист2!$A$6,0)","v":114766}]
[null,null,null,null,"Gamma-2 М 1800 LED","с боковинами","от -18",1.3,"1818х1093х1300",null,138793,{"$f":"ROUND(K171*(1-$F$3)/Лист2!$A$6,0)","v":138793}]
[null,null,null,null,null,"без боковин",null,null,"1718х1093х1300",null,127507,{"$f":"ROUND(K172*(1-$F$3)/Лист2!$A$6,0)","v":127507}]
[6,"Витрины серии GAMMA-2  FISH, глубина выкладки 760 мм, стандартный Ral 3004."]
[null,null,null,null,"Средне-низкотемпературные"]
[null,"- усиленный поддон для льда и рыбы",null,null,"Gamma-2 SN FISH 1200","с боковинами","-6…+6",0.85,"1218х1093х1300",null,97693,{"$f":"ROUND(K175*(1-$F$3)/Лист2!$A$6,0)","v":97693}]
[null,"- коррозионностойкая решётка защиты испарителя ",null,null,null,"без боковин",null,null,"1118х1093х1300",null,86578,{"$f":"ROUND(K176*(1-$F$3)/Лист2!$A$6,0)","v":86578}]
[null,"- увеличенный слив (Д 40 мм)",null,null,"Gamma-2 SN FISH 1500","с боковинами","-6…+6",1.1000000000000001,"1518х1093х1300",null,112989,{"$f":"ROUND(K177*(1-$F$3)/Лист2!$A$6,0)","v":112989}]
[null,null,null,null,null,"без боковин",null,null,"1418х1093х1300",null,101874,{"$f":"ROUND(K178*(1-$F$3)/Лист2!$A$6,0)","v":101874}]
[null,null,null,null,"Gamma-2 SN FISH 1800","с боковинами","-6…+6",1.3,"1818х1093х1300",null,126856,{"$f":"ROUND(K179*(1-$F$3)/Лист2!$A$6,0)","v":126856}]
[null,null,null,null,null,"без боковин",null,null,"1718х1093х1300",null,115742,{"$f":"ROUND(K180*(1-$F$3)/Лист2!$A$6,0)","v":115742}]
[5,"Витрины серии GAMMA QUADRO, глубина выкладки 760 мм, стандартный Ral 9016/7016.",null,null,null,null,null,null,null,null,"Опции Gamma Quadro",null,"EL.2.G9016гл.В7016гл.V0.PS"]
["Стандартная комплектация:",null,null,"                                                                   Среднетемпературные, ВПС",null,null,null,null,null,null,null,null,"*нажмите чтобы перейти в список опций"]
[null,null,null,"G2QUADLXВПС1 120R290","Gamma Quadro 1200","с боковинами","0…+7",0.85,"1218х1087х1209","1400х1200х1110",112221,{"$f":"ROUND(K183*(1-$F$3)/Лист2!$A$6,0)","v":112221}]
[null,null,null,"G2QUADLXВПС1 120R290ББ",null,"без боковин",null,null,"1118х1087х1209","1400х1200х1110",98369,{"$f":"ROUND(K184*(1-$F$3)/Лист2!$A$6,0)","v":98369}]
[null,null,null,"G2QUADLXВПС1 150R290","Gamma Quadro 1500","с боковинами","0…+7",1.1000000000000001,"1518х1087х1209","1700х1200х1110",119910,{"$f":"ROUND(K185*(1-$F$3)/Лист2!$A$6,0)","v":119910}]
[null,null,null,"G2QUADLXВПС1 150R290ББ",null,"без боковин",null,null,"1418х1087х1209","1700х1200х1110",106059,{"$f":"ROUND(K186*(1-$F$3)/Лист2!$A$6,0)","v":106059}]
[null,null,null,"G2QUADLXВПС1 180R290","Gamma Quadro 1800","с боковинами","0…+7",1.3,"1818х1087х1209","2000х1200х1110",143784,{"$f":"ROUND(K187*(1-$F$3)/Лист2!$A$6,0)","v":143784}]
[null,null,null,"G2QUADLXВПС1 180R290ББ",null,"без боковин",null,null,"1718х1087х1209","2000х1200х1110",129932,{"$f":"ROUND(K188*(1-$F$3)/Лист2!$A$6,0)","v":129932}]
[null,null,null,"Средне-низкотемпературные, ВПСН"]
[null,null,null,"G2QUADLXВПСН1 120R290","Gamma Quadro SN 1200","с боковинами","-6…+6",0.85,"1218х1087х1209","1400х1200х1110",121371,{"$f":"ROUND(K190*(1-$F$3)/Лист2!$A$6,0)","v":121371}]
[null,null,null,"G2QLXВПСН1 120VR290",null,"без боковин",null,null,"1118х1087х1209","1400х1200х1110",107519,{"$f":"ROUND(K191*(1-$F$3)/Лист2!$A$6,0)","v":107519}]
[null,null,null,"G2QUADLXВПСН1 150R290","Gamma Quadro SN 1500","с боковинами","-6…+6",1.1000000000000001,"1518х1087х1209","1700х1200х1110",139831,{"$f":"ROUND(K192*(1-$F$3)/Лист2!$A$6,0)","v":139831}]
[null,null,null,"G2QUADLXВПСН1 150R290ББ",null,"без боковин",null,null,"1418х1087х1209","1700х1200х1110",125979,{"$f":"ROUND(K193*(1-$F$3)/Лист2!$A$6,0)","v":125979}]
[null,null,null,"G2QUADLXВПСН1 180R290","Gamma Quadro SN 1800","с боковинами","-6…+6",1.3,"1818х1087х1209","2000х1200х1110",158766,{"$f":"ROUND(K194*(1-$F$3)/Лист2!$A$6,0)","v":158766}]
[null,null,null,"G2QUADLXВПСН1 180R290ББ",null,"без боковин",null,null,"1718х1087х1209","2000х1200х1110",144914,{"$f":"ROUND(K195*(1-$F$3)/Лист2!$A$6,0)","v":144914}]
[null,null,null,"Низкотемпературные, ВПН"]
[null,null,null,"G2QUADLXВПН1 120R290","Gamma Quadro М 1200","с боковинами","от -18",0.85,"1218х1087х1209","1400х1200х1110",141892,{"$f":"ROUND(K197*(1-$F$3)/Лист2!$A$6,0)","v":141892}]
[null,null,null,"G2QUADLXВПН1 120R290 ББ",null,"без боковин",null,null,"1118х1087х1209","1400х1200х1110",124654,{"$f":"ROUND(K198*(1-$F$3)/Лист2!$A$6,0)","v":124654}]
[null,null,null,"G2QUADLXВПН1 150R290","Gamma Quadro М 1500","с боковинами","от -18",1.1000000000000001,"1518х1087х1209","1700х1200х1110",161482,{"$f":"ROUND(K199*(1-$F$3)/Лист2!$A$6,0)","v":161482}]
[null,null,null,null,null,"без боковин",null,null,"1418х1087х1209","1700х1200х1110",144244,{"$f":"ROUND(K200*(1-$F$3)/Лист2!$A$6,0)","v":144244}]
[null,null,null,"G2QUADLXВПН1 180R290","Gamma Quadro М 1800","с боковинами","от -18",1.3,"1818х1087х1209","2000х1200х1110",187722,{"$f":"ROUND(K201*(1-$F$3)/Лист2!$A$6,0)","v":187722}]
[null,null,null,"G2QUADLXВПН1 180R290ББ",null,"без боковин",null,null,"1718х1087х1209","2000х1200х1110",170485,{"$f":"ROUND(K202*(1-$F$3)/Лист2!$A$6,0)","v":170485}]
[null,null,null,"Угловые витрины (ВПС)"]
[null,null,null,"G2QUADLXВПС1 OC90Д R290","Gamma Quadro OC 90 (угол внеш.)","с боковинами","0…+7",0.92,"1180х1180х1209","1750х1400х1110",167853,{"$f":"ROUND(K204*(1-$F$3)/Лист2!$A$6,0)","v":167853}]
[null,null,null,"G2QUADLXВПС1 OC90Д ББR290",null,"без боковин",null,null,"1130х1130х1209","1750х1400х1110",154004,{"$f":"ROUND(K205*(1-$F$3)/Лист2!$A$6,0)","v":154004}]
[null,null,null,"G2QUADLXВПС1 IC90R290","Gamma Quadro IC 90 (угол внутр.)","с боковинами","0…+7",0.74,"1355х1355х1209","2050х1200х1110",167853,{"$f":"ROUND(K206*(1-$F$3)/Лист2!$A$6,0)","v":167853}]
[null,null,null,"G2QUADLXВПС1 IC90ББR290",null,"без боковин",null,null,"1305х1305х1209","2050х1200х1110",154004,{"$f":"ROUND(K207*(1-$F$3)/Лист2!$A$6,0)","v":154004}]
[null,null,null,"Кассовые прилавки"]
[null,null,null,"G2Q КНП LX 500RББ","Gamma Quadro КНП 500 ББ","без боковин","-","-","500х1087х940","750х1250х1085",24492,{"$f":"ROUND(K209*(1-$F$3)/Лист2!$A$6,0)","v":24492}]
[null,null,null,"G2Q КНП LX 800RББ","Gamma Quadro КНП 800 ББ","без боковин",null,null,"800х1087х940","1050х1250х1085",40368,{"$f":"ROUND(K210*(1-$F$3)/Лист2!$A$6,0)","v":40368}]
[null,null,null,"G2Q КНП LX 1000RББ","Gamma Quadro КНП 1000 ББ","без боковин",null,null,"1000х1087х940","1250х1250х1085",47245,{"$f":"ROUND(K211*(1-$F$3)/Лист2!$A$6,0)","v":47245}]
[null,null,null,"G2QLX КНП ОC90R ББ","Gamma Quadro ОС КНП (угол внеш.)","без боковин","-","-","1611х1192х940","1850х1390х1095",44400,{"$f":"ROUND(K212*(1-$F$3)/Лист2!$A$6,0)","v":44400}]
[null,null,null,"G2QLX КНП IC90R ББ","Gamma Quadro IС КНП (угол внутр.)","без боковин",null,null,"1834х1096х940","2050х1300х1085",37935,{"$f":"ROUND(K213*(1-$F$3)/Лист2!$A$6,0)","v":37935}]
[6,"Витрины серии GAMMA Quadro FISH, глубина выкладки 760 мм, стандартный Ral 3004.",null,null,null,null,null,null,null,null,null,null,"EL.2.G3004гл.В7016гл.V0.PS"]
[null,null,null,"Средне-низкотемпературные, ВПСН"]
[null,null,null,"G2QULXВПСН1 120F R290","Gamma Quadro SN FISH 1200 LED","с боковинами","-6…+6",0.85,"1218х1093х1300","1400х1200х1110",132493,{"$f":"ROUND(K216*(1-$F$3)/Лист2!$A$6,0)","v":132493}]
[null,null,null,"G2QULXВПСН1 120F R290 ББ",null,"без боковин",null,null,"1118х1093х1300","1400х1200х1110",118642,{"$f":"ROUND(K217*(1-$F$3)/Лист2!$A$6,0)","v":118642}]
[null,null,null,"G2QULXВПСН1 150F R290","Gamma Quadro SN FISH 1500 LED","с боковинами","-6…+6",1.1000000000000001,"1518х1093х1300","1700х1200х1110",153947,{"$f":"ROUND(K218*(1-$F$3)/Лист2!$A$6,0)","v":153947}]
[null,null,null,"G2QULXВПСН1 150F R290 ББ",null,"без боковин",null,null,"1418х1093х1300","1700х1200х1110",140095,{"$f":"ROUND(K219*(1-$F$3)/Лист2!$A$6,0)","v":140095}]
[null,null,null,"G2QULXВПСН1 180F R290","Gamma Quadro SN FISH 1800 LED","с боковинами","-6…+6",1.3,"1818х1093х1300","2000х1200х1110",173460,{"$f":"ROUND(K220*(1-$F$3)/Лист2!$A$6,0)","v":173460}]
[null,null,null,"G2QULXВПСН1 180F R290 ББ",null,"без боковин",null,null,"1718х1093х1300","2000х1200х1110",159608,{"$f":"ROUND(K221*(1-$F$3)/Лист2!$A$6,0)","v":159608}]
[7,"Витрины серии GAMMA Quadro SELF (низкое стекло), динамический холод, без запасника, глубина выкладки 760 мм, стандартный Ral 3004.",null,null,null,null,null,null,null,null,null,null,"EL.0.G3004гл.В7016гл.V0.PS"]
[null,null,null,"G2QLXВПС1 SG120 R290","Gamma Quadro Self 1200 (динамический холод)","с боковинами","0…+7",0.85,"1204х1096х934","1400х1200х1110",122615,{"$f":"ROUND(K223*(1-$F$3)/Лист2!$A$6,0)","v":122615}]
[null,null,null,null,null,"без боковин",null,null,null,"1400х1200х1110",114216,{"$f":"ROUND(K224*(1-$F$3)/Лист2!$A$6,0)","v":114216}]
[null,null,null,"G2QLXВПС1 SGF120 R290","Gamma Quadro Self Fish 1200 (динамический холод)","с боковинами","0…+7",0.85,"1204х1096х934","1400х1200х1110",134878,{"$f":"ROUND(K225*(1-$F$3)/Лист2!$A$6,0)","v":134878}]
[null,null,null,null,null,"без боковин",null,null,null,"1400х1200х1110",126479,{"$f":"ROUND(K226*(1-$F$3)/Лист2!$A$6,0)","v":126479}]
[]
[]
[8,"Витрины серии Sonata Quadro, глубина выкладки 760 мм, стандартный Ral 7016 ",null,null,null,null,null,null,null,null,null,null,"EL.2.G7016гл.В7016гл.V0.PS"]
[null,null,null,"  Среднетемпературные, ВПС"]
[null,null,null,"SONQВПС120R290","Sonata Quadro  1200 LED","с боковинами","0…+7",0.85,"1218х1087х1209","1400х1200х1110",100311,{"$f":"ROUND(K231*(1-$F$3)/Лист2!$A$6,0)","v":100311}]
[null,null,null,"SONQВПС150R290","Sonata Quadro  1500 LED","с боковинами","0…+7",1.1000000000000001,"1518х1087х1209","1700х1200х1110",115817,{"$f":"ROUND(K232*(1-$F$3)/Лист2!$A$6,0)","v":115817}]
[null,null,null,"SONQВПС180R290","Sonata Quadro  1800 LED","с боковинами","0…+7",1.3,"1818х1087х1209","2000х1200х1110",129763,{"$f":"ROUND(K233*(1-$F$3)/Лист2!$A$6,0)","v":129763}]
[null,null,null,"Средне-низкотемпературные, ВПСН"]
[null,null,null,"SONQВПСН120R290","Sonata Quadro SN 1200 LED","с боковинами","-6…+6",0.85,"1218х1087х1209","1400х1200х1110",102485,{"$f":"ROUND(K235*(1-$F$3)/Лист2!$A$6,0)","v":102485}]
[null,null,null,"SONQВПСН150R290","Sonata Quadro SN 1500 LED","с боковинами","-6…+6",1.1000000000000001,"1518х1087х1209","1700х1200х1110",122025,{"$f":"ROUND(K236*(1-$F$3)/Лист2!$A$6,0)","v":122025}]
[null,null,null,"SONQВПСН180R290","Sonata Quadro SN 1800 LED","с боковинами","-6…+6",1.3,"1818х1087х1209","2000х1200х1110",136101,{"$f":"ROUND(K237*(1-$F$3)/Лист2!$A$6,0)","v":136101}]
[null,null,null,"Низкотемпературные, ВПН"]
[null,null,null,"SONQВПН120R290","Sonata Quadro М 1200 LED","с боковинами","от -18",0.85,"1218х1087х1209","1400х1200х1110",122007,{"$f":"ROUND(K239*(1-$F$3)/Лист2!$A$6,0)","v":122007}]
[null,null,null,"SONQВПН150R290","Sonata Quadro М 1500 LED","с боковинами","от -18",1.1000000000000001,"1518х1087х1209","1700х1200х1110",146382,{"$f":"ROUND(K240*(1-$F$3)/Лист2!$A$6,0)","v":146382}]
[null,null,null,"SONQВПН180R290","Sonata Quadro М 1800 LED","с боковинами","от -18",1.3,"1818х1087х1209","2000х1200х1110",164849,{"$f":"ROUND(K241*(1-$F$3)/Лист2!$A$6,0)","v":164849}]
["Витрины Vivo"]
["Базовая комплектация:\n- Статическая система охлаждения, компрессор R-290;\n- Электронный контроллер;\n- Оттайка - естественная (без ТЭНа),\n- Общее освещение для версий с высоким стеклом - нейтральное (3000К, 4000К, 6500К);\n- Упаковка в деревянную обрешетку;",null,null,null,null,null,"- Внутренний объем - оцинкованный металл, внутренний объем в зоне выкладки - нерж.сталь;\n- Ночные шторки для витрин с высоким стеклом;\n- Фронтальное стекло закаленное, открывается;\n- Емкость для сбора талой воды, опционально возможно применение выпаривателя;\n"]
[8,"Витрины настольные Vivo 1000 (статическое охлаждение, освещение нейтральное)",null,null,null,null,null,null,null,null,null,null,"C.2.PS"]
[null,null,null,"VIVO ВПС 100","Витрина холодильная ВПС Vivo 1000 (0..+5°С)","с боковинами","0…+5",null,"1000x866x450","1200х1030х675",64179,{"$f":"ROUND(K245*(1-$F$3)/Лист2!$A$6,0)","v":64179}]
[null,null,null,null,"Витрина холодильная ВПСН Vivo 1000 (-5..+5°С)","с боковинами","-5…+5",null,null,null,72166,{"$f":"ROUND(K246*(1-$F$3)/Лист2!$A$6,0)","v":72166}]
[null,null,null,null,"Витрина тепловая ВПТ Vivo 1000","с боковинами","до +65",null,null,null,66983,{"$f":"ROUND(K247*(1-$F$3)/Лист2!$A$6,0)","v":66983}]
["Витрины Cryspi со встроенным агрегатом. Динамическая система охлаждения "]
["Базовая комплектация:\n- Динамическая система охлаждения, компрессор R-290;\n- Электронный контроллер;\n- Оттайка для версий ВПС - естественная, для версий ВПСН и ВПН - ТЭН (по умолчанию);\n- Общее освещение для версий с высоким стеклом - нейтральное (4000К), витрины с низким стеклом без освещения;    \n - Товарный накопитель для линейных модулей (запасник с дверкой);   ",null,null,null,null,"- Внутренний объем - оцинкованный металл, внутренний объем в зоне выкладки - нерж.сталь;\n- Ночные шторки для витрин с высоким стеклом;                                                                             \n- Фронтальное стекло закаленное \n(Magnum Eco – стекло открывается сверху-вниз, Magnum Quadro – стекло открывается сверху-вниз без гидролифта; Magnum – стекло открывается снизу-вверх, опционально возможно применение гидролифта;) \n- Емкость для сбора талой воды, опционально возможно применение выпаривателя;\n- Упаковка в деревянной обрешетке;"]
[9,"Витрины серии MAGNUM ECO, глубина выкладки 860 мм, стандартный Ral 7016","Витрины серии MAGNUM ECO, глубина выкладки 860 мм, стандартный Ral 7016",null,null,null,null,null,null,null,"Опции Magnum ECO"]
["Стандартная комплектация:",null,null,"  Среднетемпературные, ВПС",null,null,null,null,null,null,null,null,"EL.XR.PS.VS.2.V0.T.Y7016.P7016\n\nдля витрин с боковинами добавить комплекты боковин:\n676.50.01.00;\n676.50.02.00"]
[null,null,null,"MAG ECO ВПС1 125 R290","Magnum Eco 1250","с боковинами","0…+7",1.075,"1330х1130х1235","1510х1190х1150",135037,{"$f":"ROUND(K252*(1-$F$3)/Лист2!$A$6,0)","v":135037}]
[null,null,null,"MAG ECO ВПС1 125 R290 ББ",null,"без боковин",null,null,"1250х1130х1235",null,118118,{"$f":"ROUND(K253*(1-$F$3)/Лист2!$A$6,0)","v":118118}]
[null,null,null,"MAG ECO ВПС1 188 R290","Magnum Eco 1880","с боковинами",null,1.61,"1955х1130х1235","2140х1190х1150",171237,{"$f":"ROUND(K254*(1-$F$3)/Лист2!$A$6,0)","v":171237}]
[null,null,null,"MAG ECO ВПС1 188 R290 ББ",null,"без боковин",null,null,"1875х1130х1235",null,154319,{"$f":"ROUND(K255*(1-$F$3)/Лист2!$A$6,0)","v":154319}]
[null,null,null,"MAG ECO ВПС1 250 R290","Magnum Eco 2500","с боковинами",null,2.15,"2580х1130х1235","2760х1190х1150",212984,{"$f":"ROUND(K256*(1-$F$3)/Лист2!$A$6,0)","v":212984}]
[null,null,null,"MAG ECO ВПС1 250 R290 ББ",null,"без боковин",null,null,"2500х1130х1235",null,196065,{"$f":"ROUND(K257*(1-$F$3)/Лист2!$A$6,0)","v":196065}]
[null,null,null,"MAG ECO ВПС1 375 R290","Magnum Eco 3750","с боковинами",null,3.22,"3830х1130х1235","4010х1190х1150",266292,{"$f":"ROUND(K258*(1-$F$3)/Лист2!$A$6,0)","v":266292}]
[null,null,null,"MAG ECO ВПС1 375 R290 ББ",null,"без боковин",null,null,"3750х1130х1235",null,249374,{"$f":"ROUND(K259*(1-$F$3)/Лист2!$A$6,0)","v":249374}]
[null,null,null,"Средне-низкотемпературные, ВПСН"]
[null,null,null,"MAG ECO ВПСН1 125 R290","Magnum Eco SN 1250","с боковинами","­5…+7",1.075,"1330х1130х1235","1510х1190х1150",145174,{"$f":"ROUND(K261*(1-$F$3)/Лист2!$A$6,0)","v":145174}]
[null,null,null,"MAG ECO ВПСН1 125 R290 ББ",null,"без боковин",null,null,"1250х1130х1235",null,128257,{"$f":"ROUND(K262*(1-$F$3)/Лист2!$A$6,0)","v":128257}]
[null,null,null,"MAG ECO ВПСН1 188 R290","Magnum Eco SN 1880","с боковинами",null,1.61,"1955х1130х1235","2140х1190х1150",180825,{"$f":"ROUND(K263*(1-$F$3)/Лист2!$A$6,0)","v":180825}]
[null,null,null,"MAG ECO ВПСН1 188 R290 ББ",null,"без боковин",null,null,"1875х1130х1235",null,163907,{"$f":"ROUND(K264*(1-$F$3)/Лист2!$A$6,0)","v":163907}]
[null,null,null,"MAG ECO ВПСН1 250 R290","Magnum Eco SN 2500","с боковинами",null,2.15,"2580х1130х1235","2760х1190х1150",218943,{"$f":"ROUND(K265*(1-$F$3)/Лист2!$A$6,0)","v":218943}]
[null,null,null,"MAG ECO ВПСН1 250 R290 ББ",null,"без боковин",null,null,"2500х1130х1235",null,202025,{"$f":"ROUND(K266*(1-$F$3)/Лист2!$A$6,0)","v":202025}]
[null,null,null,"MAG ECO ВПСН1 375 R290","Magnum Eco SN 3750","с боковинами",null,3.22,"3830х1130х1235","4010х1190х1150",292121,{"$f":"ROUND(K267*(1-$F$3)/Лист2!$A$6,0)","v":292121}]
[null,null,null,"MAG ECO ВПСН1 375 R290 ББ",null,"без боковин",null,null,"3750х1130х1235",null,275203,{"$f":"ROUND(K268*(1-$F$3)/Лист2!$A$6,0)","v":275203}]
[10,"Витрины серии MAGNUM, глубина выкладки 860 мм, стандартный Ral 7016",null,null,null,null,null,null,null,null,"Опции Magnum",null,"*нажмите чтобы перейти в список опций"]
[null,null,null,"  Среднетемпературные, ВПС",null,null,null,null,null,null,null,null,"EL.XR.PS.VS.2.V0.T.Y7016.P7016\n\nдля витрин с боковинами добавить комплекты боковин:\n433.50.1000.00;\n433.50.2000.00"]
[null,null,null,"MAG ВПС1 125 R290","Magnum 1250","с боковинами","0…+7",1.075,"1330х1095х1235","1510х1190х1150",156658,{"$f":"ROUND(K271*(1-$F$3)/Лист2!$A$6,0)","v":156658}]
[null,null,null,"MAG ВПС1 125 R290 ББ",null,"без боковин",null,null,"1250х1095х1235",null,139740,{"$f":"ROUND(K272*(1-$F$3)/Лист2!$A$6,0)","v":139740}]
[null,null,null,"MAG ВПС1 188 R290","Magnum 1880","с боковинами",null,1.61,"1955х1095х1235","2140х1190х1150",210303,{"$f":"ROUND(K273*(1-$F$3)/Лист2!$A$6,0)","v":210303}]
[null,null,null,"MAG ВПС1 188 R290 ББ",null,"без боковин",null,null,"1875х1095х1235",null,193384,{"$f":"ROUND(K274*(1-$F$3)/Лист2!$A$6,0)","v":193384}]
[null,null,null,"MAG ВПС1 250 R290","Magnum 2500","с боковинами",null,2.15,"2580х1095х1235","2760х1190х1150",244536,{"$f":"ROUND(K275*(1-$F$3)/Лист2!$A$6,0)","v":244536}]
[null,null,null,"MAG ВПС1 250 R290 ББ",null,"без боковин",null,null,"2500х1095х1235",null,227617,{"$f":"ROUND(K276*(1-$F$3)/Лист2!$A$6,0)","v":227617}]
[null,null,null,"MAG ВПС1 375 R290","Magnum 3750","с боковинами",null,3.22,"3830х1095х1235","4010х1190х1150",308664,{"$f":"ROUND(K277*(1-$F$3)/Лист2!$A$6,0)","v":308664}]
[null,null,null,"MAG ВПС1 375 R290 ББ",null,"без боковин",null,null,"3750х1095х1235",null,291747,{"$f":"ROUND(K278*(1-$F$3)/Лист2!$A$6,0)","v":291747}]
[null,null,null,"Средне-низкотемпературные, ВПСН"]
[null,null,null,"MAG ВПСН1 125 R290","Magnum SN 1250","с боковинами","­5…+7",1.075,"1330х1095х1235","1510х1190х1150",169188,{"$f":"ROUND(K280*(1-$F$3)/Лист2!$A$6,0)","v":169188}]
[null,null,null,"MAG ВПСН1 125 R290  ББ",null,"без боковин",null,null,"1250х1095х1235",null,152269,{"$f":"ROUND(K281*(1-$F$3)/Лист2!$A$6,0)","v":152269}]
[null,null,null,"MAG ВПСН1 188 R290","Magnum SN 1880","с боковинами",null,1.61,"1955х1095х1235","2140х1190х1150",222158,{"$f":"ROUND(K282*(1-$F$3)/Лист2!$A$6,0)","v":222158}]
[null,null,null,"MAG ВПСН1 188 R290  ББ",null,"без боковин",null,null,"1875х1095х1235",null,205240,{"$f":"ROUND(K283*(1-$F$3)/Лист2!$A$6,0)","v":205240}]
[null,null,null,"MAG ВПСН1 250 R290","Magnum SN 2500","с боковинами",null,2.15,"2580х1095х1235","2760х1190х1150",268913,{"$f":"ROUND(K284*(1-$F$3)/Лист2!$A$6,0)","v":268913}]
[null,null,null,"MAG ВПСН1 250 R290  ББ",null,"без боковин",null,null,"2500х1095х1235",null,251995,{"$f":"ROUND(K285*(1-$F$3)/Лист2!$A$6,0)","v":251995}]
[null,null,null,"MAG ВПСН1 375 R290","Magnum SN 3750","с боковинами",null,3.22,"3830х1095х1235","4010х1190х1150",348633,{"$f":"ROUND(K286*(1-$F$3)/Лист2!$A$6,0)","v":348633}]
[null,null,null,"MAG ВПСН1 375 R290  ББ",null,"без боковин",null,null,"3750х1095х1235",null,331716,{"$f":"ROUND(K287*(1-$F$3)/Лист2!$A$6,0)","v":331716}]
[null,null,null,"Низкотемпературные, ВПН",null,null,null,null,null,null,null,null,"EL.XR.PS.VS.2.V0.T.Y7016.P7016\n\nдля витрин с боковинами добавить комплекты боковин:\n476.50.1000.00;\n476.50.2000.00"]
[null,null,null,"MAG ВПН1 125","Magnum F 1250","с боковинами","не выше -15",1.075,"1330х1095х1235","1510х1190х1150",189987,{"$f":"ROUND(K289*(1-$F$3)/Лист2!$A$6,0)","v":189987}]
[null,null,null,"MAG ВПН1 125 ББ",null,"без боковин",null,null,"1250х1095х1235",null,169532,{"$f":"ROUND(K290*(1-$F$3)/Лист2!$A$6,0)","v":169532}]
[null,null,null,"MAG ВПН1 188","Magnum F 1880","с боковинами",null,1.61,"1955х1095х1235","2140х1190х1150",260076,{"$f":"ROUND(K291*(1-$F$3)/Лист2!$A$6,0)","v":260076}]
[null,null,null,"MAG ВПН1 188 ББ",null,"без боковин",null,null,"1875х1095х1235",null,239621,{"$f":"ROUND(K292*(1-$F$3)/Лист2!$A$6,0)","v":239621}]
[null,null,null,"MAG ВПН1 250","Magnum F 2500","с боковинами",null,2.15,"2580х1095х1235","2760х1190х1150",296624,{"$f":"ROUND(K293*(1-$F$3)/Лист2!$A$6,0)","v":296624}]
[null,null,null,"MAG ВПН1 250 ББ",null,"без боковин",null,null,"2500х1095х1235",null,276169,{"$f":"ROUND(K294*(1-$F$3)/Лист2!$A$6,0)","v":276169}]
[null,null,null,"MAG ВПН1 375","Magnum F 3750","с боковинами",null,3.22,"3830х1095х1235","4010х1190х1150",456529,{"$f":"ROUND(K295*(1-$F$3)/Лист2!$A$6,0)","v":456529}]
[null,null,null,"MAG ВПН1 375 ББ",null,"без боковин",null,null,"3750х1095х1235",null,436075,{"$f":"ROUND(K296*(1-$F$3)/Лист2!$A$6,0)","v":436075}]
[null,null,null,"Среднетемпературные с низким стеклом, ВПС Self",null,null,null,null,null,null,null,null,"EL.XR.PS.VS.0.V0.T.Y7016.P7016\n\nдля витрин с боковинами добавить комплекты боковин:\n276.50.01.000;\n276.50.02.00"]
[null,null,null,"MAG ВПС1 SG125 R290","Magnum SG 1250","с боковинами","0…+7",1.075,"1330х1095х895","1510х1190х1150",136411,{"$f":"ROUND(K298*(1-$F$3)/Лист2!$A$6,0)","v":136411}]
[null,null,null,"MAG ВПС1 SG125 R290 ББ",null,"без боковин",null,null,"1250х1095х895",null,119810,{"$f":"ROUND(K299*(1-$F$3)/Лист2!$A$6,0)","v":119810}]
[null,null,null,"MAG ВПС1 SG188 R290","Magnum SG 1880","с боковинами",null,1.61,"1955х1095х895","2140х1190х1150",178195,{"$f":"ROUND(K300*(1-$F$3)/Лист2!$A$6,0)","v":178195}]
[null,null,null,"MAG ВПС1 SG188 R290 ББ",null,"без боковин",null,null,"1875х1095х895",null,161595,{"$f":"ROUND(K301*(1-$F$3)/Лист2!$A$6,0)","v":161595}]
[null,null,null,"MAG ВПС1 SG250 R290","Magnum SG 2500","с боковинами",null,2.15,"2580х1095х895","2760х1190х1150",212083,{"$f":"ROUND(K302*(1-$F$3)/Лист2!$A$6,0)","v":212083}]
[null,null,null,"MAG ВПС1 SG250 R290 ББ",null,"без боковин",null,null,"2500х1095х895",null,195483,{"$f":"ROUND(K303*(1-$F$3)/Лист2!$A$6,0)","v":195483}]
[null,null,null,"MAG ВПС1 SG375 R290","Magnum SG 3750","с боковинами",null,3.22,"3830х1095х895","4010х1190х1150",265047,{"$f":"ROUND(K304*(1-$F$3)/Лист2!$A$6,0)","v":265047}]
[null,null,null,"MAG ВПС1 SG375 R290 ББ",null,"без боковин",null,null,"3750х1095х895",null,248447,{"$f":"ROUND(K305*(1-$F$3)/Лист2!$A$6,0)","v":248447}]
[null,null,null,"Угловые витрины, ВПС",null,null,null,null,null,null,null,null,"EL.XR.PS.VS.2.V0.T.Y7016.P7016\n\nдля витрин с боковинами добавить комплекты боковин:\n433.50.1000.00;\n433.50.2000.00"]
[null,null,null,"MAG ВПС1 ОC90","Magnum OC 90","с боковинами","0…+7",1.2,"1400х1400х1235","2170х1380х1080",270889,{"$f":"ROUND(K307*(1-$F$3)/Лист2!$A$6,0)","v":270889}]
[null,null,null,"MAG ВПС1 ОC90 ББ",null,"без боковин",null,null,"1360х1360х1235",null,253970,{"$f":"ROUND(K308*(1-$F$3)/Лист2!$A$6,0)","v":253970}]
[null,null,null,"MAG ВПС1 ОCSG90","Magnum ОC SG 90","с боковинами",null,1.2,"1400х1400х895",null,213852,{"$f":"ROUND(K309*(1-$F$3)/Лист2!$A$6,0)","v":213852}]
[null,null,null,"MAG ВПС1 ОCSG90 ББ",null,"без боковин",null,null,"1360х1360х895",null,196934,{"$f":"ROUND(K310*(1-$F$3)/Лист2!$A$6,0)","v":196934}]
[null,null,null,"MAG ВПС1 IC90","Magnum IC 90","с боковинами",null,1.08,"1360х1360х1235","2170х1300х1080",263513,{"$f":"ROUND(K311*(1-$F$3)/Лист2!$A$6,0)","v":263513},"EL.XR.PS.VS.2.V0.T.Y7016.P7016\n\nдля витрин с боковинами добавить комплекты боковин:\n276.50.01.000;\n276.50.02.00"]
[null,null,null,"MAG ВПС1 IC90 ББ",null,"без боковин",null,null,"1320х1320х1235",null,246595,{"$f":"ROUND(K312*(1-$F$3)/Лист2!$A$6,0)","v":246595}]
[null,null,null,"MAG ВПС1 ICSG90","Magnum IC SG 90","с боковинами",null,1.08,"1360х1360х895",null,249206,{"$f":"ROUND(K313*(1-$F$3)/Лист2!$A$6,0)","v":249206}]
[null,null,null,"MAG ВПС1 ICSG90 ББ",null,"без боковин",null,null,"1320х1320х895",null,232288,{"$f":"ROUND(K314*(1-$F$3)/Лист2!$A$6,0)","v":232288}]
[null,null,null,"Кассовые прилавки",null,null,null,null,null,null,null,null,"верх7016гл_низ7016гл"]
[null,null,null,"MAG КНП IC 90 ББ","Magnum КНП IC 90","без боковин","-","-",null,null,53381,{"$f":"ROUND(K316*(1-$F$3)/Лист2!$A$6,0)","v":53381}]
[null,null,null,null,"Magnum КНП 500",null,null,null,null,null,23932,{"$f":"ROUND(K317*(1-$F$3)/Лист2!$A$6,0)","v":23932}]
[null,null,null,null,"Magnum КНП 600",null,null,null,null,null,26277,{"$f":"ROUND(K318*(1-$F$3)/Лист2!$A$6,0)","v":26277}]
[null,null,null,null,"Magnum КНП 700",null,null,null,null,null,28041,{"$f":"ROUND(K319*(1-$F$3)/Лист2!$A$6,0)","v":28041}]
[null,null,null,null,"Magnum КНП 800",null,null,null,null,null,30151,{"$f":"ROUND(K320*(1-$F$3)/Лист2!$A$6,0)","v":30151}]
[null,null,null,null,"Magnum КНП 900",null,null,null,null,null,32066,{"$f":"ROUND(K321*(1-$F$3)/Лист2!$A$6,0)","v":32066}]
[null,null,null,"MAG КНП 100","Magnum КНП 1000",null,null,null,"1000х1090х832","1090х1160х950",37944,{"$f":"ROUND(K322*(1-$F$3)/Лист2!$A$6,0)","v":37944}]
[11,"Витрины серии MAGNUM QUADRO, глубина выкладки 860 мм, стандартный Ral 7016",null,null,null,null,null,null,null,null,"Опции Magnum Quadro",null,"*нажмите чтобы перейти в список опций"]
[null,null,null,"                                                         Среднетемпературные, ВПС",null,null,null,null,null,null,null,null,"EL.XR.PS.VS.2.V0.T.B7016.P7016\n\nдля витрин с боковинами добавить комплекты боковин:\n1007.48.00.00;\n1007.48.00.00mir",{"$f":"#REF!/2","v":{"$error":"#REF!"}}]
[null,null,null,"MAGQ ВПС1 125","Magnum Quadro 1250","с боковинами","0…+7",1.075,"1330х1090х1225","1510х1190х1150",156033,{"$f":"ROUND(K325*(1-$F$3)/Лист2!$A$6,0)","v":156033}]
[null,null,null,"MAGQ ВПС1 125 ББ",null,"без боковин",null,null,"1250х1090х1225",null,139077,{"$f":"ROUND(K326*(1-$F$3)/Лист2!$A$6,0)","v":139077}]
[null,null,null,"MAGQ ВПС1 188","Magnum Quadro 1875","с боковинами",null,1.61,"1955х1090х1225","2140х1190х1150",190279,{"$f":"ROUND(K327*(1-$F$3)/Лист2!$A$6,0)","v":190279}]
[null,null,null,"MAGQ ВПС1 188 ББ",null,"без боковин",null,null,"1875х1090х1225",null,173322,{"$f":"ROUND(K328*(1-$F$3)/Лист2!$A$6,0)","v":173322}]
[null,null,null,"MAGQ ВПС1 250","Magnum Quadro 2500","с боковинами",null,2.15,"2580х1090х1225","2760х1190х1150",220377,{"$f":"ROUND(K329*(1-$F$3)/Лист2!$A$6,0)","v":220377}]
[null,null,null,"MAGQ ВПС1 250 ББ",null,"без боковин",null,null,"2500х1090х1225",null,203421,{"$f":"ROUND(K330*(1-$F$3)/Лист2!$A$6,0)","v":203421}]
[null,null,null,"MAGQ ВПС1 375","Magnum Quadro 3750","с боковинами",null,3.24,"3830х1090х1225","4010х1190х1150",312417,{"$f":"ROUND(K331*(1-$F$3)/Лист2!$A$6,0)","v":312417}]
[null,null,null,"MAGQ ВПС1 375 ББ",null,"без боковин",null,null,"3750х1090х1225",null,295461,{"$f":"ROUND(K332*(1-$F$3)/Лист2!$A$6,0)","v":295461}]
[null,null,null,"Средне-низкотемпературные, ВПСН"]
[null,null,null,"MAGQ ВПСН1 125","Magnum Quadro SN 1250","с боковинами","­5…+7",1.075,"1330х1090х1225","1510х1190х1150",175971,{"$f":"ROUND(K334*(1-$F$3)/Лист2!$A$6,0)","v":175971}]
[null,null,null,"MAGQ ВПСН1 125 ББ",null,"без боковин",null,null,"1250х1090х1225",null,159015,{"$f":"ROUND(K335*(1-$F$3)/Лист2!$A$6,0)","v":159015}]
[null,null,null,"MAGQ ВПСН1 188","Magnum Quadro SN 1875","с боковинами",null,1.61,"1955х1090х1225","2140х1190х1150",214936,{"$f":"ROUND(K336*(1-$F$3)/Лист2!$A$6,0)","v":214936}]
[null,null,null,"MAGQ ВПСН1 188 ББ",null,"без боковин",null,null,"1875х1090х1225",null,197980,{"$f":"ROUND(K337*(1-$F$3)/Лист2!$A$6,0)","v":197980}]
[null,null,null,"MAGQ ВПСН1 250","Magnum Quadro SN 2500","с боковинами",null,2.15,"2580х1090х1225","2760х1190х1150",249397,{"$f":"ROUND(K338*(1-$F$3)/Лист2!$A$6,0)","v":249397}]
[null,null,null,"MAGQ ВПСН1 250 ББ",null,"без боковин",null,null,"2500х1090х1225",null,232442,{"$f":"ROUND(K339*(1-$F$3)/Лист2!$A$6,0)","v":232442}]
[null,null,null,"MAGQ ВПСН1 375","Magnum Quadro SN 3750","с боковинами",null,3.24,"3830х1090х1225","4010х1190х1150",353558,{"$f":"ROUND(K340*(1-$F$3)/Лист2!$A$6,0)","v":353558}]
[null,null,null,"MAGQ ВПСН1 375 ББ",null,"без боковин",null,null,"3750х1090х1225",null,336602,{"$f":"ROUND(K341*(1-$F$3)/Лист2!$A$6,0)","v":336602}]
[null,null,null,"Низкотемпературные, ВПН",null,null,null,null,null,null,null,null,"EL.XR.PS.VS.2.V0.T.B7016.P7016\n\nдля витрин с боковинами добавить комплекты боковин:\n1030.48.00.00;\n1030.48.00.00mir",{"$f":"#REF!/2","v":{"$error":"#REF!"}}]
[null,null,null,"MAGQ ВПН1 125","ВПН Magnum Quadro 1250","с боковинами","не выше -15",1.075,"1330х1090х1225","1510х1190х1150",191764,{"$f":"ROUND(K343*(1-$F$3)/Лист2!$A$6,0)","v":191764}]
[null,null,null,"MAGQ ВПН1 125 ББ",null,"без боковин",null,null,"1250х1090х1225",null,174300,{"$f":"ROUND(K344*(1-$F$3)/Лист2!$A$6,0)","v":174300}]
[null,null,null,"MAGQ ВПН1 188","ВПН Magnum Quadro 1875","с боковинами",null,1.61,"1955х1090х1225","2140х1190х1150",234347,{"$f":"ROUND(K345*(1-$F$3)/Лист2!$A$6,0)","v":234347}]
[null,null,null,"MAGQ ВПН1 188 ББ",null,"без боковин",null,null,"1875х1090х1225",null,216882,{"$f":"ROUND(K346*(1-$F$3)/Лист2!$A$6,0)","v":216882}]
[null,null,null,"MAGQ ВПН1 250","ВПН Magnum Quadro 2500","с боковинами",null,2.15,"2580х1090х1225","2760х1190х1150",272351,{"$f":"ROUND(K347*(1-$F$3)/Лист2!$A$6,0)","v":272351}]
[null,null,null,"MAGQ ВПН1 250 ББ",null,"без боковин",null,null,"2500х1090х1225",null,254887,{"$f":"ROUND(K348*(1-$F$3)/Лист2!$A$6,0)","v":254887}]
[null,null,null,"MAGQ ВПН1 375","ВПН Magnum Quadro 3750","с боковинами",null,3.24,"3830х1090х1225","4010х1190х1150",385887,{"$f":"ROUND(K349*(1-$F$3)/Лист2!$A$6,0)","v":385887}]
[null,null,null,"MAGQ ВПН1 375 ББ",null,"без боковин",null,null,"3750х1090х1225",null,368423,{"$f":"ROUND(K350*(1-$F$3)/Лист2!$A$6,0)","v":368423}]
[null,null,null,"Среднетемпературные с низким стеклом, ВПС Self",null,null,null,null,null,null,null,null,"EL.XR.PS.VS.0.V0.T.B7016.P7016\n\nдля витрин с боковинами добавить комплекты боковин:\n1013.48.00.00;\n1013.48.00.00mir",{"$f":"#REF!/2","v":{"$error":"#REF!"}}]
[null,null,null,"MAGQ ВПС1 SG125","Magnum Quadro Self 1250","с боковинами","0…+7",1.075,"1330х1090х865","1510х1190х1150",146060,{"$f":"ROUND(K352*(1-$F$3)/Лист2!$A$6,0)","v":146060}]
[null,null,null,"MAGQ ВПС1 SG125 ББ",null,"без боковин",null,null,"1250х1090х865",null,129916,{"$f":"ROUND(K353*(1-$F$3)/Лист2!$A$6,0)","v":129916}]
[null,null,null,"MAGQ ВПС1 SG188","Magnum Quadro Self 1875","с боковинами",null,1.61,"1955х1090х865","2140х1190х1150",180792,{"$f":"ROUND(K354*(1-$F$3)/Лист2!$A$6,0)","v":180792}]
[null,null,null,"MAGQ ВПС1 SG188 ББ",null,"без боковин",null,null,"1875х1090х865",null,164648,{"$f":"ROUND(K355*(1-$F$3)/Лист2!$A$6,0)","v":164648}]
[null,null,null,"MAGQ ВПС1 SG250","Magnum Quadro Self 2500","с боковинами",null,2.15,"2580х1090х865","2760х1190х1150",210016,{"$f":"ROUND(K356*(1-$F$3)/Лист2!$A$6,0)","v":210016}]
[null,null,null,"MAGQ ВПС1 SG250 ББ",null,"без боковин",null,null,"2500х1090х865",null,193872,{"$f":"ROUND(K357*(1-$F$3)/Лист2!$A$6,0)","v":193872}]
[null,null,null,"MAGQ ВПС1 SG375","Magnum Quadro Self 3750","с боковинами",null,3.24,"3830х1090х865","4010х1190х1150",299107,{"$f":"ROUND(K358*(1-$F$3)/Лист2!$A$6,0)","v":299107}]
[null,null,null,"MAGQ ВПС1 SG375 ББ",null,"без боковин",null,null,"3750х1090х865",null,282963,{"$f":"ROUND(K359*(1-$F$3)/Лист2!$A$6,0)","v":282963}]
[null,null,null,"Угловые витрины, ВПС",null,null,null,null,null,null,null,null,"EL.XR.PS.VS.2.V0.T.B7016.P7016\n\nдля витрин с боковинами добавить комплекты боковин:\n1007.48.00.00;\n1007.48.00.00mir"]
[null,null,null,"MAGQ ВПС1 ОC90","Magnum Quadro OC 90","с боковинами","0…+7",1.2,"1395х1395х1225","2170х1380х1080",204726,{"$f":"ROUND(K361*(1-$F$3)/Лист2!$A$6,0)","v":204726}]
[null,null,null,"MAGQ ВПС1 ОC90 ББ",null,"без боковин",null,null,"1355х1355х1225",null,187770,{"$f":"ROUND(K362*(1-$F$3)/Лист2!$A$6,0)","v":187770}]
[null,null,null,"MAGQ ВПС1 IC90","Magnum Quadro IC 90","с боковинами",null,1.08,"1365х1365х1225","2170х1300х1080",195665,{"$f":"ROUND(K363*(1-$F$3)/Лист2!$A$6,0)","v":195665}]
[null,null,null,"MAGQ ВПС1 IC90 ББ",null,"без боковин",null,null,"1325х1325х1225",null,178709,{"$f":"ROUND(K364*(1-$F$3)/Лист2!$A$6,0)","v":178709}]
[null,null,null,"MAGQ ВПС1 SGОC90","Magnum Quadro Self OC 90","с боковинами",null,1.2,"1395х1395х865","2170х1380х1080",195618,{"$f":"ROUND(K365*(1-$F$3)/Лист2!$A$6,0)","v":195618},"EL.XR.PS.VS.0.V0.T.B7016.P7016\n\nдля витрин с боковинами добавить комплекты боковин:\n1013.48.00.00;\n1013.48.00.00mir"]
[null,null,null,"MAGQ ВПС1 SGОC90 ББ",null,"без боковин",null,null,"1355х1355х865",null,178662,{"$f":"ROUND(K366*(1-$F$3)/Лист2!$A$6,0)","v":178662}]
[null,null,null,"MAGQ ВПС1 SGIC90","Magnum Quadro Self IC 90","с боковинами",null,1.08,"1365х1365х865","2170х1300х1080",186659,{"$f":"ROUND(K367*(1-$F$3)/Лист2!$A$6,0)","v":186659}]
[null,null,null,"MAGQ ВПС1 SGIC90 ББ",null,"без боковин",null,null,"1325х1325х865",null,169703,{"$f":"ROUND(K368*(1-$F$3)/Лист2!$A$6,0)","v":169703}]
[null,null,null,"Рыбные витрины ВСПН/ВПСН Self",null,null,null,null,null,null,null,null,"EL.XR.PS.VS.2.V0.T.B7016.P7016\n\nдля витрин с боковинами добавить комплекты боковин:\n1007.48.00.00;\n1007.48.00.00mir"]
[null,null,null,"MAGQFS ВПСН1 125","Magnum Quadro Fish 1250","с боковинами","­5…+7",1.075,"1330х1090х1225","1510х1190х1150",191256,{"$f":"ROUND(K370*(1-$F$3)/Лист2!$A$6,0)","v":191256}]
[null,null,null,"MAGQFS ВПСН1 125 ББ",null,"без боковин",null,null,"1250х1090х1225",null,174300,{"$f":"ROUND(K371*(1-$F$3)/Лист2!$A$6,0)","v":174300}]
[null,null,null,"MAGQFS ВПСН1 188","Magnum Quadro Fish 1875","с боковинами",null,1.61,"1955х1090х1225","2140х1190х1150",233839,{"$f":"ROUND(K372*(1-$F$3)/Лист2!$A$6,0)","v":233839}]
[null,null,null,"MAGQFS ВПСН1 188 ББ",null,"без боковин",null,null,"1875х1090х1225",null,216882,{"$f":"ROUND(K373*(1-$F$3)/Лист2!$A$6,0)","v":216882}]
[null,null,null,"MAGQFS ВПСН1 SG125","Magnum Quadro Fish Self 1250","с боковинами",null,1.075,"1330х1090х865","1510х1190х1150",180332,{"$f":"ROUND(K374*(1-$F$3)/Лист2!$A$6,0)","v":180332},"EL.XR.PS.VS.0.V0.T.B7016.P7016\n\nдля витрин с боковинами добавить комплекты боковин:\n1013.48.00.00;\n1013.48.00.00mir"]
[null,null,null,"MAGQFS ВПСН1 SG125 ББ",null,"без боковин",null,null,"1250х1090х865",null,163376,{"$f":"ROUND(K375*(1-$F$3)/Лист2!$A$6,0)","v":163376}]
[null,null,null,"MAGQFS ВПСН1 SG188","Magnum Quadro Fish Self 1875","с боковинами",null,1.61,"1955х1090х865","2140х1190х1150",219699,{"$f":"ROUND(K376*(1-$F$3)/Лист2!$A$6,0)","v":219699}]
[null,null,null,"MAGQFS ВПСН1 SG188 ББ",null,"без боковин",null,null,"1875х1090х865",null,202743,{"$f":"ROUND(K377*(1-$F$3)/Лист2!$A$6,0)","v":202743}]
[]
[]
[]
[]
[]
[]
[null,null,null,null,null,null,null,null,"НАВЕРХ"]

{"sheet":"Витрины Cryspi (выносное ХО)","index":2,"n_rows":115,"n_cols":11,"rows_kept":115,"cut":false,"hidden":false,"merged":[[105,10,106,10],[107,10,109,10],[110,10,111,10],[93,4,96,4],[76,10,78,10],[79,10,80,10],[82,10,91,10],[92,10,96,10],[97,10,101,10],[102,10,104,10],[107,2,107,9],[108,4,111,4],[98,4,101,4],[103,4,106,4],[88,4,91,4],[87,2,87,9],[45,10,54,10],[56,10,65,10],[66,10,70,10],[71,10,75,10],[71,2,71,9],[56,2,56,9],[61,2,61,9],[66,2,66,9],[57,4,60,4],[62,4,65,4],[55,1,55,7],[55,8,55,9],[45,8,45,9],[45,2,45,7],[46,4,49,4],[50,2,50,9],[51,4,54,4],[45,0,54,1],[43,0,43,3],[56,0,80,1],[72,4,75,4],[77,4,80,4],[44,1,44,9],[43,4,43,9],[10,8,10,9],[26,8,26,9],[39,2,39,9],[10,1,10,7],[26,1,26,7],[27,0,42,1],[11,0,25,1],[11,2,11,9],[15,2,15,9],[19,2,19,9],[23,2,23,9],[27,2,27,9],[31,2,31,9],[35,2,35,9],[2,1,2,3],[3,1,3,3],[9,4,9,9],[9,0,9,3],[7,8,8,8],[7,2,8,2],[7,0,8,0],[7,1,8,1],[7,3,8,3],[6,1,6,9],[7,5,8,5],[7,6,8,6],[7,9,8,9],[7,4,8,4],[7,7,8,7],[92,2,92,9],[97,2,97,9],[67,4,70,4],[102,2,102,9],[76,2,76,9],[83,4,86,4],[82,8,82,9],[82,2,82,7],[81,1,81,9],[82,0,111,1]]}
[]
[]
[null,"Ваша скидка:",null,null,{"$f":"Содержание!D2","v":0}]
[null,"НДС:",null,null,{"$f":"IF(Лист2!A1=TRUE,\"С НДС\",\"БЕЗ НДС\")","v":"С НДС"}]
[]
[]
[null,"Витрины Cryspi без агрегата"]
["№","Изображение","Артикул","Наименование","Температурный режим, C°","Площадь экспозиции, кв.м.","Габариты без боковин, мм (L/W/H)","Габариты в упаковке, мм (L/W/H)","Базовая \nцена, руб.\n(с НДС)",{"$f":"[6]Лист2!$A$5","v":"Ваша цена, руб."}]
[]
["Базовая комплектация:\n- Статическая система охлаждения, компрессор R-290;\n- Электронный контроллер для управления работой витрины;\n- Оттайка для версий ВПС - естественная (без ТЭНа), для версий ВПСН и ВПН - ТЭН (по умолчанию);\n- Общее светодиодное освещение для версий с высоким стеклом - стандартный - 4000К, опционально - 3000К, 6500К, мясной;\n- Товарный накопитель для линейных модулей (запасник с дверкой) (кроме НТ);\n- без боковин;\n- Упаковка в деревянную обрешетку",null,null,null,"- Внутренний объем для витрин ВПС и ВПСН - оцинкованный металл, внутренний объем в зоне выкладки - нерж.сталь;\n- Внутренний объем для витрин ВПН - оцинкованный металл с полимерным покрытием\n- Ночные шторки для витрин с высоким стеклом;\n- Фронтальное стекло закаленное, не открывается;\n- Емкость для сбора талой воды, опционально возможно применение выпаривателя;\n"]
[1,"Витрины серии GAMMA-2, глубина выкладки 760 мм ",null,null,null,null,null,null,"Опции Gamma-2"]
[null,null,"Среднетемпературные витрины (без боковых панелей и боковых стекол)",null,null,null,null,null,null,null,"EL.2.G3004гл.В3004гл.V0.PS"]
[null,null,"G2 ВПС2 120 R290ББ","Gamma-2 1200 БА ББ","0…+7",0.85,"1118х1093х1300","1400х1200х1110",73044,{"$f":"ROUND(I13*(1-$E$3)/Лист2!$A$6,0)","v":73044}]
[null,null,"G2 ВПС2 150 R290ББ","Gamma-2 1500 БА ББ","0…+7",1.1000000000000001,"1418х1093х1300","1700х1200х1110",82006,{"$f":"ROUND(I14*(1-$E$3)/Лист2!$A$6,0)","v":82006}]
[null,null,"G2 ВПС2 180 R290ББ","Gamma-2 1800 БА ББ","0…+7",1.3,"1718х1093х1300","2000х1200х1110",95781,{"$f":"ROUND(I15*(1-$E$3)/Лист2!$A$6,0)","v":95781}]
[null,null,"Средне-низкотемпературные витрины (без боковых панелей и боковых стекол)"]
[null,null,"G2 ВПСН2 120 R290ББ","Gamma-2 SN 1200 БА ББ","-6…+6",0.85,"1118х1093х1300","1400х1200х1110",84267,{"$f":"ROUND(I17*(1-$E$3)/Лист2!$A$6,0)","v":84267}]
[null,null,"G2 ВПСН2 150 R290ББ","Gamma-2 SN 1500 БА ББ","-6…+6",1.1000000000000001,"1418х1093х1300","1700х1200х1110",92709,{"$f":"ROUND(I18*(1-$E$3)/Лист2!$A$6,0)","v":92709}]
[null,null,"G2 ВПСН2 180 R290ББ","Gamma-2 SN 1800 БА ББ","-6…+6",1.3,"1718х1093х1300","2000х1200х1110",113400,{"$f":"ROUND(I19*(1-$E$3)/Лист2!$A$6,0)","v":113400}]
[null,null,"Низкотемпературные витрины (без боковых панелей и боковых стекол)"]
[null,null,null,"Gamma-2 М 1200 БА ББ","от -18",0.85,"1118х1093х1300","1400х1200х1110",92935,{"$f":"ROUND(I21*(1-$E$3)/Лист2!$A$6,0)","v":92935}]
[null,null,null,"Gamma-2 М 1500 БА ББ","от -18",1.1000000000000001,"1418х1093х1300","1700х1200х1110",106409,{"$f":"ROUND(I22*(1-$E$3)/Лист2!$A$6,0)","v":106409}]
[null,null,null,"Gamma-2 М 1800 БА ББ","от -18",1.3,"1718х1093х1300","2000х1200х1110",119719,{"$f":"ROUND(I23*(1-$E$3)/Лист2!$A$6,0)","v":119719}]
[null,null,"Угловые среднетемпературные и нейтральные витрины, кассовые прилавки"]
[null,null,"G2ВПС2 ОС90Д ББ","Gamma-2 OC 90 (угол внеш.) БА ББ","0…+7",0.92,"1130х1130х1300","1180х1180х1300",117495,{"$f":"ROUND(I25*(1-$E$3)/Лист2!$A$6,0)","v":117495}]
[null,null,"G2ВПС2 IС90Д ББ","Gamma-2 IC (угол внутр.) БА ББ","0…+7",0.74,"1295х1295х1300","1305х1305х1300",126553,{"$f":"ROUND(I26*(1-$E$3)/Лист2!$A$6,0)","v":126553}]
[2,"Витрины серии GAMMA Quadro LED, глубина выкладки 760 мм ",null,null,null,null,null,null,"Опции Gamma Quadro",null,"EL.2.G9016гл.В7016гл.V0.PS"]
[null,null,"Среднетемпературные витрины (без боковых панелей и боковых стекол)"]
[null,null,"G2QUADLXВПС1 120БА ББ","Gamma Quadro 1200 LED БА ББ","0…+7",0.85,"1118х1093х1300","1400х1200х1110",92958,{"$f":"ROUND(I29*(1-$E$3)/Лист2!$A$6,0)","v":92958}]
[null,null,"G2QUADLXВПС1 150БА ББ","Gamma Quadro 1500 LED БА ББ","0…+7",1.1000000000000001,"1418х1093х1300","1700х1200х1110",100224,{"$f":"ROUND(I30*(1-$E$3)/Лист2!$A$6,0)","v":100224}]
[null,null,"G2QUADLXВПС1 180БА ББ","Gamma Quadro 1800 LED БА ББ","0…+7",1.3,"1718х1093х1300","2000х1200х1110",116939,{"$f":"ROUND(I31*(1-$E$3)/Лист2!$A$6,0)","v":116939}]
[null,null,"Средне-низкотемпературные витрины (без боковых панелей и боковых стекол)"]
[null,null,"G2QUADLXВПСН1 120БА ББ","Gamma Quadro SN 1200 LED БА ББ","-6…+6",0.85,"1118х1093х1300","1400х1200х1110",96766,{"$f":"ROUND(I33*(1-$E$3)/Лист2!$A$6,0)","v":96766}]
[null,null,"G2QUADLXВПСН1 150БА ББ","Gamma Quadro SN 1500 LED БА ББ","-6…+6",1.1000000000000001,"1418х1093х1300","1700х1200х1110",113383,{"$f":"ROUND(I34*(1-$E$3)/Лист2!$A$6,0)","v":113383}]
[null,null,"G2QUADLXВПСН1 180БА ББ","Gamma Quadro SN 1800 LED БА ББ","-6…+6",1.3,"1718х1093х1300","2000х1200х1110",130421,{"$f":"ROUND(I35*(1-$E$3)/Лист2!$A$6,0)","v":130421}]
[null,null,"Низкотемпературные витрины (без боковых панелей и боковых стекол)"]
[null,null,null,"Gamma Quadro M 1200 LED БА ББ","от -18",0.85,"1118х1093х1300","1400х1200х1110",112189,{"$f":"ROUND(I37*(1-$E$3)/Лист2!$A$6,0)","v":112189}]
[null,null,null,"Gamma Quadro M 1500 LED БА ББ","от -18",1.1000000000000001,"1418х1093х1300","1700х1200х1110",129818,{"$f":"ROUND(I38*(1-$E$3)/Лист2!$A$6,0)","v":129818}]
[null,null,"G2QUADLXВПН1 180БА ББ","Gamma Quadro M 1800 LED БА ББ","от -18",1.3,"1718х1093х1300","2000х1200х1110",153435,{"$f":"ROUND(I39*(1-$E$3)/Лист2!$A$6,0)","v":153435}]
[null,null,"Угловые витрины"]
[null,null,"G2QUADLXВПС1 ОС90 БА ББ","Витрина холодильная ВПС Gamma-2 QuadroLX ОС90 БА ББ","0…+7",0.92,"1180х1180х1209","1180х1180х1300",130902,{"$f":"ROUND(I41*(1-$E$3)/Лист2!$A$6,0)","v":130902},"установка за февраль"]
[null,null,"G2QUADLXВПС1 IС90 БА ББ","Витрина холодильная ВПС Gamma-2 QuadroLX IС90 БА ББ","0…+7",0.74,"1355х1355х1209","1305х1305х1300",123203,{"$f":"ROUND(I42*(1-$E$3)/Лист2!$A$6,0)","v":123203}]
[]
["Базовая комплектация:\n Динамическая система охлаждения,\n- Электронный контроллер;\n- Оттайка для версий ВПС - естественная, для версий ВПСН и ВПН - ТЭН (по умолчанию);\n- Общее освещение для версий с высоким стеклом - нейтральное (4000К), витрины с низким стеклом без освещения;    \n - Товарный накопитель для линейных модулей (запасник с дверкой);\n- Без боковин;\n- Упаковка в деревянной обрешетке;",null,null,null,"- Внутренний объем - оцинкованный металл, внутренний объем в зоне выкладки - нерж.сталь;\n- Ночные шторки для витрин с высоким стеклом;                                                                             \n- Фронтальное стекло закаленное \n(Magnum Eco – стекло открывается сверху-вниз, Magnum Quadro – стекло открывается сверху-вниз без гидролифта; Magnum – стекло открывается снизу-вверх, опционально возможно применение гидролифта;) \n- Емкость для сбора талой воды, опционально возможно применение выпаривателя;"]
[3,"Витрины серии MAGNUM Eco, глубина выкладки 860 мм"]
[null,null,"Среднетемпературные",null,null,null,null,null,"Опции Magnum ECO",null,"EL.PS.2.V0.T.Y7016.P7016\n\nдля витрин с боковинами добавить комплекты боковин:\n676.50.01.00;\n676.50.02.00"]
[null,null,"1138.00.00.00","Magnum Eco 1250 БА ББ","0…+7",1.075,"1250х1130х1235","1510х1190х1150",96267,{"$f":"ROUND(I47*(1-$E$3)/Лист2!$A$6,0)","v":96267}]
[null,null,"1138.00.00.00-01","Magnum Eco 1880 БА ББ",null,1.61,"1875х1130х1235","2140х1190х1150",125770,{"$f":"ROUND(I48*(1-$E$3)/Лист2!$A$6,0)","v":125770}]
[null,null,"1138.00.00.00-02","Magnum Eco 2500 БА ББ",null,2.15,"2500х1130х1235","2760х1190х1150",159794,{"$f":"ROUND(I49*(1-$E$3)/Лист2!$A$6,0)","v":159794}]
[null,null,"1138.00.00.00-03","Magnum Eco 3750 БА ББ",null,3.22,"3750х1130х1235","4010х1190х1150",203239,{"$f":"ROUND(I50*(1-$E$3)/Лист2!$A$6,0)","v":203239}]
[null,null,"Средне-низкотемпературные"]
[null,null," 1139.00.00.00","Magnum Eco SN 1250 БА ББ","­5…+7",1.075,"1250х1130х1235","1510х1190х1150",104530,{"$f":"ROUND(I52*(1-$E$3)/Лист2!$A$6,0)","v":104530}]
[null,null," 1139.00.00.00-01","Magnum Eco SN 1880 БА ББ",null,1.61,"1875х1130х1235","2140х1190х1150",133585,{"$f":"ROUND(I53*(1-$E$3)/Лист2!$A$6,0)","v":133585}]
[null,null," 1139.00.00.00-02","Magnum Eco SN 2500 БА ББ",null,2.15,"2500х1130х1235","2760х1190х1150",164650,{"$f":"ROUND(I54*(1-$E$3)/Лист2!$A$6,0)","v":164650}]
[null,null," 1139.00.00.00-03","Magnum Eco SN 3750 БА ББ",null,3.22,"3750х1130х1235","4010х1190х1150",224291,{"$f":"ROUND(I55*(1-$E$3)/Лист2!$A$6,0)","v":224291}]
[4,"Витрины серии MAGNUM, глубина выкладки 860 мм",null,null,null,null,null,null,"Опции Magnum"]
[null,null,"Среднетемпературные",null,null,null,null,null,null,null,"EL.PS.2.V0.T.Y7016.P7016\n\nдля витрин с боковинами добавить комплекты боковин:\n433.50.1000.00;\n433.50.2000.00"]
[null,null,"MAG ВПС2 125 БА ББ","Magnum 1250 БА ББ","0…+7",1.075,"1250х1095х1235","1510х1190х1150",117540,{"$f":"ROUND(I58*(1-$E$3)/Лист2!$A$6,0)","v":117540}]
[null,null,"MAG ВПС2 188 БА ББ","Magnum 1880 БА ББ",null,1.61,"1875х1095х1235","2140х1190х1150",162662,{"$f":"ROUND(I59*(1-$E$3)/Лист2!$A$6,0)","v":162662}]
[null,null,"MAG ВПС2 250 БА ББ","Magnum 2500 БА ББ",null,2.15,"2500х1095х1235","2760х1190х1150",191452,{"$f":"ROUND(I60*(1-$E$3)/Лист2!$A$6,0)","v":191452}]
[null,null,"MAG ВПС2 375 БА ББ","Magnum 3750 БА ББ",null,3.22,"3750х1095х1235","4010х1190х1150",245394,{"$f":"ROUND(I61*(1-$E$3)/Лист2!$A$6,0)","v":245394}]
[null,null,"Средне-низкотемпературные"]
[null,null,"MAG ВПСН2 125 БА ББ","Magnum SN 1250 БА ББ","­5…+7",1.075,"1250х1095х1235","1510х1190х1150",128078,{"$f":"ROUND(I63*(1-$E$3)/Лист2!$A$6,0)","v":128078}]
[null,null,"MAG ВПСН2 188 БА ББ","Magnum SN 1880 БА ББ",null,1.61,"1875х1095х1235","2140х1190х1150",172633,{"$f":"ROUND(I64*(1-$E$3)/Лист2!$A$6,0)","v":172633}]
[null,null,"MAG ВПСН2 250 БА ББ","Magnum SN 2500 БА ББ",null,2.15,"2500х1095х1235","2760х1190х1150",211957,{"$f":"ROUND(I65*(1-$E$3)/Лист2!$A$6,0)","v":211957}]
[null,null,"MAG ВПСН2 375 БА ББ","Magnum SN 3750 БА ББ",null,3.22,"3750х1095х1235","4010х1190х1150",279014,{"$f":"ROUND(I66*(1-$E$3)/Лист2!$A$6,0)","v":279014}]
[null,null,"Низкотемпературные",null,null,null,null,null,null,null,"EL.PS.2.V0.T.Y7016.P7016\nдля витрин с боковинами добавить комплекты боковин:\n476.50.1000.00;\n476.50.2000.00"]
[null,null,"  1208.00.00.00","Magnum F 1250 БА ББ","не выше -15",1.075,"1250х1095х1235","1510х1190х1150",142599,{"$f":"ROUND(I68*(1-$E$3)/Лист2!$A$6,0)","v":142599}]
[null,null,"  1208.00.00.00-01","Magnum F 1880 БА ББ",null,1.61,"1875х1095х1235","2140х1190х1150",201550,{"$f":"ROUND(I69*(1-$E$3)/Лист2!$A$6,0)","v":201550}]
[null,null,"  1208.00.00.00-02","Magnum F 2500 БА ББ",null,2.15,"2500х1095х1235","2760х1190х1150",232293,{"$f":"ROUND(I70*(1-$E$3)/Лист2!$A$6,0)","v":232293}]
[null,null,"  1208.00.00.00-03","Magnum F 3750 БА ББ",null,3.22,"3750х1095х1235","4010х1190х1150",366793,{"$f":"ROUND(I71*(1-$E$3)/Лист2!$A$6,0)","v":366793}]
[null,null,"Среднетемпературные с низким стеклом",null,null,null,null,null,null,null,"EL.PS.0.V0.T.Y7016.P7016\nдля витрин с боковинами добавить комплекты боковин:\n276.50.01.000;\n276.50.02.00"]
[null,null,"MAG ВПС2 SG125 БА ББ","Magnum SG 1250 БА ББ","0…+7",1.075,"1250х1095х895","1510х1190х1150",100775,{"$f":"ROUND(I73*(1-$E$3)/Лист2!$A$6,0)","v":100775}]
[null,null,"MAG ВПС2 SG188 БА ББ","Magnum SG 1880 БА ББ",null,1.61,"1880х1095х895","2140х1190х1150",135921,{"$f":"ROUND(I74*(1-$E$3)/Лист2!$A$6,0)","v":135921}]
[null,null,"MAG ВПС2 SG250 БА ББ","Magnum SG 2500 БА ББ",null,2.15,"2500х1095х895","2760х1190х1150",164424,{"$f":"ROUND(I75*(1-$E$3)/Лист2!$A$6,0)","v":164424}]
[null,null,"MAG ВПС2 SG375 БА ББ","Magnum SG 3750 БА ББ",null,3.22,"3750х1095х895","4010х1190х1150",208973,{"$f":"ROUND(I76*(1-$E$3)/Лист2!$A$6,0)","v":208973}]
[null,null,"Угловые витрины",null,null,null,null,null,null,null,"EL.PS.2.V0.T.Y7016.P7016\nдля витрин с боковинами добавить комплекты боковин:\n476.50.1000.00;\n476.50.2000.00"]
[null,null,"MAG ВПС2 ОC90 БА ББ","Magnum OC 90 БА ББ","0…+7",1.1919999999999999,"1360х1360х1235","2170х1380х1080",213620,{"$f":"ROUND(I78*(1-$E$3)/Лист2!$A$6,0)","v":213620}]
[null,null,"MAG ВПС2 ОCSG90 БА ББ","Magnum ОC SG 90 БА ББ",null,1.1919999999999999,"1360х1360х895","2170х1300х1080",165644,{"$f":"ROUND(I79*(1-$E$3)/Лист2!$A$6,0)","v":165644}]
[null,null,"MAG ВПС2 IC90 БА ББ","Magnum IC 90 БА ББ",null,1.08,"1320х1320х1235","2170х1380х1080",207418,{"$f":"ROUND(I80*(1-$E$3)/Лист2!$A$6,0)","v":207418},"EL.PS.0.V0.T.Y7016.P7016\nдля витрин с боковинами добавить комплекты боковин:\n276.50.01.000;\n276.50.02.00"]
[null,null,"MAG ВПС2 ICSG90 БА ББ","Magnum IC SG 90 БА ББ",null,1.08,"1320х1320х895","2170х1300х1080",195382,{"$f":"ROUND(I81*(1-$E$3)/Лист2!$A$6,0)","v":195382}]
[5,"Витрины серии MAGNUM Quadro, глубина выкладки 860 мм"]
[null,null,"Среднетемпературные",null,null,null,null,null,"Опции Magnum Q",null,"EL.PS.2.V0.T.B7016.P7016\n\nдля витрин с боковинами добавить комплекты боковин:\n1007.48.00.00;\n1007.48.00.00mir"]
[null,null,"MAGQ ВПС1 125 БА ББ","Magnum Quadro 1250 БА ББ","0…+7",1.075,"1250х1095х1225","1510х1190х1150",118463,{"$f":"ROUND(I84*(1-$E$3)/Лист2!$A$6,0)","v":118463}]
[null,null,"MAGQ ВПС1 188 БА ББ","Magnum Quadro 1875 БА ББ",null,1.61,"1875х1095х1225","2140х1190х1150",147325,{"$f":"ROUND(I85*(1-$E$3)/Лист2!$A$6,0)","v":147325}]
[null,null,"MAGQ ВПС1 250 БА ББ","Magnum Quadro 2500 БА ББ",null,2.15,"2500х1095х1225","2760х1190х1150",173328,{"$f":"ROUND(I86*(1-$E$3)/Лист2!$A$6,0)","v":173328}]
[null,null,"MAGQ ВПС1 375 БА ББ","Magnum Quadro 3750 БА ББ",null,3.22,"3750х1095х1225","4010х1190х1150",251141,{"$f":"ROUND(I87*(1-$E$3)/Лист2!$A$6,0)","v":251141}]
[null,null,"Средне-низкотемпературные"]
[null,null,"MAGQ ВПСН1 125 БА ББ","Magnum Quadro SN 1250 БА ББ","­5…+7",1.075,"1250х1095х1225","1510х1190х1150",135163,{"$f":"ROUND(I89*(1-$E$3)/Лист2!$A$6,0)","v":135163}]
[null,null,"MAGQ ВПСН1 188 БА ББ","Magnum Quadro SN 1875 БА ББ",null,1.61,"1875х1095х1225","2140х1190х1150",168283,{"$f":"ROUND(I90*(1-$E$3)/Лист2!$A$6,0)","v":168283}]
[null,null,"MAGQ ВПСН1 250 БА ББ","Magnum Quadro SN 2500 БА ББ",null,2.15,"2500х1095х1225","2760х1190х1150",197575,{"$f":"ROUND(I91*(1-$E$3)/Лист2!$A$6,0)","v":197575}]
[null,null,"MAGQ ВПСН1 375 БА ББ","Magnum Quadro SN 3750 БА ББ",null,3.22,"3750х1095х1225","4010х1190х1150",286112,{"$f":"ROUND(I92*(1-$E$3)/Лист2!$A$6,0)","v":286112}]
[null,null,"Низкотемпературные",null,null,null,null,null,null,null,"EL.PS.2.V0.T.B7016.P7016\nдля витрин с боковинами добавить комплекты боковин:\n1030.48.00.00;\n1030.48.00.00mir"]
[null,null,"1182.00.00.00","ВПН Magnum Quadro 1250 БА ББ","не выше -15",1.075,"1250х1095х1225","1510х1190х1150",148156,{"$f":"ROUND(I94*(1-$E$3)/Лист2!$A$6,0)","v":148156}]
[null,null,"1182.00.00.00-01","ВПН Magnum Quadro 1875 БА ББ",null,1.61,"1875х1095х1225","2140х1190х1150",184350,{"$f":"ROUND(I95*(1-$E$3)/Лист2!$A$6,0)","v":184350}]
[null,null,"1182.00.00.00-02","ВПН Magnum Quadro 2500 БА ББ",null,2.15,"2500х1095х1225","2760х1190х1150",216654,{"$f":"ROUND(I96*(1-$E$3)/Лист2!$A$6,0)","v":216654}]
[null,null,"1182.00.00.00-03","ВПН Magnum Quadro 3750 БА ББ",null,3.22,"3750х1095х1225","4010х1190х1150",313159,{"$f":"ROUND(I97*(1-$E$3)/Лист2!$A$6,0)","v":313159}]
[null,null,"Среднетемпературные с низким стеклом",null,null,null,null,null,null,null,"EL.PS.0.V0.T.B7016.P7016\nдля витрин с боковинами добавить комплекты боковин:\n1013.48.00.00;\n1013.48.00.00mir"]
[null,null,"MAGQ ВПС1 SG125 БА ББ","Magnum Quadro Self 1250 БА ББ","0…+7",1.075,"1250х1095х865","1510х1190х1150",116924,{"$f":"ROUND(I99*(1-$E$3)/Лист2!$A$6,0)","v":116924}]
[null,null,"MAGQ ВПС1 SG188 БА ББ","Magnum Quadro Self 1875 БА ББ",null,1.61,"1875х1095х865","2140х1190х1150",148183,{"$f":"ROUND(I100*(1-$E$3)/Лист2!$A$6,0)","v":148183}]
[null,null,"MAGQ ВПС1 SG250 БА ББ","Magnum Quadro Self 2500 БА ББ",null,2.15,"2500х1095х865","2760х1190х1150",174484,{"$f":"ROUND(I101*(1-$E$3)/Лист2!$A$6,0)","v":174484}]
[null,null,"MAGQ ВПС1 SG375 БА ББ","Magnum Quadro Self 3750 БА ББ",null,3.22,"3750х1095х865","4010х1190х1150",254667,{"$f":"ROUND(I102*(1-$E$3)/Лист2!$A$6,0)","v":254667}]
[null,null,"Угловые витрины",null,null,null,null,null,null,null,"EL.PS.2.V0.T.B7016.P7016\nдля витрин с боковинами добавить комплекты боковин:\n1007.48.00.00;\n1007.48.00.00mir"]
[null,null,"1183.00.00.00","Magnum Quadro OC 90 БА ББ","0…+7",1.2,"1355х1355х1225","2170х1380х1080",164906,{"$f":"ROUND(I104*(1-$E$3)/Лист2!$A$6,0)","v":164906}]
[null,null,"1184.00.00.00","Magnum Quadro IC 90 БА ББ",null,1.08,"1325х1325х1225","2170х1300х1080",157263,{"$f":"ROUND(I105*(1-$E$3)/Лист2!$A$6,0)","v":157263}]
[null,null,"1185.00.00.00","Magnum Quadro Self OC 90 БА ББ",null,1.2,"1355х1355х865","2170х1380х1080",157222,{"$f":"ROUND(I106*(1-$E$3)/Лист2!$A$6,0)","v":157222},"EL.PS.0.V0.T.B7016.P7016\nдля витрин с боковинами добавить комплекты боковин:\n1013.48.00.00;\n1013.48.00.00mir"]
[null,null,"1186.00.00.00","Magnum Quadro Self IC 90 БА ББ",null,1.08,"1325х1325х865","2170х1300х1080",149338,{"$f":"ROUND(I107*(1-$E$3)/Лист2!$A$6,0)","v":149338}]
[null,null,"Рыбные витрины ВСПН/ВПСН Self",null,null,null,null,null,null,null,"EL.PS.2.V0.T.B7016.P7016\nдля витрин с боковинами добавить комплекты боковин:\n1007.48.00.00;\n1007.48.00.00mir"]
[null,null,"1250.00.00.00","Magnum Quadro Fish 1250 БА ББ","­5…+7",null,"1250х1095х1225","1510х1190х1150",148156,{"$f":"ROUND(I109*(1-$E$3)/Лист2!$A$6,0)","v":148156}]
[null,null,"1250.00.00.00-01","Magnum Quadro Fish 1875 БА ББ",null,null,"1875х1095х1225","2140х1190х1150",184350,{"$f":"ROUND(I110*(1-$E$3)/Лист2!$A$6,0)","v":184350}]
[null,null,"1251.00.00.00","Magnum Quadro Fish Self 1250 БА ББ",null,null,"1250х1095х865","1510х1190х1150",138871,{"$f":"ROUND(I111*(1-$E$3)/Лист2!$A$6,0)","v":138871},"EL.PS.0.V0.T.B7016.P7016\nдля витрин с боковинами добавить комплекты боковин:\n1013.48.00.00;\n1013.48.00.00mir"]
[null,null,"1251.00.00.00-01","Magnum Quadro Fish Self 1875 БА ББ",null,null,"1875х1095х865","2140х1190х1150",172331,{"$f":"ROUND(I112*(1-$E$3)/Лист2!$A$6,0)","v":172331}]
[null,null,null,null,null,null,null,null,0]
[]
[null,null,null,null,null,null,"наверх"]

{"sheet":"Кондитерские витрины","index":3,"n_rows":53,"n_cols":23,"rows_kept":53,"cut":false,"hidden":false,"merged":[[36,2,36,10],[43,2,43,5],[44,2,44,10],[13,2,13,10],[18,2,18,10],[23,2,23,10],[28,2,28,10],[33,2,33,10],[43,6,43,10],[14,3,14,4],[15,3,15,4],[16,3,16,4],[17,3,17,4],[19,3,19,4],[20,3,20,4],[21,3,21,4],[11,22,11,26],[11,17,11,21],[11,12,11,16],[10,12,10,26],[8,5,9,5],[8,6,9,6],[8,9,9,9],[8,10,9,10],[10,1,11,10],[8,8,9,8],[34,3,34,4],[35,3,35,4],[29,3,29,4],[30,3,30,4],[24,3,24,4],[43,0,50,1],[51,1,53,1],[52,7,53,7],[41,0,42,0],[40,3,40,4],[41,1,42,10],[13,0,40,1],[25,3,25,4],[26,3,26,4],[27,3,27,4],[22,3,22,4],[31,3,31,4],[32,3,32,4],[37,3,37,4],[38,3,38,4],[39,3,39,4],[12,0,12,4],[1,1,1,3],[2,1,2,3],[3,1,3,3],[8,7,9,7],[10,0,11,0],[8,0,9,0],[8,1,9,1],[8,3,9,4],[8,2,9,2],[12,5,12,10],[5,0,7,10],[0,7,4,10]]}
[null,null,null,null,null,null,null,"ЗАВОД «ОПК»\nТел.: +7 (495) 987-4388\ne-mail: info@cryspi.ru\nсайт: cryspi.ru",null,null,null,"На главную"]
[]
[null,"Ваша скидка:",null,null,{"$f":"Содержание!D2","v":0}]
[null,"НДС:",null,null,{"$f":"IF(Лист2!A1=TRUE,\"С НДС\",\"БЕЗ НДС\")","v":"С НДС"}]
[]
["Кондитерские витрины Cryspi со встроенным агрегатом"]
[]
[]
["№","Изображение","Артикул","Наименование",null,"Температурный режим,°C","Площадь экспозиции, кв.м.","Габариты, \n(LxWxH) мм","Габариты в упаковке, \n(LxWxH) мм","Базовая \nцена, руб.\n(с НДС)",{"$f":"[5]Лист2!$A$5","v":"Ваша цена, руб."}]
[]
[1,"ADAGIO",null,null,null,null,null,null,null,null,null,null,"СЕЧЕНИЯ"]
[null,null,null,null,null,null,null,null,null,null,null,null,"ADAGIO",null,null,null,null,"ADAGIO CUBE",null,null,null,null,"ELEGIA"]
["Стандартная комплектация:               \n- 3 уровня навесных полок, 230, 320, 380 мм (Adagio/Adagio LX),  380 мм (Adagio Cube/Adagio LX Cube); \n- подсветка всех полок (4500К или 2700К) \n- фронтальная металическая панель\n- Возможно применение фронтальной панели из ЛДСП с наценкой в 4%.\n- Компрессор  R-290\n- Электронный контроллер Carel\n- Цифровой термометр",null,null,null,null,"- Оттайка испарителя естественным способом; Автоматическое выпаривание конденсата\n- Задняя дверца - оргстекло (Adagio),  закаленный стеклопакет (Adagio LX);\n- Вентилируемое (динамическое) охлаждение\n- Внутренний объем - сталь оцинкованная\n- зона выкладки - сталь оцинкованна с покраской\n- шелкография стекол черного цвета (Ral 9005)\n- Упаковка в деревянной обрешетке;                                                                                                                                                                  "]
[null,null,"Витрины охлаждаемые, кондитерские, закаленное стекло"]
[null,null,"ADAGV 90 R290","Витрина холодильная ВПВ (ADAGIO 900 Д)",null,"+6..+12°С",1.27,"900х620х1330",null,97364,{"$f":"ROUND(J15*(1-$E$3)/Лист2!$A$6,0)","v":97364}]
[null,null,"ADAGV 130 R290","Витрина холодильная ВПВ (ADAGIO 1300 Д)",null,"+6..+12°С",1.58,"1300Х620Х1330",null,104965,{"$f":"ROUND(J16*(1-$E$3)/Лист2!$A$6,0)","v":104965}]
[null,null,"ADAGVCUBE 90 R290","Витрина холодильная ВПВ (ADAGIO Cube 900 Д)",null,"+6..+12°С",1.46,"900х620х1330",null,97364,{"$f":"ROUND(J17*(1-$E$3)/Лист2!$A$6,0)","v":97364}]
[null,null,"ADAGVCUBE 130 R290","Витрина холодильная ВПВ (ADAGIO Cube 1300 Д)",null,"+6..+12°С",1.83,"1300Х620Х1330",null,104965,{"$f":"ROUND(J18*(1-$E$3)/Лист2!$A$6,0)","v":104965}]
[null,null,"Витрины охлаждаемые, кондитерские, закаленный стеклопакет"]
[null,null,"ADAGLX 90 R290","Витрина холодильная ВПС (ADAGIO LX 900 Д)",null,"0..+7°С",1.27,"900х620х1330",null,128031,{"$f":"ROUND(J20*(1-$E$3)/Лист2!$A$6,0)","v":128031}]
[null,null,"ADAGLX 130 R290","Витрина холодильная ВПС (ADAGIO LX 1300 Д)",null,"0..+7°С",1.58,"1300Х620Х1330",null,151591,{"$f":"ROUND(J21*(1-$E$3)/Лист2!$A$6,0)","v":151591}]
[null,null,"ADAGLXCUBE 90 R290","Витрина холодильная ВПС (ADAGIO LX Cube 900 Д)",null,"0..+7°С",1.46,"900х620х1330",null,128031,{"$f":"ROUND(J22*(1-$E$3)/Лист2!$A$6,0)","v":128031}]
[null,null,"ADAGLXCUBE 130 R290","Витрина холодильная ВПС (ADAGIO LX Cube 1300 Д)",null,"0..+7°С",1.83,"1300Х620Х1330",null,151591,{"$f":"ROUND(J23*(1-$E$3)/Лист2!$A$6,0)","v":151591}]
[null,null,"Витрины для самообслуживания охлаждаемые, кондитерские "]
[null,null,"ADAGVSELF 90 R290","Витрина холодильная ВПВ (ADAGIO Self  900 Д)",null,"+6..+12°С",1.27,"900х620х1330","1100х790х1475",143301,{"$f":"ROUND(J25*(1-$E$3)/Лист2!$A$6,0)","v":143301}]
[null,null,"ADAGVSELF 130 R290","Витрина холодильная ВПВ (ADAGIO Self 1300 Д)",null,"+6..+12°С",1.58,"1300Х620Х1330","1500х790х1475",169367,{"$f":"ROUND(J26*(1-$E$3)/Лист2!$A$6,0)","v":169367}]
[null,null,"DAGVSELFCUBE 90 R290","Витрина холодильная ВПВ (ADAGIO Self Cube 900 Д)",null,"+6..+12°С",1.46,"900х620х1330","1100х790х1475",145292,{"$f":"ROUND(J27*(1-$E$3)/Лист2!$A$6,0)","v":145292}]
[null,null,"ADAGVSELFCUBE 130 R290","Витрина холодильная ВПВ (ADAGIO Self Cube 1300 Д)",null,"+6..+12°С",1.83,"1300Х620Х1330","1500х790х1475",171685,{"$f":"ROUND(J28*(1-$E$3)/Лист2!$A$6,0)","v":171685}]
[null,null,"Витрины нейтральные, кондитерские без охлаждения для самообслуживания"]
[null,null,"ADAGNSELF 90","Витрина нейтральная ВП (ADAGIO N Self 900)",null,"-",1.27,"900х620х1330","1100х790х1475",75468,{"$f":"ROUND(J30*(1-$E$3)/Лист2!$A$6,0)","v":75468}]
[null,null,"ADAGNSELF 130","Витрина нейтральная ВП (ADAGIO N Self 1300)",null,"-",1.58,"1300Х620Х1330","1500х790х1475",83894,{"$f":"ROUND(J31*(1-$E$3)/Лист2!$A$6,0)","v":83894}]
[null,null,"ADAGNSELFCUBE 90","Витрина холодильная ВПВ (ADAGIO N Self Cube 900 Д)",null,"-",1.46,"900х620х1330","1100х790х1475",77552,{"$f":"ROUND(J32*(1-$E$3)/Лист2!$A$6,0)","v":77552}]
[null,null,"ADAGNSELFCUBE 130","Витрина холодильная ВПВ (ADAGIO N Self Cube 1300 Д)",null,"-",1.83,"1300Х620Х1330","1500х790х1475",81685,{"$f":"ROUND(J33*(1-$E$3)/Лист2!$A$6,0)","v":81685}]
[null,null,"Витрины нейтральные, кондитерские без охлаждения для самообслуживания. Хлебная модификация"]
[null,null,"ADAGNSELFCUBE 90","Витрина холодильная ВПВ (ADAGIO N Self Cube 900 Д)",null,"-",1.46,"900х620х1330","1100х790х1475",73792,{"$f":"ROUND(J35*(1-$E$3)/Лист2!$A$6,0)","v":73792}]
[null,null,"ADAGNSELFCUBE 130","Витрина холодильная ВПВ (ADAGIO N Self Cube 1300 Д)",null,"-",1.83,"1300Х620Х1330","1500х790х1475",79448,{"$f":"ROUND(J36*(1-$E$3)/Лист2!$A$6,0)","v":79448}]
[null,null,"Кассовый нейтральный прилавок (КНП) "]
[null,null,"ADAGLXKNP 60","Прилавок КНП ADAGIO 600 (фронтальные панели металл)",null,"-","-","600х650х906","800х790х1065",24511,{"$f":"ROUND(J38*(1-$E$3)/Лист2!$A$6,0)","v":24511}]
[null,null,"ADAGLXKNP 90","Прилавок КНП ADAGIO 900 (фронтальные панели металл)",null,"-","-","900Х650Х906","1100х790х1065",29804,{"$f":"ROUND(J39*(1-$E$3)/Лист2!$A$6,0)","v":29804}]
[null,null,"ADAGLXKNP 60","Прилавок КНП ADAGIO 600 (фронтальные панели ЛДСП)",null,"-","-","600х650х906","800х790х1065",26941,{"$f":"ROUND(J40*(1-$E$3)/Лист2!$A$6,0)","v":26941}]
[null,null,"ADAGLXKNP 90","Прилавок КНП ADAGIO 900 (фронтальные панели ЛДСП)",null,"-","-","900Х650Х906","1100х790х1065",31192,{"$f":"ROUND(J41*(1-$E$3)/Лист2!$A$6,0)","v":31192}]
[2,"ELEGIA QUADRO"]
[]
[null,null,"Стандартная комплектация:              \n- 3 уровня навесных полок, 300, 350, 400 мм (Elegia Quadro),  190, 290, 390 мм (Elegia Quadro Self);\n- подсветка полок и вертикальное освещение в витринах Elegia Quadro\n- подсветка всех полок (4500К или 2700К) для Elegia Quadro Self\n- фронтальная металическая панель (стандарт)\n- Возможно применение фронтальной панели из ЛДСП с наценкой в 10%.\n- Компрессор  R-290\n- Электронный контроллер\n- Цифровой термометр\n",null,null,null,"-- Оттайка испарителя естественным способом; Автоматическое выпаривание конденсата\n- Задние дверцы -  раздвижные, стеклопакет;\n- Вентилируемое (динамическое) охлаждение\n- Внутренний объем - сталь оцинкованная с покраской (возможно изготовление из нержавеющей стали  с наценкой в 20%.)\n- зона выкладки - сталь оцинкованна с покраской\n- шелкография стекол черного цвета (Ral 9005)\n- Упаковка в деревянной обрешетке;"]
[]
[null,null,"EQ 850 R290","Elegia Quadro К 850",null,"+3...+8",1.23,"852х764х1314","1050х990х1550",160524,{"$f":"ROUND(J46*(1-$E$3)/Лист2!$A$6,0)","v":160524}]
[null,null,"EQ 100 R290","Elegia Quadro К 1000",null,"+3...+8",1.48,"1 002×764×1 314","1250х990х1550",177018,{"$f":"ROUND(J47*(1-$E$3)/Лист2!$A$6,0)","v":177018}]
[null,null,"EQ 125 R290","Elegia Quadro K 1250",null,"+3...+8",1.85,"1 252×764×1 314","1450х990х1550",193648,{"$f":"ROUND(J48*(1-$E$3)/Лист2!$A$6,0)","v":193648}]
[null,null,"EQ SELF 100 R290","Elegia Quadro SELF 1000 (для самообслуживания)",null,"+3...+8",1.37,"1 002×764×1 314","1250х990х1550",177018,{"$f":"ROUND(J49*(1-$E$3)/Лист2!$A$6,0)","v":177018}]
[null,null,"EQ SELF 125 R290","Elegia Quadro SELF 1250 (для самообслуживания)",null,"+3...+8",1.72,"1 252×764×1 312","1450х990х1550",177826,{"$f":"ROUND(J50*(1-$E$3)/Лист2!$A$6,0)","v":177826}]
[null,null,"EQKNP900NEW","Прилавок КНП Elegia Quadro 600",null,"-","-","600х764х870","740х950х1025",28577,{"$f":"ROUND(J51*(1-$E$3)/Лист2!$A$6,0)","v":28577}]
[]
[null,null,null,null,null,null,null,"НАВЕРХ"]

{"sheet":"Опции для витрин Cryspi","index":4,"n_rows":238,"n_cols":6,"rows_kept":238,"cut":false,"hidden":false,"merged":[[237,3,238,3],[7,4,8,4],[10,0,12,0],[65,0,74,0],[9,3,9,4],[13,3,13,4],[64,3,64,4],[91,3,91,4],[148,3,148,4],[149,0,234,0],[134,0,147,0],[92,0,132,0],[133,3,133,4],[14,0,63,0],[1,2,1,3],[2,2,2,3],[3,2,3,3],[7,0,8,0],[7,2,8,2],[7,3,8,3],[6,3,6,4],[196,5,200,11],[149,5,154,11],[181,5,185,11],[186,5,190,11],[191,5,195,11],[155,5,160,11],[161,5,165,11],[166,5,170,11],[171,5,175,11],[176,5,180,11]]}
[null,null,null,null,null,"На главную"]
[]
[null,null,"Ваша скидка:",null,{"$f":"Содержание!D2","v":0}]
[null,null,"НДС:",null,{"$f":"IF(Лист2!A1=TRUE,\"С НДС\",\"БЕЗ НДС\")","v":"С НДС"}]
[]
[]
[null,null,"Опции для витрин Cryspi","СОДЕРЖАНИЕ"]
["№",null,"Название","Базовая \nцена, руб.\n(с НДС)",{"$f":"[5]Лист2!$A$5","v":"Ваша цена, руб."}]
[null,null,null,null,null,"Комментарий"]
[1,null,"Octava","Вернуться к прайсу Octava"]
[null,"З0000089012","Разделитель передвижной низкий(оргстекл) 343.55.00.00 для ВПС/ВПСН Octava",1254,{"$f":"ROUND(D11*(1-$E$3)/Лист2!$A$6,0)","v":1254}]
[null,"З0000089013","Разделитель передвижной высокий(оргстекл) 343.56.00.00 для ВПС/ВПСН Octava",2194,{"$f":"ROUND(D12*(1-$E$3)/Лист2!$A$6,0)","v":2194}]
[null,"З0000090244","Комплект полки навесной для весов 343.54.00.00 для ВПС/ВПСН/ВПН Octava",3645,{"$f":"ROUND(D13*(1-$E$3)/Лист2!$A$6,0)","v":3645}]
[2,null,"Gamma-2","Вернуться к прайсу Gamma-2"]
[null,null,"Комплект боковин 337.40.00.00 для ВПС/ВПСН Gamma 2",13208,{"$f":"ROUND(D15*(1-$E$3)/Лист2!$A$6,0)","v":13208}]
[null,null,"Комплект боковин 350.40.00.00 для ВПН Gamma-2",13411,{"$f":"ROUND(D16*(1-$E$3)/Лист2!$A$6,0)","v":13411}]
[null,null,"Комплект боковин 354.41.00.00 для КНП Gamma-2",10443,{"$f":"ROUND(D17*(1-$E$3)/Лист2!$A$6,0)","v":10443}]
[null,null,"Комплект боковин 391.40.00.00 для ВПВ Gamma-2",0,{"$f":"ROUND(D18*(1-$E$3)/Лист2!$A$6,0)","v":0}]
[null,null,"Комплект боковины левой 337.40.01.00 для ВПС/ВПСН Gamma-2",6604,{"$f":"ROUND(D19*(1-$E$3)/Лист2!$A$6,0)","v":6604}]
[null,null,"Комплект боковины правой 337.40.01.00-01 для ВПС/ВПСН Gamma-2",6604,{"$f":"ROUND(D20*(1-$E$3)/Лист2!$A$6,0)","v":6604}]
[null,null,"Комплект боковины левой 350.40.01.00 для ВПН Gamma-2",6706,{"$f":"ROUND(D21*(1-$E$3)/Лист2!$A$6,0)","v":6706}]
[null,null,"Комплект боковины правой 350.40.01.00-01 для ВПН Gamma-2",6706,{"$f":"ROUND(D22*(1-$E$3)/Лист2!$A$6,0)","v":6706}]
[null,null,"Комплект герметичного разделителя 337.83.00.00 для ВПС/ВПСН/ВПН Gamma-2",15222,{"$f":"ROUND(D23*(1-$E$3)/Лист2!$A$6,0)","v":15222}]
[null,null,"Комплект для рыбы и морепродуктов 865.60.00.00 для Gamma/Gamma Quadro 1200",10479,{"$f":"ROUND(D24*(1-$E$3)/Лист2!$A$6,0)","v":10479}]
[null,null,"Комплект для рыбы и морепродуктов 865.60.00.00-01 для Gamma/Gamma Quadro 1500",13253,{"$f":"ROUND(D25*(1-$E$3)/Лист2!$A$6,0)","v":13253}]
[null,null,"Комплект для рыбы и морепродуктов 865.60.00.00-02 для Gamma/Gamma Quadro 1800",15613,{"$f":"ROUND(D26*(1-$E$3)/Лист2!$A$6,0)","v":15613}]
[null,null,"Полка навесная 337.46.00.00 L=1200 для ВПС/ВПСН/ВПН Gamma-2",4658,{"$f":"ROUND(D27*(1-$E$3)/Лист2!$A$6,0)","v":4658},"Полка дополнительная для отдельно стоящей витрины"]
[null,null,"Полка навесная 337.46.00.00-01 L=1500 для ВПС/ВПСН/ВПН Gamma-2",4927,{"$f":"ROUND(D28*(1-$E$3)/Лист2!$A$6,0)","v":4927},"Полка дополнительная для отдельно стоящей витрины"]
[null,null,"Полка навесная 337.46.00.00-02 L=1800 для ВПС/ВПСН/ВПН Gamma-2",5199,{"$f":"ROUND(D29*(1-$E$3)/Лист2!$A$6,0)","v":5199},"Полка дополнительная для отдельно стоящей витрины"]
[null,null,"Разделитель передвижной низкий 337.47.00.00 для ВПС/ВПСН Gamma-2",623,{"$f":"ROUND(D30*(1-$E$3)/Лист2!$A$6,0)","v":623},"Из стекла!"]
[null,null,"Разделитель передвижной низкий из оргстекла 337.48.00.00 для ВПС/ВПСН Gamma-2",1192,{"$f":"ROUND(D31*(1-$E$3)/Лист2!$A$6,0)","v":1192}]
[null,null,"Разделитель передвижной высокий 337.49.00.00 для  ВПС/ВПСН Gamma-2",1106,{"$f":"ROUND(D32*(1-$E$3)/Лист2!$A$6,0)","v":1106},"Из стекла!"]
[null,null,"Разделитель передвижной высокий из оргстекла 337.53.00.00 для ВПС/ВПСН Gamma-2",3694,{"$f":"ROUND(D33*(1-$E$3)/Лист2!$A$6,0)","v":3694}]
[null,null,"Комплект соединительный 337.50.00.00 для ВПС/ВПСН/ВПН Gamma-2",4698,{"$f":"ROUND(D34*(1-$E$3)/Лист2!$A$6,0)","v":4698}]
[null,null,"Комплект соединительный 391.50.00.00 для ВПВ Gamma-2",8121,{"$f":"ROUND(D35*(1-$E$3)/Лист2!$A$6,0)","v":8121}]
[null,null,"Комплект полки навесной для весов 337.54.00.00 для ВПС/ВПСН/ВПН Gamma-2",5771,{"$f":"ROUND(D36*(1-$E$3)/Лист2!$A$6,0)","v":5771}]
[null,null,"Перемычка 337.60.00.00 для ВПС/ВПСН/ВПН Gamma-2",4282,{"$f":"ROUND(D37*(1-$E$3)/Лист2!$A$6,0)","v":4282}]
[null,null,"Доска навесная для нарезки 337.61.00.00 для ВПС/ВПСН/ВПН Gamma-2",9210,{"$f":"ROUND(D38*(1-$E$3)/Лист2!$A$6,0)","v":9210}]
[null,null,"Полка дополнительная 337.70.00.00 L=1200 для ВПС/ВПСН/ВПН Gamma-2",4596,{"$f":"ROUND(D39*(1-$E$3)/Лист2!$A$6,0)","v":4596},"Полка дополнительная (стыковка левым торцом)"]
[null,null,"Полка дополнительная 337.70.00.00-01 L=1500 для ВПС/ВПСН/ВПН Gamma-2",4866,{"$f":"ROUND(D40*(1-$E$3)/Лист2!$A$6,0)","v":4866},"Полка дополнительная (стыковка левым торцом)"]
[null,null,"Полка дополнительная 337.70.00.00-02 L=1800 для ВПС/ВПСН/ВПН Gamma-2",5135,{"$f":"ROUND(D41*(1-$E$3)/Лист2!$A$6,0)","v":5135},"Полка дополнительная (стыковка левым торцом)"]
[null,null,"Полка дополнительная 337.70.00.00-03 L=1200 для ВПС/ВПСН/ВПН Gamma-2",1218,{"$f":"ROUND(D42*(1-$E$3)/Лист2!$A$6,0)","v":1218},"Полка дополнительная (стыковка с двух сторон)"]
[null,null,"Полка дополнительная 337.70.00.00-04 L=1500 для ВПС/ВПСН/ВПН Gamma-2",1469,{"$f":"ROUND(D43*(1-$E$3)/Лист2!$A$6,0)","v":1469},"Полка дополнительная (стыковка с двух сторон)"]
[null,null,"Полка дополнительная 337.70.00.00-05 L=1800 для ВПС/ВПСН/ВПН Gamma-2",1813,{"$f":"ROUND(D44*(1-$E$3)/Лист2!$A$6,0)","v":1813},"Полка дополнительная (стыковка с двух сторон)"]
[null,null,"Полка дополнительная 337.70.00.00-06 L=1200 для ВПС/ВПСН/ВПН Gamma-2",4596,{"$f":"ROUND(D45*(1-$E$3)/Лист2!$A$6,0)","v":4596},"Полка дополнительная (стыковка правым торцом)"]
[null,null,"Полка дополнительная 337.70.00.00-07 L=1500 для ВПС/ВПСН/ВПН Gamma-2",4866,{"$f":"ROUND(D46*(1-$E$3)/Лист2!$A$6,0)","v":4866},"Полка дополнительная (стыковка правым торцом)"]
[null,null,"Полка дополнительная 337.70.00.00-08 L=1800 для ВПС/ВПСН/ВПН Gamma-2",5135,{"$f":"ROUND(D47*(1-$E$3)/Лист2!$A$6,0)","v":5135},"Полка дополнительная (стыковка правым торцом)"]
[null,null,"Подиум одноступенчатый 337.80.00.00 L=1200 для ВПС/ВПСН Gamma-2",2491,{"$f":"ROUND(D48*(1-$E$3)/Лист2!$A$6,0)","v":2491},"Комплект на витрину"]
[null,null,"Подиум одноступенчатый 337.80.00.00-01 L=1500 для ВПС/ВПСН Gamma-2",2966,{"$f":"ROUND(D49*(1-$E$3)/Лист2!$A$6,0)","v":2966},"Комплект на витрину"]
[null,null,"Подиум одноступенчатый 337.80.00.00-02 L=1800 для ВПС/ВПСН Gamma-2",3784,{"$f":"ROUND(D50*(1-$E$3)/Лист2!$A$6,0)","v":3784},"Комплект на витрину"]
[null,null,"Подиум одноступенчатый 351.80.00.00 OC 90 для ВПС Gamma-2",3132,{"$f":"ROUND(D51*(1-$E$3)/Лист2!$A$6,0)","v":3132},"Комплект на витрину"]
[null,null,"Подиум двухступенчатый 337.81.00.00 L=1200 для ВПС/ВПСН Gamma-2",5908,{"$f":"ROUND(D52*(1-$E$3)/Лист2!$A$6,0)","v":5908},"Комплект на витрину"]
[null,null,"Подиум двухступенчатый 337.81.00.00-01L=1500 для ВПС/ВПСН Gamma-2",6918,{"$f":"ROUND(D53*(1-$E$3)/Лист2!$A$6,0)","v":6918},"Комплект на витрину"]
[null,null,"Подиум двухступенчатый 337.81.00.00-02 L=1800 для ВПС/ВПСН Gamma-2",8931,{"$f":"ROUND(D54*(1-$E$3)/Лист2!$A$6,0)","v":8931},"Комплект на витрину"]
[null,null,"Подиум двухступенчатый 351.81.00.00 OC 90 для ВПС Gamma-2",7219,{"$f":"ROUND(D55*(1-$E$3)/Лист2!$A$6,0)","v":7219},"Комплект на витрину"]
[null,null,"Монтажный набор (до 4 кВт) 1106.120.00.00S для ВПВ/ВПС/ВПСН/ВПН",10225,{"$f":"ROUND(D56*(1-$E$3)/Лист2!$A$6,0)","v":10225}]
[null,null,"Опора гастроемкостей для витрин 337.85.00.00 L=1200 для ВПС/ВПСН Gamma-2",3057,{"$f":"ROUND(D57*(1-$E$3)/Лист2!$A$6,0)","v":3057}]
[null,null,"Опора гастроемкостей для витрин 337.85.00.00-01 L=1500 для ВПС/ВПСН Gamma-2",3415,{"$f":"ROUND(D58*(1-$E$3)/Лист2!$A$6,0)","v":3415}]
[null,null,"Опора гастроемкостей для витрин 337.85.00.00-02 L=1800 для ВПС/ВПСН Gamma-2",5047,{"$f":"ROUND(D59*(1-$E$3)/Лист2!$A$6,0)","v":5047}]
[null,null,"Комплект для декорирования 337.87.00.00 для Gamma-2 L=1200",11201,{"$f":"ROUND(D60*(1-$E$3)/Лист2!$A$6,0)","v":11201}]
[null,null,"Комплект для декорирования 337.87.00.00-01 для Gamma-2 L=1500",12651,{"$f":"ROUND(D61*(1-$E$3)/Лист2!$A$6,0)","v":12651}]
[null,null,"Комплект для декорирования 337.87.00.00-02 для Gamma-2 L=1800",14022,{"$f":"ROUND(D62*(1-$E$3)/Лист2!$A$6,0)","v":14022}]
[null,null,"Комплект колес для КНП",3762,{"$f":"ROUND(D63*(1-$E$3)/Лист2!$A$6,0)","v":3762}]
[null,null,"Ящик для КНП",2643,{"$f":"ROUND(D64*(1-$E$3)/Лист2!$A$6,0)","v":2643}]
[3,null,"Gamma Quadro","Вернуться к прайсу Gamma Q"]
[null,null,"Комплект боковины левой 1062.40.00.00 для ВПС/ВПСН GAMMA-2 Quadro",6926,{"$f":"ROUND(D66*(1-$E$3)/Лист2!$A$6,0)","v":6926}]
[null,null,"Комплект боковины правой 1062.40.00.00mir для ВПС/ВПСН GAMMA-2 Quadro",6926,{"$f":"ROUND(D67*(1-$E$3)/Лист2!$A$6,0)","v":6926}]
[null,null,"Комплект боковины левой 1064.40.00.00 для ВПН GAMMA-2 Quadro",8619,{"$f":"ROUND(D68*(1-$E$3)/Лист2!$A$6,0)","v":8619}]
[null,null,"Комплект боковины правой 1064.40.00.00mir для ВПН GAMMA-2 Quadro",8619,{"$f":"ROUND(D69*(1-$E$3)/Лист2!$A$6,0)","v":8619}]
[null,null,"Комплект герметичного разделителя 643.83.00.00 для ВПС/ВПН/ВПСН GAMMA-2 Quadro",15960,{"$f":"ROUND(D70*(1-$E$3)/Лист2!$A$6,0)","v":15960}]
[null,null,"Комплект герметичного разделителя с доп. полкой 643.84.00.00 для ВПС/ВПН/ВПСН GAMMA-2 Quadro",17701,{"$f":"ROUND(D71*(1-$E$3)/Лист2!$A$6,0)","v":17701}]
[null,null,"Комплект соединительный 1062.50.00.00 для ВПС/ВПН/ВПСН GAMMA-2 Quadro",3397,{"$f":"ROUND(D72*(1-$E$3)/Лист2!$A$6,0)","v":3397}]
[null,null,"Разделитель передвижной высокий (стекло) 643.43.00.00 для ВПС/ВПН/ВПСН GAMMA-2 Quadro",1574,{"$f":"ROUND(D73*(1-$E$3)/Лист2!$A$6,0)","v":1574}]
[null,null,"Разделитель передвижной низкий (оргстекло) 643.42.00.00 для ВПС/ВПН/ВПСН GAMMA-2 Quadro",1306,{"$f":"ROUND(D74*(1-$E$3)/Лист2!$A$6,0)","v":1306}]
[null,null,"Разделитель передвижной низкий (стекло) 643.41.00.00 для ВПС/ВПН/ВПСН GAMMA-2 Quadro",838,{"$f":"ROUND(D75*(1-$E$3)/Лист2!$A$6,0)","v":838}]
[null,null,"Комплект полки навесной для весов L=420 мм. 643.54.00.00 для ВПС/ВПН/ВПСН GAMMA-2 Quadro",6049,{"$f":"ROUND(D76*(1-$E$3)/Лист2!$A$6,0)","v":6049}]
[null,null,"Комплект отбойника фронтального 15х30 мм. 643.55.00.00 для ВПС/ВПН/ВПСН GAMMA-2 Quadro L=1200",2081,{"$f":"ROUND(D77*(1-$E$3)/Лист2!$A$6,0)","v":2081}]
[null,null,"Комплект отбойника фронтального 15х30 мм. 643.55.00.00-01 для ВПС/ВПН/ВПСН GAMMA-2 Quadro L=1500",2325,{"$f":"ROUND(D78*(1-$E$3)/Лист2!$A$6,0)","v":2325}]
[null,null,"Комплект отбойника фронтального 15х30 мм. 643.55.00.00-02 для ВПС/ВПН/ВПСН GAMMA-2 Quadro L=1800",2568,{"$f":"ROUND(D79*(1-$E$3)/Лист2!$A$6,0)","v":2568}]
[null,null,"Доска навесная для нарезки 643.61.00.00 для ВПС/ВПН/ВПСН GAMMA-2 Quadro",22031,{"$f":"ROUND(D80*(1-$E$3)/Лист2!$A$6,0)","v":22031}]
[null,null,"Полка дополнительная 643.46.00.00 L=1200 для ВПС/ВПН/ВПСН GAMMA-2 Quadro",4107,{"$f":"ROUND(D81*(1-$E$3)/Лист2!$A$6,0)","v":4107}]
[null,null,"Полка дополнительная 643.46.00.00-01 L=1500 для ВПС/ВПН/ВПСН GAMMA-2 Quadro",4465,{"$f":"ROUND(D82*(1-$E$3)/Лист2!$A$6,0)","v":4465}]
[null,null,"Полка дополнительная 643.46.00.00-02 L=1800 для ВПС/ВПН/ВПСН GAMMA-2 Quadro",4802,{"$f":"ROUND(D83*(1-$E$3)/Лист2!$A$6,0)","v":4802}]
[null,null,"Подиум одноступенчатый 337.80.00.00 L=1200 для ВПС/ВПСН Gamma-2",2490,{"$f":"ROUND(D84*(1-$E$3)/Лист2!$A$6,0)","v":2490}]
[null,null,"Подиум одноступенчатый 337.80.00.00-01 L=1500 для ВПС/ВПСН Gamma-2",2970,{"$f":"ROUND(D85*(1-$E$3)/Лист2!$A$6,0)","v":2970}]
[null,null,"Подиум одноступенчатый 337.80.00.00-02 L=1800 для ВПС/ВПСН Gamma-2",3788,{"$f":"ROUND(D86*(1-$E$3)/Лист2!$A$6,0)","v":3788}]
[null,null,"Подиум одноступенчатый 351.80.00.00 OC 90 для ВПС Gamma-2",3133,{"$f":"ROUND(D87*(1-$E$3)/Лист2!$A$6,0)","v":3133}]
[null,null,"Подиум двухступенчатый 337.81.00.00 L=1200 для ВПС/ВПСН Gamma-2",5906,{"$f":"ROUND(D88*(1-$E$3)/Лист2!$A$6,0)","v":5906}]
[null,null,"Подиум двухступенчатый 337.81.00.00-01L=1500 для ВПС/ВПСН Gamma-2",6918,{"$f":"ROUND(D89*(1-$E$3)/Лист2!$A$6,0)","v":6918}]
[null,null,"Подиум двухступенчатый 337.81.00.00-02 L=1800 для ВПС/ВПСН Gamma-2",8933,{"$f":"ROUND(D90*(1-$E$3)/Лист2!$A$6,0)","v":8933}]
[null,null,"Подиум двухступенчатый 351.81.00.00 OC 90 для ВПС Gamma-2",7219,{"$f":"ROUND(D91*(1-$E$3)/Лист2!$A$6,0)","v":7219}]
[4,"Код 1С","Magnum","Вернуться к прайсу Magnum"]
[null,"З0000101899","Комплект боковины левой со стеклом 433.50.1000.00 для ВПС/ВПСН Magnum ",8459,{"$f":"ROUND(D93*(1-$E$3)/Лист2!$A$6,0)","v":8459}]
[null,"З0000101900","Комплект боковины правой со стеклом 433.50.2000.00 для ВПС/ВПСН Magnum ",8459,{"$f":"ROUND(D94*(1-$E$3)/Лист2!$A$6,0)","v":8459}]
[null,"З0000101907","Комплект боковины левой со стеклом 476.50.1000.00 для ВПН Magnum ",10228,{"$f":"ROUND(D95*(1-$E$3)/Лист2!$A$6,0)","v":10228}]
[null,"З0000101908","Комплект боковины правой со стеклом 476.50.2000.00 для ВПН Magnum ",10228,{"$f":"ROUND(D96*(1-$E$3)/Лист2!$A$6,0)","v":10228}]
[null,"З0000101902","Комплект боковины левой со стеклом 276.50.01.00 для ВПС Magnum SG ",8300,{"$f":"ROUND(D97*(1-$E$3)/Лист2!$A$6,0)","v":8300}]
[null,"З0000101903","Комплект боковины правой со стеклом 276.50.02.00 для ВПС Magnum SG ",8300,{"$f":"ROUND(D98*(1-$E$3)/Лист2!$A$6,0)","v":8300}]
[null,"З0000276011","Доска навесная для весов 1007.60.00.00 (420х325) для Magnum/Eco/Quadro",8843,{"$f":"ROUND(D99*(1-$E$3)/Лист2!$A$6,0)","v":8843}]
[null,"З0000304079","Доска навесная для нарезки 1007.62.00.00 (420х325) для Magnum/Eco/Quadro",12103,{"$f":"ROUND(D100*(1-$E$3)/Лист2!$A$6,0)","v":12103}]
[null,"З0000296634","Доска навесная универсальная для весов и для нарезки (450х410) 1007.160.00.00 для Magnum, Magnum Eco, Magnum Quadro",3862,{"$f":"ROUND(D101*(1-$E$3)/Лист2!$A$6,0)","v":3862}]
[null,"З0000297102","Комплект бампера 1098.72.00.00 для ВПС/ВПСН/ВПН Magnum 1250",4230,{"$f":"ROUND(D102*(1-$E$3)/Лист2!$A$6,0)","v":4230}]
[null,"З0000297098","Комплект бампера 1098.72.00.00-01 для ВПС/ВПСН/ВПН Magnum 1880",6238,{"$f":"ROUND(D103*(1-$E$3)/Лист2!$A$6,0)","v":6238}]
[null,"З0000297099","Комплект бампера 1098.72.00.00-02 для ВПС/ВПСН/ВПН Magnum 2500",6787,{"$f":"ROUND(D104*(1-$E$3)/Лист2!$A$6,0)","v":6787}]
[null,"З0000297100","Комплект бампера 1098.72.00.00-03 для ВПС/ВПСН/ВПН Magnum 3750",9347,{"$f":"ROUND(D105*(1-$E$3)/Лист2!$A$6,0)","v":9347}]
[null,"З0000304089","Комплект бампера 1102.72.00.00 для Magnum OС 90",12544,{"$f":"ROUND(D106*(1-$E$3)/Лист2!$A$6,0)","v":12544}]
[null,"З0000297110","Комплект бампера 1103.72.00.00 для Magnum IС 90",11002,{"$f":"ROUND(D107*(1-$E$3)/Лист2!$A$6,0)","v":11002}]
[null,"З0000101796","Комплект гидроамортизаторов 263.67.00.00 для ВПС/ВПСН/ВПН Magnum L=1250",8727,{"$f":"ROUND(D108*(1-$E$3)/Лист2!$A$6,0)","v":8727}]
[null,"З0000101797","Комплект гидроамортизаторов 263.67.00.00-01 для ВПС/ВПСН/ВПН Magnum L=1880",16466,{"$f":"ROUND(D109*(1-$E$3)/Лист2!$A$6,0)","v":16466}]
[null,"З0000101798","Комплект гидроамортизаторов 263.67.00.00-02 для ВПС/ВПСН/ВПН Magnum L=2500",18936,{"$f":"ROUND(D110*(1-$E$3)/Лист2!$A$6,0)","v":18936}]
[null,"З0000110281","Комплект гидроамортизаторов 263.67.00.00-03 для ВПС/ВПСН/ВПН Magnum L=3750",24023,{"$f":"ROUND(D111*(1-$E$3)/Лист2!$A$6,0)","v":24023}]
[null,"З0000101812","Комплект гидроамортизаторов 268.67.00.00 для ВПС Magnum IС 90",15564,{"$f":"ROUND(D112*(1-$E$3)/Лист2!$A$6,0)","v":15564}]
[null,"З0000101811","Комплект гидроамортизаторов 267.67.00.00 для ВПС Magnum OС 90",15564,{"$f":"ROUND(D113*(1-$E$3)/Лист2!$A$6,0)","v":15564}]
[null,"З0000101612","Комплект соединительный 263.55.00.00 для ВПС/ВПСН/ВПН Magnum",1841,{"$f":"ROUND(D114*(1-$E$3)/Лист2!$A$6,0)","v":1841}]
[null,"З0000101725","Компл соединительный 276.55.00.00 для ВПС Magnum SG",1842,{"$f":"ROUND(D115*(1-$E$3)/Лист2!$A$6,0)","v":1842}]
[null,"З0000104851","Комплект подиума двухступ(нерж) 433.73.0000.00 L=1250 для ВПС/ВПСН/ВПН Magnum",4620,{"$f":"ROUND(D116*(1-$E$3)/Лист2!$A$6,0)","v":4620},"ступенька на экспозиционную полку в витрине "]
[null,"З0000104852","Комплект подиума двухступ(нерж) 433.73.0000.00-01 L=1880 для ВПС/ВПСН/ВПН Magnum",5851,{"$f":"ROUND(D117*(1-$E$3)/Лист2!$A$6,0)","v":5851},"ступенька на экспозиционную полку в витрине "]
[null,"З0000104853","Комплект подиума двухступ(нерж) 433.73.0000.00-02 L=2500 для ВПС/ВПСН/ВПН Magnum",9240,{"$f":"ROUND(D118*(1-$E$3)/Лист2!$A$6,0)","v":9240},"ступенька на экспозиционную полку в витрине "]
[null,"З0000104854","Комплект подиума двухступ(нерж) 433.73.0000.00-03 L=3750 для ВПС/ВПСН/ВПН Magnum",13864,{"$f":"ROUND(D119*(1-$E$3)/Лист2!$A$6,0)","v":13864},"ступенька на экспозиционную полку в витрине "]
[null,"З0000101740","Подиум двухступенчатый 268.58.00.00 IC 90 для ВПС Magnum",6519,{"$f":"ROUND(D120*(1-$E$3)/Лист2!$A$6,0)","v":6519},"ступенька на экспозиционную полку в витрине "]
[null,"З0000101738","Подиум двухступенчатый 267.58.00.00 OC 90 для ВПС Magnum",4346,{"$f":"ROUND(D121*(1-$E$3)/Лист2!$A$6,0)","v":4346},"ступенька на экспозиционную полку в витрине "]
[null,"З0000280986","Комплект герметичного разделителя 1098.43.00.00 для ВПС/ВПСН/ВПН Magnum",18293,{"$f":"ROUND(D122*(1-$E$3)/Лист2!$A$6,0)","v":18293}]
[null,"З0000304091","Комплект герметичного разделителя 1101.43.00.00  для ВПС/ВПСН Magnum SG",14099,{"$f":"ROUND(D123*(1-$E$3)/Лист2!$A$6,0)","v":14099}]
[null,"З0000280988","Комплект разделителя передвижного высокого 1098.42.00.00 для ВПС/ВПСН/ВПН Magnum",1656,{"$f":"ROUND(D124*(1-$E$3)/Лист2!$A$6,0)","v":1656}]
[null,"З0000280987","Комплект разделителя передвижного низкого 1098.41.00.00 для ВПС/ВПСН/ВПН Magnum",1337,{"$f":"ROUND(D125*(1-$E$3)/Лист2!$A$6,0)","v":1337}]
[null,"З0000101825","ТЭН оттайки испарителя 273.65.00.00 L=1250 для ВПС Magnum  / IС 90 / ОС 90 / Eco / Quadro",1945,{"$f":"ROUND(D126*(1-$E$3)/Лист2!$A$6,0)","v":1945}]
[null,"З0000101826","ТЭН оттайки испарителя 273.65.00.00-01 L=1880 для ВПС Magnum / Eco / Quadro",3501,{"$f":"ROUND(D127*(1-$E$3)/Лист2!$A$6,0)","v":3501}]
[null,"З0000101828","ТЭН оттайки испарителя 273.65.00.00-02 L=2500 для ВПС Magnum / Eco / Quadro",4167,{"$f":"ROUND(D128*(1-$E$3)/Лист2!$A$6,0)","v":4167}]
[null,"З0000101829","ТЭН оттайки испарителя 273.65.00.00-03 L=3750 для ВПС Magnum / Eco / Quadro",6702,{"$f":"ROUND(D129*(1-$E$3)/Лист2!$A$6,0)","v":6702}]
[null,"З0000302271","Комплект шторок ночных 1101.40.00.00 для Magnum SG исп.1250",5115,{"$f":"ROUND(D130*(1-$E$3)/Лист2!$A$6,0)","v":5115}]
[null,"З0000302272","Комплект шторок ночных 1101.40.00.00-01  для Magnum SG исп.1875",7630,{"$f":"ROUND(D131*(1-$E$3)/Лист2!$A$6,0)","v":7630}]
[null,"З0000302273","Комплект шторок ночных 1101.40.00.00-02  для Magnum SG исп.2500",10203,{"$f":"ROUND(D132*(1-$E$3)/Лист2!$A$6,0)","v":10203}]
[null,"З0000302274","Комплект шторок ночных 1101.40.00.00-03  для Magnum SG исп.3750",15022,{"$f":"ROUND(D133*(1-$E$3)/Лист2!$A$6,0)","v":15022}]
[5,"Код 1С","Magnum ECO","Вернуться к прайсу Magnum ECO"]
[null,"З0000123582","Комплект боковины левой  676.50.01.00 для ВПС/ВПСН Magnum Eco",8459,{"$f":"ROUND(D135*(1-$E$3)/Лист2!$A$6,0)","v":8459}]
[null,"З0000123583","Комплект боковины правой  676.50.02.00 для ВПС/ВПСН Magnum Eco",8459,{"$f":"ROUND(D136*(1-$E$3)/Лист2!$A$6,0)","v":8459}]
[null,"З0000276011","Доска навесная для весов 1007.60.00.00 (420х325) для Magnum/Eco/Quadro",6102,{"$f":"ROUND(D137*(1-$E$3)/Лист2!$A$6,0)","v":6102}]
[null,"З0000304079","Доска навесная для нарезки 1007.62.00.00 (420х325) для Magnum/Eco/Quadro",8993,{"$f":"ROUND(D138*(1-$E$3)/Лист2!$A$6,0)","v":8993}]
[null,"З0000296634","Доска навесная универсальная для весов и для нарезки (450х410) 1007.160.00.00 для Magnum, Magnum Eco, Magnum Quadro",3862,{"$f":"ROUND(D139*(1-$E$3)/Лист2!$A$6,0)","v":3862}]
[null,"З0000123589","Комплект соединительный 676.40.00.00 для ВПС/ВПСН/ВПН Magnum Eco",1842,{"$f":"ROUND(D140*(1-$E$3)/Лист2!$A$6,0)","v":1842}]
[null,"З0000104851","Комплект подиума двухступ(нерж) 433.73.0000.00 L=1250 для ВПС/ВПСН/ВПН Magnum",4620,{"$f":"ROUND(D141*(1-$E$3)/Лист2!$A$6,0)","v":4620},"ступенька на экспозиционную полку в витрине "]
[null,"З0000104852","Комплект подиума двухступ(нерж) 433.73.0000.00-01 L=1880 для ВПС/ВПСН/ВПН Magnum",5851,{"$f":"ROUND(D142*(1-$E$3)/Лист2!$A$6,0)","v":5851},"ступенька на экспозиционную полку в витрине "]
[null,"З0000104853","Комплект подиума двухступ(нерж) 433.73.0000.00-02 L=2500 для ВПС/ВПСН/ВПН Magnum",9240,{"$f":"ROUND(D143*(1-$E$3)/Лист2!$A$6,0)","v":9240},"ступенька на экспозиционную полку в витрине "]
[null,"З0000104854","Комплект подиума двухступ(нерж) 433.73.0000.00-03 L=3750 для ВПС/ВПСН/ВПН Magnum",13864,{"$f":"ROUND(D144*(1-$E$3)/Лист2!$A$6,0)","v":13864},"ступенька на экспозиционную полку в витрине "]
[null,"З0000101825","ТЭН оттайки испарителя 273.65.00.00 L=1250 для ВПС Magnum  / IС 90 / ОС 90 / Eco / Quadro",1945,{"$f":"ROUND(D145*(1-$E$3)/Лист2!$A$6,0)","v":1945}]
[null,"З0000101826","ТЭН оттайки испарителя 273.65.00.00-01 L=1880 для ВПС Magnum / Eco / Quadro",3501,{"$f":"ROUND(D146*(1-$E$3)/Лист2!$A$6,0)","v":3501}]
[null,"З0000101828","ТЭН оттайки испарителя 273.65.00.00-02 L=2500 для ВПС Magnum / Eco / Quadro",4167,{"$f":"ROUND(D147*(1-$E$3)/Лист2!$A$6,0)","v":4167}]
[null,"З0000101829","ТЭН оттайки испарителя 273.65.00.00-03 L=3750 для ВПС Magnum / Eco / Quadro",6702,{"$f":"ROUND(D148*(1-$E$3)/Лист2!$A$6,0)","v":6702}]
[6,"Код 1С","MAGNUM Quadro","Вернуться к прайсу Magnum Q"]
[null,null,"Комплект общей подсветки для Magnum Quadro L=1250 мм",2396,{"$f":"ROUND(D150*(1-$E$3)/Лист2!$A$6,0)","v":2396},"Спектр освещения определяется характеристикой\n (пятый символ, \"1\" - 6500К, \"2\" -  4000К, \"3\" - 3000 К)"]
[null,null,"Комплект общей подсветки для Magnum Quadro L=1875 мм",3565,{"$f":"ROUND(D151*(1-$E$3)/Лист2!$A$6,0)","v":3565}]
[null,null,"Комплект общей подсветки для Magnum Quadro L=2500 мм",3565,{"$f":"ROUND(D152*(1-$E$3)/Лист2!$A$6,0)","v":3565}]
[null,null,"Комплект общей подсветки для Magnum Quadro L=3750 мм",6151,{"$f":"ROUND(D153*(1-$E$3)/Лист2!$A$6,0)","v":6151}]
[null,null,"Комплект общей подсветки для Magnum Quadro OC90",3596,{"$f":"ROUND(D154*(1-$E$3)/Лист2!$A$6,0)","v":3596}]
[null,null,"Комплект общей подсветки для Magnum Quadro  IC90",2157,{"$f":"ROUND(D155*(1-$E$3)/Лист2!$A$6,0)","v":2157}]
[null,null,"Комплект декоративной фронтальной панели металлической узкой L=1250 мм",3471,{"$f":"ROUND(D156*(1-$E$3)/Лист2!$A$6,0)","v":3471},"Определяется характеристикой\nВосьмой символ характеристики - ВХХХХ\nгде ХХХХ цвет со структурой, пример - В7016гл"]
[null,null,"Комплект декоративной фронтальной панели металлической узкой L=1875 мм",4954,{"$f":"ROUND(D157*(1-$E$3)/Лист2!$A$6,0)","v":4954}]
[null,null,"Комплект декоративной фронтальной панели металлической узкой L=2500 мм",5906,{"$f":"ROUND(D158*(1-$E$3)/Лист2!$A$6,0)","v":5906}]
[null,null,"Комплект декоративной фронтальной панели металлической узкой L=3750 мм",8388,{"$f":"ROUND(D159*(1-$E$3)/Лист2!$A$6,0)","v":8388}]
[null,null,"Комплект декоративной фронтальной панели металлической узкой OC90",5919,{"$f":"ROUND(D160*(1-$E$3)/Лист2!$A$6,0)","v":5919}]
[null,null,"Комплект декоративной фронтальной панели металлической узкой IC90",3645,{"$f":"ROUND(D161*(1-$E$3)/Лист2!$A$6,0)","v":3645}]
[null,null,"Комплект декоративной фронтальной панели металлической узкой с отбойником L=1250 мм",5555,{"$f":"ROUND(D162*(1-$E$3)/Лист2!$A$6,0)","v":5555},"Определяется характеристикой\nВосьмой символ характеристики - DХХХХ\nгде ХХХХ цвет со структурой, пример - D7016гл"]
[null,null,"Комплект декоративной фронтальной панели металлической узкой с отбойником  L=1875 мм",7927,{"$f":"ROUND(D163*(1-$E$3)/Лист2!$A$6,0)","v":7927}]
[null,null,"Комплект декоративной фронтальной панели металлической узкой с отбойником  L=2500 мм",9449,{"$f":"ROUND(D164*(1-$E$3)/Лист2!$A$6,0)","v":9449}]
[null,null,"Комплект декоративной фронтальной панели металлической узкой с отбойником  OC90",9471,{"$f":"ROUND(D165*(1-$E$3)/Лист2!$A$6,0)","v":9471}]
[null,null,"Комплект декоративной фронтальной панели металлической узкой с отбойником  IC90",5833,{"$f":"ROUND(D166*(1-$E$3)/Лист2!$A$6,0)","v":5833}]
[null,null,"Комплект декоративной фронтальной панели металлической широкой  L=1250 мм",3748,{"$f":"ROUND(D167*(1-$E$3)/Лист2!$A$6,0)","v":3748},"Определяется характеристикой\nВосьмой символ характеристики - AХХХХ\nгде ХХХХ цвет со структурой, пример - A7016гл"]
[null,null,"Комплект декоративной фронтальной панели металлической широкой  L=1875 мм",5350,{"$f":"ROUND(D168*(1-$E$3)/Лист2!$A$6,0)","v":5350}]
[null,null,"Комплект декоративной фронтальной панели металлической широкой  L=2500 мм",6378,{"$f":"ROUND(D169*(1-$E$3)/Лист2!$A$6,0)","v":6378}]
[null,null,"Комплект декоративной фронтальной панели металлической широкой для OC90",6394,{"$f":"ROUND(D170*(1-$E$3)/Лист2!$A$6,0)","v":6394}]
[null,null,"Комплект декоративной фронтальной панели металлической широкой для IC90",3937,{"$f":"ROUND(D171*(1-$E$3)/Лист2!$A$6,0)","v":3937}]
[null,null,"Комплект декоративной фронтальной панели металлической широкой с отбойником  L=1250 мм",5998,{"$f":"ROUND(D172*(1-$E$3)/Лист2!$A$6,0)","v":5998},"Определяется характеристикой\nВосьмой символ характеристики - СХХХХ\nгде ХХХХ цвет со структурой, пример - С7016гл"]
[null,null,"Комплект декоративной фронтальной панели металлической широкой с отбойником  L=1875 мм",8561,{"$f":"ROUND(D173*(1-$E$3)/Лист2!$A$6,0)","v":8561}]
[null,null,"Комплект декоративной фронтальной панели металлической широкой с отбойником  L=2500 мм",10205,{"$f":"ROUND(D174*(1-$E$3)/Лист2!$A$6,0)","v":10205}]
[null,null,"Комплект декоративной фронтальной панели металлической широкой с отбойником для OC90",10230,{"$f":"ROUND(D175*(1-$E$3)/Лист2!$A$6,0)","v":10230}]
[null,null,"Комплект декоративной фронтальной панели металлической широкой с отбойником для IC90",6298,{"$f":"ROUND(D176*(1-$E$3)/Лист2!$A$6,0)","v":6298}]
[null,null,"Комплект декоративной фронтальной панели металлической узкой L=1250 мм, ЛДСП",6248,{"$f":"ROUND(D177*(1-$E$3)/Лист2!$A$6,0)","v":6248},"Расшифровка характеристик ЛДСП (нажать)"]
[null,null,"Комплект декоративной фронтальной панели металлической узкой L=1875 мм, ЛДСП",8917,{"$f":"ROUND(D178*(1-$E$3)/Лист2!$A$6,0)","v":8917}]
[null,null,"Комплект декоративной фронтальной панели металлической узкой L=2500 мм, ЛДСП",10630,{"$f":"ROUND(D179*(1-$E$3)/Лист2!$A$6,0)","v":10630}]
[null,null,"Комплект декоративной фронтальной панели металлической узкой OC90, ЛДСП",10656,{"$f":"ROUND(D180*(1-$E$3)/Лист2!$A$6,0)","v":10656}]
[null,null,"Комплект декоративной фронтальной панели металлической узкой IC90, ЛДСП",6562,{"$f":"ROUND(D181*(1-$E$3)/Лист2!$A$6,0)","v":6562}]
[null,null,"Комплект декоративной фронтальной панели металлической узкой с отбойником L=1250 мм, ЛДСП",8332,{"$f":"ROUND(D182*(1-$E$3)/Лист2!$A$6,0)","v":8332},"Расшифровка характеристик ЛДСП (нажать)"]
[null,null,"Комплект декоративной фронтальной панели металлической узкой с отбойником  L=1875 мм, ЛДСП",11890,{"$f":"ROUND(D183*(1-$E$3)/Лист2!$A$6,0)","v":11890}]
[null,null,"Комплект декоративной фронтальной панели металлической узкой с отбойником  L=2500 мм, ЛДСП",14173,{"$f":"ROUND(D184*(1-$E$3)/Лист2!$A$6,0)","v":14173}]
[null,null,"Комплект декоративной фронтальной панели металлической узкой с отбойником  OC90, ЛДСП",14207,{"$f":"ROUND(D185*(1-$E$3)/Лист2!$A$6,0)","v":14207}]
[null,null,"Комплект декоративной фронтальной панели металлической узкой с отбойником  IC90, ЛДСП",8747,{"$f":"ROUND(D186*(1-$E$3)/Лист2!$A$6,0)","v":8747}]
[null,null,"Комплект декоративной фронтальной панели металлической широкой  L=1250 мм, ЛДСП",6748,{"$f":"ROUND(D187*(1-$E$3)/Лист2!$A$6,0)","v":6748},"Расшифровка характеристик ЛДСП (нажать)"]
[null,null,"Комплект декоративной фронтальной панели металлической широкой  L=1875 мм, ЛДСП",9631,{"$f":"ROUND(D188*(1-$E$3)/Лист2!$A$6,0)","v":9631}]
[null,null,"Комплект декоративной фронтальной панели металлической широкой  L=2500 мм, ЛДСП",11481,{"$f":"ROUND(D189*(1-$E$3)/Лист2!$A$6,0)","v":11481}]
[null,null,"Комплект декоративной фронтальной панели металлической широкой для OC90, ЛДСП",11508,{"$f":"ROUND(D190*(1-$E$3)/Лист2!$A$6,0)","v":11508}]
[null,null,"Комплект декоративной фронтальной панели металлической широкой для IC90, ЛДСП",7086,{"$f":"ROUND(D191*(1-$E$3)/Лист2!$A$6,0)","v":7086}]
[null,null,"Комплект декоративной фронтальной панели металлической широкой с отбойником  L=1250 мм, ЛДСП",8999,{"$f":"ROUND(D192*(1-$E$3)/Лист2!$A$6,0)","v":8999},"Расшифровка характеристик ЛДСП (нажать)"]
[null,null,"Комплект декоративной фронтальной панели металлической широкой с отбойником  L=1875 мм, ЛДСП",12842,{"$f":"ROUND(D193*(1-$E$3)/Лист2!$A$6,0)","v":12842}]
[null,null,"Комплект декоративной фронтальной панели металлической широкой с отбойником  L=2500 мм, ЛДСП",15308,{"$f":"ROUND(D194*(1-$E$3)/Лист2!$A$6,0)","v":15308}]
[null,null,"Комплект декоративной фронтальной панели металлической широкой с отбойником для OC90, ЛДСП",15344,{"$f":"ROUND(D195*(1-$E$3)/Лист2!$A$6,0)","v":15344}]
[null,null,"Комплект декоративной фронтальной панели металлической широкой с отбойником для IC90, ЛДСП",9448,{"$f":"ROUND(D196*(1-$E$3)/Лист2!$A$6,0)","v":9448}]
[null,null,"Система выпаривания конденсата для Magnum Quadro L=1250 мм",3961,{"$f":"ROUND(D197*(1-$E$3)/Лист2!$A$6,0)","v":3961},"Применение выпаривателя определяется характеристикой\n(шестой символ, \"V0\" - без выпаривателя, \"V1\" - выпариватель применен)"]
[null,null,"Система выпаривания конденсата для Magnum Quadro L=1875 мм",6733,{"$f":"ROUND(D198*(1-$E$3)/Лист2!$A$6,0)","v":6733}]
[null,null,"Система выпаривания конденсата для Magnum Quadro L=2500 мм",8872,{"$f":"ROUND(D199*(1-$E$3)/Лист2!$A$6,0)","v":8872}]
[null,null,"Система выпаривания конденсата для Magnum Quadro OC90",6733,{"$f":"ROUND(D200*(1-$E$3)/Лист2!$A$6,0)","v":6733}]
[null,null,"Система выпаривания конденсата для Magnum Quadro IC90",3565,{"$f":"ROUND(D201*(1-$E$3)/Лист2!$A$6,0)","v":3565}]
[null,"З0000252734","Комплект боковины левой под узкую фронтальную панель 1007.48.00.00 для ВПС/ВПСН Magnum Quadro",8478,{"$f":"ROUND(D202*(1-$E$3)/Лист2!$A$6,0)","v":8478}]
[null,"З0000252736","Комплект боковины правой под узкую фронтальную панель 1007.48.00.00mir дляВПС/ВПСН Magnum Quadro",8478,{"$f":"ROUND(D203*(1-$E$3)/Лист2!$A$6,0)","v":8478}]
[null,"З0000250536","Комплект боковины левой под узкую фронтальную панель 1013.48.00.00 для ВПС/ВПСН Magnum Quadro Self",8072,{"$f":"ROUND(D204*(1-$E$3)/Лист2!$A$6,0)","v":8072}]
[null,"З0000265366","Комплект боковины правой под узкую фронтальную панель 1013.48.00.00mir для ВПС/ВПСН Magnum Quadro Self",8072,{"$f":"ROUND(D205*(1-$E$3)/Лист2!$A$6,0)","v":8072}]
[null,"З0000275651","Комплект боковины левой под узкую фронтальную панель 1030.48.00.00 для ВПН Magnum Quadro",8732,{"$f":"ROUND(D206*(1-$E$3)/Лист2!$A$6,0)","v":8732}]
[null,"З0000275653","Комплект боковины правой под узкую фронтальную панель 1030.48.00.00mir для ВПН Magnum Quadro",8732,{"$f":"ROUND(D207*(1-$E$3)/Лист2!$A$6,0)","v":8732}]
[null,"З0000268674","Комплект боковины левой под широкую фронтальную панель 1007.50.00.00 для ВПС/ВПСН Magnum Quadro",8499,{"$f":"ROUND(D208*(1-$E$3)/Лист2!$A$6,0)","v":8499}]
[null,"З0000268675","Комплект боковины правой под широкую фронтальную панель 1007.50.00.00mir для ВПС/ВПСН Magnum Quadro",8499,{"$f":"ROUND(D209*(1-$E$3)/Лист2!$A$6,0)","v":8499}]
[null,"З0000281768","Комплект боковины левой под широкую фронтальную панель 1013.50.00.00 для ВПС/ВПСН Magnum Quadro Self",8094,{"$f":"ROUND(D210*(1-$E$3)/Лист2!$A$6,0)","v":8094}]
[null,"З0000281769","Комплект боковины правой под широкую фронтальную панель 1013.50.00.00mir для ВПС/ВПСН Magnum Quadro",8094,{"$f":"ROUND(D211*(1-$E$3)/Лист2!$A$6,0)","v":8094}]
[null,"З0000304139","Комплект боковины левой под широкую фронтальную панель 1030.50.00.00 для ВПН Magnum Quadro",10866,{"$f":"ROUND(D212*(1-$E$3)/Лист2!$A$6,0)","v":10866}]
[null,"З0000304141","Комплект боковины правой под широкую фронтальную панель 1030.50.00.00mir для ВПН Magnum Quadro",10866,{"$f":"ROUND(D213*(1-$E$3)/Лист2!$A$6,0)","v":10866}]
[null,"З0000260404","Комплект соединительный для стыковки витрин в линию 1007.56.00.00 для ВПС/ВПСН/ВПН Magnum Quadro",1345,{"$f":"ROUND(D214*(1-$E$3)/Лист2!$A$6,0)","v":1345}]
[null,"З0000281770","Делитель внутреннего объема передвижной низкий 1007.41.00.00 для Magnum Quadro",2157,{"$f":"ROUND(D215*(1-$E$3)/Лист2!$A$6,0)","v":2157}]
[null,"З0000260906","Делитель внутр.объема передвижной высокий (орг.стекло) 1007.42.00.00 для всех линейных Magnum Quadro",3958,{"$f":"ROUND(D216*(1-$E$3)/Лист2!$A$6,0)","v":3958}]
[null,"З0000250537","Комплект герметичного разделителя под узкую панель 1007.44.00.00 ВПС/ВПСН Magnum Quadro",14646,{"$f":"ROUND(D217*(1-$E$3)/Лист2!$A$6,0)","v":14646}]
[null,"З0000268676","Комплект герметичного разделителя под широкую панель 1007.43.00.00 ВПС/ВПСН Magnum Quadro",16272,{"$f":"ROUND(D218*(1-$E$3)/Лист2!$A$6,0)","v":16272}]
[null,"З0000104851","Комплект подиума двухступ(нерж) 433.73.0000.00 L=1250 для ВПС/ВПСН/ВПН Magnum",4620,{"$f":"ROUND(D219*(1-$E$3)/Лист2!$A$6,0)","v":4620},"ступенька на экспозиционную полку в витрине "]
[null,"З0000104852","Комплект подиума двухступ(нерж) 433.73.0000.00-01 L=1880 для ВПС/ВПСН/ВПН Magnum",5850,{"$f":"ROUND(D220*(1-$E$3)/Лист2!$A$6,0)","v":5850},"ступенька на экспозиционную полку в витрине "]
[null,"З0000104853","Комплект подиума двухступ(нерж) 433.73.0000.00-02 L=2500 для ВПС/ВПСН/ВПН Magnum",9242,{"$f":"ROUND(D221*(1-$E$3)/Лист2!$A$6,0)","v":9242},"ступенька на экспозиционную полку в витрине "]
[null,"З0000104854","Комплект подиума двухступ(нерж) 433.73.0000.00-03 L=3750 для ВПС/ВПСН/ВПН Magnum",13865,{"$f":"ROUND(D222*(1-$E$3)/Лист2!$A$6,0)","v":13865},"ступенька на экспозиционную полку в витрине "]
[null,"З0000101740","Подиум двухступенчатый 268.58.00.00 IC 90 для ВПС Magnum",4237,{"$f":"ROUND(D223*(1-$E$3)/Лист2!$A$6,0)","v":4237},"ступенька на экспозиционную полку в витрине "]
[null,"З0000101738","Подиум двухступенчатый 267.58.00.00 OC 90 для ВПС Magnum",4346,{"$f":"ROUND(D224*(1-$E$3)/Лист2!$A$6,0)","v":4346},"ступенька на экспозиционную полку в витрине "]
[null,"З0000276011","Доска навесная для весов 1007.60.00.00 (420х325) для Magnum/Eco/Quadro",8843,{"$f":"ROUND(D225*(1-$E$3)/Лист2!$A$6,0)","v":8843}]
[null,"З0000304079","Доска навесная для нарезки 1007.62.00.00 (420х325) для Magnum/Eco/Quadro",12103,{"$f":"ROUND(D226*(1-$E$3)/Лист2!$A$6,0)","v":12103}]
[null,"З0000296634","Доска навесная универсальная для весов и для нарезки (450х410) 1007.160.00.00 для Magnum, Magnum Eco, Magnum Quadro",3862,{"$f":"ROUND(D227*(1-$E$3)/Лист2!$A$6,0)","v":3862}]
[null,"З0000101825","ТЭН оттайки испарителя 273.65.00.00 L=1250 для ВПС Magnum  / IС 90 / ОС 90 / Eco / Quadro",1945,{"$f":"ROUND(D228*(1-$E$3)/Лист2!$A$6,0)","v":1945}]
[null,"З0000101826","ТЭН оттайки испарителя 273.65.00.00-01 L=1880 для ВПС Magnum / Eco / Quadro",3501,{"$f":"ROUND(D229*(1-$E$3)/Лист2!$A$6,0)","v":3501}]
[null,"З0000101828","ТЭН оттайки испарителя 273.65.00.00-02 L=2500 для ВПС Magnum / Eco / Quadro",4167,{"$f":"ROUND(D230*(1-$E$3)/Лист2!$A$6,0)","v":4167}]
[null,"З0000101829","ТЭН оттайки испарителя 273.65.00.00-03 L=3750 для ВПС Magnum / Eco / Quadro",6702,{"$f":"ROUND(D231*(1-$E$3)/Лист2!$A$6,0)","v":6702}]
[null,"З0000304152","Комплект шторок ночных 1013.40.00.00 для Magnum Quadro Self исп.1250",5458,{"$f":"ROUND(D232*(1-$E$3)/Лист2!$A$6,0)","v":5458}]
[null,"З0000304153","Комплект шторок ночных 1013.40.00.00-01 для Magnum Quadro Self исп.1875",8156,{"$f":"ROUND(D233*(1-$E$3)/Лист2!$A$6,0)","v":8156}]
[null,"З0000304154","Комплект шторок ночных 1013.40.00.00-02 для Magnum Quadro Self исп.2500",10908,{"$f":"ROUND(D234*(1-$E$3)/Лист2!$A$6,0)","v":10908}]
[null,"З0000304155","Комплект шторок ночных 1013.40.00.00-03 для Magnum Quadro Self исп.3750",16313,{"$f":"ROUND(D235*(1-$E$3)/Лист2!$A$6,0)","v":16313}]
[]
[]
[null,null,null,"НАВЕРХ"]

{"sheet":"Витрины Italfrigo","index":5,"n_rows":72,"n_cols":11,"rows_kept":72,"cut":false,"hidden":false,"merged":[[7,0,8,0],[7,1,8,1],[7,2,8,2],[7,3,8,3],[7,4,8,4],[2,1,2,3],[3,1,3,3],[6,1,6,9],[7,5,8,5],[7,6,8,6],[7,7,8,7],[7,8,8,8],[7,9,8,9],[37,2,37,9],[9,1,9,8],[11,0,34,1],[33,2,33,9],[11,2,11,9],[30,2,30,9],[28,4,29,4],[31,4,32,4],[16,2,16,9],[22,4,23,4],[25,4,26,4],[21,2,21,9],[17,4,20,4],[12,4,15,4],[10,0,10,3],[10,4,10,9],[50,2,50,9],[51,4,52,4],[42,2,42,9],[38,4,41,4],[58,2,58,9],[36,0,36,3],[36,4,36,9],[24,2,24,9],[27,2,27,9],[67,2,67,9],[35,1,35,8],[37,0,68,1],[61,2,61,9],[62,4,63,4],[64,2,64,9],[65,4,66,4],[43,4,46,4],[47,2,47,9],[48,4,49,4],[53,2,53,9],[54,4,57,4]]}
[null,null,null,null,null,null,null,null,null,null,"На главную"]
[null,null,null,null,null,null,null,null,null,"На главную"]
[null,"Ваша скидка:",null,null,{"$f":"Содержание!D2","v":0}]
[null,"НДС:",null,null,{"$f":"IF(Лист2!A1=TRUE,\"С НДС\",\"БЕЗ НДС\")","v":"С НДС"}]
[]
[]
[null,"Витрины Italfrigo без агрегата"]
["№","Изображение","Артикул","Наименование","Температурный режим, C°","Площадь экспозиции, кв.м.","Габариты без боковин, мм (L/W/H)","Габариты в упаковке, мм (L/W/H)","Базовая \nцена, руб.\n(с НДС)",{"$f":"[6]Лист2!$A$5","v":"Ваша цена, руб."}]
[]
[1,"Витрины серии TOSCANA Q, глубина выкладки 860 мм"]
["Стандартная комплектация:\n1.Фронтальное стекло закаленное, открывается сверху-вниз (микролифт не применяется);\n2. Вентилируемое охлаждение;\n3. Поддоны выкладки, внутренней задней стенки с решётками вентиляционными, столешница — нерж. сталь AISI430, шлифованная\n/в модификации FISH Базовые поддоны для льда из нержавеющей стали со сливом;\n4. ТРВ \n5. Электронный контроллер\n6. Комплект подключения к системе дренажа;\n7. Цифровой термометр на фронтальной части столешницы;\n8. Суперструктура  нерж.сталь;\n9. Профиль для навески доп. оборудования (подставки под весы, разделочные доски, под ножи, пакеты) по всей длине витрины;\n10. Витрины ВПСН оснащены электрической оттайкой испарителя (ТЭН);\n11. Без боковин;\n Стандартная характеристика для витрины - S.E.0.S.0.0"]
[null,null,"Среднетемпературные витрины"]
[null,null,"125ITSQВПС2","Витрина холодильная ВПC Italfrigo Toscana Q 1250 Д","0…+5 С",null,"1250х1060х1195","1500х1190х1080",109527,{"$f":"ROUND(I13*(1-$E$3)/Лист2!$A$6,0)","v":109527}]
[null,null,"188ITSQВПС2","Витрина холодильная ВПC Italfrigo Toscana Q 1875 Д",null,null,"1875х1060х1195","2100х1190х1080",147489,{"$f":"ROUND(I14*(1-$E$3)/Лист2!$A$6,0)","v":147489}]
[null,null,"250ITSQВПС2","Витрина холодильная ВПC Italfrigo Toscana Q 2500 Д",null,null,"2500х1060х1195","2750х1190х1080",171545,{"$f":"ROUND(I15*(1-$E$3)/Лист2!$A$6,0)","v":171545}]
[null,null,"375ITSQВПС2","Витрина холодильная ВПC Italfrigo Toscana Q 3750 Д",null,null,"3750х1060х1195","4050х1190х1080",230645,{"$f":"ROUND(I16*(1-$E$3)/Лист2!$A$6,0)","v":230645}]
[null,null,"Среднетемпературные витрины c низким стеклом"]
[null,null,"ITSQВПС2SG125Д","Витрина холодильная ВПC Italfrigo Toscana Q Self 1250 Д","0…+5 С",null,"1250х1060х880","1500х1190х1080",88367,{"$f":"ROUND(I18*(1-$E$3)/Лист2!$A$6,0)","v":88367}]
[null,null,"ITSQВПС2SG188Д","Витрина холодильная ВПC Italfrigo Toscana Q Self 1875 Д",null,null,"1875х1060х880","2100х1190х1080",108572,{"$f":"ROUND(I19*(1-$E$3)/Лист2!$A$6,0)","v":108572}]
[null,null,"ITSQВПС2SG250Д","Витрина холодильная ВПC Italfrigo Toscana Q Self 2500 Д",null,null,"2500х1060х880","2750х1190х1080",129827,{"$f":"ROUND(I20*(1-$E$3)/Лист2!$A$6,0)","v":129827}]
[null,null,"ITSQВПС2SG375Д","Витрина холодильная ВПC Italfrigo Toscana Q Self 3750 Д",null,null,"3750х1060х880","4050х1190х1080",172857,{"$f":"ROUND(I21*(1-$E$3)/Лист2!$A$6,0)","v":172857}]
[null,null,"Угловые среднетемпературные витрины"]
[null,null,"OC90ITSQ ВПС2","Витрина холодильная ВПC Italfrigo Toscana Q OC 90 Д","0…+5 С",null,"1355х1355х1195","2170х1380х1055",199507,{"$f":"ROUND(I23*(1-$E$3)/Лист2!$A$6,0)","v":199507}]
[null,null,"IC90ITSQ ВПС2","Витрина холодильная ВПC Italfrigo Toscana Q IC 90 Д",null,null,"1295х1295х1195","2170х1380х1055",176518,{"$f":"ROUND(I24*(1-$E$3)/Лист2!$A$6,0)","v":176518}]
[null,null,"Угловые среднетемпературные витрины с низким стеклом"]
[null,null,"OC90ITSQВПС2SG","Витрина холодильная ВПC Italfrigo Toscana Q OC90 Self Д","0…+5 С",null,"1355х1355х880","2170х1380х1055",175565,{"$f":"ROUND(I26*(1-$E$3)/Лист2!$A$6,0)","v":175565}]
[null,null,"IC90ITSQВПС2SG","Витрина холодильная ВПC Italfrigo Toscana Q IC90 Self Д",null,null,"1295х1295х880","2170х1380х1055",155335,{"$f":"ROUND(I27*(1-$E$3)/Лист2!$A$6,0)","v":155335}]
[null,null,"Средне-низкотемпературные витрины FISH (рыба на льду)"]
[null,null,"125ITSQFSВПСН2","Витрина холодильно-морозильная ВПCН (Italfrigo Toscana Q Fish 1250 Д)","-5…+5 С",null,"1250х1060х1195","1500х1190х1080",142386,{"$f":"ROUND(I29*(1-$E$3)/Лист2!$A$6,0)","v":142386}]
[null,null,"188ITSQFSВПСН2","Витрина холодильно-морозильная ВПCН (Italfrigo Toscana Q Fish 1875 Д)",null,null,"1875х1060х1195","2100х1190х1080",163744,{"$f":"ROUND(I30*(1-$E$3)/Лист2!$A$6,0)","v":163744}]
[null,null,"Средне-низкотемпературные витрины FISH (рыба на льду) c низким стеклом"]
[null,null,"125ITSQFSВПСН2SG","Витрина холодильно-морозильная ВПCН (Italfrigo Toscana Q Self Fish 1250 Д)","-5…+5 С",null,"1250х1060х880","1500х1190х1080",120907,{"$f":"ROUND(I32*(1-$E$3)/Лист2!$A$6,0)","v":120907}]
[null,null,"188ITSQFSВПСН2SG","Витрина холодильно-морозильная ВПCН (Italfrigo Toscana Q Self Fish 1875 Д)",null,null,"1875х1060х880","2100х1190х1080",138983,{"$f":"ROUND(I33*(1-$E$3)/Лист2!$A$6,0)","v":138983}]
[null,null,"Тепловая витрина (мармит) +65, нагрев горячим паром"]
[null,null,"125ITSQВПТВМ","Витрина тепловая ВПТ Italfrigo Toscana Q 1250 ВМ","+65 C",null,"1250х1060х1195","1500х1190х1400",198866,{"$f":"ROUND(I35*(1-$E$3)/Лист2!$A$6,0)","v":198866}]
[2,"Витрины серии Veneto Quadro, глубина выкладки 960 мм"]
["Стандартная комплектация:\n1. Без фронтальной верхней декоративной панели;\n2. Фронтальное стекло закаленное, открывается микролифтами  снизу — вверх;\n3. Вентилируемое охлаждение;\n4. Поддоны выкладки, внутренней задней стенки с решётками вентиляционными, столешница — нерж. сталь AISI430, шлифованная /\n/ в модификации FISH Базовые поддоны для льда из нержавеющей стали со сливом\n5. ТРВ\n6. Электронный контроллер\n7. Комплект подключения к системе дренажа;\n8. Цифровой термометр на фронтальной части столешницы;\n9. Витрины ВПСН по умолчанию оборудованы комплектом электрооотайки испарителя; \n10. Суперструктура  из анодированого алюминия;\n11. Без боковин;\n Стандартная характеристика для витрины - S.E.0.T.0.0\n\n"]
[null,null,"Среднетемпературные витрины"]
[null,null,"IVQ ВПС2 125Д","Витрина холодильная ВПC 0,195-1,2 (Italfrigo Veneto Quadro 1250 Д)","+2…+4 С",null,"1250х1165х1175","1500х1450х1420",122034,{"$f":"ROUND(I39*(1-$E$3)/Лист2!$A$6,0)","v":122034}]
[null,null,"IVQ ВПС2 188Д","Витрина холодильная ВПC 0,29-1,75 (Italfrigo Veneto Quadro 1875 Д)",null,null,"1875х1165х1175","2125х1450х1420",164746,{"$f":"ROUND(I40*(1-$E$3)/Лист2!$A$6,0)","v":164746}]
[null,null,"IVQ ВПС2 250Д","Витрина холодильная ВПC 0,39-2,4 (Italfrigo Veneto Quadro 2500 Д)",null,null,"2500х1165х1175","2750х1450х1420",197428,{"$f":"ROUND(I41*(1-$E$3)/Лист2!$A$6,0)","v":197428}]
[null,null,"IVQ ВПС2 375Д","Витрина холодильная ВПC 0,585-3,5 (Italfrigo Veneto Quadro 3750 Д)",null,null,"3750х1165х1175","4000х1450х1420",265590,{"$f":"ROUND(I42*(1-$E$3)/Лист2!$A$6,0)","v":265590}]
[null,null,"Среднетемпературные витрины c низким стеклом"]
[null,null,"IVQ ВПС2 SG 125Д","Витрина холодильная ВПC 0,195-1,2 (Italfrigo Veneto Quadro Self 1250 Д)","+2…+4 С",null,"1250х1165х870","1500х1450х1050",100417,{"$f":"ROUND(I44*(1-$E$3)/Лист2!$A$6,0)","v":100417}]
[null,null,"IVQ ВПС2 SG 188Д","Витрина холодильная ВПC 0,29-1,75 (Italfrigo Veneto Quadro Self 1875 Д)",null,null,"1875х1165х870","2125х1450х1050",123378,{"$f":"ROUND(I45*(1-$E$3)/Лист2!$A$6,0)","v":123378}]
[null,null,"IVQ ВПС2 SG 250Д","Витрина холодильная ВПC 0,39-2,4 (Italfrigo Veneto Quadro Self 2500 Д)",null,null,"2500х1165х870","2750х1450х1050",151667,{"$f":"ROUND(I46*(1-$E$3)/Лист2!$A$6,0)","v":151667}]
[null,null,"IVQ ВПС2 SG 375Д","Витрина холодильная ВПC 0,585-3,5 (Italfrigo Veneto Quadro Self 3750 Д)",null,null,"3750х1165х870","4000х1450х1050",201935,{"$f":"ROUND(I47*(1-$E$3)/Лист2!$A$6,0)","v":201935}]
[null,null,"Угловые среднетемпературные витрины"]
[null,null,"IVQ ВПС2 OC90Д","Витрина холодильная ВПC 0,226-1,33 (Italfrigo Veneto Quadro OС 90 Д)","+2…+4 С",null,"1800х1200х1175","2000х1380х1295",245914,{"$f":"ROUND(I49*(1-$E$3)/Лист2!$A$6,0)","v":245914}]
[null,null,"IVQ ВПС2 IC45Д","Витрина холодильная ВПC 0,11-0,64 (Italfrigo Veneto Quadro IС 45 Д)",null,null,"1455х1380х1175","1750х1670х1395",145087,{"$f":"ROUND(I50*(1-$E$3)/Лист2!$A$6,0)","v":145087}]
[null,null,"Угловые среднетемпературные витрины с низким стеклом"]
[null,null,"IVQ ВПС2 SG OC90Д","Витрина холодильная ВПC 0,226-1,33 (Italfrigo Veneto Quadro Self OС 90 Д)","0…+5 С",null,"1800х1200х870","2000х1380х1050",223833,{"$f":"ROUND(I52*(1-$E$3)/Лист2!$A$6,0)","v":223833}]
[null,null,"IVQ ВПС2 SG IC45Д","Витрина холодильная ВПC 0,11-0,64 (Italfrigo Veneto Quadro Self IС 45 Д)",null,null,"1455х1380х870","1750х1670х1050",125461,{"$f":"ROUND(I53*(1-$E$3)/Лист2!$A$6,0)","v":125461}]
[null,null,"Средне-низкотемпературные витрины"]
[null,null,"IVQ ВПСН2 125Д","Витрина холодильно-морозильная ВПCН 0,195-1,2 (Italfrigo Veneto Quadro 1250 Д)","-5…+5 С",null,"1250х1165х1175","1500х1450х1420",128270,{"$f":"ROUND(I55*(1-$E$3)/Лист2!$A$6,0)","v":128270}]
[null,null,"IVQ ВПСН2 188Д","Витрина холодильно-морозильная ВПCН 0,29-1,75 (Italfrigo Veneto Quadro 1875 Д)",null,null,"1875х1165х1175","2125х1450х1420",171727,{"$f":"ROUND(I56*(1-$E$3)/Лист2!$A$6,0)","v":171727}]
[null,null,"IVQ ВПСН2 250Д","Витрина холодильно-морозильная ВПCН 0,39-2,4 (Italfrigo Veneto Quadro 2500 Д)",null,null,"2500х1165х1175","2750х1450х1420",204253,{"$f":"ROUND(I57*(1-$E$3)/Лист2!$A$6,0)","v":204253}]
[null,null,"IVQ ВПСН2 375Д","Витрина холодильно-морозильная ВПCН 0,585-3,5 (Italfrigo Veneto Quadro 3750 Д)",null,null,"3750х1165х1175","4000х1450х1420",272880,{"$f":"ROUND(I58*(1-$E$3)/Лист2!$A$6,0)","v":272880}]
[]
[null,null,"IVQ КНП IC90","Прилавок КНП Italfrigo Veneto Quadro IC90 (с широкой панелью)",null,null,null,null,33315,{"$f":"ROUND(I60*(1-$E$3)/Лист2!$A$6,0)","v":33315},"Ахххх.Рхххх"]
[null,null,"IVQ КНП 1000","Прилавок КНП Italfrigo Veneto Quadro 1000 (с широкой панелью)",null,null,null,null,41639,{"$f":"ROUND(I61*(1-$E$3)/Лист2!$A$6,0)","v":41639},"Ахххх.Рхххх"]
[null,null,"Средне-низкотемпературные витрины FISH (рыба на льду)"]
[null,null,"IVQFS ВПСН2 125Д","Витрина холодильно-морозильная ВПCН 0,195-1,2 (Italfrigo Veneto Quadro Fish 1250 Д)","-5…+5 С",null,"1250х1165х1175","1500х1450х1420",167650,{"$f":"ROUND(I63*(1-$E$3)/Лист2!$A$6,0)","v":167650}]
[null,null,"IVQFS ВПСН2 188Д","Витрина холодильно-морозильная ВПCН 0,29-1,75 (Italfrigo Veneto Quadro Fish 1875 Д)",null,null,"1875х1165х1175","2125х1450х1420",203865,{"$f":"ROUND(I64*(1-$E$3)/Лист2!$A$6,0)","v":203865}]
[null,null,"Средне-низкотемпературные витрины FISH (рыба на льду) c низким стеклом"]
[null,null,"IVQFS ВПСН2 SG 125Д","Витрина холодильно-морозильная ВПCН 0,195-1,2 (Italfrigo Veneto Quadro Self Fish 1250 Д)","-5…+5 С",null,"1250х1165х870","1500х1450х1050",149697,{"$f":"ROUND(I66*(1-$E$3)/Лист2!$A$6,0)","v":149697}]
[null,null,"IVQFS ВПСН2 SG 188Д","Витрина холодильно-морозильная ВПCН 0,29-1,75 (Italfrigo Veneto Quadro Self Fish 1875 Д)",null,null,"1875х1165х870","2125х1450х1050",171083,{"$f":"ROUND(I67*(1-$E$3)/Лист2!$A$6,0)","v":171083}]
[null,null,"Тепловая витрина (мармит) +65, нагрев горячим паром"]
[null,null,"IVQ BM125","Витрина тепловая ВПТ 0,56-0,09 (Italfrigo Veneto Quadro ВМ 1250)","+65 C",null,"1250х1165х1175","1500х1450х1420",232010,{"$f":"ROUND(I69*(1-$E$3)/Лист2!$A$6,0)","v":232010}]
[]
[]
[null,null,null,null,null,null,"наверх"]

{"sheet":"Опции для витрин Italfrigo","index":6,"n_rows":260,"n_cols":6,"rows_kept":260,"cut":false,"hidden":false,"merged":[[36,0,36,4],[53,0,53,4],[1,2,1,3],[2,2,2,3],[3,2,3,3],[6,2,6,4],[11,0,11,4],[10,0,10,3],[7,0,8,0],[7,2,8,2],[7,3,8,3],[7,4,8,4],[7,1,8,1],[9,0,9,3],[9,4,10,4],[96,0,96,4],[119,4,120,4],[119,0,119,3],[259,3,260,3],[97,0,97,4],[229,0,229,4],[240,0,240,4],[183,0,183,4],[105,0,105,4],[120,0,120,3],[121,0,121,4],[164,0,164,4],[228,0,228,4]]}
[null,null,null,null,null,"На главную"]
[]
[null,null,"Ваша скидка:",null,{"$f":"Содержание!D2","v":0}]
[null,null,"НДС:",null,{"$f":"IF(Лист2!A1=TRUE,\"С НДС\",\"БЕЗ НДС\")","v":"С НДС"}]
[]
[]
[null,null,"Опции для витрин Italfrigo"]
["№","Артикул","Название","Базовая \nцена, руб.\n(с НДС)",{"$f":"[5]Лист2!$A$5","v":"Ваша цена, руб."}]
[null,null,null,null,null,"Комментарий"]
["Опции VENETO",null,null,null,"Назад к списку"]
["1. Veneto Quadro"]
["Обязательные опции для Veneto Quadro"]
[1,"713.39.00.00","Комплект декоративной фронтальной панели широкой, без отбойника L=1250",3471,{"$f":"ROUND(D13*(1-$E$3)/Лист2!$A$6,0)","v":3471}]
[2,"713.39.00.00-01","Комплект декоративной фронтальной панели широкой, без отбойника L=1875",4954,{"$f":"ROUND(D14*(1-$E$3)/Лист2!$A$6,0)","v":4954}]
[3,"713.39.00.00-02","Комплект декоративной фронтальной панели широкой, без отбойника L=2500",5906,{"$f":"ROUND(D15*(1-$E$3)/Лист2!$A$6,0)","v":5906}]
[4,"713.39.00.00-03","Комплект декоративной фронтальной панели широкой, без отбойника L=3750",6103,{"$f":"ROUND(D16*(1-$E$3)/Лист2!$A$6,0)","v":6103}]
[5,"735.39.00.00","Комплект декоративной фронтальной панели широкой, без отбойника для ОС 90",3630,{"$f":"ROUND(D17*(1-$E$3)/Лист2!$A$6,0)","v":3630}]
[6,"736.39.00.00","Комплект декоративной фронтальной панели широкой, без отбойника для IC 45",2629,{"$f":"ROUND(D18*(1-$E$3)/Лист2!$A$6,0)","v":2629}]
[7,"713.35.00.00 ","Комплект декоративной фронтальной панели узкой, без отбойника L=1250",3229,{"$f":"ROUND(D19*(1-$E$3)/Лист2!$A$6,0)","v":3229}]
[8,"713.35.00.00-01","Комплект декоративной фронтальной панели узкой, без отбойника L=1875",4608,{"$f":"ROUND(D20*(1-$E$3)/Лист2!$A$6,0)","v":4608}]
[9,"713.35.00.00-02 ","Комплект декоративной фронтальной панели узкой, без отбойника L=2500",5492,{"$f":"ROUND(D21*(1-$E$3)/Лист2!$A$6,0)","v":5492}]
[10,"713.35.00.00-03 ","Комплект декоративной фронтальной панели узкой, без отбойника L=3750",5676,{"$f":"ROUND(D22*(1-$E$3)/Лист2!$A$6,0)","v":5676}]
[13,"713.36.00.00","Комплект декор фронт панели узкой c отбойником нерж L=1250 для Veneto Quadro",5785,{"$f":"ROUND(D23*(1-$E$3)/Лист2!$A$6,0)","v":5785}]
[14,"713.36.00.00-01","Комплект декор фронт панели узкой c отбойником нерж L=1875 для Veneto Quadro",8256,{"$f":"ROUND(D24*(1-$E$3)/Лист2!$A$6,0)","v":8256}]
[15,"713.36.00.00-02","Комплект декор фронт панели узкой c отбойником нерж L=2500 для Veneto Quadro",9843,{"$f":"ROUND(D25*(1-$E$3)/Лист2!$A$6,0)","v":9843}]
[16,"713.36.00.00-03","Комплект декор фронт панели узкой c отбойником нерж L=3750 для Veneto Quadro",10172,{"$f":"ROUND(D26*(1-$E$3)/Лист2!$A$6,0)","v":10172}]
[19,"713.47.00.00","Комплект декоративной фронтальной панели широкой, c отбойником нержав. L=1250",7029,{"$f":"ROUND(D27*(1-$E$3)/Лист2!$A$6,0)","v":7029}]
[20,"713.47.00.00-01","Комплект декоративной фронтальной панели широкой, c отбойником нержав. L=1875",10074,{"$f":"ROUND(D28*(1-$E$3)/Лист2!$A$6,0)","v":10074}]
[21,"713.47.00.00-02","Комплект декоративной фронтальной панели широкой, c отбойником нержав. L=2500",12008,{"$f":"ROUND(D29*(1-$E$3)/Лист2!$A$6,0)","v":12008}]
[22,"713.47.00.00-03","Комплект декоративной фронтальной панели широкой, c отбойником нержав. L=3750",12409,{"$f":"ROUND(D30*(1-$E$3)/Лист2!$A$6,0)","v":12409}]
[25,"537.38.00.00","Комплект нижних цветных фронтальных панелей L=1250",7029,{"$f":"ROUND(D31*(1-$E$3)/Лист2!$A$6,0)","v":7029}]
[26,"537.38.00.00-01","Комплект нижних цветных фронтальных панелей  L=1880",7857,{"$f":"ROUND(D32*(1-$E$3)/Лист2!$A$6,0)","v":7857}]
[27,"537.38.00.00-02","Комплект нижних цветных фронтальных панелей  L=2500",11599,{"$f":"ROUND(D33*(1-$E$3)/Лист2!$A$6,0)","v":11599}]
[28,"537.38.00.00-03","Комплект нижних цветных фронтальных панелей  L=3750",12328,{"$f":"ROUND(D34*(1-$E$3)/Лист2!$A$6,0)","v":12328}]
[29,"735.38.00.00","Комплект нижних цветных фронтальных панелей ОС 90",4891,{"$f":"ROUND(D35*(1-$E$3)/Лист2!$A$6,0)","v":4891}]
[30,"736.38.00.00","Комплект нижних цветных фронтальных панелей IC 45",3759,{"$f":"ROUND(D36*(1-$E$3)/Лист2!$A$6,0)","v":3759}]
["Подсветка светодиодная (2 ряда светильников с раздельным включением)"]
[1,"713.70.00.00","Комплект светодиодных светильников 1250 (нейтральный, 2х18 Вт/м) ",4950,{"$f":"ROUND(D38*(1-$E$3)/Лист2!$A$6,0)","v":4950}]
[2,"713.70.00.00-01","Комплект светодиодных светильников 1875 (нейтральный, 2х18 Вт/м)",5819,{"$f":"ROUND(D39*(1-$E$3)/Лист2!$A$6,0)","v":5819}]
[3,"713.70.00.00-02","Комплект светодиодных светильников 2500 (нейтральный, 2х18 Вт/м) ",6064,{"$f":"ROUND(D40*(1-$E$3)/Лист2!$A$6,0)","v":6064}]
[4,"713.70.00.00-03","Комплект светодиодных светильников 3750 (нейтральный, 2х18 Вт/м) ",7859,{"$f":"ROUND(D41*(1-$E$3)/Лист2!$A$6,0)","v":7859}]
[5,"735.70.00.00","Комплект светодиодных светильников для ОС 90 (нейтральный, 2х18 Вт/м) ",6063,{"$f":"ROUND(D42*(1-$E$3)/Лист2!$A$6,0)","v":6063}]
[6,"736.70.00.00","Комплект светодиодных светильников для IC 45 (нейтральный, 2х18 Вт/м)",6063,{"$f":"ROUND(D43*(1-$E$3)/Лист2!$A$6,0)","v":6063}]
[7,"713.71.00.00","Комплект светодиодных светильников 1250 (теплый, 2х18 Вт/м) ",5198,{"$f":"ROUND(D44*(1-$E$3)/Лист2!$A$6,0)","v":5198}]
[8,"713.71.00.00-01","Комплект светодиодных светильников 1875 (теплый, 2х18 Вт/м) ",6110,{"$f":"ROUND(D45*(1-$E$3)/Лист2!$A$6,0)","v":6110}]
[9,"713.71.00.00-02","Комплект светодиодных светильников 2500 (теплый, 2х18 Вт/м) ",6367,{"$f":"ROUND(D46*(1-$E$3)/Лист2!$A$6,0)","v":6367}]
[10,"713.71.00.00-03","Комплект светодиодных светильников 3750 (теплый, 2х18 Вт/м) ",8251,{"$f":"ROUND(D47*(1-$E$3)/Лист2!$A$6,0)","v":8251}]
[13,"713.72.00.00","Комплект светодиодных светильников 1250 (розовый, 2х18 Вт/м) ",5297,{"$f":"ROUND(D48*(1-$E$3)/Лист2!$A$6,0)","v":5297}]
[14,"713.72.00.00-01","Комплект светодиодных светильников 1875 (розовый, 2х18 Вт/м) ",6227,{"$f":"ROUND(D49*(1-$E$3)/Лист2!$A$6,0)","v":6227}]
[15,"713.72.00.00-02","Комплект светодиодных светильников 2500 (розовый, 2х18 Вт/м) ",6488,{"$f":"ROUND(D50*(1-$E$3)/Лист2!$A$6,0)","v":6488}]
[16,"713.72.00.00-03","Комплект светодиодных светильников 3750 (розовый 2х18 Вт/м) ",8408,{"$f":"ROUND(D51*(1-$E$3)/Лист2!$A$6,0)","v":8408}]
[17,"735.72.00.00","Комплект светодиодных светильников для ОС 90 (розовый, 2х18 Вт/м) ",6488,{"$f":"ROUND(D52*(1-$E$3)/Лист2!$A$6,0)","v":6488}]
[18,"736.72.00.00","Комплект светодиодных светильников для IC 45 (розовый, 2х18 Вт/м) ",6488,{"$f":"ROUND(D53*(1-$E$3)/Лист2!$A$6,0)","v":6488}]
["Дополнительные опции для Veneto Quadro"]
[1,"713.52.00.00","Комплект боковины левой для Veneto Quadro, пластик черный, матовый для шир.фронт.панель",8499,{"$f":"ROUND(D55*(1-$E$3)/Лист2!$A$6,0)","v":8499}]
[2,"713.52.00.00mir","Комплект боковины правой для Veneto Quadro, пластик черный, матовый для шир.фронт.панель",8499,{"$f":"ROUND(D56*(1-$E$3)/Лист2!$A$6,0)","v":8499}]
[3,"765.52.00.00","Комплект боковины левой для Veneto Quadro Self, пластик черный, матовый, для шир.фронт.панель",8094,{"$f":"ROUND(D57*(1-$E$3)/Лист2!$A$6,0)","v":8094}]
[4,"765.52.00.00mir","Комплект боковины правой для Veneto Quadro Self, пластик черный, матовый для шир.фронт.панель",8094,{"$f":"ROUND(D58*(1-$E$3)/Лист2!$A$6,0)","v":8094}]
[5,"713.49.00.00","Комплект боковины металлической левой для широкой фронт. панели Veneto Quadro",12349,{"$f":"ROUND(D59*(1-$E$3)/Лист2!$A$6,0)","v":12349}]
[6,"713.49.00.00mir","Комплект боковины металлической правой для широкой фронт. панели Veneto Quadro",12349,{"$f":"ROUND(D60*(1-$E$3)/Лист2!$A$6,0)","v":12349}]
[7,"713.48.00.00","Комплект боковины металлической левой для узк. фронт. панели для Veneto Quadro",11362,{"$f":"ROUND(D61*(1-$E$3)/Лист2!$A$6,0)","v":11362}]
[8,"713.48.00.00mir","Комплект боковины металлической правой для узк. фронт. панели для Veneto Quadro",11362,{"$f":"ROUND(D62*(1-$E$3)/Лист2!$A$6,0)","v":11362}]
[9,"765.49.00.00 ","Комплект боковины металлической левой для широкой фронт.панели Veneto Quadro Self ",11944,{"$f":"ROUND(D63*(1-$E$3)/Лист2!$A$6,0)","v":11944}]
[10,"765.49.00.00mir ","Комплект боковины металлической правой для широкой фронт. панели Veneto Quadro Self",11944,{"$f":"ROUND(D64*(1-$E$3)/Лист2!$A$6,0)","v":11944}]
[11,"765.48.00.00","Комплект боковины металлической для узк. фронт. панели для Veneto Quadro Self",10989,{"$f":"ROUND(D65*(1-$E$3)/Лист2!$A$6,0)","v":10989}]
[12,"765.48.00.00mir","Комплект боковины металлической для узк. фронт. панели для Veneto Quadro Self",10989,{"$f":"ROUND(D66*(1-$E$3)/Лист2!$A$6,0)","v":10989}]
[13,"537.37.00.00 ","Комплект нижних боковых панелей (левая, правая)",2324,{"$f":"ROUND(D67*(1-$E$3)/Лист2!$A$6,0)","v":2324}]
[14,"713.68.00.00","Комплект торцевой заглушки для стыковки стандартной витрины с витриной SELF ",1307,{"$f":"ROUND(D68*(1-$E$3)/Лист2!$A$6,0)","v":1307}]
[15,"713.56.00.00","Комплект соединительный в линию для Veneto Quadro",1345,{"$f":"ROUND(D69*(1-$E$3)/Лист2!$A$6,0)","v":1345}]
[16,"765.56.00.00","Комплект соединительный в линию для Veneto Quadro Self",862,{"$f":"ROUND(D70*(1-$E$3)/Лист2!$A$6,0)","v":862}]
[17,"713.44.00.00","Разделитель герметичный и комплект соед. для широкой фронт.панели, оргстекло (8 мм)",11216,{"$f":"ROUND(D71*(1-$E$3)/Лист2!$A$6,0)","v":11216}]
[18,"713.44.00.00-01","Разделитель герметичный и комплект соед. для узкой фронт.панели, оргстекло (8 мм)",11103,{"$f":"ROUND(D72*(1-$E$3)/Лист2!$A$6,0)","v":11103}]
[19,"713.45.00.00","Теплоизоляционный герметичный разделитель (двухкамерный стеклопакет)  и компл.соед. для широкой фронтальной панели",17144,{"$f":"ROUND(D73*(1-$E$3)/Лист2!$A$6,0)","v":17144}]
[21,"713.41.00.00","Делитель внутреннего объема  передвижной низкий (оргстекло) для Self",2071,{"$f":"ROUND(D74*(1-$E$3)/Лист2!$A$6,0)","v":2071}]
[22,"713.42.00.00","Делитель внутреннего объема передвижной высокий (оргстекло)",6910,{"$f":"ROUND(D75*(1-$E$3)/Лист2!$A$6,0)","v":6910}]
[24,"537.54.00.00","Комплект для электрооттайки  L=1250",1653,{"$f":"ROUND(D76*(1-$E$3)/Лист2!$A$6,0)","v":1653}]
[25,"537.54.00.00-01","Комплект для электрооттайки  L=1875",2619,{"$f":"ROUND(D77*(1-$E$3)/Лист2!$A$6,0)","v":2619}]
[26,"537.54.00.00-02","Комплект для электрооттайки  L=2500",3529,{"$f":"ROUND(D78*(1-$E$3)/Лист2!$A$6,0)","v":3529}]
[27,"537.54.00.00-03","Комплект для электрооттайки  L=3750",9465,{"$f":"ROUND(D79*(1-$E$3)/Лист2!$A$6,0)","v":9465}]
[28,"1106.120.00.00S","Монтажный набор (до 4 кВт) 1106.120.00.00S L=1250/1875/2500",10225,{"$f":"ROUND(D80*(1-$E$3)/Лист2!$A$6,0)","v":10225}]
[30,"713.60.00.00","Доска навесная для весов 500х400 мм. (нержавейка)",6550,{"$f":"ROUND(D81*(1-$E$3)/Лист2!$A$6,0)","v":6550}]
[31,"713.62.00.00","Доска навесная для нарезки 600х400 мм (полипропилен)",8598,{"$f":"ROUND(D82*(1-$E$3)/Лист2!$A$6,0)","v":8598}]
[32,"713.63.00.00","Комплект корзины навесной для упаковочного материала",8598,{"$f":"ROUND(D83*(1-$E$3)/Лист2!$A$6,0)","v":8598}]
[33,"713.61.00.00","Комплект корзины навесной для ножей",8934,{"$f":"ROUND(D84*(1-$E$3)/Лист2!$A$6,0)","v":8934}]
[35,"537.66.00.00","Подиум трехступенчатый (нержавейка)  L=1250",6162,{"$f":"ROUND(D85*(1-$E$3)/Лист2!$A$6,0)","v":6162}]
[36,"537.66.00.00-01","Подиум трехступенчатый (нержавейка)  L=1880",11793,{"$f":"ROUND(D86*(1-$E$3)/Лист2!$A$6,0)","v":11793}]
[37,"537.66.00.00-02","Подиум трехступенчатый (нержавейка)  L=2500",12323,{"$f":"ROUND(D87*(1-$E$3)/Лист2!$A$6,0)","v":12323}]
[38,"537.66.00.00-03","Подиум трехступенчатый (нержавейка)  L=3750",18485,{"$f":"ROUND(D88*(1-$E$3)/Лист2!$A$6,0)","v":18485}]
[39,"735.66.00.00","Подиум трехступенчатый (нержавейка) ОС 90",9072,{"$f":"ROUND(D89*(1-$E$3)/Лист2!$A$6,0)","v":9072}]
[40,"538.66.00.00","Подиум трехступенчатый (нержавейка) IC 45",6412,{"$f":"ROUND(D90*(1-$E$3)/Лист2!$A$6,0)","v":6412}]
[42,"713.40.00.00","Комплект шторок раздвижных для Veneto Quadro 1250",3839,{"$f":"ROUND(D91*(1-$E$3)/Лист2!$A$6,0)","v":3839}]
[43,"713.40.00.00-01","Комплект шторок раздвижных для Veneto Quadro 1875",5626,{"$f":"ROUND(D92*(1-$E$3)/Лист2!$A$6,0)","v":5626}]
[44,"713.40.00.00-02","Комплект шторок раздвижных для Veneto Quadro 2500",7678,{"$f":"ROUND(D93*(1-$E$3)/Лист2!$A$6,0)","v":7678}]
[45,"713.40.00.00-03","Комплект шторок раздвижных для Veneto Quadro 3750",11251,{"$f":"ROUND(D94*(1-$E$3)/Лист2!$A$6,0)","v":11251}]
[46,"735.40.00.00","Комплект шторок раздвижных для Veneto Quadro ОС 90",5739,{"$f":"ROUND(D95*(1-$E$3)/Лист2!$A$6,0)","v":5739}]
[47,"736.40.00.00","Комплект шторок раздвижных для Veneto Quadro IC 45",6887,{"$f":"ROUND(D96*(1-$E$3)/Лист2!$A$6,0)","v":6887}]
["2. Veneto Quadro BM"]
["Обязательные опции для Veneto Quadro BM"]
[null,"713.39.00.00","Комплект декоративной фронтальной панели (без отбойника) L=1250",3471,{"$f":"ROUND(D99*(1-$E$3)/Лист2!$A$6,0)","v":3471}]
[null,"713.36.00.00","Комплект декор фронт панели узкой c отбойником нерж L=1250 для Veneto Quadro",5785,{"$f":"ROUND(D100*(1-$E$3)/Лист2!$A$6,0)","v":5785}]
[null,"713.47.00.00","Комплект декоративной фронтальной панели c отбойником нержав. L=1250",7029,{"$f":"ROUND(D101*(1-$E$3)/Лист2!$A$6,0)","v":7029}]
[null,"537.38.00.00","Комплект нижних цветных фронтальных панелей L=1250, без боковин",7029,{"$f":"ROUND(D102*(1-$E$3)/Лист2!$A$6,0)","v":7029}]
[null,"713.70.00.00","Комплект светодиодных светильников 1250 (нейтральный, 2х18 Вт/м) ",4950,{"$f":"ROUND(D103*(1-$E$3)/Лист2!$A$6,0)","v":4950}]
[null,"713.71.00.00","Комплект светодиодных светильников 1250 (теплый, 2х18 Вт/м) ",5198,{"$f":"ROUND(D104*(1-$E$3)/Лист2!$A$6,0)","v":5198}]
[null,"713.72.00.00","Комплект светодиодных светильников 1250 (розовый, 2х18 Вт/м) ",5297,{"$f":"ROUND(D105*(1-$E$3)/Лист2!$A$6,0)","v":5297}]
["Дополнительные опции для Veneto Quadro BM"]
[null,"713.52.00.00","Комплект боковины левой для Veneto Quadro",8499,{"$f":"ROUND(D107*(1-$E$3)/Лист2!$A$6,0)","v":8499}]
[null,"713.52.00.00mir","Комплект боковины правой для Veneto Quadro",8499,{"$f":"ROUND(D108*(1-$E$3)/Лист2!$A$6,0)","v":8499}]
[null,"713.49.00.00","Комплект боковины металлической левой для Veneto Quadro",12349,{"$f":"ROUND(D109*(1-$E$3)/Лист2!$A$6,0)","v":12349}]
[null,"713.49.00.00mir","Комплект боковины металлической правой для Veneto Quadro",12349,{"$f":"ROUND(D110*(1-$E$3)/Лист2!$A$6,0)","v":12349}]
[null,"713.48.00.00","Комплект боковины металлической левой для узк. фронт. панели для Veneto Quadro",11362,{"$f":"ROUND(D111*(1-$E$3)/Лист2!$A$6,0)","v":11362}]
[null,"713.48.00.00mir","Комплект боковины металлической правой для узк. фронт. панели для Veneto Quadro",11362,{"$f":"ROUND(D112*(1-$E$3)/Лист2!$A$6,0)","v":11362}]
[null,"537.37.00.00 ","Комплект нижних боковых панелей (левая, правая)",2324,{"$f":"ROUND(D113*(1-$E$3)/Лист2!$A$6,0)","v":2324}]
[null,"713.56.00.00","Комплект соединительный в линию",1345,{"$f":"ROUND(D114*(1-$E$3)/Лист2!$A$6,0)","v":1345}]
[null,"713.45.00.00","Комплект теплоизоляционного герметичного разделителя (двухкамерный стеклопакет) для широкой фронтальной панели",17144,{"$f":"ROUND(D115*(1-$E$3)/Лист2!$A$6,0)","v":17144}]
[null,"713.60.00.00","Доска навесная для весов 500х400 мм. (нержавейка)",6550,{"$f":"ROUND(D116*(1-$E$3)/Лист2!$A$6,0)","v":6550}]
[null,"713.62.00.00","Доска навесная для нарезки 600х400 мм (полипропилен)",8598,{"$f":"ROUND(D117*(1-$E$3)/Лист2!$A$6,0)","v":8598}]
[null,"713.63.00.00","Комплект корзины навесной для упаковочного материала",6247,{"$f":"ROUND(D118*(1-$E$3)/Лист2!$A$6,0)","v":6247}]
[null,"713.61.00.00","Комплект корзины навесной для ножей",8934,{"$f":"ROUND(D119*(1-$E$3)/Лист2!$A$6,0)","v":8934}]
["Опции TOSCANA",null,null,null,"Назад к списку"]
["2. Toscana Q"]
["Обязательные опции для Toscana Q"]
[null,"815.39.00.00","Комплект декоративной фронтальной панели широкой исп.1250",3749,{"$f":"ROUND(D123*(1-$E$3)/Лист2!$A$6,0)","v":3749}]
[null,"815.39.00.00-01","Комплект декоративной фронтальной панели широкой исп.1875",5351,{"$f":"ROUND(D124*(1-$E$3)/Лист2!$A$6,0)","v":5351}]
[null,"815.39.00.00-02","Комплект декоративной фронтальной панели широкой исп. 2500",6379,{"$f":"ROUND(D125*(1-$E$3)/Лист2!$A$6,0)","v":6379}]
[null,"815.39.00.00-03","Комплект декоративной фронтальной панели широкой исп. 3750",6591,{"$f":"ROUND(D126*(1-$E$3)/Лист2!$A$6,0)","v":6591}]
[null,"888.39.00.00","Комплект декоративной фронтальной панели широкой исп. ОС 90",6393,{"$f":"ROUND(D127*(1-$E$3)/Лист2!$A$6,0)","v":6393}]
[null,"889.39.00.00","Комплект декоративной фронтальной панели широкой исп. IC 90",3937,{"$f":"ROUND(D128*(1-$E$3)/Лист2!$A$6,0)","v":3937}]
[null,"815.47.00.00","Комплект декор фронт панели широкой c отбойником нерж исп. 1250",6326,{"$f":"ROUND(D129*(1-$E$3)/Лист2!$A$6,0)","v":6326}]
[null,"815.47.00.00-01","Комплект декор фронт панели широкой c отбойником нерж исп. 1875",9067,{"$f":"ROUND(D130*(1-$E$3)/Лист2!$A$6,0)","v":9067}]
[null,"815.47.00.00-02","Комплект декор фронт панели широкой c отбойником нерж исп. 2500",10807,{"$f":"ROUND(D131*(1-$E$3)/Лист2!$A$6,0)","v":10807}]
[null,"815.47.00.00-03","Комплект декор фронт панели широкой c отбойником нерж исп. 3750",11168,{"$f":"ROUND(D132*(1-$E$3)/Лист2!$A$6,0)","v":11168}]
[null,"888.47.00.00","Комплект декор фронт панели широкой c отбойником нерж исп. ОС90",9590,{"$f":"ROUND(D133*(1-$E$3)/Лист2!$A$6,0)","v":9590}]
[null,"889.47.00.00","Комплект декор фронт панели широкой c отбойником нерж исп. IC90",5905,{"$f":"ROUND(D134*(1-$E$3)/Лист2!$A$6,0)","v":5905}]
[null,"815.35.00.00","Комплект декоративной фронтальной панели узкой исп.1250",3471,{"$f":"ROUND(D135*(1-$E$3)/Лист2!$A$6,0)","v":3471}]
[null,"815.35.00.00-01","Комплект декоративной фронтальной панели узкой исп.1875",4954,{"$f":"ROUND(D136*(1-$E$3)/Лист2!$A$6,0)","v":4954}]
[null,"815.35.00.00-02","Комплект декоративной фронтальной панели узкой исп. 2500",5906,{"$f":"ROUND(D137*(1-$E$3)/Лист2!$A$6,0)","v":5906}]
[null,"815.35.00.00-03","Комплект декоративной фронтальной панели узкой исп. 3750",6103,{"$f":"ROUND(D138*(1-$E$3)/Лист2!$A$6,0)","v":6103}]
[null,"888.35.00.00","Комплект декоративной фронтальной панели узкой исп. ОС 90",5920,{"$f":"ROUND(D139*(1-$E$3)/Лист2!$A$6,0)","v":5920}]
[null,"889.35.00.00","Комплект декоративной фронтальной панели узкой исп. IC 90",3645,{"$f":"ROUND(D140*(1-$E$3)/Лист2!$A$6,0)","v":3645}]
[null,"815.36.00.00","Комплект декор фронт панели узкой c отбойником нерж исп. 1250",5207,{"$f":"ROUND(D141*(1-$E$3)/Лист2!$A$6,0)","v":5207}]
[null,"815.36.00.00-01","Комплект декор фронт панели узкой c отбойником нерж исп. 1875",7432,{"$f":"ROUND(D142*(1-$E$3)/Лист2!$A$6,0)","v":7432}]
[null,"815.36.00.00-02","Комплект декор фронт панели узкой c отбойником нерж исп. 2500",8858,{"$f":"ROUND(D143*(1-$E$3)/Лист2!$A$6,0)","v":8858}]
[null,"815.36.00.00-03","Комплект декор фронт панели узкой c отбойником нерж исп. 3750",9154,{"$f":"ROUND(D144*(1-$E$3)/Лист2!$A$6,0)","v":9154}]
[null,"888.36.00.00","Комплект декор фронт панели узкой c отбойником нерж исп. ОС90",8880,{"$f":"ROUND(D145*(1-$E$3)/Лист2!$A$6,0)","v":8880}]
[null,"889.36.00.00","Комплект декор фронт панели узкой c отбойником нерж исп. IC90",5468,{"$f":"ROUND(D146*(1-$E$3)/Лист2!$A$6,0)","v":5468}]
[null,"815.34.00.00","Комплект декоративной фронтальной панели широкой исп.1250 (текстура дерева, ЛДСП)",6749,{"$f":"ROUND(D147*(1-$E$3)/Лист2!$A$6,0)","v":6749}]
[null,"815.34.00.00-01","Комплект декоративной фронтальной панели широкой исп.1875 (текстура дерева, ЛДСП)",9631,{"$f":"ROUND(D148*(1-$E$3)/Лист2!$A$6,0)","v":9631}]
[null,"815.34.00.00-02","Комплект декоративной фронтальной панели широкой исп. 2500 (текстура дерева, ЛДСП)",11480,{"$f":"ROUND(D149*(1-$E$3)/Лист2!$A$6,0)","v":11480}]
[null,"815.34.00.00-03","Комплект декоративной фронтальной панели широкой исп. 3750 (текстура дерева, ЛДСП)",11863,{"$f":"ROUND(D150*(1-$E$3)/Лист2!$A$6,0)","v":11863}]
[null,"888.34.00.00","Комплект декоративной фронтальной панели широкой исп. OC90 (текстура дерева, ЛДСП)",11508,{"$f":"ROUND(D151*(1-$E$3)/Лист2!$A$6,0)","v":11508}]
[null,"889.34.00.00","Комплект декоративной фронтальной панели широкой исп. IC90 (текстура дерева, ЛДСП)",7086,{"$f":"ROUND(D152*(1-$E$3)/Лист2!$A$6,0)","v":7086}]
[null,"815.33.00.00","Комплект декоративной фронтальной панели узкой исп.1250 (текстура дерева, ЛДСП)",6248,{"$f":"ROUND(D153*(1-$E$3)/Лист2!$A$6,0)","v":6248}]
[null,"815.33.00.00-01","Комплект декоративной фронтальной панели узкой исп.1875 (текстура дерева, ЛДСП)",8917,{"$f":"ROUND(D154*(1-$E$3)/Лист2!$A$6,0)","v":8917}]
[null,"815.33.00.00-02","Комплект декоративной фронтальной панели узкой исп. 2500 (текстура дерева, ЛДСП)",10630,{"$f":"ROUND(D155*(1-$E$3)/Лист2!$A$6,0)","v":10630}]
[null,"815.33.00.00-03","Комплект декоративной фронтальной панели узкой исп. 3750 (текстура дерева, ЛДСП)",10985,{"$f":"ROUND(D156*(1-$E$3)/Лист2!$A$6,0)","v":10985}]
[null,"888.33.00.00","Комплект декоративной фронтальной панели узкой исп. OC90 (текстура дерева, ЛДСП)",10656,{"$f":"ROUND(D157*(1-$E$3)/Лист2!$A$6,0)","v":10656}]
[null,"889.33.00.00","Комплект декоративной фронтальной панели узкой исп. IC90 (текстура дерева, ЛДСП)",6561,{"$f":"ROUND(D158*(1-$E$3)/Лист2!$A$6,0)","v":6561}]
[null,"815.38.00.01","Нижняя фронтальная панель исп. 1250",3165,{"$f":"ROUND(D159*(1-$E$3)/Лист2!$A$6,0)","v":3165}]
[null,"815.38.00.01-01","Нижняя фронтальная панель исп. 1875",3956,{"$f":"ROUND(D160*(1-$E$3)/Лист2!$A$6,0)","v":3956}]
[null,"815.38.00.01-02","Нижняя фронтальная панель исп. 2500",5839,{"$f":"ROUND(D161*(1-$E$3)/Лист2!$A$6,0)","v":5839}]
[null,"815.38.00.01-03","Нижняя фронтальная панель исп. 3750",7519,{"$f":"ROUND(D162*(1-$E$3)/Лист2!$A$6,0)","v":7519}]
[null,"888.38.00.01 ","Нижняя фронтальная панель исп. OC90",7294,{"$f":"ROUND(D163*(1-$E$3)/Лист2!$A$6,0)","v":7294}]
[null,"889.38.00.01 ","Нижняя фронтальная панель исп. IC90",3322,{"$f":"ROUND(D164*(1-$E$3)/Лист2!$A$6,0)","v":3322}]
["Подсветка светодиодная (2 ряда светильников с раздельным включением)"]
[null,"815.80.00.00","Комплект светодиодных светильников 1250 (нейтральный, 2х18 Вт/м) ",4208,{"$f":"ROUND(D166*(1-$E$3)/Лист2!$A$6,0)","v":4208}]
[null,"815.80.00.00-01","Комплект светодиодных светильников 1875 (нейтральный, 2х18 Вт/м) ",4946,{"$f":"ROUND(D167*(1-$E$3)/Лист2!$A$6,0)","v":4946}]
[null,"815.80.00.00-02","Комплект светодиодных светильников 2500 (нейтральный, 2х18 Вт/м) ",5156,{"$f":"ROUND(D168*(1-$E$3)/Лист2!$A$6,0)","v":5156}]
[null,"815.80.00.00-03","Комплект светодиодных светильников 3750 (нейтральный, 2х18 Вт/м) ",6680,{"$f":"ROUND(D169*(1-$E$3)/Лист2!$A$6,0)","v":6680}]
[null,"888.82.00.00","Комплект светодиодных светильников OC90 (нейтральный, 2х18 Вт/м) ",6186,{"$f":"ROUND(D170*(1-$E$3)/Лист2!$A$6,0)","v":6186}]
[null,"889.82.00.00","Комплект светодиодных светильников IC90 (нейтральный, 2х18 Вт/м) ",3787,{"$f":"ROUND(D171*(1-$E$3)/Лист2!$A$6,0)","v":3787}]
[null,"815.81.00.00","Комплект светодиодных светильников 1250 (теплый, 2х18 Вт/м) ",4418,{"$f":"ROUND(D172*(1-$E$3)/Лист2!$A$6,0)","v":4418}]
[null,"815.81.00.00-01","Комплект светодиодных светильников 1875 (теплый, 2х18 Вт/м) ",5194,{"$f":"ROUND(D173*(1-$E$3)/Лист2!$A$6,0)","v":5194}]
[null,"815.81.00.00-02","Комплект светодиодных светильников 2500 (теплый, 2х18 Вт/м) ",5413,{"$f":"ROUND(D174*(1-$E$3)/Лист2!$A$6,0)","v":5413}]
[null,"815.81.00.00-03","Комплект светодиодных светильников 3750 (теплый, 2х18 Вт/м) ",7013,{"$f":"ROUND(D175*(1-$E$3)/Лист2!$A$6,0)","v":7013}]
[null,"888.82.00.00","Комплект светодиодных светильников OC90 (теплый, 2х18 Вт/м) ",6495,{"$f":"ROUND(D176*(1-$E$3)/Лист2!$A$6,0)","v":6495}]
[null,"889.81.00.00","Комплект светодиодных светильников IC90 (теплый, 2х18 Вт/м) ",3976,{"$f":"ROUND(D177*(1-$E$3)/Лист2!$A$6,0)","v":3976}]
[null,"815.82.00.00","Комплект светодиодных светильников 1250 (розовый, 2х18 Вт/м) ",4292,{"$f":"ROUND(D178*(1-$E$3)/Лист2!$A$6,0)","v":4292}]
[null,"815.82.00.00-01","Комплект светодиодных светильников 1875 (розовый, 2х18 Вт/м) ",5046,{"$f":"ROUND(D179*(1-$E$3)/Лист2!$A$6,0)","v":5046}]
[null,"815.82.00.00-02","Комплект светодиодных светильников 2500 (розовый, 2х18 Вт/м) ",5258,{"$f":"ROUND(D180*(1-$E$3)/Лист2!$A$6,0)","v":5258}]
[null,"815.82.00.00-03","Комплект светодиодных светильников 3750 (розовый, 2х18 Вт/м) ",6813,{"$f":"ROUND(D181*(1-$E$3)/Лист2!$A$6,0)","v":6813}]
[null,"888.82.00.00","Комплект светодиодных светильников OC90 (розовый, 2х18 Вт/м) ",6309,{"$f":"ROUND(D182*(1-$E$3)/Лист2!$A$6,0)","v":6309}]
[null,"889.81.00.00","Комплект светодиодных светильников IC90 (розовый, 2х18 Вт/м) ",3862,{"$f":"ROUND(D183*(1-$E$3)/Лист2!$A$6,0)","v":3862}]
["Дополнительные опции для Toscana Q"]
[null,"815.50.00.00","Комплект боковины металлич. левой для широкой фронтальной панели Toscana",8499,{"$f":"ROUND(D185*(1-$E$3)/Лист2!$A$6,0)","v":8499}]
[null,"815.50.00.00mir","Комплект боковины металлич.правой для широкой фронтальной панели Toscana",8499,{"$f":"ROUND(D186*(1-$E$3)/Лист2!$A$6,0)","v":8499}]
[null,"815.52.00.00","Комплект боковины ЛДСП левой для широк фронт панели Toscana",11899,{"$f":"ROUND(D187*(1-$E$3)/Лист2!$A$6,0)","v":11899}]
[null,"815.52.00.00mir","Комплект боковины ЛДСП правой для широк фронт панели Toscana",11899,{"$f":"ROUND(D188*(1-$E$3)/Лист2!$A$6,0)","v":11899}]
[null,"815.48.00.00","Комплект боковины металлич. лев для узкой фронт панели Toscana",8074,{"$f":"ROUND(D189*(1-$E$3)/Лист2!$A$6,0)","v":8074}]
[null,"815.48.00.00mir","Комплект боковины металлич. прав для узкой фронт панели Toscana",8074,{"$f":"ROUND(D190*(1-$E$3)/Лист2!$A$6,0)","v":8074}]
[null,"815.53.00.00","Комплект боковины ЛДСП левой для узкой фронт панели Toscana",11304,{"$f":"ROUND(D191*(1-$E$3)/Лист2!$A$6,0)","v":11304}]
[null,"815.53.00.00mir","Комплект боковины ЛДСП правой для узкой фронт панели Toscana",11304,{"$f":"ROUND(D192*(1-$E$3)/Лист2!$A$6,0)","v":11304}]
[null,"816.50.00.00","Комплект боковины металлич. левой для широкой фронтальной панели Toscana SELF",8093,{"$f":"ROUND(D193*(1-$E$3)/Лист2!$A$6,0)","v":8093}]
[null,"816.50.00.00mir","Комплект боковины металлич. правой для широкой фронтальной панели Toscana SELF",8093,{"$f":"ROUND(D194*(1-$E$3)/Лист2!$A$6,0)","v":8093}]
[null,"816.52.00.00","Комп боковины ЛДСП левой для широк фронт панели Toscana SELF",11330,{"$f":"ROUND(D195*(1-$E$3)/Лист2!$A$6,0)","v":11330}]
[null,"816.52.00.00mir","Комп боковины ЛДСП правой для широк фронт панели Toscana SELF",11330,{"$f":"ROUND(D196*(1-$E$3)/Лист2!$A$6,0)","v":11330}]
[null,"816.48.00.00","Комплект боковины металлич. левой для узкой фронтальной панели Toscana SELF",7688,{"$f":"ROUND(D197*(1-$E$3)/Лист2!$A$6,0)","v":7688}]
[null,"816.48.00.00mir","Комплект боковины металлич. правой для узкой фронтальной панели Toscana SELF",7688,{"$f":"ROUND(D198*(1-$E$3)/Лист2!$A$6,0)","v":7688}]
[null,"816.53.00.00","Комп боковины ЛДСП левой для узк фронт панели Toscana Self",10763,{"$f":"ROUND(D199*(1-$E$3)/Лист2!$A$6,0)","v":10763}]
[null,"816.53.00.00mir","Комп боковины ЛДСП правой для узк фронт панели Toscana Self",10763,{"$f":"ROUND(D200*(1-$E$3)/Лист2!$A$6,0)","v":10763}]
[null,"815.37.00.00","Комплект нижних боковых панелей (левая, правая)",2324,{"$f":"ROUND(D201*(1-$E$3)/Лист2!$A$6,0)","v":2324}]
[null,"815.56.00.00","Компллект соединительный для стыковки в линию витрин Toscana",1345,{"$f":"ROUND(D202*(1-$E$3)/Лист2!$A$6,0)","v":1345}]
[null,"816.56.00.00","Компллект соединительный для стыковки в линию витрин Toscana SELF",862,{"$f":"ROUND(D203*(1-$E$3)/Лист2!$A$6,0)","v":862}]
[null,"815.44.00.00","Герметичный разделитель (оргстек.) и комплект соед. для Toscana с узк. фронт. панел.",10546,{"$f":"ROUND(D204*(1-$E$3)/Лист2!$A$6,0)","v":10546}]
[null,"815.43.00.00","Герметичный разделитель (оргстек.) и комплект соед. для Toscana с шир. фронт. панел.",10654,{"$f":"ROUND(D205*(1-$E$3)/Лист2!$A$6,0)","v":10654}]
[null,"815.45.00.00","Теплоизол. герметичный разделитель и комплект соед. для Toscana с узк. фронт. панел.",14645,{"$f":"ROUND(D206*(1-$E$3)/Лист2!$A$6,0)","v":14645}]
[null,"815.46.00.00","Теплоизол. герметичный разделитель и комплект соед. для Toscana с шир. фронт. панел",16272,{"$f":"ROUND(D207*(1-$E$3)/Лист2!$A$6,0)","v":16272}]
[null,"815.41.00.00","Делитель внутреннего объема передвижной низкий (орг.стекло)",2157,{"$f":"ROUND(D208*(1-$E$3)/Лист2!$A$6,0)","v":2157}]
[null,"815.42.00.00","Делитель внутреннего объема передвижной высокий (орг.стекло)",3958,{"$f":"ROUND(D209*(1-$E$3)/Лист2!$A$6,0)","v":3958}]
[null,"537.54.00.00","Комплект для электрооттайки  L=1250",1654,{"$f":"ROUND(D210*(1-$E$3)/Лист2!$A$6,0)","v":1654}]
[null,"537.54.00.00-01","Комплект для электрооттайки  L=1875",2620,{"$f":"ROUND(D211*(1-$E$3)/Лист2!$A$6,0)","v":2620}]
[null,"537.54.00.00-02","Комплект для электрооттайки  L=2500",3528,{"$f":"ROUND(D212*(1-$E$3)/Лист2!$A$6,0)","v":3528}]
[null,"537.54.00.00-03","Комплект для электрооттайки  L=3750",9465,{"$f":"ROUND(D213*(1-$E$3)/Лист2!$A$6,0)","v":9465}]
[null,"1106.120.00.00S","Монтажный набор (до 4 кВт) 1106.120.00.00S L=1250/1875/2500",10225,{"$f":"ROUND(D214*(1-$E$3)/Лист2!$A$6,0)","v":10225}]
[null,"815.60.00.00","Доска навесная для весов 500х400 мм.",6549,{"$f":"ROUND(D215*(1-$E$3)/Лист2!$A$6,0)","v":6549}]
[null,"713.61.00.00","Комплект корзины навесной для ножей",8597,{"$f":"ROUND(D216*(1-$E$3)/Лист2!$A$6,0)","v":8597}]
[null,"815.62.00.00","Доска навесная для нарезки 600х400 мм.",6247,{"$f":"ROUND(D217*(1-$E$3)/Лист2!$A$6,0)","v":6247}]
[null,"713.63.00.00","Комплект корзины навесной для упаковочного материала",8935,{"$f":"ROUND(D218*(1-$E$3)/Лист2!$A$6,0)","v":8935}]
[null,"537.66.00.00","Подиум трехступенчатый (нержавейка)  L=1250",6161,{"$f":"ROUND(D219*(1-$E$3)/Лист2!$A$6,0)","v":6161}]
[null,"537.66.00.00-01","Подиум трехступенчатый (нержавейка)  L=1880",11792,{"$f":"ROUND(D220*(1-$E$3)/Лист2!$A$6,0)","v":11792}]
[null,"537.66.00.00-02","Подиум трехступенчатый (нержавейка)  L=2500",12323,{"$f":"ROUND(D221*(1-$E$3)/Лист2!$A$6,0)","v":12323}]
[null,"537.66.00.00-03","Подиум трехступенчатый (нержавейка)  L=3750",18484,{"$f":"ROUND(D222*(1-$E$3)/Лист2!$A$6,0)","v":18484}]
[null,"713.40.00.00","Комплект шторок раздвижных исп. 1250",3839,{"$f":"ROUND(D223*(1-$E$3)/Лист2!$A$6,0)","v":3839}]
[null,"713.40.00.00-01","Комплект шторок раздвижных исп. 1875",5625,{"$f":"ROUND(D224*(1-$E$3)/Лист2!$A$6,0)","v":5625}]
[null,"713.40.00.00-02","Комплект шторок раздвижных исп. 2500",7677,{"$f":"ROUND(D225*(1-$E$3)/Лист2!$A$6,0)","v":7677}]
[null,"713.40.00.00-03","Комплект шторок раздвижных исп. 3750",11251,{"$f":"ROUND(D226*(1-$E$3)/Лист2!$A$6,0)","v":11251}]
[null,"888.40.00.00 ","Комплект шторок для Toscana OС 90 888.40.00.00",4935,{"$f":"ROUND(D227*(1-$E$3)/Лист2!$A$6,0)","v":4935}]
[null,"889.40.00.0  ","Комплект шторок для Toscana IС 90 889.40.00.00",8608,{"$f":"ROUND(D228*(1-$E$3)/Лист2!$A$6,0)","v":8608}]
["2. Toscana Q BM"]
["Обязательные опции для Toscana Q BM"]
[null,"815.39.00.00","Комплект декоративной фронтальной панели широкой исп.1250",3749,{"$f":"ROUND(D231*(1-$E$3)/Лист2!$A$6,0)","v":3749}]
[null,"815.47.00.00","Комплект декор фронт панели широкой c отбойником нерж исп. 1250",6326,{"$f":"ROUND(D232*(1-$E$3)/Лист2!$A$6,0)","v":6326}]
[null,"815.35.00.00","Комплект декоративной фронтальной панели узкой исп.1250",3471,{"$f":"ROUND(D233*(1-$E$3)/Лист2!$A$6,0)","v":3471}]
[null,"815.36.00.00","Комплект декор фронт панели узкой c отбойником нерж исп. 1250",5207,{"$f":"ROUND(D234*(1-$E$3)/Лист2!$A$6,0)","v":5207}]
[null,"815.34.00.00","Комплект декоративной фронтальной панели широкой исп.1250 (текстура дерева, ЛДСП)",6749,{"$f":"ROUND(D235*(1-$E$3)/Лист2!$A$6,0)","v":6749}]
[null,"815.33.00.00","Комплект декоративной фронтальной панели узкой исп.1250 (текстура дерева, ЛДСП)",6248,{"$f":"ROUND(D236*(1-$E$3)/Лист2!$A$6,0)","v":6248}]
[null,"815.38.00.01","Нижняя фронтальная панель исп. 1250",3165,{"$f":"ROUND(D237*(1-$E$3)/Лист2!$A$6,0)","v":3165}]
[null,"815.80.00.00","Комплект светодиодных светильников 1250 (нейтральный, 18 Вт/м) ",4208,{"$f":"ROUND(D238*(1-$E$3)/Лист2!$A$6,0)","v":4208}]
[null,"815.81.00.00","Комплект светодиодных светильников 1250 (теплый, 18 Вт/м) ",4418,{"$f":"ROUND(D239*(1-$E$3)/Лист2!$A$6,0)","v":4418}]
[null,"815.82.00.00","Комплект светодиодных светильников 1250 (розовый, 18 Вт/м) ",4291,{"$f":"ROUND(D240*(1-$E$3)/Лист2!$A$6,0)","v":4291}]
["Дополнительные опции для Toscana Q BM"]
[null,"815.50.00.00","Комплект боковины левой для широкой фронтальной панели Toscana",8499,{"$f":"ROUND(D242*(1-$E$3)/Лист2!$A$6,0)","v":8499}]
[null,"815.50.00.00mir","Комплект боковины правой для широкой фронтальной панели Toscana",8499,{"$f":"ROUND(D243*(1-$E$3)/Лист2!$A$6,0)","v":8499}]
[null,"815.52.00.00","Комплект боковины ЛДСП левой для широк фронт панели Toscana",11899,{"$f":"ROUND(D244*(1-$E$3)/Лист2!$A$6,0)","v":11899}]
[null,"815.52.00.00mir","Комплект боковины ЛДСП правой для широк фронт панели Toscana",11899,{"$f":"ROUND(D245*(1-$E$3)/Лист2!$A$6,0)","v":11899}]
[null,"815.48.00.00","Комплект боковины лев для узкой фронт панели Toscana",8074,{"$f":"ROUND(D246*(1-$E$3)/Лист2!$A$6,0)","v":8074}]
[null,"815.48.00.00mir","Комплект боковины прав для узкой фронт панели Toscana",8074,{"$f":"ROUND(D247*(1-$E$3)/Лист2!$A$6,0)","v":8074}]
[null,"815.53.00.00","Комплект боковины ЛДСП левой для узкой фронт панели Toscana",11304,{"$f":"ROUND(D248*(1-$E$3)/Лист2!$A$6,0)","v":11304}]
[null,"815.53.00.00mir","Комплект боковины ЛДСП правой для узкой фронт панели Toscana",11304,{"$f":"ROUND(D249*(1-$E$3)/Лист2!$A$6,0)","v":11304}]
[null,"815.37.00.00","Комплект нижних боковых панелей (левая, правая)",2324,{"$f":"ROUND(D250*(1-$E$3)/Лист2!$A$6,0)","v":2324}]
[null,"815.56.00.00","Компллект соединительный для стыковки в линию витрин Toscana",1345,{"$f":"ROUND(D251*(1-$E$3)/Лист2!$A$6,0)","v":1345}]
[null,"815.45.00.00","Компл теплоизол гермет разделит для Toscana с узк. фронт. панел.",14646,{"$f":"ROUND(D252*(1-$E$3)/Лист2!$A$6,0)","v":14646}]
[null,"815.46.00.00","Компл теплоизол гермет разделит для Toscana с шир. фронт. панел",16272,{"$f":"ROUND(D253*(1-$E$3)/Лист2!$A$6,0)","v":16272}]
[null,"815.60.00.00","Доска навесная для весов 500х400 мм.",6550,{"$f":"ROUND(D254*(1-$E$3)/Лист2!$A$6,0)","v":6550}]
[null,"713.61.00.00","Комплект корзины навесной для ножей",8934,{"$f":"ROUND(D255*(1-$E$3)/Лист2!$A$6,0)","v":8934}]
[null,"815.62.00.00","Доска навесная для нарезки 600х400 мм.",6247,{"$f":"ROUND(D256*(1-$E$3)/Лист2!$A$6,0)","v":6247}]
[null,"713.63.00.00","Комплект корзины навесной для упаковочного материала",6247,{"$f":"ROUND(D257*(1-$E$3)/Лист2!$A$6,0)","v":6247}]
[]
[]
[null,null,null,"НАВЕРХ"]

{"sheet":"Горки Cryspi","index":7,"n_rows":75,"n_cols":21,"rows_kept":75,"cut":false,"hidden":false,"merged":[[64,12,64,15],[40,2,40,10],[50,2,50,10],[67,0,72,1],[40,0,63,1],[17,6,19,6],[54,2,56,2],[57,2,59,2],[60,2,62,2],[39,0,39,2],[39,3,39,4],[63,3,63,10],[66,0,66,10],[54,3,56,3],[54,5,56,5],[67,8,68,8],[69,8,70,8],[71,8,72,8],[44,8,46,8],[47,8,49,8],[51,8,53,8],[54,8,56,8],[57,8,59,8],[60,8,62,8],[0,7,4,10],[11,12,11,15],[37,0,38,0],[37,9,38,10],[13,0,36,1],[10,9,11,10],[14,3,16,3],[14,5,16,5],[8,10,9,10],[24,5,26,5],[33,5,35,5],[0,11,0,12],[1,1,1,3],[2,1,2,3],[3,1,3,3],[8,0,9,0],[8,1,9,1],[8,3,9,4],[8,5,9,5],[27,6,29,6],[30,3,32,3],[30,5,32,5],[30,6,32,6],[14,8,16,8],[11,20,11,23],[5,0,7,10],[10,12,10,23],[37,12,37,23],[38,12,38,15],[38,16,38,19],[38,20,38,23],[8,2,9,2],[13,2,13,10],[12,3,12,4],[12,5,12,10],[10,1,11,8],[8,8,9,8],[37,1,38,8],[8,7,9,7],[8,9,9,9],[10,0,11,0],[30,2,32,2],[33,2,35,2],[36,2,36,10],[8,6,9,6],[17,3,19,3],[17,8,19,8],[20,8,22,8],[11,16,11,19],[41,3,43,3],[20,5,22,5],[33,6,35,6],[14,6,16,6],[47,5,49,5],[51,6,53,6],[20,3,22,3],[20,6,22,6],[41,5,43,5],[47,6,49,6],[24,6,26,6],[41,6,43,6],[44,3,46,3],[33,3,35,3],[44,6,46,6],[47,3,49,3],[73,1,75,1],[64,9,65,10],[44,5,46,5],[64,0,65,0],[67,5,68,5],[67,6,68,6],[74,7,75,7],[69,3,70,3],[69,5,70,5],[69,6,70,6],[71,3,72,3],[71,5,72,5],[71,6,72,6],[67,3,68,3],[64,1,65,8],[57,3,59,3],[57,5,59,5],[57,6,59,6],[60,3,62,3],[60,5,62,5],[60,6,62,6],[12,0,12,2],[54,6,56,6],[23,2,23,10],[24,2,26,2],[24,3,26,3],[17,5,19,5],[14,2,16,2],[17,2,19,2],[20,2,22,2],[41,2,43,2],[44,2,46,2],[47,2,49,2],[51,2,53,2],[27,2,29,2],[27,3,29,3],[27,5,29,5],[39,5,39,10],[51,3,53,3],[51,5,53,5],[24,8,26,8],[27,8,29,8],[30,8,32,8],[33,8,35,8],[41,8,43,8]]}
[null,null,null,null,null,null,null,"ЗАВОД «ОПК»\nТел.: +7 (496) 704-52-11\ne-mail:manager@ozpk.ru\nсайт: ozpk.ru",null,null,null,"На главную"]
[]
[null,"Ваша скидка:",null,null,{"$f":"Содержание!D2","v":0}]
[null,"НДС:",null,null,{"$f":"IF(Лист2!A1=TRUE,\"С НДС\",\"БЕЗ НДС\")","v":"С НДС"}]
[]
["Охлаждаемые стеллажи Cryspi со встроенным агрегатом"]
[]
[]
["№","Изображение","Артикул","Наименование",null,"Температурный режим,°C","Площадь экспозиции, кв.м.","Габариты, \n(LxWxH) мм","Габариты в упаковке(в обрешетке), \n(LxWxH) мм","Базовая \nцена, руб.\n(с НДС)",{"$f":"[5]Лист2!$A$5","v":"Ваша цена, руб."}]
[]
[1,"Solo L7",null,null,null,null,null,null,null,"Опции SOLO L7",null,null,"СЕЧЕНИЯ"]
[null,null,null,null,null,null,null,null,null,null,null,null,"Solo L7",null,null,null,"Solo L7 Фруктовая",null,null,null,"Solo L7 DG"]
["Базовая комплектация стеллажа:      \n- внутренний объем - оцинкованный металл\n- внутренняя поверхность ванны из оцинкованного пластификата (двойная защита от коррозии);\n- электронный контроллер для управления работой оборудования;\n- без освещения\n- цифрофой термометр;\n- компрессор R-290;\n-стандартная упаковка на поддоне, опцонально в деревянной обрешетке\n- блок остекления со стеклопакетом для стеллажей DG\n- ночная шторкa для открытого стеллажа\n Характеристика EL.S.0.0.P.PS.0.0.0.0.внеш7016гл_внутр7016гл",null,null,"Комплектация \"Фрукты-овощи\"\n+ к базовой комплектации:\n- Общее светодиодное освещение, стандартный - 4000К, опционально 2700К, 6500К;\n- 3 ряда полок с ценникодержателем;\n- выпариватель;\n- боковины с зеркалом;\n- комплект наклонного зеркала\n- наклонная решетка для базовой полки\n\n Характеристика EL.S.2.3.P.PS.L.V.Z.Z.внеш7016гл_внутр7016гл\n\n",null,"Комплектация \"Гастрономия\"\n+ к базовой комплектации:\n- Общее светодиодное освещение, стандартный - 4000К, опционально 2700К, 6500К, \n- 5 рядов полок глубиной 400 с ценникодержателем;\n- выпариватель;\n- боковины со стеклопакетом;\n\n Характеристика EL.S.2.5.P.PS.0.V.S.S.внеш7016гл_внутр7016гл"]
[null,null,"Solo L7 Открытое исполнение  (ночные шторки)"]
[null,null,"SO L7 125 R290","Стеллаж холодильный ВПВ С (SOLO L7 1250) R290","фруктовая","+1…+7 С",2.8,"1330х700х2090","1500х820х2230/ 1550х870х2230",195606,{"$f":"ROUND(J15*(1-$E$3)/Лист2!$A$6,0)","v":195606}]
[null,null,null,null,"гастрономическая",null,null,"1330х700х2090",null,194358,{"$f":"ROUND(J16*(1-$E$3)/Лист2!$A$6,0)","v":194358}]
[null,null,null,null,"базовая (пустая)",null,null,"1250х700х2090",null,150862,{"$f":"ROUND(J17*(1-$E$3)/Лист2!$A$6,0)","v":150862}]
[null,null,"SO L7 150 R290","Стеллаж холодильный ВПВ С (SOLO L7 1500) R290","фруктовая","+1…+7 С",3.36,"1580х700х2090","1750х820х2230/ 1800х870х2230",228794,{"$f":"ROUND(J18*(1-$E$3)/Лист2!$A$6,0)","v":228794}]
[null,null,null,null,"гастрономическая",null,null,"1580х700х2090",null,225876,{"$f":"ROUND(J19*(1-$E$3)/Лист2!$A$6,0)","v":225876}]
[null,null,null,null,"базовая (пустая)",null,null,"1500х700х2090",null,177718,{"$f":"ROUND(J20*(1-$E$3)/Лист2!$A$6,0)","v":177718}]
[null,null,"SO L7 188 R290","Стеллаж холодильный ВПВ С (SOLO L7 1875) R290","фруктовая","+1…+7 С",4.2,"1955х700х2090","2130х820х2230/ 2180х870х2230",243973,{"$f":"ROUND(J21*(1-$E$3)/Лист2!$A$6,0)","v":243973}]
[null,null,null,null,"гастрономическая",null,null,"1955х700х2090",null,241768,{"$f":"ROUND(J22*(1-$E$3)/Лист2!$A$6,0)","v":241768}]
[null,null,null,null,"базовая (пустая)",null,null,"1875х700х2090",null,185434,{"$f":"ROUND(J23*(1-$E$3)/Лист2!$A$6,0)","v":185434}]
[null,null,"Solo L7 DG. Фронтальный блок остекления - стеклопакет (DG - Double Glass)"]
[null,null,"SO L7DG 125 R290","Стеллаж холодильный ВПВ С (SOLO L7 DG 1250) R290","фруктовая","-1…+5 С",2.8,"1330х700х2090","1500х820х2230/ 1550х870х2230",216698,{"$f":"ROUND(J25*(1-$E$3)/Лист2!$A$6,0)","v":216698}]
[null,null,null,null,"гастрономическая",null,null,"1330х700х2090",null,215451,{"$f":"ROUND(J26*(1-$E$3)/Лист2!$A$6,0)","v":215451}]
[null,null,null,null,"базовая (пустая)",null,null,"1250х700х2090",null,171955,{"$f":"ROUND(J27*(1-$E$3)/Лист2!$A$6,0)","v":171955}]
[null,null,"SO L7DG 150 R290","Стеллаж холодильный ВПВ С (SOLO L7 DG 1500) R290","фруктовая","-1…+5 С",3.36,"1580х700х2090","1750х820х2230/ 1800х870х2230",238554,{"$f":"ROUND(J28*(1-$E$3)/Лист2!$A$6,0)","v":238554}]
[null,null,null,null,"гастрономическая",null,null,"1580х700х2090",null,235636,{"$f":"ROUND(J29*(1-$E$3)/Лист2!$A$6,0)","v":235636}]
[null,null,null,null,"базовая (пустая)",null,null,"1500х700х2090",null,187478,{"$f":"ROUND(J30*(1-$E$3)/Лист2!$A$6,0)","v":187478}]
[null,null,"SO L7DG 188 R290","Стеллаж холодильный ВПВ С (SOLO L7 DG 1875) R290","фруктовая","-1…+5 С",4.2,"1955х700х2090","2130х820х2230/ 2180х870х2230",262508,{"$f":"ROUND(J31*(1-$E$3)/Лист2!$A$6,0)","v":262508}]
[null,null,null,null,"гастрономическая",null,null,"1955х700х2090",null,260304,{"$f":"ROUND(J32*(1-$E$3)/Лист2!$A$6,0)","v":260304}]
[null,null,null,null,"базовая (пустая)",null,null,"1875х700х2090",null,203970,{"$f":"ROUND(J33*(1-$E$3)/Лист2!$A$6,0)","v":203970}]
[null,null,"SO L7DG 250 R290","Стеллаж холодильный ВПВ С (SOLO L7 DG 2500) R290","фруктовая","-1…+5 С",5.6,"2580х700х2090","2750х820х2230/ 2800х870х2230",0,{"$f":"ROUND(J34*(1-$E$3)/Лист2!$A$6,0)","v":0}]
[null,null,null,null,"гастрономическая",null,null,"2580х700х2090",null,371821,{"$f":"ROUND(J35*(1-$E$3)/Лист2!$A$6,0)","v":371821}]
[null,null,null,null,"базовая (пустая)",null,null,"2500х700х2090",null,311269,{"$f":"ROUND(J36*(1-$E$3)/Лист2!$A$6,0)","v":311269}]
[null,null,"(Модуль 1250 мм. - 1 дверной блок (2 двери);  1500 мм. - 1 дверной блок (2 двери); 1875 мм. - 1 дверной блок (3 двери); 2500 мм. - 2 дверных блока по 2 двери)"]
[2,"Solo L9",null,null,null,null,null,null,null,"Опции SOLO L9",null,null,"СЕЧЕНИЯ"]
[null,null,null,null,null,null,null,null,null,null,null,null,"Solo L9",null,null,null,"Solo L9 Фруктовая",null,null,null,"Solo L9 DG"]
["Базовая комплектация стеллажа:      \n- внутренний объем - оцинкованный металл\n- внутренняя поверхность ванны из оцинкованного пластификата (двойная защита от коррозии);\n- электронный контроллер для управления работой оборудования;\n- без освещения\n- цифрофой термометр;\n- компрессор R-290;\n-стандартная упаковка на поддоне, опцонально в деревянной обрешетке\n- блок остекления со стеклопакетом для стеллажей DG\n- ночная шторкa для открытого стеллажа\n Характеристика EL.S.0.0.P.PS.0.0.0.0.внеш7016гл_внутр7016гл",null,null,"Комплектация \"Фрукты-овощи\"\n+ к базовой комплектации:\n- Общее светодиодное освещение, стандартный - 4000К, опционально 2700К, 6500К;\n- 3 ряда полок с ценникодержателем;\n- выпариватель;\n- боковины с зеркалом;\n- комплект наклонного зеркала\n- наклонная решетка для базовой полки\n\n Характеристика EL.S.2.3.P.PS.L.V.Z.Z.внеш7016гл_внутр7016гл\n\n",null,"Комплектация \"Гастрономия\"\n+ к базовой комплектации:\n- Общее светодиодное освещение, стандартный - 4000К, опционально 2700К, 6500К, \n- 5 рядов полок глубиной 500 с ценникодержателем;\n- выпариватель;\n- боковины со стеклопакетом;\n\n Характеристика EL.S.2.5.P.PS.0.V.S.S.внеш7016гл_внутр7016гл"]
[null,null,"Solo L9 Открытое исполнение (ночные шторки)"]
[null,null,"SO L9 125 R290","Стеллаж холодильный ВПВ С (SOLO L9 1250) R290","фруктовая","+1…+7 С",3.76,"1330х910х2090","1500х1030х2230/ 1550х1080х2230",209774,{"$f":"ROUND(J42*(1-$E$3)/Лист2!$A$6,0)","v":209774}]
[null,null,null,null,"гастрономическая",null,null,"1330х910х2090",null,208494,{"$f":"ROUND(J43*(1-$E$3)/Лист2!$A$6,0)","v":208494}]
[null,null,null,null,"базовая (пустая)",null,null,"1250х910х2090",null,159760,{"$f":"ROUND(J44*(1-$E$3)/Лист2!$A$6,0)","v":159760}]
[null,null,"SO L9 150 R290","Стеллаж холодильный ВПВ С (SOLO L9 1500) R290","фруктовая","+1…+7 С",4.51,"1580х910х2090","1750х1030х2230/ 1800х1080х2230",237436,{"$f":"ROUND(J45*(1-$E$3)/Лист2!$A$6,0)","v":237436}]
[null,null,null,null,"гастрономическая",null,null,"1580х910х2090",null,233911,{"$f":"ROUND(J46*(1-$E$3)/Лист2!$A$6,0)","v":233911}]
[null,null,null,null,"базовая (пустая)",null,null,"1500х910х2090",null,179961,{"$f":"ROUND(J47*(1-$E$3)/Лист2!$A$6,0)","v":179961}]
[null,null,"SO L9 188 R290","Стеллаж холодильный ВПВ С (SOLO L9 1875) R290","фруктовая","+1…+7 С",5.63,"1955х910х2090","2130х1030х2230/ 2180х1080х2230",262483,{"$f":"ROUND(J48*(1-$E$3)/Лист2!$A$6,0)","v":262483}]
[null,null,null,null,"гастрономическая",null,null,"1955х910х2090",null,259207,{"$f":"ROUND(J49*(1-$E$3)/Лист2!$A$6,0)","v":259207}]
[null,null,null,null,"базовая (пустая)",null,null,"1875х910х2090",null,197401,{"$f":"ROUND(J50*(1-$E$3)/Лист2!$A$6,0)","v":197401}]
[null,null,"Solo L9 DG. Фронтальный блок остекления - стеклопакет (DG - Double Glass)"]
[null,null,"SO L9DG 125 R290","Стеллаж холодильный ВПВ С (SOLO L9 DG 1250) R290","фруктовая","-1…+5 С",3.76,"1330х910х2090","1500х1030х2230/ 1550х1080х2230",234234,{"$f":"ROUND(J52*(1-$E$3)/Лист2!$A$6,0)","v":234234}]
[null,null,null,null,"гастрономическая",null,null,"1330х910х2090",null,232954,{"$f":"ROUND(J53*(1-$E$3)/Лист2!$A$6,0)","v":232954}]
[null,null,null,null,"базовая (пустая)",null,null,"1250х910х2090",null,184220,{"$f":"ROUND(J54*(1-$E$3)/Лист2!$A$6,0)","v":184220}]
[null,null,"SO L9DG 150 R290","Стеллаж холодильный ВПВ С (SOLO L9 DG 1500) R290","фруктовая","-1…+5 С",4.51,"1580х910х2090","1750х1030х2230/ 1800х1080х2230",256898,{"$f":"ROUND(J55*(1-$E$3)/Лист2!$A$6,0)","v":256898}]
[null,null,null,null,"гастрономическая",null,null,"1580х910х2090",null,253373,{"$f":"ROUND(J56*(1-$E$3)/Лист2!$A$6,0)","v":253373}]
[null,null,null,null,"базовая (пустая)",null,null,"1500х910х2090",null,199423,{"$f":"ROUND(J57*(1-$E$3)/Лист2!$A$6,0)","v":199423}]
[null,null,"SO L9DG 188 R290","Стеллаж холодильный ВПВ С (SOLO L9 DG 1875) R290","фруктовая","-1…+5 С",5.63,"1955х910х2090","2130х1030х2230/ 2180х1080х2230",284655,{"$f":"ROUND(J58*(1-$E$3)/Лист2!$A$6,0)","v":284655}]
[null,null,null,null,"гастрономическая",null,null,"1955х910х2090",null,281380,{"$f":"ROUND(J59*(1-$E$3)/Лист2!$A$6,0)","v":281380}]
[null,null,null,null,"базовая (пустая)",null,null,"1875х910х2090",null,219574,{"$f":"ROUND(J60*(1-$E$3)/Лист2!$A$6,0)","v":219574}]
[null,null,"SO L9DG 250 R290","Стеллаж холодильный ВПВ С (SOLO L9 DG 2500) R290","фруктовая","-1…+5 С",7.51,"2580х910х2090","2750х1030х2230/ 2800х1080х2230",0,{"$f":"ROUND(J61*(1-$E$3)/Лист2!$A$6,0)","v":0}]
[null,null,null,null,"гастрономическая",null,null,"2580х910х2090",null,412183,{"$f":"ROUND(J62*(1-$E$3)/Лист2!$A$6,0)","v":412183}]
[null,null,null,null,"базовая (пустая)",null,null,"2500х910х2090",null,343526,{"$f":"ROUND(J63*(1-$E$3)/Лист2!$A$6,0)","v":343526}]
[null,null,null,"(Модуль 1250 мм. - 1 дверной блок (2 двери);  1500 мм. - 1 дверной блок (2 двери); 1875 мм. - 1 дверной блок (3 двери); 2500 мм. - 2 дверных блока по 2 двери)"]
[3,"Solo SML",null,null,null,null,null,null,null,"Опции Solo SML",null,null,"Solo SML"]
[]
["Стандартная комплектация стеллажа:\n- Внутренняя поверхность ванны из оцинкованного пластификата (двойная защита от коррозии)\n- электронный контроллер для управления работой оборудования;\n- цифрофой термометр;\n- компрессор R-290;\n- автоматическая система выпаривания конденсата;\n- ночные штороки;\n-стандартная упаковка на поддоне, опцонально в деревянной обрешетке\nХарактеристика:C.0.0-0.0, внеш 7016гл_внутр 7016гл"]
[null,null,"SOLOSML 1000 ВПВС1 R290","Стеллаж холодильный ВПВ С (SOLO SML 1000 Д) R290 ББ","с боковинами","+1...+10 С",1.94,"1050х854х1600","1170х970х1690",179225,{"$f":"ROUND(J68*(1-$E$3)/Лист2!$A$6,0)","v":179225}]
[null,null,"SOLOSML 1000 ВПВС1 R290ББ",null,"без боковин",null,null,"1000х854х1600",null,148741,{"$f":"ROUND(J69*(1-$E$3)/Лист2!$A$6,0)","v":148741}]
[null,null,"SOLOSML 1250 ВПВС1 R290","Стеллаж холодильный ВПВ С (SOLO SML 1250 Д) R290 ББ","с боковинами","+1...+10 С",2.4300000000000002,"1300х854х1600","1420х970х1690",185703,{"$f":"ROUND(J70*(1-$E$3)/Лист2!$A$6,0)","v":185703}]
[null,null,"SOLOSML 1250 ВПВС1 R290ББ",null,"без боковин",null,null,"1250х854х1600",null,155220,{"$f":"ROUND(J71*(1-$E$3)/Лист2!$A$6,0)","v":155220}]
[null,null,"SOLOSML 1875 ВПВС1 R290","Стеллаж холодильный ВПВ С (SOLO SML 1875 Д) R290","с боковинами","+1...+10 С",3.64,"1925х854х1600","2050х970х1690",233451,{"$f":"ROUND(J72*(1-$E$3)/Лист2!$A$6,0)","v":233451}]
[null,null,"SOLOSML 1875 ВПВС1 R290ББ",null,"без боковин",null,null,"1875х854х1600",null,202967,{"$f":"ROUND(J73*(1-$E$3)/Лист2!$A$6,0)","v":202967}]
[]
[null,null,null,null,null,null,null,"НАВЕРХ"]

{"sheet":"Опции для горок Cryspi","index":8,"n_rows":178,"n_cols":8,"rows_kept":178,"cut":false,"hidden":false,"merged":[[177,5,179,5],[134,3,136,4],[137,0,137,6],[140,0,140,6],[142,0,142,6],[146,0,146,6],[170,0,170,6],[171,5,171,6],[172,5,172,6],[173,5,173,6],[174,5,174,6],[163,0,163,6],[127,7,128,10],[128,0,128,6],[129,0,129,6],[150,0,150,6],[153,0,153,6],[130,2,132,4],[133,0,133,6],[105,0,105,6],[117,0,117,6],[65,0,65,6],[75,0,75,6],[82,0,82,6],[7,0,7,6],[91,0,91,6],[52,0,52,6],[53,3,56,4],[57,0,57,6],[60,0,60,6],[63,0,63,6],[25,0,25,6],[26,3,41,4],[42,0,42,6],[43,3,46,4],[48,3,51,4],[126,0,126,6],[127,0,127,6],[8,7,9,10],[47,0,47,6],[1,1,1,2],[2,1,2,2],[3,1,3,2],[6,0,6,6],[16,0,16,6],[8,0,8,6],[9,0,9,6],[10,0,10,6],[11,2,14,4],[15,0,15,6],[17,3,20,4],[21,2,24,4]]}
[null,null,null,null,"На главную"]
[]
[null,"Ваша скидка:",null,{"$f":"Содержание!D2","v":0}]
[null,"НДС:",null,{"$f":"IF(Лист2!A1=TRUE,\"С НДС\",\"БЕЗ НДС\")","v":"С НДС"}]
[]
[]
["Опции для витрин Cryspi"]
["Solo L7, Solo L9"]
["Обязательные опции для базовой комплектации Solo. Дополнительные опции для гастрономической комплектации Solo. ",null,null,null,null,null,null,"вернуться к прайсу стеллажей"]
["Общее освещение"]
["                                                                                               Нейтральный свет (4000-4500К) подходит всем товарным категориям (не искажает натуральный цвет продуктов).                                                                                                                                           Тёплый свет (2700-3000К) подходит категории \"Фрукты, овощи, сыры\" (категория выглядит ярче, насыщеннее).                                                                                     Мясной свет подходит категории \"Мясо, мясная гастрономия\" (категория выглядит ярче, насыщеннее)"]
[1,"Комплект общей подсветки стеллажа Т8 1004.15.02.00-01 L=1250 для Solo L","Спектр освещения определяется характеристикой (третий символ, \"1\" - 3000К, \"2\" -  4000К)",null,null,2396,{"$f":"ROUND(F12*(1-$D$3)/Лист2!$A$6,0)","v":2396}]
[2,"Комплект общей подсветки стеллажа Т8 1004.15.02.00-02 L=1500 для Solo L",null,null,null,3180,{"$f":"ROUND(F13*(1-$D$3)/Лист2!$A$6,0)","v":3180}]
[3,"Комплект общей подсветки стеллажа Т8 1004.15.02.00-03 L=1875 для Solo L",null,null,null,3566,{"$f":"ROUND(F14*(1-$D$3)/Лист2!$A$6,0)","v":3566}]
[4,"Комплект общей подсветки стеллажа Т8 1004.15.02.00-04 L=2500 для Solo L",null,null,null,3744,{"$f":"ROUND(F15*(1-$D$3)/Лист2!$A$6,0)","v":3744}]
["Дополнительные опции для Solo"]
["Вертикальная подсветка для DG"]
[{"$f":"A15+1","v":5},"Комплект вертикального светильника 1004.104.00.00-01 для Solo DG 1250","1004.104.00.00-01","Спектр освещения определяется отдельной опцией в заказе, спектр определяется характеристикой                                                                                   (\"1\"- 3000К, \"2\" -  4000К)",null,4794,{"$f":"ROUND(F18*(1-$D$3)/Лист2!$A$6,0)","v":4794}]
[{"$f":"A18+1","v":6},"Комплект вертикального светильника 1004.104.00.00-02 для Solo DG 1500","1004.104.00.00-02",null,null,6711,{"$f":"ROUND(F19*(1-$D$3)/Лист2!$A$6,0)","v":6711}]
[{"$f":"A19+1","v":7},"Комплект вертикального светильника 1004.104.00.00-03 для Solo DG 1875","1004.104.00.00-03",null,null,7670,{"$f":"ROUND(F20*(1-$D$3)/Лист2!$A$6,0)","v":7670}]
[{"$f":"A20+1","v":8},"Комплект вертикального светильника 1004.104.00.00-04 для Solo DG 2500","1004.104.00.00-04",null,null,9586,{"$f":"ROUND(F21*(1-$D$3)/Лист2!$A$6,0)","v":9586}]
[{"$f":"A21+1","v":9},"Система выпаривания конденсата для стеллажа Solo длиной 1250 мм","Применение выпаривателя определяется характеристикой                                                                (восьмой символ, \"0\" -без выпаривателя, \"V\" - выпариватель применен)",null,null,3961,{"$f":"ROUND(F22*(1-$D$3)/Лист2!$A$6,0)","v":3961}]
[{"$f":"A22+1","v":10},"Система выпаривания конденсата для стеллажа Solo длиной 1500 мм",null,null,null,5546,{"$f":"ROUND(F23*(1-$D$3)/Лист2!$A$6,0)","v":5546}]
[{"$f":"A23+1","v":11},"Система выпаривания конденсата для стеллажа Solo длиной 1875 мм",null,null,null,6733,{"$f":"ROUND(F24*(1-$D$3)/Лист2!$A$6,0)","v":6733}]
[12,"Система выпаривания конденсата для стеллажа Solo длиной 2500 мм",null,null,null,8872,{"$f":"ROUND(F25*(1-$D$3)/Лист2!$A$6,0)","v":8872}]
["Подсветка полок (универсальная для полок разной глубины - 300, 400, 500 мм)                                                                                                                                                                                                                                           Нейтральный свет (4000-4500К) подходит всем товарным категориям (не искажает натуральный цвет продуктов).                                                                                                                                                                                           Тёплый свет (2700-3000К) подходит категории \"Фрукты, овощи, сыры\" (категория выглядит ярче, насыщеннее).                                                                                                                                                                                                 Мясной свет подходит категории \"Мясо, мясная гастрономия\" (категория выглядит ярче, насыщеннее)"]
[{"$f":"A25+1","v":13},"Комплект подсветки полок (3 ряда) Т8 1004.99.00.00-01 L=1250 для Solo L","1004.99.00.00-01","Спектр освещения определяется характеристикой                                        (третий символ, \"1\" - 3000К, \"2\" -  4000К)",null,6146,{"$f":"ROUND(F27*(1-$D$3)/Лист2!$A$6,0)","v":6146}]
[{"$f":"A27+1","v":14},"Комплект подсветки полок (3 ряда) Т8 1004.99.00.00-02 L=1500 для Solo L","1004.99.00.00-02",null,null,10291,{"$f":"ROUND(F28*(1-$D$3)/Лист2!$A$6,0)","v":10291}]
[15,"Комплект подсветки полок (3 ряда) Т8 1004.99.00.00-03 L=1875 для Solo L","1004.99.00.00-03",null,null,11131,{"$f":"ROUND(F29*(1-$D$3)/Лист2!$A$6,0)","v":11131}]
[16,"Комплект подсветки полок (3 ряда) Т8 1004.99.00.00-04 L=2500 для Solo L","1004.99.00.00-04",null,null,16114,{"$f":"ROUND(F30*(1-$D$3)/Лист2!$A$6,0)","v":16114}]
[17,"Комплект подсветки полок (4 ряда) Т8 1004.100.00.00-01 L=1250 для Solo L","1004.100.00.00-01",null,null,7064,{"$f":"ROUND(F31*(1-$D$3)/Лист2!$A$6,0)","v":7064}]
[18,"Комплект подсветки полок (4 ряда) Т8 1004.100.00.00-02 L=1500 для Solo L","1004.100.00.00-02",null,null,11828,{"$f":"ROUND(F32*(1-$D$3)/Лист2!$A$6,0)","v":11828}]
[19,"Комплект подсветки полок (4 ряда) Т8 1004.100.00.00-03 L=1875 для Solo L","1004.100.00.00-03",null,null,12795,{"$f":"ROUND(F33*(1-$D$3)/Лист2!$A$6,0)","v":12795}]
[20,"Комплект подсветки полок (4 ряда) Т8 1004.100.00.00-03 L=2500 для Solo L","1004.100.00.00-04",null,null,18522,{"$f":"ROUND(F34*(1-$D$3)/Лист2!$A$6,0)","v":18522}]
[21,"Комплект подсветки полок (5 рядов) Т8 1004.101.00.00-01 L=1250 для Solo L","1004.101.00.00-01",null,null,8335,{"$f":"ROUND(F35*(1-$D$3)/Лист2!$A$6,0)","v":8335}]
[22,"Комплект подсветки полок (5 рядов) Т8 1004.101.00.00-02 L=1500 для Solo L","1004.101.00.00-02",null,null,13957,{"$f":"ROUND(F36*(1-$D$3)/Лист2!$A$6,0)","v":13957}]
[23,"Комплект подсветки полок (5 рядов) Т8 1004.101.00.00-03 L=1875 для Solo L","1004.101.00.00-03",null,null,15099,{"$f":"ROUND(F37*(1-$D$3)/Лист2!$A$6,0)","v":15099}]
[24,"Комплект подсветки полок (5 рядов) Т8 1004.101.00.00-03 L=2500 для Solo L","1004.101.00.00-04",null,null,21855,{"$f":"ROUND(F38*(1-$D$3)/Лист2!$A$6,0)","v":21855}]
[25,"Комплект подсветки полок (6 рядов) Т8 1004.102.00.00-01 L=1250 для Solo L","1004.102.00.00-01",null,null,9503,{"$f":"ROUND(F39*(1-$D$3)/Лист2!$A$6,0)","v":9503}]
[26,"Комплект подсветки полок (6 рядов) Т8 1004.102.00.00-02 L=1500 для Solo L","1004.102.00.00-02",null,null,15911,{"$f":"ROUND(F40*(1-$D$3)/Лист2!$A$6,0)","v":15911}]
[27,"Комплект подсветки полок (6 рядов) Т8 1004.102.00.00-03 L=1875 для Solo L","1004.102.00.00-03",null,null,17212,{"$f":"ROUND(F41*(1-$D$3)/Лист2!$A$6,0)","v":17212}]
[28,"Комплект подсветки полок (6 рядов) Т8 1004.102.00.00-03 L=2500 для Solo L","1004.102.00.00-04",null,null,24915,{"$f":"ROUND(F42*(1-$D$3)/Лист2!$A$6,0)","v":24915}]
["Дополнительные опции для Solo"]
[{"$f":"A42+1","v":29},"Комплект боковины глухой левой для Solo L9","1014.40.00.00","Наличие и тип боковины определяется характеристикой (левая боковина 9 символ, правая боковина 10 символ).                                                                    Боковина не применяется когда стеллаж в линии - \"0\".                                            Боковина глухая  - \"G\"",null,12714,{"$f":"ROUND(F44*(1-$D$3)/Лист2!$A$6,0)","v":12714}]
[{"$f":"A44+1","v":30},"Комплект боковины глухой правой для Solo L9","1014.40.00.00mir",null,null,12714,{"$f":"ROUND(F45*(1-$D$3)/Лист2!$A$6,0)","v":12714}]
[31,"Комплект боковины глухой левой для Solo L7","1004.40.00.00",null,null,11995,{"$f":"ROUND(F46*(1-$D$3)/Лист2!$A$6,0)","v":11995}]
[32,"Комплект боковины глухой правой для Solo L7","1004.40.00.00mir",null,null,11995,{"$f":"ROUND(F47*(1-$D$3)/Лист2!$A$6,0)","v":11995}]
[]
[{"$f":"A47+1","v":33},"Компл боковины глух лев с зерк для Solo L9","1014.37.00.00","Наличие и тип боковины определяется характеристикой (левая боковина 9 символ, правая боковина 10 символ).                                                                    Боковина не применяется когда стеллаж в линии - \"0\".                                            Боковина глухая с зеркалом - \"Z\".",null,14042,{"$f":"ROUND(F49*(1-$D$3)/Лист2!$A$6,0)","v":14042}]
[{"$f":"A49+1","v":34},"Компл боковины глух прав с зерк для Solo L9","1014.37.00.00mir",null,null,14042,{"$f":"ROUND(F50*(1-$D$3)/Лист2!$A$6,0)","v":14042}]
[35,"Компл боковины глух лев с зерк для Solo L7","1004.37.00.00",null,null,12915,{"$f":"ROUND(F51*(1-$D$3)/Лист2!$A$6,0)","v":12915}]
[36,"Компл боковины глух прав с зерк для Solo  L7","1004.37.00.00mir",null,null,12915,{"$f":"ROUND(F52*(1-$D$3)/Лист2!$A$6,0)","v":12915}]
[]
[{"$f":"A52+1","v":37},"Компл боковины со стеклопак лев для Solo L9","1014.41.00.00","Наличие и тип боковины определяется характеристикой (левая боковина 9 символ, правая боковина 10 символ).                                                                    Боковина не применяется когда стеллаж в линии - \"0\".                                            Боковина панорамная  - \"S\".",null,14356,{"$f":"ROUND(F54*(1-$D$3)/Лист2!$A$6,0)","v":14356}]
[{"$f":"A54+1","v":38},"Компл боковины со стеклопак прав для Solo L9","1014.41.00.00mir",null,null,14356,{"$f":"ROUND(F55*(1-$D$3)/Лист2!$A$6,0)","v":14356}]
[39,"Компл боковины со стеклопак лев для Solo L7","1004.41.00.00",null,null,13171,{"$f":"ROUND(F56*(1-$D$3)/Лист2!$A$6,0)","v":13171}]
[40,"Компл боковины со стеклопак прав для Solo L7","1004.41.00.00mir",null,null,13171,{"$f":"ROUND(F57*(1-$D$3)/Лист2!$A$6,0)","v":13171}]
[]
[{"$f":"A57+1","v":41},"Компл герметичн разделителя (оргст) для Solo L9","1014.44.00.00",null,null,16860,{"$f":"ROUND(F59*(1-$D$3)/Лист2!$A$6,0)","v":16860}]
[{"$f":"A59+1","v":42},"Компл герметичн разделителя (оргст) для Solo L7","1004.44.00.00",null,null,14427,{"$f":"ROUND(F60*(1-$D$3)/Лист2!$A$6,0)","v":14427}]
[]
[{"$f":"A60+1","v":43},"Компл зеркал герметичн разделителя для Solo L9","1014.45.00.00",null,null,23253,{"$f":"ROUND(F62*(1-$D$3)/Лист2!$A$6,0)","v":23253}]
[{"$f":"A62+1","v":44},"Компл зеркал герметичн разделителя для Solo L7","1004.45.00.00",null,null,22742,{"$f":"ROUND(F63*(1-$D$3)/Лист2!$A$6,0)","v":22742}]
[]
[{"$f":"A63+1","v":45},"Комплект соединительный в линию для Solo L","1004.60.00.00",null,null,2445,{"$f":"ROUND(F65*(1-$D$3)/Лист2!$A$6,0)","v":2445}]
[]
[69,"Полка навесная с кронштейнами (ОЦ) 1250х500 929.67.00.00-01 для Solo для исп 1250, 2500","929.67.00.00-01",null,null,2612,{"$f":"ROUND(F67*(1-$D$3)/Лист2!$A$6,0)","v":2612}]
[{"$f":"A67+1","v":70},"Полка навесная с кронштейнами (ОЦ) 1500х500 1014.67.00.00-02 для Solo для исп 1500","1014.67.00.00-02",null,null,3134,{"$f":"ROUND(F68*(1-$D$3)/Лист2!$A$6,0)","v":3134}]
[{"$f":"A68+1","v":71},"Полка навесная с кронштейнами (ОЦ) 937х500 1015.67.00.00-03 для Solo для исп. 1875","1015.67.00.00-03",null,null,2195,{"$f":"ROUND(F69*(1-$D$3)/Лист2!$A$6,0)","v":2195}]
[72,"Полка навесная с кронштейнами (ОЦ) 1250х400 811.68.00.00 для Rimini для исп.1250,2500","811.68.00.00",null,null,2038,{"$f":"ROUND(F70*(1-$D$3)/Лист2!$A$6,0)","v":2038}]
[73,"Полка навесная с кронштейнами (ОЦ) 1500х400 1004.68.00.00-02 для Solo L 1500","1004.68.00.00-02",null,null,2450,{"$f":"ROUND(F71*(1-$D$3)/Лист2!$A$6,0)","v":2450}]
[74,"Полка навесная с кронштейнами (ОЦ) 937х400 811.68.00.00-01 для Solo для исп. 1875","811.68.00.00-01",null,null,1885,{"$f":"ROUND(F72*(1-$D$3)/Лист2!$A$6,0)","v":1885}]
[75,"Ценникодержатель съемный,L=1250, T-TH 0100125, прозрачный","T-TH 0100125",null,null,121,{"$f":"ROUND(F73*(1-$D$3)/Лист2!$A$6,0)","v":121}]
[76,"Ценникодержатель съемный, L=1500, T-TH 0100150, прозрачный","н№15085.3",null,null,168,{"$f":"ROUND(F74*(1-$D$3)/Лист2!$A$6,0)","v":168}]
[77,"Ценникодержатель съемный, L=925,  прозрачный","н№15085.2",null,null,84,{"$f":"ROUND(F75*(1-$D$3)/Лист2!$A$6,0)","v":84}]
[]
[{"$f":"A75+1","v":78},"Решетка фруктовая (базовая), 932х635 мм. для Rimini H9/L9, Solo L9","781.75.00.00",null,null,3693,{"$f":"ROUND(F77*(1-$D$3)/Лист2!$A$6,0)","v":3693}]
[{"$f":"A77+1","v":79},"Решетка базовая (фруктовая) 750х635 мм. для Solo L9","1014.75.00.00-02",null,null,3323,{"$f":"ROUND(F78*(1-$D$3)/Лист2!$A$6,0)","v":3323}]
[{"$f":"A78+1","v":80},"Решетка фруктовая (базовая), 1245x635 мм. для Rimini H9/L9","781.75.00.00-01",null,null,4085,{"$f":"ROUND(F79*(1-$D$3)/Лист2!$A$6,0)","v":4085}]
[81,"Решетка базовая (фруктовая) 932х455 мм. для Rimini H7/L7","798.75.00.00",null,null,2773,{"$f":"ROUND(F80*(1-$D$3)/Лист2!$A$6,0)","v":2773}]
[82,"Решетка базовая (фруктовая) 750х635 мм. для Solo L7","1004.75.00.00-02",null,null,2496,{"$f":"ROUND(F81*(1-$D$3)/Лист2!$A$6,0)","v":2496}]
[83,"Решетка базовая (фруктовая) 1245х455 мм. для Rimini H7/L7, Solo L7","798.75.00.00-01",null,null,3139,{"$f":"ROUND(F82*(1-$D$3)/Лист2!$A$6,0)","v":3139}]
[]
[{"$f":"A82+1","v":84},"Комплект зеркала наклон(с кронш) (1250) 1014.53.00.00-01 L=1250 для Solo L9","1014.53.00.00-01",null,null,3289,{"$f":"ROUND(F84*(1-$D$3)/Лист2!$A$6,0)","v":3289}]
[{"$f":"A84+1","v":85},"Комплект зеркала наклон(с кронш) (1500) 1014.53.00.00-02 L=1500 для Solo L9","1014.53.00.00-02",null,null,4111,{"$f":"ROUND(F85*(1-$D$3)/Лист2!$A$6,0)","v":4111}]
[{"$f":"A85+1","v":86},"Комплект зеркала наклон(с кронш) (937) 1014.53.00.00-03 L=1875 для Solo L9","1014.53.00.00-03",null,null,2818,{"$f":"ROUND(F86*(1-$D$3)/Лист2!$A$6,0)","v":2818}]
[87,"Комплект заглушек для зеркала наклонного 1014.52.00.00 для Solo L9","1014.52.00.00",null,null,854,{"$f":"ROUND(F87*(1-$D$3)/Лист2!$A$6,0)","v":854}]
[88,"Комплект зеркала наклон(с кронш) (1250) 1004.53.00.00-01 L=1250 для Solo L7","1004.53.00.00-01",null,null,2939,{"$f":"ROUND(F88*(1-$D$3)/Лист2!$A$6,0)","v":2939}]
[89,"Комплект зеркала наклон(с кронш) (1500) 1004.53.00.00-02 L=1500 для Solo L7","1004.53.00.00-02",null,null,3674,{"$f":"ROUND(F89*(1-$D$3)/Лист2!$A$6,0)","v":3674}]
[90,"Комплект зеркала наклон(с кронш) (937) 1004.53.00.00-03 L=1875 для Solo L7","1004.53.00.00-03",null,null,2523,{"$f":"ROUND(F90*(1-$D$3)/Лист2!$A$6,0)","v":2523}]
[91,"Комплект заглушек для зеркала наклонного 757.52.00.00 для Solo L7","1004.52.00.00",null,null,627,{"$f":"ROUND(F91*(1-$D$3)/Лист2!$A$6,0)","v":627}]
[]
[{"$f":"A91+1","v":92},"Разделитель объема для полок(500) 1004.115.00.00 для Solo L","1004.115.00.00",null,null,3270,{"$f":"ROUND(F93*(1-$D$3)/Лист2!$A$6,0)","v":3270}]
[{"$f":"A93+1","v":93},"Разделитель объема для полок(400) 1004.116.00.00 для Solo L","1004.116.00.00",null,null,2269,{"$f":"ROUND(F94*(1-$D$3)/Лист2!$A$6,0)","v":2269}]
[94,"Делитель передвижной H=150 (500) оргст 646.51.00.01-01 L=1250/2500 для стеллажей Italfrigo, Solo","646.51.00.01-01",null,null,759,{"$f":"ROUND(F95*(1-$D$3)/Лист2!$A$6,0)","v":759}]
[95,"Делитель передвижной H=150 (400) оргст 646.51.00.01 L=1250/2500 для стеллажей Italfrigo, Solo","646.51.00.01",null,null,663,{"$f":"ROUND(F96*(1-$D$3)/Лист2!$A$6,0)","v":663}]
[96,"Фронтальный ограничитель 40мм (1250) оргст 646.54.00.03 L=1250/2500 для для Solo","646.54.00.03",null,null,761,{"$f":"ROUND(F97*(1-$D$3)/Лист2!$A$6,0)","v":761}]
[97,"Фронтальный ограничитель Н=40мм, L=1500 (оргст) 1004.54.00.03-02 L=1500 для стеллажей Solo","646.54.00.03-02",null,null,952,{"$f":"ROUND(F98*(1-$D$3)/Лист2!$A$6,0)","v":952}]
[98,"Фронтальный ограничитель 40мм (937) оргст 646.54.00.03-01 L=1875 для Solo","646.54.00.03-01",null,null,357,{"$f":"ROUND(F99*(1-$D$3)/Лист2!$A$6,0)","v":357}]
[99,"Фронтальный ограничитель Н=60мм, L=1250 (оргст) 646.54.00.04 L=1250/2500 для Rimini/Lazio, Solo","646.54.00.04",null,null,1116,{"$f":"ROUND(F100*(1-$D$3)/Лист2!$A$6,0)","v":1116}]
[100,"Фронтальный ограничитель Н=60мм, L=1500 (оргст) 1004.54.00.04-02 L=1500 для Solo","646.54.00.04-02",null,null,1395,{"$f":"ROUND(F101*(1-$D$3)/Лист2!$A$6,0)","v":1395}]
[101,"Фронтальный ограничитель Н=60мм, L=937 (оргст) 646.54.00.04-01 L=1875 для Rimini/Lazio, Solo","646.54.00.04-01",null,null,904,{"$f":"ROUND(F102*(1-$D$3)/Лист2!$A$6,0)","v":904}]
[102,"Ограничитель проволочный(ОЦ, полимерное покрытие) 1235х57мм 781.76.00.01","781.76.00.01",null,null,337,{"$f":"ROUND(F103*(1-$D$3)/Лист2!$A$6,0)","v":337}]
[103,"Ограничитель проволочный(ОЦ, полимерное покрытие) 926х57мм 781.76.00.01-01, Solo","781.76.00.01-01",null,null,269,{"$f":"ROUND(F104*(1-$D$3)/Лист2!$A$6,0)","v":269}]
[104,"Ограничитель проволочный(ОЦ, полимерное покрытие) 1500х57мм 1004.76.00.01-02","781.76.00.01-02",null,null,421,{"$f":"ROUND(F105*(1-$D$3)/Лист2!$A$6,0)","v":421}]
[]
[{"$f":"A105+1","v":105},"Комплект отбойника фронтального (пластик) L=1250","646.56.00.00",null,null,1020,{"$f":"ROUND(F107*(1-$D$3)/Лист2!$A$6,0)","v":1020}]
[{"$f":"A107+1","v":106},"Комплект отбойника фронтального (пластик) L=1875","646.56.00.00-01",null,null,1476,{"$f":"ROUND(F108*(1-$D$3)/Лист2!$A$6,0)","v":1476}]
[{"$f":"A108+1","v":107},"Комплект отбойника фронтального (пластик) L=2500","646.56.00.00-02",null,null,1931,{"$f":"ROUND(F109*(1-$D$3)/Лист2!$A$6,0)","v":1931}]
[108,"Комплект отбойника фронтального (пластик) L=3750","646.56.00.00-03",null,null,2842,{"$f":"ROUND(F110*(1-$D$3)/Лист2!$A$6,0)","v":2842}]
[109,"Комплект отбойника фронтального (пластик) L=1500","646.56.00.00-04",null,null,1376,{"$f":"ROUND(F111*(1-$D$3)/Лист2!$A$6,0)","v":1376}]
[110,"Торцевой элемент НБИЛГ 7.116.007 н№950.28","н№950.28",null,null,325,{"$f":"ROUND(F112*(1-$D$3)/Лист2!$A$6,0)","v":325}]
[111,"Комплект отбойника фронтального 15х30 (труба нерж.) L=1250","781.55.00.00",null,null,2038,{"$f":"ROUND(F113*(1-$D$3)/Лист2!$A$6,0)","v":2038}]
[112,"Комплект отбойника фронтального 15х30 (труба нерж.) L=1875","781.55.00.00-01",null,null,2953,{"$f":"ROUND(F114*(1-$D$3)/Лист2!$A$6,0)","v":2953}]
[113,"Комплект отбойника фронтального 15х30 (труба нерж) L=2500","781.55.00.00-02",null,null,3861,{"$f":"ROUND(F115*(1-$D$3)/Лист2!$A$6,0)","v":3861}]
[114,"Комплект отбойника фронтального 15х30 (труба нерж) L=3750","781.55.00.00-03",null,null,5683,{"$f":"ROUND(F116*(1-$D$3)/Лист2!$A$6,0)","v":5683}]
[115,"Комплект отбойника фронтального 15х30 (труба нерж) L=1500","781.55.00.00-04",null,null,2746,{"$f":"ROUND(F117*(1-$D$3)/Лист2!$A$6,0)","v":2746}]
[]
[119,"Комплект подвесов для колбасы(две штанг + 4 блока крюков) 1004.59.00.00-01 L=1250, 2500 25 шаг","1004.59.00.00-01",null,null,7362,{"$f":"ROUND(F119*(1-$D$3)/Лист2!$A$6,0)","v":7362}]
[{"$f":"A119+1","v":120},"Комплект подвесов для колбасы(две штанг + 8 блока крюков) 1004.59.00.00-02 L=1500, 25 шаг","1004.59.00.00-02",null,null,9571,{"$f":"ROUND(F120*(1-$D$3)/Лист2!$A$6,0)","v":9571}]
[{"$f":"A120+1","v":121},"Комплект подвесов для колбасы(две штанг + 4 блока крюков) 1004.59.00.00-03 L=937, 25 шаг","1004.59.00.00-03",null,null,6363,{"$f":"ROUND(F121*(1-$D$3)/Лист2!$A$6,0)","v":6363}]
[122,"Штанга для навески крюков 1004.57.00.00-01 L=1250, 15х30 мм. 25 шаг","1004.57.00.00-01",null,null,2750,{"$f":"ROUND(F122*(1-$D$3)/Лист2!$A$6,0)","v":2750}]
[123,"Штанга для навески крюков 1004.57.00.00-02 L=1500, 15х30 мм. 25 шаг","1004.57.00.00-02",null,null,3576,{"$f":"ROUND(F123*(1-$D$3)/Лист2!$A$6,0)","v":3576}]
[124,"Штанга для навески крюков 1004.57.00.00-03 L=937, 15х30 мм. 25 шаг","1004.57.00.00-03",null,null,2233,{"$f":"ROUND(F124*(1-$D$3)/Лист2!$A$6,0)","v":2233}]
[125,"Крючок на штангу одинарный хромированный с ценникодержателем, 400 мм / диаметр 8,0 мм","н№15074.32",null,null,728,{"$f":"ROUND(F125*(1-$D$3)/Лист2!$A$6,0)","v":728}]
[126,"Крючок на штангу одинарный хромированный с ценникодержателем, 500 мм / диаметр 10,0 мм","н№15074.33",null,null,886,{"$f":"ROUND(F126*(1-$D$3)/Лист2!$A$6,0)","v":886}]
["Solo SML"]
["Опции для комплектации Solo SML. ",null,null,null,null,null,null,"вернуться к прайсу стеллажей"]
["Общее освещение"]
["                                                                                               Нейтральный свет (4000-4500К) подходит всем товарным категориям (не искажает натуральный цвет продуктов).                                                                                                                                           Тёплый свет (2700-3000К) подходит категории \"Фрукты, овощи, сыры\" (категория выглядит ярче, насыщеннее).                                                                                     Мясной свет подходит категории \"Мясо, мясная гастрономия\" (категория выглядит ярче, насыщеннее)"]
[4,"Комплект общей подсветки стеллажа Т8 1004.15.02.00 L=1000 для Solo L","Спектр освещения определяется характеристикой      (третий символ, \"1\" - 3000К, \"2\" -  4000К)",null,null,2336,{"$f":"ROUND(F131*(1-$D$3)/Лист2!$A$6,0)","v":2336}]
[5,"Комплект общей подсветки стеллажа Т8 1004.15.02.00-01 L=1250 для Solo L",null,null,null,2396,{"$f":"ROUND(F132*(1-$D$3)/Лист2!$A$6,0)","v":2396}]
[6,"Комплект общей подсветки стеллажа Т8 1004.15.02.00-03 L=1875 для Solo L",null,null,null,3566,{"$f":"ROUND(F133*(1-$D$3)/Лист2!$A$6,0)","v":3566}]
["Подсветка полок (универсальная для полок разной глубины - 300, 400, 500 мм)                                                                                                                                                                                                                                               Нейтральный свет (4000-4500К) подходит всем товарным категориям (не искажает натуральный цвет продуктов).                                                                                                                                                                                           Тёплый свет (2700-3000К) подходит категории \"Фрукты, овощи, сыры\" (категория выглядит ярче, насыщеннее).                                                                                                                                                                                                 Мясной свет подходит категории \"Мясо, мясная гастрономия\" (категория выглядит ярче, насыщеннее)"]
[7,"Комплект подсветки полок (3 ряда) Т8 1015.92.00.00 L=1000 для Solo ","1015.92.00.00","Спектр освещения определяется характеристикой (третий символ, \"1\" - 3000К, \"2\" -  4000К)",null,4393,{"$f":"ROUND(F135*(1-$D$3)/Лист2!$A$6,0)","v":4393}]
[{"$f":"A135+1","v":8},"Комплект подсветки полок (3 ряда) Т8 1004.99.00.00-01 L=1250 для Solo L","1004.99.00.00-01",null,null,6146,{"$f":"ROUND(F136*(1-$D$3)/Лист2!$A$6,0)","v":6146}]
[{"$f":"A136+1","v":9},"Комплект подсветки полок (3 ряда) Т8 1004.99.00.00-03 L=1875 для Solo L","1004.99.00.00-03",null,null,11131,{"$f":"ROUND(F137*(1-$D$3)/Лист2!$A$6,0)","v":11131}]
[]
[11,"Комплект боковины со стеклопакет лев 929.41.00.00 для ВПВ SOLO SML","929.41.00.00",null,null,15242,{"$f":"ROUND(F139*(1-$D$3)/Лист2!$A$6,0)","v":15242}]
[{"$f":"A139+1","v":12},"Комплект боковины со стеклопакет прав 929.41.00.00mir для ВПВ SOLO SML","929.41.00.00mir",null,null,15242,{"$f":"ROUND(F140*(1-$D$3)/Лист2!$A$6,0)","v":15242}]
[]
[13,"Комплект соединительный в линию 929.60.00.00 для стеллажей SOLO SML","929.60.00.00",null,null,1654,{"$f":"ROUND(F142*(1-$D$3)/Лист2!$A$6,0)","v":1654}]
[]
[14,"Комплект полок навесных (с кроншт) L=1000 (300, 400, 500) для SOLO SML","1015.66.00.00",null,null,5312,{"$f":"ROUND(F144*(1-$D$3)/[7]Лист2!$A$6,0)","v":5312}]
[15,"Комплект полок навесных (с кроншт) L=1250 (300, 400, 500) для SOLO SML","1015.66.00.00-01",null,null,6820,{"$f":"ROUND(F145*(1-$D$3)/Лист2!$A$6,0)","v":6820}]
[16,"Комплект полок навесных (с кроншт) L=1875 (300, 400, 500) для SOLO SML","1015.66.00.00-03",null,null,12958,{"$f":"ROUND(F146*(1-$D$3)/Лист2!$A$6,0)","v":12958}]
[]
[17,"Ценникодержатель съемный 1000 Т-ТН 0100100(СТ 046.00.00.105-01) н№15085","СТ 046.00.00.105-01",null,null,121,{"$f":"ROUND(F148*(1-$D$3)/Лист2!$A$6,0)","v":121}]
[18,"Ценникодержатель съемный, L=1250, T-TH 0100125, прозрачный","T-TH 0100125",null,null,121,{"$f":"ROUND(F149*(1-$D$3)/Лист2!$A$6,0)","v":121}]
[19,"Ценникодержатель съемный, L=925,  прозрачный","н№15085.2",null,null,84,{"$f":"ROUND(F150*(1-$D$3)/Лист2!$A$6,0)","v":84}]
[]
[{"$f":"A150+1","v":20},"Решетка фруктовая (базовая), 1245x635 мм. для Rimini H9/L9","781.75.00.00-01",null,null,4085,{"$f":"ROUND(F152*(1-$D$3)/Лист2!$A$6,0)","v":4085}]
[{"$f":"A152+1","v":21},"Решетка фруктовая (базовая), 932х635 мм. для Rimini H9/L9, Solo L9","781.75.00.00",null,null,3693,{"$f":"ROUND(F153*(1-$D$3)/Лист2!$A$6,0)","v":3693}]
[]
[22,"Делитель передвижной H=150 (500) оргст 646.51.00.01-01 L=1250/2500 для стеллажей Italfrigo, Solo","646.51.00.01-01",null,null,759,{"$f":"ROUND(F155*(1-$D$3)/Лист2!$A$6,0)","v":759}]
[{"$f":"A155+1","v":23},"Делитель передвижной H=150 (400) оргст 646.51.00.01 L=1250/2500 для стеллажей Italfrigo, Solo","646.51.00.01",null,null,663,{"$f":"ROUND(F156*(1-$D$3)/Лист2!$A$6,0)","v":663}]
[24,"Фронтальный ограничитель 40мм (1250) оргст 646.54.00.03 L=1250/2500 для для Solo","646.54.00.03",null,null,761,{"$f":"ROUND(F157*(1-$D$3)/Лист2!$A$6,0)","v":761}]
[25,"Фронтальный ограничитель 40мм (937) оргст 646.54.00.03-01 L=1875 для Solo","646.54.00.03-01",null,null,635,{"$f":"ROUND(F158*(1-$D$3)/Лист2!$A$6,0)","v":635}]
[26,"Фронтальный ограничитель Н=40мм, L=1000 (оргст) 622.54.00.03","622.54.00.03",null,null,608,{"$f":"ROUND(F159*(1-$D$3)/Лист2!$A$6,0)","v":608}]
[27,"Фронтальный ограничитель Н=60мм, L=1250 (оргст) 646.54.00.04 L=1250/2500 для Rimini/Lazio, Solo","646.54.00.04",null,null,1116,{"$f":"ROUND(F160*(1-$D$3)/Лист2!$A$6,0)","v":1116}]
[28,"Фронтальный ограничитель Н=60мм, L=937 (оргст) 646.54.00.04-01 L=1875 для Rimini/Lazio, Solo","646.54.00.04-01",null,null,904,{"$f":"ROUND(F161*(1-$D$3)/Лист2!$A$6,0)","v":904}]
[29,"Ограничитель проволочный(ОЦ, полимерное покрытие) 1235х57мм 781.76.00.01","781.76.00.01",null,null,465,{"$f":"ROUND(F162*(1-$D$3)/Лист2!$A$6,0)","v":465}]
[30,"Ограничитель проволочный(ОЦ, полимерное покрытие) 926х57мм 781.76.00.01-01, Solo","781.76.00.01-01",null,null,269,{"$f":"ROUND(F163*(1-$D$3)/Лист2!$A$6,0)","v":269}]
[]
[31,"Комплект отбойника фронтального (пластик) L=1000","1015.56.00.00",null,null,893,{"$f":"ROUND(F165*(1-$D$3)/Лист2!$A$6,0)","v":893}]
[32,"Комплект отбойника фронтального (пластик) L=1250","1015.56.00.00-01",null,null,1020,{"$f":"ROUND(F166*(1-$D$3)/Лист2!$A$6,0)","v":1020}]
[{"$f":"A166+1","v":33},"Комплект отбойника фронтального (пластик) L=1875","1015.56.00.00-03",null,null,1476,{"$f":"ROUND(F167*(1-$D$3)/Лист2!$A$6,0)","v":1476}]
[{"$f":"A167+1","v":34},"Торцевой элемент НБИЛГ 7.116.007 н№950.28","н№950.28",null,null,325,{"$f":"ROUND(F168*(1-$D$3)/Лист2!$A$6,0)","v":325}]
[35,"Комплект отбойника фронтального 15х30 (труба нерж.) L=1250","781.55.00.00",null,null,2038,{"$f":"ROUND(F169*(1-$D$3)/Лист2!$A$6,0)","v":2038}]
[36,"Комплект отбойника фронтального 15х30 (труба нерж.) L=1875","781.55.00.00-01",null,null,2953,{"$f":"ROUND(F170*(1-$D$3)/Лист2!$A$6,0)","v":2953}]
[]
[{"$f":"A170+1","v":37},"Усиленная упаковка Solo 1250",null,null,null,4625]
[{"$f":"A172+1","v":38},"Усиленная упаковка Solo 1500",null,null,null,4978]
[{"$f":"A173+1","v":39},"Усиленная упаковка Solo 1875",null,null,null,5487]
[{"$f":"A174+1","v":40},"Усиленная упаковка Solo 2500",null,null,null,7171]
[]
["*Коэффициент скидки на усиленную упаковку не применяется"]
["*Цена на розовую подсветку по запросу",null,null,null,null,"Наверх"]

{"sheet":"Горки Italfrigo","index":9,"n_rows":142,"n_cols":15,"rows_kept":142,"cut":false,"hidden":false,"merged":[[123,0,124,0],[120,0,122,10],[123,1,124,10],[126,2,141,2],[126,5,141,5],[126,6,141,6],[126,7,141,7],[126,8,141,8],[126,10,141,10],[126,0,141,1],[125,0,125,10],[126,9,141,9],[126,3,141,4],[111,7,112,7],[111,8,112,8],[113,5,114,5],[113,6,114,6],[113,7,114,7],[113,8,114,8],[115,5,116,5],[115,6,116,6],[115,7,116,7],[115,8,116,8],[92,5,93,5],[92,6,93,6],[92,7,93,7],[92,8,93,8],[95,2,96,2],[95,3,96,3],[97,2,98,2],[97,3,98,3],[99,2,100,2],[99,3,100,3],[95,5,96,5],[95,6,96,6],[95,7,96,7],[95,8,96,8],[97,5,98,5],[97,6,98,6],[97,7,98,7],[97,8,98,8],[99,5,100,5],[99,6,100,6],[99,7,100,7],[99,8,100,8],[88,3,89,3],[86,5,87,5],[86,6,87,6],[86,7,87,7],[86,8,87,8],[88,5,89,5],[88,6,89,6],[88,7,89,7],[88,8,89,8],[68,6,69,6],[68,7,69,7],[68,8,69,8],[70,5,71,5],[70,6,71,6],[70,7,71,7],[70,8,71,8],[72,5,73,5],[72,6,73,6],[72,7,73,7],[72,8,73,8],[68,2,69,2],[68,3,69,3],[70,2,71,2],[70,3,71,3],[72,2,73,2],[72,3,73,3],[74,2,75,2],[74,3,75,3],[68,5,69,5],[74,5,75,5],[63,2,64,2],[63,3,64,3],[65,2,66,2],[65,3,66,3],[59,5,60,5],[59,6,60,6],[59,7,60,7],[59,8,60,8],[61,5,62,5],[61,6,62,6],[61,7,62,7],[61,8,62,8],[63,5,64,5],[63,6,64,6],[63,7,64,7],[63,8,64,8],[65,5,66,5],[65,6,66,6],[65,7,66,7],[65,8,66,8],[54,3,55,3],[56,2,57,2],[56,3,57,3],[50,5,51,5],[56,5,57,5],[50,6,51,6],[50,7,51,7],[50,8,51,8],[52,5,53,5],[52,6,53,6],[52,7,53,7],[52,8,53,8],[54,5,55,5],[54,6,55,6],[54,7,55,7],[54,8,55,8],[56,6,57,6],[56,7,57,7],[56,8,57,8],[38,6,39,6],[38,7,39,7],[38,8,39,8],[41,2,42,2],[41,3,42,3],[43,2,44,2],[43,3,44,3],[45,2,46,2],[45,3,46,3],[41,5,42,5],[41,6,42,6],[41,7,42,7],[41,8,42,8],[43,5,44,5],[43,6,44,6],[43,7,44,7],[43,8,44,8],[45,5,46,5],[45,6,46,6],[45,7,46,7],[45,8,46,8],[32,6,33,6],[32,7,33,7],[32,8,33,8],[34,5,35,5],[34,6,35,6],[34,7,35,7],[34,8,35,8],[36,5,37,5],[36,6,37,6],[36,7,37,7],[36,8,37,8],[32,2,33,2],[32,3,33,3],[34,2,35,2],[34,3,35,3],[36,2,37,2],[36,3,37,3],[38,2,39,2],[38,3,39,3],[32,5,33,5],[38,5,39,5],[25,7,26,7],[25,8,26,8],[27,5,28,5],[27,6,28,6],[27,7,28,7],[27,8,28,8],[29,6,30,6],[29,7,30,7],[29,8,30,8],[20,3,21,3],[18,5,19,5],[18,6,19,6],[18,7,19,7],[18,8,19,8],[20,5,21,5],[20,6,21,6],[20,7,21,7],[20,8,21,8],[117,0,117,10],[107,0,116,1],[103,0,104,0],[103,1,104,7],[103,9,104,10],[105,0,105,2],[105,3,105,4],[105,5,105,10],[106,0,106,10],[107,2,108,2],[113,2,114,2],[113,3,114,3],[115,2,116,2],[115,3,116,3],[107,5,108,5],[107,6,108,6],[107,7,108,7],[107,8,108,8],[109,5,110,5],[109,6,110,6],[109,7,110,7],[109,8,110,8],[111,5,112,5],[111,6,112,6],[50,0,57,1],[59,0,66,1],[68,0,75,1],[77,0,84,1],[86,0,93,1],[95,0,102,1],[49,0,49,10],[40,0,40,10],[94,0,94,10],[85,0,85,10],[76,0,76,10],[67,0,67,10],[58,0,58,10],[47,2,48,2],[47,3,48,3],[47,5,48,5],[47,6,48,6],[47,7,48,7],[47,8,48,8],[50,2,51,2],[50,3,51,3],[52,2,53,2],[52,3,53,3],[54,2,55,2],[107,3,108,3],[109,2,110,2],[109,3,110,3],[111,2,112,2],[111,3,112,3],[101,2,102,2],[101,3,102,3],[101,5,102,5],[101,6,102,6],[83,2,84,2],[83,3,84,3],[79,5,80,5],[79,6,80,6],[79,7,80,7],[101,7,102,7],[101,8,102,8],[90,2,91,2],[90,3,91,3],[92,2,93,2],[92,3,93,3],[90,5,91,5],[90,6,91,6],[90,7,91,7],[90,8,91,8],[81,7,82,7],[81,8,82,8],[83,5,84,5],[83,6,84,6],[83,7,84,7],[83,8,84,8],[86,2,87,2],[86,3,87,3],[88,2,89,2],[79,8,80,8],[81,5,82,5],[81,6,82,6],[77,2,78,2],[77,3,78,3],[77,5,78,5],[77,6,78,6],[77,7,78,7],[77,8,78,8],[79,2,80,2],[79,3,80,3],[81,2,82,2],[81,3,82,3],[74,6,75,6],[74,7,75,7],[74,8,75,8],[59,2,60,2],[59,3,60,3],[61,2,62,2],[61,3,62,3],[31,0,31,10],[22,0,22,10],[23,2,24,2],[23,3,24,3],[25,2,26,2],[25,3,26,3],[27,2,28,2],[27,3,28,3],[29,2,30,2],[29,3,30,3],[23,5,24,5],[29,5,30,5],[23,6,24,6],[23,7,24,7],[23,8,24,8],[25,5,26,5],[25,6,26,6],[14,0,21,1],[23,0,30,1],[32,0,39,1],[41,0,48,1],[63,12,63,15],[50,12,50,15],[32,12,32,15],[32,16,32,19],[32,20,32,23],[14,2,15,2],[14,3,15,3],[14,5,15,5],[14,6,15,6],[14,7,15,7],[14,8,15,8],[16,2,17,2],[16,3,17,3],[16,5,17,5],[16,6,17,6],[16,7,17,7],[16,8,17,8],[18,2,19,2],[18,3,19,3],[20,2,21,2],[10,12,10,23],[11,12,11,15],[11,16,11,19],[11,20,11,23],[12,0,12,2],[12,3,12,4],[12,5,12,10],[13,0,13,10],[10,0,11,0],[10,9,11,10],[10,1,11,8],[8,0,9,0],[8,1,9,1],[8,2,9,2],[8,3,9,4],[8,5,9,5],[8,6,9,6],[8,8,9,8],[0,7,4,10],[0,11,0,12],[1,1,1,3],[2,1,2,3],[3,1,3,3],[5,0,7,10],[8,7,9,7],[8,9,9,9],[8,10,9,10]]}
[null,null,null,null,null,null,null,"ЗАВОД «ОПК»\nТел.: +7 (496) 704-52-11\ne-mail:manager@ozpk.ru\nсайт: ozpk.ru",null,null,null,"На главную"]
[]
[null,"Ваша скидка:",null,null,{"$f":"Содержание!D2","v":0}]
[null,"НДС:",null,null,{"$f":"IF(Лист2!A1=TRUE,\"С НДС\",\"БЕЗ НДС\")","v":"С НДС"}]
[]
["Охлаждаемые стеллажи Italfrigo под выносное холодообеспечение"]
[]
[]
["№","Изображение","Артикул","Наименование",null,"Температурный режим,°C","Площадь экспозиции, кв.м.","Габариты, \n(LxWxH) мм","Габариты в упаковке, \n(LxWxH) мм","Базовая \nцена, руб.\n(с НДС)",{"$f":"[5]Лист2!$A$5","v":"Ваша цена, руб."}]
[]
[1,"Охлаждаемые стеллажи RIMINI",null,null,null,null,null,null,null,"Опции Rimini"]
[]
["Базовая комплектация стеллажа:\n- без противоударного бампера\n- внутренний объем - оцинкованный металл\n- внутренняя поверхность ванны из оцинкованного пластификата (двойная защита от коррозии);\n- электронный контроллер для управления работой оборудования;\n- без освещения\n- без полок\n- цифрофой термометр;\n- механический ТРВ Sanhua\n-стандартная упаковка на поддоне, опцонально в деревянной обрешетке\n- блок остекления со стеклопакетом для стеллажей DG\n- ночная шторкa для открытого стеллажа\n- стандартные вентиляторы\n- комплект подключения к системе дренажа\n- Стеллажи производятся в разобранном виде \"BOX\"\n- без боковин\n- упаковка в деревянной обрешетке\n\nХарактеристика:EL.S.Y.0.0.PS.0.внеш 7016гл_внутр 7016гл",null,null,"Комплектация \"Фрукты-овощи\"\n+ к базовой комплектации:\n- Общее светодиодное освещение, стандартный - 4000К, опционально 2700К, 6500К;\n- 3 ряда полок с ценникодержателем  (Rimini L7/H7 - полки глубиной 400 мм., Rimini L9/H9 - полки глубиной 500 мм., Rimini H10 - полки глубиной 600 мм.);\n- комплект наклонного зеркала\n- наклонная решетка для базовой полки\n\nКомплект наклонного зекрала и наклонной решетки для базовой полки в отдельном ящике\n\n\nХарактеристика:EL.S.Y.2.3.PS.Т.внеш 7016гл_внутр 7016гл",null,"Комплектация \"Гастрономия\"\n+ к базовой комплектации:\n- Общее светодиодное освещение, стандартный - 4000К, опционально 2700К, 6500К, \n- 5 рядов полок с ценникодержателем (Rimini L7/H7 - полки глубиной 400 мм., Rimini L9/H9 - полки глубиной 500 мм., Rimini H10 - полки глубиной 600 мм.);\n\n\nХарактеристика:EL.S.Y.2.5.PS.0.внеш 7016гл_внутр 7016гл"]
["Rimini L7 BOX Открытое исполнение  (ночные шторки)"]
[null,null,"IRML7B 125","Стеллаж охлаждаемый ВПВ С (Italfrigo Rimini L7 BOX 1250 Д)","гастрономическая","0…+7 С",3.12,"1250х700х1964","2130х1110х850",121452,{"$f":"ROUND(J15*(1-$E$3)/Лист2!$A$6,0)","v":121452}]
[null,null,null,null,"базовая (пустая)",null,null,null,null,109839,{"$f":"ROUND(J16*(1-$E$3)/Лист2!$A$6,0)","v":109839}]
[null,null,"IRML7В 188","Стеллаж охлаждаемый ВПВ С (Italfrigo Rimini L7 BOX 1875 Д)","гастрономическая","0…+7 С",4.68,"1875х700х1964","2265х1110х850",165694,{"$f":"ROUND(J17*(1-$E$3)/Лист2!$A$6,0)","v":165694}]
[null,null,null,null,"базовая (пустая)",null,null,null,null,145417,{"$f":"ROUND(J18*(1-$E$3)/Лист2!$A$6,0)","v":145417},null,null,null,"`"]
[null,null,"IRML7В 250","Стеллаж охлаждаемый ВПВ С (Italfrigo Rimini L7 BOX 2500 Д)","гастрономическая","0…+7 С",6.25,"2500х700х1964","2700х1110х850",196743,{"$f":"ROUND(J19*(1-$E$3)/Лист2!$A$6,0)","v":196743}]
[null,null,null,null,"базовая (пустая)",null,null,null,null,174438,{"$f":"ROUND(J20*(1-$E$3)/Лист2!$A$6,0)","v":174438}]
[null,null,"IRML7В 375","Стеллаж охлаждаемый ВПВ С (Italfrigo Rimini L7 BOX 3750 Д)","гастрономическая","0…+7 С",9.4,"3750х700х1964","4000х1110х850",262355,{"$f":"ROUND(J21*(1-$E$3)/Лист2!$A$6,0)","v":262355}]
[null,null,null,null,"базовая (пустая)",null,null,null,null,229749,{"$f":"ROUND(J22*(1-$E$3)/Лист2!$A$6,0)","v":229749}]
["Rimini L7 DG BOX Фронтальный блок остекления - стеклопакет (DG - Double Glass)"]
[null,null,"IRML7DB 125","Стеллаж охлаждаемый ВПВ С (Italfrigo Rimini L7 DG BOX 1250 Д)","гастрономическая","-1…+6 С",3.12,"1250х700х1964","2130х1180х850",130999,{"$f":"ROUND(J24*(1-$E$3)/Лист2!$A$6,0)","v":130999}]
[null,null,null,null,"базовая (пустая)",null,null,null,null,119385,{"$f":"ROUND(J25*(1-$E$3)/Лист2!$A$6,0)","v":119385}]
[null,null,"IRML7DB 188","Стеллаж охлаждаемый ВПВ С (Italfrigo Rimini L7 DG BOX 1875 Д)","гастрономическая","-1…+6 С",4.68,"1875х700х1964","2265х1180х850",186555,{"$f":"ROUND(J26*(1-$E$3)/Лист2!$A$6,0)","v":186555}]
[null,null,null,null,"базовая (пустая)",null,null,null,null,166278,{"$f":"ROUND(J27*(1-$E$3)/Лист2!$A$6,0)","v":166278}]
[null,null,"IRML7DB 250","Стеллаж охлаждаемый ВПВ С (Italfrigo Rimini L7 DG BOX 2500 Д)","гастрономическая","-1…+6 С",6.25,"2500х700х1964","2700х1180х850",221325,{"$f":"ROUND(J28*(1-$E$3)/Лист2!$A$6,0)","v":221325}]
[null,null,null,null,"базовая (пустая)",null,null,null,null,199019,{"$f":"ROUND(J29*(1-$E$3)/Лист2!$A$6,0)","v":199019}]
[null,null,"IRML7DB 375","Стеллаж охлаждаемый ВПВ С (Italfrigo Rimini L7 DG BOX 3750 Д)","гастрономическая","-1…+6 С",9.4,"3750х700х1964","4000х1180х850",315149,{"$f":"ROUND(J30*(1-$E$3)/Лист2!$A$6,0)","v":315149}]
[null,null,null,null,"базовая (пустая)",null,null,null,null,282544,{"$f":"ROUND(J31*(1-$E$3)/Лист2!$A$6,0)","v":282544}]
["Rimini Н7 BOX Открытое исполнение  (ночные шторки)"]
[null,null,"IRMН7B 125","Стеллаж охлаждаемый ВПВ С (Italfrigo Rimin Н7 BOX 1250 Д)","гастрономическая","0…+7 С",3.12,"1250х700х2164","2130х1110х850",123694,{"$f":"ROUND(J33*(1-$E$3)/Лист2!$A$6,0)","v":123694}]
[null,null,null,null,"базовая (пустая)",null,null,null,null,112081,{"$f":"ROUND(J34*(1-$E$3)/Лист2!$A$6,0)","v":112081}]
[null,null,"IRMН7В 188","Стеллаж охлаждаемый ВПВ С (Italfrigo Rimini Н7 BOX 1875 Д)","гастрономическая","0…+7 С",4.68,"1875х700х2164","2265х1110х850",168662,{"$f":"ROUND(J35*(1-$E$3)/Лист2!$A$6,0)","v":168662}]
[null,null,null,null,"базовая (пустая)",null,null,null,null,148384,{"$f":"ROUND(J36*(1-$E$3)/Лист2!$A$6,0)","v":148384}]
[null,null,"IRMН7В 250","Стеллаж охлаждаемый ВПВ С (Italfrigo Rimini Н7 BOX 2500 Д)","гастрономическая","0…+7 С",6.25,"2500х700х2164","2700х1110х850",200303,{"$f":"ROUND(J37*(1-$E$3)/Лист2!$A$6,0)","v":200303}]
[null,null,null,null,"базовая (пустая)",null,null,null,null,177998,{"$f":"ROUND(J38*(1-$E$3)/Лист2!$A$6,0)","v":177998}]
[null,null,"IRMН7В 375","Стеллаж охлаждаемый ВПВ С (Italfrigo Rimini Н7 BOX 3750 Д)","гастрономическая","0…+7 С",9.4,"3750х700х2164","4000х1110х850",267044,{"$f":"ROUND(J39*(1-$E$3)/Лист2!$A$6,0)","v":267044}]
[null,null,null,null,"базовая (пустая)",null,null,null,null,234438,{"$f":"ROUND(J40*(1-$E$3)/Лист2!$A$6,0)","v":234438}]
["Rimini Н7 DG BOX Фронтальный блок остекления - стеклопакет (DG - Double Glass)"]
[null,null,"IRMH7DB 125","Стеллаж охлаждаемый ВПВ С (Italfrigo Rimini Н7 DG BOX 1250 Д)","гастрономическая","-1…+6 С",3.12,"1250х700х2164","2130х1180х850",132457,{"$f":"ROUND(J42*(1-$E$3)/Лист2!$A$6,0)","v":132457}]
[null,null,null,null,"базовая (пустая)",null,null,null,null,120844,{"$f":"ROUND(J43*(1-$E$3)/Лист2!$A$6,0)","v":120844}]
[null,null,"IRMH7DB 188","Стеллаж охлаждаемый ВПВ С (Italfrigo Rimini Н7 DG BOX 1875 Д)","гастрономическая","-1…+6 С",4.68,"1875х700х2164","2265х1180х850",189049,{"$f":"ROUND(J44*(1-$E$3)/Лист2!$A$6,0)","v":189049}]
[null,null,null,null,"базовая (пустая)",null,null,null,null,168772,{"$f":"ROUND(J45*(1-$E$3)/Лист2!$A$6,0)","v":168772}]
[null,null,"IRMH7DB 250","Стеллаж охлаждаемый ВПВ С (Italfrigo Rimini Н7 DG BOX 2500 Д)","гастрономическая","-1…+6 С",6.25,"2500х700х2164","2700х1180х850",224310,{"$f":"ROUND(J46*(1-$E$3)/Лист2!$A$6,0)","v":224310}]
[null,null,null,null,"базовая (пустая)",null,null,null,null,202005,{"$f":"ROUND(J47*(1-$E$3)/Лист2!$A$6,0)","v":202005}]
[null,null,"IRMH7DB 375","Стеллаж охлаждаемый ВПВ С (Italfrigo Rimini Н7 DG BOX 3750 Д)","гастрономическая","-1…+6 С",9.4,"3750х700х2164","4000х1180х850",319388,{"$f":"ROUND(J48*(1-$E$3)/Лист2!$A$6,0)","v":319388}]
[null,null,null,null,"базовая (пустая)",null,null,null,null,286782,{"$f":"ROUND(J49*(1-$E$3)/Лист2!$A$6,0)","v":286782}]
["Rimini L9 BOX Открытое исполнение  (ночные шторки)"]
[null,null,"IRML9B 125","Стеллаж охлаждаемый ВПВ С (Italfrigo Rimini L9 BOX 1250 Д)","гастрономическая","0…+7 С",4.01,"1250х910х1964","2130х1110х850",124597,{"$f":"ROUND(J51*(1-$E$3)/Лист2!$A$6,0)","v":124597}]
[null,null,null,null,"базовая (пустая)",null,null,null,null,110381,{"$f":"ROUND(J52*(1-$E$3)/Лист2!$A$6,0)","v":110381}]
[null,null,"IRML9B 188","Стеллаж охлаждаемый ВПВ С (Italfrigo Rimini L9 BOX 1875 Д)","гастрономическая","0…+7 С",6.01,"1875х910х1964","2265х1110х850",169274,{"$f":"ROUND(J53*(1-$E$3)/Лист2!$A$6,0)","v":169274}]
[null,null,null,null,"базовая (пустая)",null,null,null,null,146167,{"$f":"ROUND(J54*(1-$E$3)/Лист2!$A$6,0)","v":146167}]
[null,null,"IRML9B 250","Стеллаж охлаждаемый ВПВ С (Italfrigo Rimini L9 BOX 2500 Д)","гастрономическая","0…+7 С",8.02,"2500х910х1964","2700х1110х850",202959,{"$f":"ROUND(J55*(1-$E$3)/Лист2!$A$6,0)","v":202959}]
[null,null,null,null,"базовая (пустая)",null,null,null,null,175448,{"$f":"ROUND(J56*(1-$E$3)/Лист2!$A$6,0)","v":175448}]
[null,null,"IRML9B 375","Стеллаж охлаждаемый ВПВ С (Italfrigo Rimini L9 BOX 3750 Д)","гастрономическая","0…+7 С",12.03,"3750х910х1964","4000х1110х850",265291,{"$f":"ROUND(J57*(1-$E$3)/Лист2!$A$6,0)","v":265291}]
[null,null,null,null,"базовая (пустая)",null,null,null,null,224875,{"$f":"ROUND(J58*(1-$E$3)/Лист2!$A$6,0)","v":224875}]
["Rimini L9 DG BOX Фронтальный блок остекления - стеклопакет (DG - Double Glass)"]
[null,null,"IRML9DB 125","Стеллаж охлаждаемый ВПВ С (Italfrigo Rimini L9 DG BOX 1250 Д)","гастрономическая","-1…+6 С",4.01,"1250х910х1964","2130х1180х850",147426,{"$f":"ROUND(J60*(1-$E$3)/Лист2!$A$6,0)","v":147426}]
[null,null,null,null,"базовая (пустая)",null,null,null,null,133210,{"$f":"ROUND(J61*(1-$E$3)/Лист2!$A$6,0)","v":133210}]
[null,null,"IRML9DB 188","Стеллаж охлаждаемый ВПВ С (Italfrigo Rimini L9 DG BOX 1875 Д)","гастрономическая","-1…+6 С",6.01,"1875х910х1964","2265х1180х850",202467,{"$f":"ROUND(J62*(1-$E$3)/Лист2!$A$6,0)","v":202467}]
[null,null,null,null,"базовая (пустая)",null,null,null,null,179361,{"$f":"ROUND(J63*(1-$E$3)/Лист2!$A$6,0)","v":179361}]
[null,null,"IRML9DB 250","Стеллаж охлаждаемый ВПВ С (Italfrigo Rimini L9 DG BOX 2500 Д)","гастрономическая","-1…+6 С",8.02,"2500х910х1964","2700х1180х850",250402,{"$f":"ROUND(J64*(1-$E$3)/Лист2!$A$6,0)","v":250402}]
[null,null,null,null,"базовая (пустая)",null,null,null,null,222890,{"$f":"ROUND(J65*(1-$E$3)/Лист2!$A$6,0)","v":222890}]
[null,null,"IRML9DB 375","Стеллаж охлаждаемый ВПВ С (Italfrigo Rimini L9 DG BOX 3750 Д)","гастрономическая","-1…+6 С",12.03,"3750х910х1964","4000х1180х850",351500,{"$f":"ROUND(J66*(1-$E$3)/Лист2!$A$6,0)","v":351500}]
[null,null,null,null,"базовая (пустая)",null,null,null,null,311085,{"$f":"ROUND(J67*(1-$E$3)/Лист2!$A$6,0)","v":311085}]
["Rimini Н9 BOX Открытое исполнение  (ночные шторки)"]
[null,null,"IRMH9B 125","Стеллаж охлаждаемый ВПВ С (Italfrigo Rimini H9 BOX 1250 Д)","гастрономическая","0…+7 С",4.01,"1250х910х2164","2130х1110х850",129595,{"$f":"ROUND(J69*(1-$E$3)/Лист2!$A$6,0)","v":129595}]
[null,null,null,null,"базовая (пустая)",null,null,null,null,115379,{"$f":"ROUND(J70*(1-$E$3)/Лист2!$A$6,0)","v":115379}]
[null,null,"IRMH9B 188","Стеллаж охлаждаемый ВПВ С (Italfrigo Rimini H9 BOX 1875 Д)","гастрономическая","0…+7 С",6.01,"1875х910х2164","2265х1110х850",175242,{"$f":"ROUND(J71*(1-$E$3)/Лист2!$A$6,0)","v":175242}]
[null,null,null,null,"базовая (пустая)",null,null,null,null,152135,{"$f":"ROUND(J72*(1-$E$3)/Лист2!$A$6,0)","v":152135}]
[null,null,"IRMH9B 250","Стеллаж охлаждаемый ВПВ С (Italfrigo Rimini H9 BOX 2500 Д)","гастрономическая","0…+7 С",8.02,"2500х910х2164","2700х1110х850",210527,{"$f":"ROUND(J73*(1-$E$3)/Лист2!$A$6,0)","v":210527}]
[null,null,null,null,"базовая (пустая)",null,null,null,null,183016,{"$f":"ROUND(J74*(1-$E$3)/Лист2!$A$6,0)","v":183016}]
[null,null,"IRMH9B 375","Стеллаж охлаждаемый ВПВ С (Italfrigo Rimini H9 BOX 3750 Д)","гастрономическая","0…+7 С",12.03,"3750х910х2164","4000х1110х850",276873,{"$f":"ROUND(J75*(1-$E$3)/Лист2!$A$6,0)","v":276873}]
[null,null,null,null,"базовая (пустая)",null,null,null,null,236458,{"$f":"ROUND(J76*(1-$E$3)/Лист2!$A$6,0)","v":236458}]
["Rimini Н9 DG BOX Фронтальный блок остекления - стеклопакет (DG - Double Glass)"]
[null,null,"IRMH9DB 125","Стеллаж охлаждаемый ВПВ С (Italfrigo Rimini H9 DG BOX 1250 Д)","гастрономическая","-1…+6 С",4.01,"1250х910х2164","2130х1180х850",150223,{"$f":"ROUND(J78*(1-$E$3)/Лист2!$A$6,0)","v":150223}]
[null,null,null,null,"базовая (пустая)",null,null,null,null,136007,{"$f":"ROUND(J79*(1-$E$3)/Лист2!$A$6,0)","v":136007}]
[null,null,"IRMH9DB 188","Стеллаж охлаждаемый ВПВ С (Italfrigo Rimini H9 DG BOX 1875 Д)","гастрономическая","-1…+6 С",6.01,"1875х910х2164","2265х1180х850",197696,{"$f":"ROUND(J80*(1-$E$3)/Лист2!$A$6,0)","v":197696}]
[null,null,null,null,"базовая (пустая)",null,null,null,null,174589,{"$f":"ROUND(J81*(1-$E$3)/Лист2!$A$6,0)","v":174589}]
[null,null,"IRMH9DB 250","Стеллаж охлаждаемый ВПВ С (Italfrigo Rimini H9 DG BOX 2500 Д)","гастрономическая","-1…+6 С",8.02,"2500х910х2164","2700х1180х850",251100,{"$f":"ROUND(J82*(1-$E$3)/Лист2!$A$6,0)","v":251100}]
[null,null,null,null,"базовая (пустая)",null,null,null,null,223589,{"$f":"ROUND(J83*(1-$E$3)/Лист2!$A$6,0)","v":223589}]
[null,null,"IRMH9DB 375","Стеллаж охлаждаемый ВПВ С (Italfrigo Rimini H9 DG BOX 3750 Д)","гастрономическая","-1…+6 С",12.03,"3750х910х2164","4000х1180х850",357444,{"$f":"ROUND(J84*(1-$E$3)/Лист2!$A$6,0)","v":357444}]
[null,null,null,null,"базовая (пустая)",null,null,null,null,317028,{"$f":"ROUND(J85*(1-$E$3)/Лист2!$A$6,0)","v":317028}]
["Rimini Н10 BOX Открытое исполнение  (ночные шторки)"]
[null,null,"IRMH10B 125","Стеллаж охлаждаемый ВПВ С (Italfrigo Rimini H10 BOX 1250 Д)","гастрономическая","0…+7 С",4.75,"1250х1000х2164","2130х1180х850",139113,{"$f":"ROUND(J87*(1-$E$3)/Лист2!$A$6,0)","v":139113}]
[null,null,null,null,"базовая (пустая)",null,null,null,null,123456,{"$f":"ROUND(J88*(1-$E$3)/Лист2!$A$6,0)","v":123456}]
[null,null,"IRMH10B 188","Стеллаж охлаждаемый ВПВ С (Italfrigo Rimini H10 BOX 1875 Д)","гастрономическая","0…+7 С",7.12,"1875х1000х2164","2265х1180х850",187722,{"$f":"ROUND(J89*(1-$E$3)/Лист2!$A$6,0)","v":187722}]
[null,null,null,null,"базовая (пустая)",null,null,null,null,162785,{"$f":"ROUND(J90*(1-$E$3)/Лист2!$A$6,0)","v":162785}]
[null,null,"IRMH10B 250","Стеллаж охлаждаемый ВПВ С (Italfrigo Rimini H10 BOX 2500 Д)","гастрономическая","0…+7 С",9.5,"2500х1000х2164","2700х1180х850",226220,{"$f":"ROUND(J91*(1-$E$3)/Лист2!$A$6,0)","v":226220}]
[null,null,null,null,"базовая (пустая)",null,null,null,null,195827,{"$f":"ROUND(J92*(1-$E$3)/Лист2!$A$6,0)","v":195827}]
[null,null,"IRMH10B 375","Стеллаж охлаждаемый ВПВ С (Italfrigo Rimini H10 BOX 3750 Д)","гастрономическая","0…+7 С",14.25,"3750х1000х2164","4000х1180х850",288288,{"$f":"ROUND(J93*(1-$E$3)/Лист2!$A$6,0)","v":288288}]
[null,null,null,null,"базовая (пустая)",null,null,null,null,243552,{"$f":"ROUND(J94*(1-$E$3)/Лист2!$A$6,0)","v":243552}]
["Rimini Н10 DG BOX Фронтальный блок остекления - стеклопакет (DG - Double Glass)"]
[null,null,"IRMH10DB 125","Стеллаж охлаждаемый ВПВ С (Italfrigo Rimini H10 DG BOX 1250 Д)","гастрономическая","-1…+6 С",4.75,"1250х1000х2164","2130х1180х850",153097,{"$f":"ROUND(J96*(1-$E$3)/Лист2!$A$6,0)","v":153097}]
[null,null,null,null,"базовая (пустая)",null,null,null,null,137440,{"$f":"ROUND(J97*(1-$E$3)/Лист2!$A$6,0)","v":137440}]
[null,null,"IRMH10DB 188","Стеллаж охлаждаемый ВПВ С (Italfrigo Rimini H10 DG BOX 1875 Д)","гастрономическая","-1…+6 С",7.12,"1875х1000х2164","2265х1180х850",207271,{"$f":"ROUND(J98*(1-$E$3)/Лист2!$A$6,0)","v":207271}]
[null,null,null,null,"базовая (пустая)",null,null,null,null,182333,{"$f":"ROUND(J99*(1-$E$3)/Лист2!$A$6,0)","v":182333}]
[null,null,"IRMH10DB 250","Стеллаж охлаждаемый ВПВ С (Italfrigo Rimini H10 DG BOX 2500 Д)","гастрономическая","-1…+6 С",9.5,"2500х1000х2164","2700х1180х850",261062,{"$f":"ROUND(J100*(1-$E$3)/Лист2!$A$6,0)","v":261062}]
[null,null,null,null,"базовая (пустая)",null,null,null,null,230669,{"$f":"ROUND(J101*(1-$E$3)/Лист2!$A$6,0)","v":230669}]
[null,null,"IRMH10DB 375","Стеллаж охлаждаемый ВПВ С (Italfrigo Rimini H10 DG BOX 3750 Д)","гастрономическая","-1…+6 С",14.25,"3750х1000х2164","4000х1180х850",380437,{"$f":"ROUND(J102*(1-$E$3)/Лист2!$A$6,0)","v":380437}]
[null,null,null,null,"базовая (пустая)",null,null,null,null,337062,{"$f":"ROUND(J103*(1-$E$3)/Лист2!$A$6,0)","v":337062}]
[2,"Охлаждаемые стеллажи полувертикальные LAZIO",null,null,null,null,null,null,null,"Опции Rimini"]
[]
["Базовая комплектация стеллажа:\n- без противоударного бампера\n- внутренний объем - оцинкованный металл\n- внутренняя поверхность ванны из оцинкованного пластификата (двойная защита от коррозии);\n- электронный контроллер для управления работой оборудования;\n- без освещения\n- без полок\n- цифрофой термометр;\n- механический ТРВ Sanhua\n-стандартная упаковка на поддоне, опцонально в деревянной обрешетке\n- блок остекления со стеклопакетом для стеллажей DG\n- ночная шторкa для открытого стеллажа\n- стандартные вентиляторы\n- комплект подключения к системе дренажа\n- без боковин\n- упаковка на поддоне\n\nХарактеристика:EL.S.Y.0.0.PS.0.внеш 7016гл_внутр 7016гл",null,null,"Комплектация \"Фрукты-овощи\"\n+ к базовой комплектации:\n- Общее светодиодное освещение, стандартный - 4000К, опционально 2700К, 6500К;\n- 2 ряда полок с ценникодержателем - полки глубиной 400 мм.и глубиной 500 мм.\n- наклонная решетка для базовой полки\n\nКомплект наклонного зекрала и наклонной решетки для базовой полки в отдельном ящике\n\nХарактеристика:EL.S.Y.2.2.PS.T.внеш 7016гл_внутр 7016гл",null,"Комплектация \"Гастрономия\"\n+ к базовой комплектации:\n- Общее светодиодное освещение, стандартный - 4000К, опционально 2700К, 6500К, \n- 3 ряда полок с ценникодержателем полки глубиной 300мм,400 мм. 500 мм.;\n\nХарактеристика:EL.S.Y.2.3.PS.0.внеш 7016гл_внутр 7016гл\n"]
["LAZIO S9, Открытое исполнение  (ночные шторки)"]
[null,null,"ILZS9 125","Стеллаж охлаждаемый полувертикальный ВПВ С (Italfrigo Lazio S9 1250 Д)","гастрономическая","0…+7 С",2.34,"1250х910х1562","1450х1020х1665/ 1500х1070х1715",110790,{"$f":"ROUND(J108*(1-$E$3)/Лист2!$A$6,0)","v":110790}]
[null,null,null,null,"базовая (пустая)",null,null,null,null,96362,{"$f":"ROUND(J109*(1-$E$3)/Лист2!$A$6,0)","v":96362}]
[null,null,"ILZS9  188","Стеллаж охлаждаемый полувертикальный ВПВ С (Italfrigo Lazio S9 1875 Д)","гастрономическая","0…+7 С",3.5,"1875х910х1562","2080х1020х1665/ 2130х1070х1715",134676,{"$f":"ROUND(J110*(1-$E$3)/Лист2!$A$6,0)","v":134676}]
[null,null,null,null,"базовая (пустая)",null,null,null,null,119242,{"$f":"ROUND(J111*(1-$E$3)/Лист2!$A$6,0)","v":119242}]
[null,null,"ILZS9  250","Стеллаж охлаждаемый полувертикальный ВПВ С (Italfrigo Lazio S9 2500 Д)","гастрономическая","0…+7 С",4.68,"2500х910х1562","2700х1020х1665/ 2750х1070х1715",161248,{"$f":"ROUND(J112*(1-$E$3)/Лист2!$A$6,0)","v":161248}]
[null,null,null,null,"базовая (пустая)",null,null,null,null,144379,{"$f":"ROUND(J113*(1-$E$3)/Лист2!$A$6,0)","v":144379}]
[null,null,"ILZS9  375","Стеллаж  охлаждаемый полувертикальный ВПВ С (Italfrigo Lazio S9 3750 Д)","гастрономическая","0…+7 С",7.02,"3750х910х1562","3950х1020х1665/ 4000х1070х1715",221418,{"$f":"ROUND(J114*(1-$E$3)/Лист2!$A$6,0)","v":221418}]
[null,null,null,null,"базовая (пустая)",null,null,null,null,197568,{"$f":"ROUND(J115*(1-$E$3)/Лист2!$A$6,0)","v":197568}]
[null,null,"ILZS9Т  188","Стеллаж  охлаждаемый полувертикальный торцевой ВПВ С (Italfrigo Lazio S9 1875 Д)","гастрономическая","0…+7 С",3.5,"1950х910х1562","2080х1020х1665/ 2130х1070х1715",161430,{"$f":"ROUND(J116*(1-$E$3)/Лист2!$A$6,0)","v":161430}]
[null,null,null,null,"базовая (пустая)",null,null,null,null,145996,{"$f":"ROUND(J117*(1-$E$3)/Лист2!$A$6,0)","v":145996}]
["LAZIO S10, Открытое исполнение  (ночные шторки)"]
[]
[]
["Низкотемпературные шкафы под выносное холодообеспечение"]
[]
[]
[3,"MILAN S"]
[]
["Стандартная комплектация:     \n- светодиодная подсветка внутреннего объема (4000/6000К) верхняя и вертикальная \n- оттайка ТЭНами\n- сифон для подключения к канализации\n- 3/4 уровня решетчатых полок с ценникодержателями \n- базовые полки-решетки\n- ТРВ для R404a\n- без фронтального отбойника\n- электроллный контроллер управления\n- без боковин\n- без полок\n-без корзин сетчатых на базовую полку"]
[null,null,"IMS ШН2 234 Д","Шкаф морозильный ШН (Italfrigo Milan S D3 2343)",null,"-22…-18",null,"2343х885х1515",null,367764,{"$f":"ROUND(J127*(1-$E$3)/Лист2!$A$6,0)","v":367764}]
[null,null,null,null,null,null,null,null,null,null,{"$f":"ROUND(J128*(1-$E$3)/Лист2!$A$6,0)","v":0}]
[null,null,null,null,null,null,null,null,null,null,{"$f":"ROUND(J129*(1-$E$3)/Лист2!$A$6,0)","v":0}]
[null,null,null,null,null,null,null,null,null,null,{"$f":"ROUND(J130*(1-$E$3)/Лист2!$A$6,0)","v":0}]
[null,null,null,null,null,null,null,null,null,null,{"$f":"ROUND(J131*(1-$E$3)/Лист2!$A$6,0)","v":0}]
[null,null,null,null,null,null,null,null,null,null,{"$f":"ROUND(J132*(1-$E$3)/Лист2!$A$6,0)","v":0}]
[null,null,null,null,null,null,null,null,null,null,{"$f":"ROUND(J133*(1-$E$3)/Лист2!$A$6,0)","v":0}]
[null,null,null,null,null,null,null,null,null,null,{"$f":"ROUND(J134*(1-$E$3)/Лист2!$A$6,0)","v":0}]
[null,null,null,null,null,null,null,null,null,null,{"$f":"ROUND(J135*(1-$E$3)/Лист2!$A$6,0)","v":0}]
[null,null,null,null,null,null,null,null,null,null,{"$f":"ROUND(J136*(1-$E$3)/Лист2!$A$6,0)","v":0}]
[null,null,null,null,null,null,null,null,null,null,{"$f":"ROUND(J137*(1-$E$3)/Лист2!$A$6,0)","v":0}]
[null,null,null,null,null,null,null,null,null,null,{"$f":"ROUND(J138*(1-$E$3)/Лист2!$A$6,0)","v":0}]
[null,null,null,null,null,null,null,null,null,null,{"$f":"ROUND(J139*(1-$E$3)/Лист2!$A$6,0)","v":0}]
[null,null,null,null,null,null,null,null,null,null,{"$f":"ROUND(J140*(1-$E$3)/Лист2!$A$6,0)","v":0}]
[null,null,null,null,null,null,null,null,null,null,{"$f":"ROUND(J141*(1-$E$3)/Лист2!$A$6,0)","v":0}]
[null,null,null,null,null,null,null,null,null,null,{"$f":"ROUND(J142*(1-$E$3)/Лист2!$A$6,0)","v":0}]

{"sheet":"Gamma в линию","index":10,"n_rows":34,"n_cols":51,"rows_kept":34,"cut":false,"hidden":true,"merged":[[32,2,32,44],[32,45,32,49],[33,2,33,44],[33,45,33,49],[30,2,30,25],[30,26,30,44],[30,45,30,49],[31,2,31,25],[31,26,31,44],[31,45,31,49],[22,41,25,41],[28,2,28,44],[28,45,28,49],[29,2,29,25],[29,26,29,44],[29,45,29,49],[22,2,25,2],[22,4,25,13],[22,15,25,15],[22,17,25,26],[22,28,25,28],[22,30,25,39],[17,2,17,44],[17,45,17,49],[12,2,12,44],[12,45,12,49],[13,2,13,25],[13,26,13,44],[13,45,13,49],[14,2,14,25],[14,26,14,44],[14,45,14,49],[15,2,15,25],[15,26,15,44],[15,45,15,49],[16,2,16,44],[16,45,16,49],[1,0,1,49],[2,0,2,49],[6,2,9,2],[6,4,9,13],[6,15,9,24],[6,26,9,35],[6,37,9,37]]}
["Примечания:",null,null,null,null,null,null,null,null,null,null,null,null,null,null,null,null,null,null,null,null,null,null,null,null,null,null,null,null,null,null,null,null,null,null,null,null,null,null,null,null,null,null,null,null,null,null,null,null,null,"В содержание"]
["1. Витрины с различными температурными режимами желательно разделять боковинами"]
["2. В комплект герметичного разделителя входит комплект соединительный"]
[]
["1. Линия витрин GAMMA-2"]
[]
[null,null,"боковина",null,"GAMMA-2 ББ",null,null,null,null,null,null,null,null,null,null,"GAMMA-2 ББ",null,null,null,null,null,null,null,null,null,null,"GAMMA-2 ББ",null,null,null,null,null,null,null,null,null,null,"боковина"]
[]
[]
[]
[]
[null,null,"Вариант спецификации"]
[null,null,"Наименование",null,null,null,null,null,null,null,null,null,null,null,null,null,null,null,null,null,null,null,null,null,null,null,null,null,null,null,null,null,null,null,null,null,null,null,null,null,null,null,null,null,null,"Кол-во"]
[null,null,"Gamma-2 1200",null,null,null,null,null,null,null,null,null,null,null,null,null,null,null,null,null,null,null,null,null,null,null,"без боковин",null,null,null,null,null,null,null,null,null,null,null,null,null,null,null,null,null,null,1]
[null,null,"Gamma-2 1500",null,null,null,null,null,null,null,null,null,null,null,null,null,null,null,null,null,null,null,null,null,null,null,"без боковин",null,null,null,null,null,null,null,null,null,null,null,null,null,null,null,null,null,null,1]
[null,null,"Gamma-2 1800",null,null,null,null,null,null,null,null,null,null,null,null,null,null,null,null,null,null,null,null,null,null,null,"без боковин",null,null,null,null,null,null,null,null,null,null,null,null,null,null,null,null,null,null,1]
[null,null,"Комплект соединительный 337.50.00.00 для ВПС/ВПСН/ВПН Gamma-2",null,null,null,null,null,null,null,null,null,null,null,null,null,null,null,null,null,null,null,null,null,null,null,null,null,null,null,null,null,null,null,null,null,null,null,null,null,null,null,null,null,null,2]
[null,null,"Комплект боковин 337.40.00.00 для ВПС/ВПСН Gamma 2",null,null,null,null,null,null,null,null,null,null,null,null,null,null,null,null,null,null,null,null,null,null,null,null,null,null,null,null,null,null,null,null,null,null,null,null,null,null,null,null,null,null,1]
[]
[]
["2. Линия витрин GAMMA-2 через герметичный разделитель"]
[]
[null,null,"боковина",null,"GAMMA-2 ББ",null,null,null,null,null,null,null,null,null,null,"герм.разд.",null,"GAMMA-2 ББ",null,null,null,null,null,null,null,null,null,null,"герм.разд.",null,"GAMMA-2 ББ",null,null,null,null,null,null,null,null,null,null,"боковина"]
[]
[]
[]
[]
[null,null,"Вариант спецификации"]
[null,null,"Наименование",null,null,null,null,null,null,null,null,null,null,null,null,null,null,null,null,null,null,null,null,null,null,null,null,null,null,null,null,null,null,null,null,null,null,null,null,null,null,null,null,null,null,"Кол-во"]
[null,null,"Gamma-2 1200",null,null,null,null,null,null,null,null,null,null,null,null,null,null,null,null,null,null,null,null,null,null,null,"без боковин",null,null,null,null,null,null,null,null,null,null,null,null,null,null,null,null,null,null,1]
[null,null,"Gamma-2 1500",null,null,null,null,null,null,null,null,null,null,null,null,null,null,null,null,null,null,null,null,null,null,null,"без боковин",null,null,null,null,null,null,null,null,null,null,null,null,null,null,null,null,null,null,1]
[null,null,"Gamma-2 1800",null,null,null,null,null,null,null,null,null,null,null,null,null,null,null,null,null,null,null,null,null,null,null,"без боковин",null,null,null,null,null,null,null,null,null,null,null,null,null,null,null,null,null,null,1]
[null,null,"Комплект герметичного разделителя 337.83.00.00 для ВПС/ВПСН/ВПН Gamma-2",null,null,null,null,null,null,null,null,null,null,null,null,null,null,null,null,null,null,null,null,null,null,null,null,null,null,null,null,null,null,null,null,null,null,null,null,null,null,null,null,null,null,2]
[null,null,"Комплект боковин 337.40.00.00 для ВПС/ВПСН Gamma 2",null,null,null,null,null,null,null,null,null,null,null,null,null,null,null,null,null,null,null,null,null,null,null,null,null,null,null,null,null,null,null,null,null,null,null,null,null,null,null,null,null,null,1]

{"sheet":"Опции для горок Italfrigo","index":11,"n_rows":181,"n_cols":7,"rows_kept":181,"cut":false,"hidden":false,"merged":[[160,0,160,6],[113,0,113,6],[123,0,123,6],[141,0,141,6],[151,0,151,6],[106,0,106,6],[22,0,22,6],[23,3,42,4],[43,0,43,6],[56,0,56,6],[64,0,64,6],[77,0,77,6],[84,0,84,6],[90,0,90,6],[92,0,92,6],[95,0,95,6],[8,7,9,9],[9,0,9,6],[10,0,10,6],[11,2,14,4],[15,0,15,6],[16,0,16,6],[1,1,1,2],[2,1,2,2],[3,1,3,2],[6,0,6,6],[7,0,7,6],[8,0,8,6]]}
[null,null,null,null,"На главную"]
[]
[null,"Ваша скидка:",null,{"$f":"Содержание!D2","v":0}]
[null,"НДС:",null,{"$f":"IF(Лист2!A1=TRUE,\"С НДС\",\"БЕЗ НДС\")","v":"С НДС"}]
[]
[]
["Опции для горок Italfrigo"]
["Rimini/ Lazio"]
["Обязательные опции для базовой комплектации Solo. Дополнительные опции для гастрономической комплектации Solo. "]
["Общее освещение"]
["                                                                                               Нейтральный свет (4000-4500К) подходит всем товарным категориям (не искажает натуральный цвет продуктов).                                                                                                                                           Тёплый свет (2700-3000К) подходит категории \"Фрукты, овощи, сыры\" (категория выглядит ярче, насыщеннее).                                                                                     Мясной свет подходит категории \"Мясо, мясная гастрономия\" (категория выглядит ярче, насыщеннее)"]
[1,"Комплект горизонтального освещения 1106.89.00.00 L=1250 для Rimini/Lazio","Спектр освещения определяется характеристикой (третий символ, \"1\" - 3000К, \"2\" -  4000)",null,null,1797,{"$f":"ROUND(F12*(1-$D$3)/Лист2!$A$6,0)","v":1797}]
[2,"Комплект горизонтального освещения 1106.89.00.00-01 L=1875 для Rimini/Lazio",null,null,null,2385,{"$f":"ROUND(F13*(1-$D$3)/Лист2!$A$6,0)","v":2385}]
[3,"Комплект горизонтального освещения 1106.89.00.00-02 L=2500 для Rimini/Lazio",null,null,null,2674,{"$f":"ROUND(F14*(1-$D$3)/Лист2!$A$6,0)","v":2674}]
[4,"Комплект горизонтального освещения 1106.89.00.00-03 L=3750 для Rimini/Lazio",null,null,null,3160,{"$f":"ROUND(F15*(1-$D$3)/Лист2!$A$6,0)","v":3160}]
["Дополнительные опции д"]
["Вертикальная подсветка для DG"]
[{"$f":"A15+1","v":5},"Комплект электрооттайки испарителя 1058.65.00.00 L=1250 для Rimini","1058.65.00.00",null,null,2996,{"$f":"ROUND(F18*(1-$D$3)/Лист2!$A$6,0)","v":2996}]
[{"$f":"A18+1","v":6},"Комплект электрооттайки испарителя 1058.65.00.00-01 L=1875 для Rimini","1058.65.00.00-01",null,null,3976,{"$f":"ROUND(F19*(1-$D$3)/Лист2!$A$6,0)","v":3976}]
[{"$f":"A19+1","v":7},"Комплект электрооттайки испарителя  1058.65.00.00-02 L=2500 для Rimini","1058.65.00.00-02",null,null,4457,{"$f":"ROUND(F20*(1-$D$3)/Лист2!$A$6,0)","v":4457}]
[8,"Комплект электрооттайки испарителя 1058.65.00.00-03 L=3750 для Rimini","1058.65.00.00-03",null,null,5530,{"$f":"ROUND(F21*(1-$D$3)/Лист2!$A$6,0)","v":5530}]
[13,"Монтажный набор 1106.120.00.00S ","1106.120.00.00S",null,null,10225,{"$f":"ROUND(F22*(1-$D$3)/Лист2!$A$6,0)","v":10225}]
["Подсветка полок (универсальная для полок разной глубины - 300, 400, 500 мм)                                                                                                                                                                                                                                           Нейтральный свет (4000-4500К) подходит всем товарным категориям (не искажает натуральный цвет продуктов).                                                                                                                                                                                           Тёплый свет (2700-3000К) подходит категории \"Фрукты, овощи, сыры\" (категория выглядит ярче, насыщеннее).                                                                                                                                                                                                 Мясной свет подходит категории \"Мясо, мясная гастрономия\" (категория выглядит ярче, насыщеннее)"]
[{"$f":"A22+1","v":14},"Комплект подсветки двух рядов полок T8 1058.91.00.00 для Rimini L=1250","1058.91.00.00","Спектр освещения определяется характеристикой                                        (третий символ, \"1\" - 3000К, \"2\" -  4000К)",null,5125,{"$f":"ROUND(F24*(1-$D$3)/Лист2!$A$6,0)","v":5125}]
[{"$f":"A24+1","v":15},"Комплект подсветки двух рядов полок T8 1058.91.00.00-01 для Rimini L=1875","1058.91.00.00-01",null,null,9033,{"$f":"ROUND(F25*(1-$D$3)/Лист2!$A$6,0)","v":9033}]
[16,"Комплект подсветки двух рядов полок T8 1058.91.00.00-02 для Rimini L=2500","1058.91.00.00-02",null,null,10296,{"$f":"ROUND(F26*(1-$D$3)/Лист2!$A$6,0)","v":10296}]
[17,"Комплект подсветки двух рядов полок T8 1058.91.00.00-03 для Rimini L=3750","1058.91.00.00-03",null,null,12772,{"$f":"ROUND(F27*(1-$D$3)/Лист2!$A$6,0)","v":12772}]
[18,"Комплект подсветки трёх рядов полок T8 1058.92.00.00 для Rimini L=1250","1058.92.00.00",null,null,6406,{"$f":"ROUND(F28*(1-$D$3)/Лист2!$A$6,0)","v":6406}]
[19,"Комплект подсветки трёх рядов полок T8 1058.92.00.00-01 для Rimini L=1875","1058.92.00.00-01",null,null,11292,{"$f":"ROUND(F29*(1-$D$3)/Лист2!$A$6,0)","v":11292}]
[20,"Комплект подсветки трёх рядов полок T8 1058.92.00.00-02 для Rimini L=2500","1058.92.00.00-02",null,null,12870,{"$f":"ROUND(F30*(1-$D$3)/Лист2!$A$6,0)","v":12870}]
[21,"Комплект подсветки трёх рядов полок T8 1058.92.00.00-03 для Rimini L=3750","1058.92.00.00-03",null,null,15966,{"$f":"ROUND(F31*(1-$D$3)/Лист2!$A$6,0)","v":15966}]
[22,"Комплект подсветки четырёх рядов полок T8 1058.93.00.00 для Rimini L=1250","1058.93.00.00",null,null,8241,{"$f":"ROUND(F32*(1-$D$3)/Лист2!$A$6,0)","v":8241}]
[23,"Комплект подсветки четырёх рядов полок T8 1058.93.00.00-01 для Rimini L=1875","1058.93.00.00-01",null,null,13799,{"$f":"ROUND(F33*(1-$D$3)/Лист2!$A$6,0)","v":13799}]
[24,"Комплект подсветки четырёх рядов полок T8 1058.93.00.00-02 для Rimini L=2500","1058.93.00.00-02",null,null,14928,{"$f":"ROUND(F34*(1-$D$3)/Лист2!$A$6,0)","v":14928}]
[25,"Комплект подсветки четырёх рядов полок T8 1058.93.00.00-03 для Rimini L=3750","1058.93.00.00-03",null,null,21608,{"$f":"ROUND(F35*(1-$D$3)/Лист2!$A$6,0)","v":21608}]
[26,"Комплект подсветки пяти рядов полок T8 1058.94.00.00 для Rimini L=1250","1058.94.00.00",null,null,9602,{"$f":"ROUND(F36*(1-$D$3)/Лист2!$A$6,0)","v":9602}]
[27,"Комплект подсветки пяти рядов полок T8 1058.94.00.00-01 для Rimini L=1875","1058.94.00.00-01",null,null,16182,{"$f":"ROUND(F37*(1-$D$3)/Лист2!$A$6,0)","v":16182}]
[28,"Комплект подсветки пяти рядов полок T8 1058.94.00.00-02 для Rimini L=2500","1058.94.00.00-02",null,null,17564,{"$f":"ROUND(F38*(1-$D$3)/Лист2!$A$6,0)","v":17564}]
[29,"Комплект подсветки пяти рядов полок T8 1058.94.00.00-03 для Rimini L=3750","1058.94.00.00-03",null,null,25807,{"$f":"ROUND(F39*(1-$D$3)/Лист2!$A$6,0)","v":25807}]
[30,"Комплект подсветки шести рядов полок T8 1058.95.00.00 для Rimini L=1250","1058.95.00.00",null,null,10670,{"$f":"ROUND(F40*(1-$D$3)/Лист2!$A$6,0)","v":10670}]
[31,"Комплект подсветки шести рядов полок T8 1058.95.00.00-01 для Rimini L=1875","1058.95.00.00-01",null,null,18064,{"$f":"ROUND(F41*(1-$D$3)/Лист2!$A$6,0)","v":18064}]
[32,"Комплект подсветки шести рядов полок T8 1058.95.00.00-02 для Rimini L=2500","1058.95.00.00-02",null,null,21205,{"$f":"ROUND(F42*(1-$D$3)/Лист2!$A$6,0)","v":21205}]
[33,"Комплект подсветки шести рядов полок T8 1058.95.00.00-03 для Rimini L=3750","1058.95.00.00-03",null,null,31957,{"$f":"ROUND(F43*(1-$D$3)/Лист2!$A$6,0)","v":31957}]
["Дополнительные опции "]
[{"$f":"A43+1","v":34},"Комплект боковины глухой левой 1118.40.00.00 для Rimini H10","1118.40.00.00",null,null,14326,{"$f":"ROUND(F45*(1-$D$3)/Лист2!$A$6,0)","v":14326}]
[{"$f":"A45+1","v":35},"Комплект боковины глухой правой 1118.40.00.00mir для Rimini H10","1118.40.00.00mir",null,null,14326,{"$f":"ROUND(F46*(1-$D$3)/Лист2!$A$6,0)","v":14326}]
[{"$f":"A45+1","v":35},"Комплект боковины глухой левой 1058.40.00.00 для Rimini H9","1058.40.00.00",null,null,12456,{"$f":"ROUND(F47*(1-$D$3)/Лист2!$A$6,0)","v":12456}]
[36,"Комплект боковины глухой правой 1058.40.00.00mir для Rimini H9","1058.40.00.00mir",null,null,12456,{"$f":"ROUND(F48*(1-$D$3)/Лист2!$A$6,0)","v":12456}]
[{"$f":"A47+1","v":36},"Комплект боковины глухой левой 1109.40.00.00 для Rimini L9","1109.40.00.00",null,null,10747,{"$f":"ROUND(F49*(1-$D$3)/Лист2!$A$6,0)","v":10747}]
[37,"Комплект боковины глухой правой 1109.40.00.00mir для Rimini L9","1109.40.00.00mir",null,null,10747,{"$f":"ROUND(F50*(1-$D$3)/Лист2!$A$6,0)","v":10747}]
[{"$f":"A49+1","v":37},"Комплект боковины глухой левой 1112.40.00.00 для Rimini H7","1112.40.00.00",null,null,12425,{"$f":"ROUND(F51*(1-$D$3)/Лист2!$A$6,0)","v":12425}]
[38,"Комплект боковины глухой правой 1112.40.00.00mir для Rimini H7","1112.40.00.00mir",null,null,12425,{"$f":"ROUND(F52*(1-$D$3)/Лист2!$A$6,0)","v":12425}]
[{"$f":"A51+1","v":38},"Комплект боковины глухой левой 1115.40.00.00 для Rimini L7","1115.40.00.00",null,null,10904,{"$f":"ROUND(F53*(1-$D$3)/Лист2!$A$6,0)","v":10904}]
[39,"Комплект боковины глухой правой 1115.40.00.00mir для Rimini L7","1115.40.00.00mir",null,null,10904,{"$f":"ROUND(F54*(1-$D$3)/Лист2!$A$6,0)","v":10904}]
[{"$f":"A53+1","v":39},"Комплект боковины глухой левой 1215.40.00.00 для Lazio S9","1215.40.00.00",null,null,8731,{"$f":"ROUND(F55*(1-$D$3)/Лист2!$A$6,0)","v":8731}]
[40,"Комплект боковины глухой правой 1215.40.00.00mir для Lazio S9","1215.40.00.00mir",null,null,8731,{"$f":"ROUND(F56*(1-$D$3)/Лист2!$A$6,0)","v":8731}]
[]
[41,"Комплект боковины с зеркалом 1118.38.00.00 для Rimini H10","1118.38.00.00",null,null,15110,{"$f":"ROUND(F58*(1-$D$3)/Лист2!$A$6,0)","v":15110}]
[{"$f":"A58+1","v":42},"Комплект боковины с зеркалом 1058.38.00.00 для Rimini H9","1058.38.00.00",null,null,13838,{"$f":"ROUND(F59*(1-$D$3)/Лист2!$A$6,0)","v":13838}]
[{"$f":"A59+1","v":43},"Комплект боковины с зеркалом 1109.38.00.00 для Rimini L9","1109.38.00.00",null,null,12766,{"$f":"ROUND(F60*(1-$D$3)/Лист2!$A$6,0)","v":12766}]
[{"$f":"A60+1","v":44},"Комплект боковины с зеркалом 1112.38.00.00 для Rimini Н7","1112.38.00.00",null,null,12425,{"$f":"ROUND(F61*(1-$D$3)/Лист2!$A$6,0)","v":12425}]
[45,"Комплект боковины с зеркалом 1115.38.00.00 для Rimini L7","1115.38.00.00",null,null,11740,{"$f":"ROUND(F62*(1-$D$3)/Лист2!$A$6,0)","v":11740}]
[46,"Комплект боковины глухой левой с зеркалом 1215.37.00.00 для Lazio S9","1215.37.00.00",null,null,10703,{"$f":"ROUND(F63*(1-$D$3)/Лист2!$A$6,0)","v":10703}]
[47,"Комплект боковины глухой правой с зеркалом 1215.37.00.00mir для Lazio S9","1215.37.00.00mir",null,null,10703,{"$f":"ROUND(F64*(1-$D$3)/Лист2!$A$6,0)","v":10703}]
[]
[48,"Комплект боковины со стеклопакетом левой 1118.41.00.00 для Rimini H10","1118.41.00.00",null,null,16357,{"$f":"ROUND(F66*(1-$D$3)/Лист2!$A$6,0)","v":16357}]
[{"$f":"A66+1","v":49},"Комплект боковины со стеклопакетом правой 1118.41.00.00mir для Rimini H10","1118.41.00.00mir",null,null,16357,{"$f":"ROUND(F67*(1-$D$3)/Лист2!$A$6,0)","v":16357}]
[{"$f":"A66+1","v":49},"Комплект боковины со стеклопакетом левой 1058.41.00.00 для Rimini H9","1058.41.00.00",null,null,14651,{"$f":"ROUND(F68*(1-$D$3)/Лист2!$A$6,0)","v":14651}]
[{"$f":"A68+1","v":50},"Комплект боковины со стеклопакетом правой 1058.41.00.00mir для Rimini H9","1058.41.00.00mir",null,null,14651,{"$f":"ROUND(F69*(1-$D$3)/Лист2!$A$6,0)","v":14651}]
[{"$f":"A68+1","v":50},"Комплект боковины со стеклопакетом левой 1109.41.00.00 для Rimini L9","1109.41.00.00",null,null,13750,{"$f":"ROUND(F70*(1-$D$3)/Лист2!$A$6,0)","v":13750}]
[{"$f":"A70+1","v":51},"Комплект боковины со стеклопакетом правой 1109.41.00.00mir для Rimini L9","1109.41.00.00mir",null,null,13750,{"$f":"ROUND(F71*(1-$D$3)/Лист2!$A$6,0)","v":13750}]
[{"$f":"A70+1","v":51},"Комплект боковины со стеклопакетом левой 1112.41.00.00 для Rimini H7","1112.41.00.00",null,null,13321,{"$f":"ROUND(F72*(1-$D$3)/Лист2!$A$6,0)","v":13321}]
[{"$f":"A72+1","v":52},"Комплект боковины со стеклопакетом правой 1112.41.00.00mir для Rimini H7","1112.41.00.00mir",null,null,13321,{"$f":"ROUND(F73*(1-$D$3)/Лист2!$A$6,0)","v":13321}]
[{"$f":"A72+1","v":52},"Комплект боковины со стеклопакетом левой 1115.41.00.00 для Rimini L7","1115.41.00.00",null,null,11973,{"$f":"ROUND(F74*(1-$D$3)/Лист2!$A$6,0)","v":11973}]
[{"$f":"A74+1","v":53},"Комплект боковины со стеклопакетом правой 1115.41.00.00mir для Rimini L7","1115.41.00.00mir",null,null,11973,{"$f":"ROUND(F75*(1-$D$3)/Лист2!$A$6,0)","v":11973}]
[{"$f":"A74+1","v":53},"Комплект боковины со стеклопакетом левой 1215.41.00.00 для Lazio S9","1215.41.00.00",null,null,22479,{"$f":"ROUND(F76*(1-$D$3)/Лист2!$A$6,0)","v":22479}]
[{"$f":"A76+1","v":54},"Комплект боковины со стеклопакетом правой 1215.41.00.00mir для Lazio S9","1215.41.00.00mir",null,null,22479,{"$f":"ROUND(F77*(1-$D$3)/Лист2!$A$6,0)","v":22479}]
[]
[55,"Комплект герметичного разделителя (оргст) 1118.44.00.00 для Rimini H10","1118.44.00.00",null,null,20675,{"$f":"ROUND(F79*(1-$D$3)/Лист2!$A$6,0)","v":20675}]
[{"$f":"A79+1","v":56},"Комплект герметичного разделителя (оргст) 1058.44.00.00 для Rimini H9","1058.44.00.00",null,null,18503,{"$f":"ROUND(F80*(1-$D$3)/Лист2!$A$6,0)","v":18503}]
[{"$f":"A80+1","v":57},"Комплект герметичного разделителя (оргст) 1109.44.00.00 для Rimini L9","1109.44.00.00",null,null,16860,{"$f":"ROUND(F81*(1-$D$3)/Лист2!$A$6,0)","v":16860}]
[{"$f":"A81+1","v":58},"Комплект герметичного разделителя (оргст) 1112.44.00.00 для Rimini H7","1112.44.00.00",null,null,16002,{"$f":"ROUND(F82*(1-$D$3)/Лист2!$A$6,0)","v":16002}]
[59,"Комплект герметичного разделителя (оргст) 1115.44.00.00 для Rimini L7","1115.44.00.00",null,null,14427,{"$f":"ROUND(F83*(1-$D$3)/Лист2!$A$6,0)","v":14427}]
[60,"Комплект  герметичного разделителя (оргстекло) для 1215.44.00.00 Lazio S9","1215.44.00.00",null,null,15286,{"$f":"ROUND(F84*(1-$D$3)/Лист2!$A$6,0)","v":15286}]
[]
[{"$f":"A84+1","v":61},"Комплект зеркального герметичного разделителя 1118.45.00.00 для Rimini H10","1118.45.00.00",null,null,24978,{"$f":"ROUND(F86*(1-$D$3)/Лист2!$A$6,0)","v":24978}]
[{"$f":"A86+1","v":62},"Комплект зеркального герметичного разделителя 1058.45.00.00 для Rimini H9","1058.45.00.00",null,null,24130,{"$f":"ROUND(F87*(1-$D$3)/Лист2!$A$6,0)","v":24130}]
[{"$f":"A87+1","v":63},"Комплект зеркального герметичного разделителя 1109.45.00.00 для Rimini L9","1109.45.00.00",null,null,21139,{"$f":"ROUND(F88*(1-$D$3)/Лист2!$A$6,0)","v":21139}]
[{"$f":"A88+1","v":64},"Комплект зеркального герметичного разделителя 1112.45.00.00 для Rimini H7","1112.45.00.00",null,null,21139,{"$f":"ROUND(F89*(1-$D$3)/Лист2!$A$6,0)","v":21139}]
[{"$f":"A89+1","v":65},"Комплект зеркального герметичного разделителя 1115.45.00.00 для Rimini L7","1115.45.00.00",null,null,20674,{"$f":"ROUND(F90*(1-$D$3)/Лист2!$A$6,0)","v":20674}]
[]
[{"$f":"A90+1","v":66},"Комплект панорамного герметичного разделителя (стеклопакет) для Rimini H10","811.46.00.00",null,null,17314,{"$f":"ROUND(F92*(1-$D$3)/Лист2!$A$6,0)","v":17314}]
[]
[{"$f":"A92+1","v":67},"Комплект соединительный в линию для Rimini","1058.60.00.00",null,null,2222,{"$f":"ROUND(F94*(1-$D$3)/Лист2!$A$6,0)","v":2222}]
[{"$f":"A94+1","v":68},"Комплект соединительный в линию для 1215.60.00.00 для Lazio","1215.60.00.00",null,null,1097,{"$f":"ROUND(F95*(1-$D$3)/Лист2!$A$6,0)","v":1097}]
[]
[{"$f":"A95+1","v":69},"Полка навесная с кронштейнами (ОЦ) 1250х600 1106.65.00.00 для Rimini для исп1250,2500,3750","1106.65.00.00",null,null,2662,{"$f":"ROUND(F97*(1-$D$3)/Лист2!$A$6,0)","v":2662}]
[{"$f":"A97+1","v":70},"Полка навесная с кронштейнами (ОЦ) 937х600 1106.65.00.00-01 для Rimini для исп. 1875"," 1106.65.00.00-01",null,null,2179,{"$f":"ROUND(F98*(1-$D$3)/Лист2!$A$6,0)","v":2179}]
[{"$f":"A98+1","v":71},"Полка навесная с кронштейнами (ОЦ) 1250х500 1106.66.00.00 для Rimini для исп1250,2500,3750","1106.66.00.00",null,null,2374,{"$f":"ROUND(F99*(1-$D$3)/Лист2!$A$6,0)","v":2374}]
[72,"Полка навесная с кронштейнами (ОЦ) 937х500 1106.66.00.00-01 для Rimini для исп. 1875"," 1106.66.00.00-01",null,null,1996,{"$f":"ROUND(F100*(1-$D$3)/Лист2!$A$6,0)","v":1996}]
[73,"Полка навесная с кронштейнами (ОЦ) 1250х400 1106.62.00.00 для Rimini для исп1250,2500,3750","1106.62.00.00",null,null,1853,{"$f":"ROUND(F101*(1-$D$3)/Лист2!$A$6,0)","v":1853}]
[74,"Полка навесная с кронштейнами (ОЦ) 937х400 1106.62.00.00-01 для Rimini для исп. 1875"," 1106.62.00.00-01",null,null,1713,{"$f":"ROUND(F102*(1-$D$3)/Лист2!$A$6,0)","v":1713}]
[75,"Полка навесная с кронштейнами (ОЦ) 1250х300 1106.63.00.00 для Rimini/Lazio для исп1250,2500,3750","1106.63.00.00",null,null,1737,{"$f":"ROUND(F103*(1-$D$3)/Лист2!$A$6,0)","v":1737}]
[76,"Полка навесная с кронштейнами (ОЦ) 937х300 1106.63.00.00-01 для Rimini/Lazio для исп. 1875","1106.63.00.00-01",null,null,1598,{"$f":"ROUND(F104*(1-$D$3)/Лист2!$A$6,0)","v":1598}]
[77,"Ценникодержатель съемный,L=1250, T-TH 0100125, прозрачный","T-TH 0100125",null,null,110,{"$f":"ROUND(F105*(1-$D$3)/Лист2!$A$6,0)","v":110}]
[78,"Ценникодержатель съемный, L=925,  прозрачный","н№15085.2",null,null,76,{"$f":"ROUND(F106*(1-$D$3)/Лист2!$A$6,0)","v":76}]
[]
[{"$f":"A106+1","v":79},"Решетка базовая (фруктовая) 932х755 мм. для Rimini H10 для исп.1875","811.75.00.00",null,null,3490,{"$f":"ROUND(F108*(1-$D$3)/Лист2!$A$6,0)","v":3490}]
[{"$f":"A108+1","v":80},"Решетка базовая (фруктовая) 1245х755 мм. для Rimini H10 для исп.1250/2500/3750","811.75.00.00-01",null,null,4214,{"$f":"ROUND(F109*(1-$D$3)/Лист2!$A$6,0)","v":4214}]
[{"$f":"A109+1","v":81},"Решетка фруктовая (базовая), 932х635 мм. для Rimini H9/L9","781.75.00.00",null,null,3357,{"$f":"ROUND(F110*(1-$D$3)/Лист2!$A$6,0)","v":3357}]
[82,"Решетка фруктовая (базовая), 1245x635 мм. для Rimini H9/L9 1250/2500/3750","781.75.00.00-01",null,null,3714,{"$f":"ROUND(F111*(1-$D$3)/Лист2!$A$6,0)","v":3714}]
[83,"Решетка базовая (фруктовая) 932х455 мм. для Rimini H7/L7 для исп.1875","798.75.00.00",null,null,2521,{"$f":"ROUND(F112*(1-$D$3)/Лист2!$A$6,0)","v":2521}]
[84,"Решетка базовая (фруктовая) 1245х455 мм. для Rimini H7/L7 для исп.1250/2500/3750","798.75.00.00-01",null,null,2854,{"$f":"ROUND(F113*(1-$D$3)/Лист2!$A$6,0)","v":2854}]
[]
[{"$f":"A113+1","v":85},"Комплект зеркала наклонного 1118.53.00.00 L=1250 для Rimini H10","1118.53.00.00",null,null,3782,{"$f":"ROUND(F115*(1-$D$3)/Лист2!$A$6,0)","v":3782}]
[{"$f":"A115+1","v":86},"Комплект зеркала наклонного 1118.53.00.00-01 L=973 для Rimini H10","1118.53.00.00-01",null,null,3241,{"$f":"ROUND(F116*(1-$D$3)/Лист2!$A$6,0)","v":3241}]
[{"$f":"A116+1","v":87},"Комплект заглушек для зеркала наклонного 1118.52.00.00 для Rimini H10","1118.52.00.00",null,null,1127,{"$f":"ROUND(F117*(1-$D$3)/Лист2!$A$6,0)","v":1127}]
[88,"Комплект зеркала наклонного 1058.53.00.00 L=1250 для Rimini H9/L9","1058.53.00.00",null,null,3289,{"$f":"ROUND(F118*(1-$D$3)/Лист2!$A$6,0)","v":3289}]
[89,"Комплект зеркала наклонного 1058.53.00.00-01 L=973 для Rimini H9/L9","1058.53.00.00-01",null,null,2818,{"$f":"ROUND(F119*(1-$D$3)/Лист2!$A$6,0)","v":2818}]
[90,"Комплект заглушек для зеркала наклонного 1058.52.00.00 для Rimini H9/L9","1058.52.00.00",null,null,854,{"$f":"ROUND(F120*(1-$D$3)/Лист2!$A$6,0)","v":854}]
[91,"Комплект зеркала наклонного 1112.53.00.00 L=1250 для Rimini H7/L7","1112.53.00.00",null,null,2939,{"$f":"ROUND(F121*(1-$D$3)/Лист2!$A$6,0)","v":2939}]
[92,"Комплект зеркала наклонного 1112.53.00.00-01 L=973 для Rimini H7/L7","1112.53.00.00-01",null,null,2523,{"$f":"ROUND(F122*(1-$D$3)/Лист2!$A$6,0)","v":2523}]
[93,"Комплект заглушек для зеркала наклонного 1112.52.00.00 для Rimini H7/L7","1112.52.00.00",null,null,627,{"$f":"ROUND(F123*(1-$D$3)/Лист2!$A$6,0)","v":627}]
[]
[{"$f":"A123+1","v":94},"Разделитель объема для полок(600) для Rimini","717.115.00.00",null,null,3370,{"$f":"ROUND(F125*(1-$D$3)/Лист2!$A$6,0)","v":3370}]
[{"$f":"A125+1","v":95},"Разделитель объема для полок(500) для Rimini","646.116.00.00",null,null,2973,{"$f":"ROUND(F126*(1-$D$3)/Лист2!$A$6,0)","v":2973}]
[96,"Разделитель объема для полок(400) для Rimini","757.115.00.00",null,null,2063,{"$f":"ROUND(F127*(1-$D$3)/Лист2!$A$6,0)","v":2063}]
[97,"Делитель передвижной H=150 (500) оргст 646.51.00.01-01 L=1250/2500/3750 для стеллажей Italfrigo","646.51.00.01-01",null,null,759,{"$f":"ROUND(F128*(1-$D$3)/Лист2!$A$6,0)","v":759}]
[98,"Делитель передвижной H=150 (400) оргст 646.51.00.01 L=1250/2500/3750 для стеллажей Italfrigo","646.51.00.01",null,null,603,{"$f":"ROUND(F129*(1-$D$3)/Лист2!$A$6,0)","v":603}]
[99,"Фронтальный ограничитель(1250) оргст 646.54.00.01 L=1250/2500/3750 для стеллажей Italfrigo","646.54.00.01",null,null,571,{"$f":"ROUND(F130*(1-$D$3)/Лист2!$A$6,0)","v":571}]
[100,"Фронтальный ограничитель(937) оргст 646.54.00.01-01 L=1875 для стеллажей Italfrigo"," 646.54.00.01-01",null,null,551,{"$f":"ROUND(F131*(1-$D$3)/Лист2!$A$6,0)","v":551}]
[101,"Фронтальный ограничитель H=120 (1250) оргст 646.54.00.02 L=1250/2500/3750 для стеллажей Italfrigo","646.54.00.02",null,null,1689,{"$f":"ROUND(F132*(1-$D$3)/Лист2!$A$6,0)","v":1689}]
[102,"Фронтальный ограничитель H=120 (937) оргст 646.54.00.02-01 L=1875 для стеллажей Italfrigo"," 646.54.00.02-01",null,null,1322,{"$f":"ROUND(F133*(1-$D$3)/Лист2!$A$6,0)","v":1322}]
[103,"Фронтальный ограничитель Н=40мм, L=1250 (оргст) 646.54.00.03 L=1250/2500/3750 для Rimini/Lazio","646.54.00.03",null,null,692,{"$f":"ROUND(F134*(1-$D$3)/Лист2!$A$6,0)","v":692}]
[104,"Фронтальный ограничитель Н=40мм, L=937 (оргст) 646.54.00.03-01 L=1875 для Rimini/Lazio","646.54.00.03-01",null,null,324,{"$f":"ROUND(F135*(1-$D$3)/Лист2!$A$6,0)","v":324}]
[105,"Фронтальный ограничитель Н=60мм, L=1250 (оргст) 646.54.00.04 L=1250/2500/3750 для Rimini/Lazio","646.54.00.04",null,null,1015,{"$f":"ROUND(F136*(1-$D$3)/Лист2!$A$6,0)","v":1015}]
[106,"Фронтальный ограничитель Н=60мм, L=937 (оргст) 646.54.00.04-01 L=1875 для Rimini/Lazio","646.54.00.04-01",null,null,821,{"$f":"ROUND(F137*(1-$D$3)/Лист2!$A$6,0)","v":821}]
[107,"Ограничитель проволочный(ОЦ, полимерное покрытие) 1235х57мм 781.76.00.01","781.76.00.01",null,null,337,{"$f":"ROUND(F138*(1-$D$3)/Лист2!$A$6,0)","v":337}]
[108,"Ограничитель фронтальный проволочный 141.64.00.00 H=80 L=1250 для ВПВ Rimni/Lazio 1250/2500/3750","141.64.00.00",null,null,571,{"$f":"ROUND(F139*(1-$D$3)/Лист2!$A$6,0)","v":571}]
[109,"Ограничитель проволочный(ОЦ, полимерное покрытие) 926х57мм 781.76.00.01-01","781.76.00.01-01",null,null,269,{"$f":"ROUND(F140*(1-$D$3)/Лист2!$A$6,0)","v":269}]
[110,"Ограничитель фронтальный проволочный 189.64.00.00 Н=80 L=940 для ВПВ Rimni/Lazio 1875","189.64.00.00",null,null,450,{"$f":"ROUND(F141*(1-$D$3)/Лист2!$A$6,0)","v":450}]
[]
[{"$f":"A141+1","v":111},"Комплект отбойника фронтального (пластик) L=1250","646.56.00.00",null,null,927,{"$f":"ROUND(F143*(1-$D$3)/Лист2!$A$6,0)","v":927}]
[{"$f":"A143+1","v":112},"Комплект отбойника фронтального (пластик) L=1875","646.56.00.00-01",null,null,1342,{"$f":"ROUND(F144*(1-$D$3)/Лист2!$A$6,0)","v":1342}]
[{"$f":"A144+1","v":113},"Комплект отбойника фронтального (пластик) L=2500","646.56.00.00-02",null,null,1931,{"$f":"ROUND(F145*(1-$D$3)/Лист2!$A$6,0)","v":1931}]
[114,"Комплект отбойника фронтального (пластик) L=3750","646.56.00.00-03",null,null,2583,{"$f":"ROUND(F146*(1-$D$3)/Лист2!$A$6,0)","v":2583}]
[115,"Торцевой элемент НБИЛГ 7.116.007 н№950.28","н№950.28",null,null,296,{"$f":"ROUND(F147*(1-$D$3)/Лист2!$A$6,0)","v":296}]
[116,"Комплект отбойника фронтального 15х30 (труба нерж.) L=1250","781.55.00.00",null,null,1853,{"$f":"ROUND(F148*(1-$D$3)/Лист2!$A$6,0)","v":1853}]
[117,"Комплект отбойника фронтального 15х30 (труба нерж.) L=1875","781.55.00.00-01",null,null,2685,{"$f":"ROUND(F149*(1-$D$3)/Лист2!$A$6,0)","v":2685}]
[118,"Комплект отбойника фронтального 15х30 (труба нерж) L=2500","781.55.00.00-02",null,null,3511,{"$f":"ROUND(F150*(1-$D$3)/Лист2!$A$6,0)","v":3511}]
[119,"Комплект отбойника фронтального 15х30 (труба нерж) L=3750","781.55.00.00-03",null,null,5167,{"$f":"ROUND(F151*(1-$D$3)/Лист2!$A$6,0)","v":5167}]
[]
[{"$f":"A151+1","v":120},"Комплект подвесов для колбасы(две штанги + 4 блока крюков) 1004.59.00.00-01 L=1250, 2500 25 шаг","1004.59.00.00-01",null,null,6693,{"$f":"ROUND(F153*(1-$D$3)/Лист2!$A$6,0)","v":6693}]
[{"$f":"A153+1","v":121},"Комплект подвесов для колбасы(две штанги + 4 блока крюков) 1004.59.00.00-03 L=937 25 шаг","1004.59.00.00-03",null,null,5786,{"$f":"ROUND(F154*(1-$D$3)/Лист2!$A$6,0)","v":5786}]
[{"$f":"A154+1","v":122},"Штанга для навески крюков 1004.57.00.00-01 L=1250, 15х30 мм. 25 шаг для Rimini/Lazio/Solo","1004.57.00.00-01",null,null,2500,{"$f":"ROUND(F155*(1-$D$3)/Лист2!$A$6,0)","v":2500}]
[123,"Штанга для навески крюков 1004.57.00.00-03 L=937, 15х30 мм. 25 шаг для Rimini/Lazio/Solo","1004.57.00.00-03",null,null,2028,{"$f":"ROUND(F156*(1-$D$3)/Лист2!$A$6,0)","v":2028}]
[124,"Крючок на штангу одинарный хромированный с ценникодержателем, 300 мм / диаметр 8,0 мм","н№15074.31",null,null,472,{"$f":"ROUND(F157*(1-$D$3)/Лист2!$A$6,0)","v":472}]
[125,"Крючок на штангу одинарный хромированный с ценникодержателем, 400 мм / диаметр 8,0 мм","н№15074.32",null,null,729,{"$f":"ROUND(F158*(1-$D$3)/Лист2!$A$6,0)","v":729}]
[126,"Крючок на штангу одинарный хромированный с ценникодержателем, 500 мм / диаметр 10,0 мм","н№15074.33",null,null,886,{"$f":"ROUND(F159*(1-$D$3)/Лист2!$A$6,0)","v":886}]
[]
["Milan S"]
[127,"Комплект боковины глухой левой 939.40.00.00 для Milan S","939.40.00.00",null,null,10250,{"$f":"ROUND(F162*(1-$D$3)/Лист2!$A$6,0)","v":10250}]
[128,"Комплект боковины глухой правой 939.40.00.00mir для Milan S","939.40.00.00mir",null,null,10250,{"$f":"ROUND(F163*(1-$D$3)/Лист2!$A$6,0)","v":10250}]
[129,"Комплект боковины глухой левой с зеркалом 939.37.00.00 для Milan S","939.37.00.00",null,null,11361,{"$f":"ROUND(F164*(1-$D$3)/Лист2!$A$6,0)","v":11361}]
[130,"Комплект боковины глухой правой с зеркалом 939.37.00.00mir для Milan S","939.37.00.00mir",null,null,11361,{"$f":"ROUND(F165*(1-$D$3)/Лист2!$A$6,0)","v":11361}]
[131,"Комплект зеркальн гермет разделителя 939.45.00.00 для Milan S","939.45.00.00",null,null,17174,{"$f":"ROUND(F166*(1-$D$3)/Лист2!$A$6,0)","v":17174}]
[132,"Комплект боковины панорамной левой 939.41.00.00 для Milan S","939.41.00.00",null,null,20049,{"$f":"ROUND(F167*(1-$D$3)/Лист2!$A$6,0)","v":20049}]
[133,"Комплект боковины панорамной правой 939.41.00.00mir для Milan S","939.41.00.00mir",null,null,20049,{"$f":"ROUND(F168*(1-$D$3)/Лист2!$A$6,0)","v":20049}]
[134,"Комплект соединительный в линию 939.60.00.00 для Milan S","939.60.00.00",null,null,2023,{"$f":"ROUND(F169*(1-$D$3)/Лист2!$A$6,0)","v":2023}]
[135,"Ценникодержатель съемный, L=1000 мм, прозрачный, откидной (на полки, рёшётку)","845.00.00.11",null,null,149,{"$f":"ROUND(F170*(1-$D$3)/Лист2!$A$6,0)","v":149}]
[136,"Полка сетчатая навесная с кронштейнами 780х513 мм  для Milan S с ограничителем","939.58.00.00",null,null,1935,{"$f":"ROUND(F171*(1-$D$3)/Лист2!$A$6,0)","v":1935}]
[137,"Полка сетчатая базовая 780х574 мм, c ограничителем для Milan S","775.14.00.00",null,null,1271,{"$f":"ROUND(F172*(1-$D$3)/Лист2!$A$6,0)","v":1271}]
[138,"Комплект отбойника фронтального (пластик) L=2343","775.56.00.00-01",null,null,1743,{"$f":"ROUND(F173*(1-$D$3)/Лист2!$A$6,0)","v":1743}]
[139,"Монтажный набор (до 4 кВт) для 1562 (D2), 2343 (D3)","1106.120.00.00S",null,null,10225,{"$f":"ROUND(F174*(1-$D$3)/Лист2!$A$6,0)","v":10225}]
[140,"Комплект отбойника фронтального (15х30) L=2343 для Milan/Anzio","775.55.00.00-01",null,null,3487,{"$f":"ROUND(F175*(1-$D$3)/Лист2!$A$6,0)","v":3487}]
[]
[]
[]
[]
[]
[null,null,null,null,null,"Наверх"]

{"sheet":"Низкотемпературные шкафы","index":12,"n_rows":30,"n_cols":11,"rows_kept":30,"cut":false,"hidden":false,"merged":[[8,9,9,9],[14,3,17,3],[14,9,17,9],[14,2,17,2],[14,7,17,7],[10,1,11,9],[8,8,9,8],[8,7,9,7],[8,6,9,6],[8,5,9,5],[8,4,9,4],[8,1,9,1],[12,5,12,9],[13,2,13,9],[10,10,10,13],[11,10,11,13],[10,0,11,0],[20,0,21,0],[24,1,25,1],[24,3,25,3],[24,4,25,4],[24,5,25,5],[24,9,25,9],[24,6,25,6],[24,7,25,7],[24,8,25,8],[20,1,21,9],[22,1,22,9],[23,3,23,9],[18,2,18,9],[8,0,9,0],[29,6,30,6],[12,0,18,1],[14,8,17,8],[14,6,17,6],[14,5,17,5],[14,4,17,4],[26,3,28,3],[8,3,9,3],[0,6,4,8],[1,1,1,2],[2,1,2,2],[3,1,3,2],[5,0,7,8]]}
[null,null,null,null,null,null,"ЗАВОД «ОПК»\nТел.: +7 (496) 704-52-11\ne-mail:manager@ozpk.ru\nсайт: ozpk.ru",null,null,"На главную"]
[]
[null,"Ваша скидка:",null,{"$f":"Содержание!D2","v":0}]
[null,"НДС:",null,{"$f":"IF(Лист2!A1=TRUE,\"С НДС\",\"БЕЗ НДС\")","v":"С НДС"}]
[]
["Низкотемпературные шкафы Cryspi со встроенным агрегатом"]
[]
[]
["№","Артикул","Наименование","Температурный режим ","Площадь экспозиции","Охлаждаемый объем","Габариты","Габариты в упаковке (в обрешетке),","Базовая","Ваша цена"]
[null,null,null,null,null,null,"(LxWxH) мм","(LxWxH) мм","цена, руб. (с НДС)"]
[1,"Шкаф-надстройка Verona",null,null,null,null,null,null,null,null,"СЕЧЕНИЯ"]
[null,null,null,null,null,null,null,null,null,null,"VERONA"]
[null,null,"Стандартная комплектация:     \n- подставка с комплектом крепежа\n- светодиодная подсветка внутреннего объема (4500К, 6500К) без изменения цены\n- автоматическая оттайка горячим газом\n- автоматическое выпаривание конденсата\n- 4 уровня решетчатых полок\nХарактеристика С.4.2.PS.0.внеш9016гл_внутр9016гл",null,null,"Тип охлаждения - динамический\n- Климатический класс - 3\n- Температура окружающей среды, С°  - max +25\n- Относительная влажность воздуха, % - max 60\n- Хладагент - R290\n- Напряжение, В - 220"]
[null,null,"Надстройка для ларя 400 л."]
[null,null,"Шкаф низкотемпературный ШН Verona 1220","-23…-18",null,1.0760000000000001,"1217х750х2210",null,174788,{"$f":"ROUND(I15*(1-$D$3)/Лист2!$A$6,0)","v":174788}]
[]
[]
[]
[]
[]
[2,"Стеллаж охлаждаемый низкотемпературный Corsa LT"]
[]
[null,"Стеллажи охлаждаемые (надстройки на ларями-бонетами) ВПН С Corsa с глубиной базовой полки 400мм, навесных 400мм и высотой охлаждаемого объема 790мм. Имеют динамический тип охлаждения обеспечивающее равномерное охлаждение и поддержание стабильной температуры. Оснащаются вертикальной светодиодной энергосберегающей подсветкой, электронным независимым термометром, фронтальными блоками остекления с распашными дверьми с двухкамерным стеклопакетом из низкоэмиссионного стекла, компрессорами на хладагенте R290 (пропан). Модуль 1875 мм. - 3 двери; 2100 мм. - 3 двери; 2500 мм. - 4 двери\nОборудование предназначено для продажи и кратковременного хранения продуктов при температуре окружающей среды от +16˚С до +25˚С и относительной влажности воздуха не выше 60%."]
[null,null,"Базовая комплектация стеллажа:     \n- Общее светодиодное освещение (вертикальное), стандартный - 4000-4500К, опционально 2700-3000К, 6500К, мясной\n- внутренний объем - оцинкованный пластификат (двойная защита от коррозии)\n- внутренняя поверхность ванны из оцинкованного пластификата (двойная защита от коррозии);\n- электронный контроллер для управления работой оборудования;\n- цифрофой термометр;"," упаковка  в деревянной обрешетке.\n- 3 навесные сетчатые полки\n- решетки на бозовую полку\n- декоративные верхний банер\n- выпариватель конденсата\n- рама основания \n- ценникодержатели на базовую и навесные полки 40 мм\n- комплект крепления к стене"]
[null,"Артикул","Наименование","Температурный режим ","Площадь экспозиции","Охлаждаемый объем","Габариты","Габариты в упаковке (в обрешетке),","Базовая","Ваша цена"]
[null,null,null,null,null,null,"(LxWxH) мм","(LxWxH) мм","цена, руб. (с НДС)"]
[null,"CRS LT 1,85","Corsa LT 1850","-23 … -18 С","2,80",0.51,"1980х815х2385","2300х950х2050",329400,{"$f":"ROUND(I27*(1-$D$3)/Лист2!$A$6,0)","v":329400}]
[null,"CRS LT 2,1","Corsa LT 2100",null,3.15,0.56999999999999995,"2100х815х2385","2450х950х2050",353190,{"$f":"ROUND(I28*(1-$D$3)/Лист2!$A$6,0)","v":353190}]
[null,"CRS LT 2,5","Corsa LT 2500",null,3.79,0.79,"25000х815х238","2850х950х2050",400770,{"$f":"ROUND(I29*(1-$D$3)/Лист2!$A$6,0)","v":400770}]
[null,null,null,null,null,null,"НАВЕРХ"]

{"sheet":"Лари ItalFrost","index":13,"n_rows":122,"n_cols":13,"rows_kept":122,"cut":false,"hidden":false,"merged":[[118,1,118,5],[119,1,119,5],[120,1,120,5],[47,2,48,2],[49,2,50,2],[51,2,52,2],[25,3,26,3],[25,5,26,5],[27,2,28,2],[29,2,30,2],[95,1,95,9],[96,0,98,1],[110,3,110,4],[111,3,111,4],[112,3,112,4],[32,2,33,2],[34,2,35,2],[36,2,37,2],[38,2,39,2],[82,6,83,6],[80,6,81,6],[78,6,79,6],[76,6,77,6],[84,7,85,7],[99,10,99,12],[40,3,41,3],[40,5,41,5],[40,6,41,6],[40,7,41,7],[38,3,39,3],[38,5,39,5],[38,6,39,6],[38,7,39,7],[99,1,99,9],[82,7,83,7],[80,7,81,7],[78,7,79,7],[76,7,77,7],[76,0,85,1],[75,1,75,9],[84,2,85,2],[82,2,83,2],[80,2,81,2],[78,2,79,2],[76,2,77,2],[84,3,85,3],[82,3,83,3],[40,2,41,2],[43,2,44,2],[45,2,46,2],[25,6,26,6],[25,2,26,2],[47,7,48,7],[47,3,48,3],[47,5,48,5],[34,6,35,6],[34,7,35,7],[31,1,31,9],[32,0,41,1],[32,3,33,3],[32,5,33,5],[32,6,33,6],[32,7,33,7],[36,3,37,3],[36,5,37,5],[36,6,37,6],[36,7,37,7],[21,0,30,1],[21,2,22,2],[34,3,35,3],[34,5,35,5],[23,2,24,2],[80,3,81,3],[78,3,79,3],[76,3,77,3],[84,5,85,5],[82,5,83,5],[80,5,81,5],[78,5,79,5],[64,1,64,9],[65,0,74,1],[65,2,66,2],[65,5,66,5],[67,2,68,2],[67,5,68,5],[69,2,70,2],[69,5,70,5],[71,2,72,2],[71,5,72,5],[73,2,74,2],[73,5,74,5],[65,3,66,3],[65,6,66,6],[65,7,66,7],[67,3,68,3],[67,6,68,6],[67,7,68,7],[69,3,70,3],[69,6,70,6],[69,7,70,7],[71,3,72,3],[71,6,72,6],[71,7,72,7],[1,0,1,1],[2,0,2,1],[3,0,3,1],[4,0,5,9],[6,9,7,9],[47,6,48,6],[21,3,22,3],[21,5,22,5],[21,6,22,6],[21,7,22,7],[27,3,28,3],[27,5,28,5],[27,6,28,6],[45,5,46,5],[45,6,46,6],[45,7,46,7],[18,6,19,6],[12,2,13,2],[12,3,13,3],[6,5,7,5],[6,6,7,6],[6,7,7,7],[12,5,13,5],[12,6,13,6],[12,7,13,7],[8,5,8,9],[8,0,8,4],[6,8,7,8],[10,0,19,1],[10,2,11,2],[10,3,11,3],[6,0,7,0],[6,1,7,1],[6,3,7,4],[14,3,15,3],[14,5,15,5],[6,2,7,2],[14,2,15,2],[16,2,17,2],[16,3,17,3],[16,5,17,5],[6,10,7,14],[121,8,122,8],[42,1,42,9],[43,0,52,1],[43,3,44,3],[43,5,44,5],[43,6,44,6],[43,7,44,7],[49,3,50,3],[49,5,50,5],[49,6,50,6],[49,7,50,7],[51,3,52,3],[51,5,52,5],[51,6,52,6],[51,7,52,7],[45,3,46,3],[18,7,19,7],[9,1,9,9],[10,5,11,5],[10,6,11,6],[10,7,11,7],[14,6,15,6],[14,7,15,7],[16,6,17,6],[16,7,17,7],[27,7,28,7],[29,3,30,3],[29,5,30,5],[29,6,30,6],[29,7,30,7],[25,7,26,7],[18,2,19,2],[18,3,19,3],[18,5,19,5],[23,3,24,3],[23,5,24,5],[23,6,24,6],[23,7,24,7],[20,1,20,9],[62,3,63,3],[62,5,63,5],[53,1,53,9],[62,6,63,6],[62,7,63,7],[54,0,63,1],[54,2,55,2],[54,3,55,3],[54,5,55,5],[54,6,55,6],[54,7,55,7],[56,2,57,2],[56,3,57,3],[56,5,57,5],[56,6,57,6],[56,7,57,7],[58,2,59,2],[58,3,59,3],[58,5,59,5],[58,6,59,6],[58,7,59,7],[60,2,61,2],[60,3,61,3],[60,5,61,5],[60,6,61,6],[60,7,61,7],[62,2,63,2],[100,0,102,1],[115,3,115,4],[116,3,116,4],[113,1,113,9],[117,3,117,4],[76,5,77,5],[84,6,85,6],[103,5,107,5],[103,3,103,4],[73,7,74,7],[73,3,74,3],[73,6,74,6],[114,3,114,4],[109,2,110,2],[102,3,102,4],[101,3,101,4],[100,3,100,4],[109,3,109,4],[108,3,108,4],[107,3,107,4],[106,3,106,4],[105,3,105,4],[104,3,104,4],[114,0,114,1],[115,0,115,1],[116,0,116,1],[117,0,117,1],[108,0,108,1],[109,0,110,1],[111,0,111,1],[112,0,112,1],[86,1,86,9],[87,3,88,3],[87,7,88,7],[89,3,90,3],[89,7,90,7],[91,3,92,3],[91,7,92,7],[93,3,94,3],[93,7,94,7],[87,0,94,1],[87,2,88,2],[87,5,88,5],[87,6,88,6],[89,2,90,2],[89,5,90,5],[89,6,90,6],[91,2,92,2],[91,5,92,5],[91,6,92,6],[93,2,94,2],[93,5,94,5],[93,6,94,6]]}
[null,null,null,null,null,null,null,null,null,null,"На главную"]
[null,null,null,null,null,null,null,null,null,null,null,null,"На главную"]
["Ваша скидка:",null,null,{"$f":"Содержание!D2","v":0}]
["НДС:",null,null,{"$f":"IF(Лист2!A1=TRUE,\"С НДС\",\"БЕЗ НДС\")","v":"С НДС"}]
["Морозильные и холодильные лари Italfrost"]
[]
["№","Изображение","Номер КД","Наименование",null,"Температур-ный режим, °C","Объем, л","Габариты, \n(LxWxH) мм","Базовая \nцена, руб.\n(с НДС)",{"$f":"Лист2!$A$5","v":"Ваша цена, руб."},"Нажмите для расчета стоимости брендирования"]
[]
["Стандартная комплектация:     \n- Экологически безопасный хладагент R290\n- Цвет внешнего и внутреннего корпуса и деталей RAL9003\n- Цвет пластиковой крышки серый ( красный, голубой, синий, зеленый -  наличие уточнять у менеджеров)\n- Закаленные стекла с применением шелкографии",null,null,null,null,"Тип охлаждения - статический\n- Напряжение, В - 220"]
[1,"Морозильные лари с гнутыми раздвижными стеклами"]
[null,null,"1128.00.00.00","CF200CQ","без корзин","-18…-25",235,"807х662х925",38401,{"$f":"ROUND(I11*(1-$D$3)/Лист2!$A$6,0)","v":38401}]
[null,null,null,null,"3 корзины",null,null,null,40591,{"$f":"ROUND(I12*(1-$D$3)/Лист2!$A$6,0)","v":40591}]
[null,null,"1128.00.00.00-01","CF300CQ","без корзин","-18…-25",319,"1017х662х925",42205,{"$f":"ROUND(I13*(1-$D$3)/Лист2!$A$6,0)","v":42205}]
[null,null,null,null,"4 корзины",null,null,null,45126,{"$f":"ROUND(I14*(1-$D$3)/Лист2!$A$6,0)","v":45126}]
[null,null,"1128.00.00.00-02","CF400CQ","без корзин","-18…-25",398,"1217х662х925",45759,{"$f":"ROUND(I15*(1-$D$3)/Лист2!$A$6,0)","v":45759}]
[null,null,null,null,"5 корзин",null,null,null,49410,{"$f":"ROUND(I16*(1-$D$3)/Лист2!$A$6,0)","v":49410}]
[null,null,"1128.00.00.00-03","CF500CQ","без корзин","-18…-25",485,"1437х662х925",50006,{"$f":"ROUND(I17*(1-$D$3)/Лист2!$A$6,0)","v":50006}]
[null,null,null,null,"6 корзин",null,null,null,54387,{"$f":"ROUND(I18*(1-$D$3)/Лист2!$A$6,0)","v":54387}]
[null,null,"1128.00.00.00-04","CF600CQ","без корзин","-18…-25",572,"1657х662х925",53762,{"$f":"ROUND(I19*(1-$D$3)/Лист2!$A$6,0)","v":53762}]
[null,null,null,null,"7 корзин",null,null,null,58874,{"$f":"ROUND(I20*(1-$D$3)/Лист2!$A$6,0)","v":58874}]
[2,"Морозильные лари с прямыми раздвижными стеклами (составная корона)"]
[null,null,"1127.00.00.00","CF200FQ","без корзин","-18…-25",235,"807х662х925",37312,{"$f":"ROUND(I22*(1-$D$3)/Лист2!$A$6,0)","v":37312}]
[null,null,null,null,"3 корзины",null,null,null,39304,{"$f":"ROUND(I23*(1-$D$3)/Лист2!$A$6,0)","v":39304}]
[null,null,"1127.00.00.00-01","CF300FQ","без корзин","-18…-25",319,"1017х662х925",41435,{"$f":"ROUND(I24*(1-$D$3)/Лист2!$A$6,0)","v":41435}]
[null,null,null,null,"4 корзины",null,null,null,44092,{"$f":"ROUND(I25*(1-$D$3)/Лист2!$A$6,0)","v":44092}]
[null,null,"1127.00.00.00-02","CF400FQ","без корзин","-18…-25",398,"1217х662х925",45626,{"$f":"ROUND(I26*(1-$D$3)/Лист2!$A$6,0)","v":45626}]
[null,null,null,null,"5 корзин",null,null,null,48947,{"$f":"ROUND(I27*(1-$D$3)/Лист2!$A$6,0)","v":48947}]
[null,null,"1127.00.00.00-03","CF500FQ","без корзин","-18…-25",485,"1437х662х925",50217,{"$f":"ROUND(I28*(1-$D$3)/Лист2!$A$6,0)","v":50217}]
[null,null,null,null,"6 корзин",null,null,null,54203,{"$f":"ROUND(I29*(1-$D$3)/Лист2!$A$6,0)","v":54203}]
[null,null,"1127.00.00.00-04","CF600FQ","без корзин","-18…-25",572,"1657х662х925",54077,{"$f":"ROUND(I30*(1-$D$3)/Лист2!$A$6,0)","v":54077}]
[null,null,null,null,"7 корзин",null,null,null,58727,{"$f":"ROUND(I31*(1-$D$3)/Лист2!$A$6,0)","v":58727}]
[3,"Морозильные лари с глухой крышкой"]
[null,null,"1011.00.00.00","CF200S","без корзин","-18…-25",235,"808х743х904",37808,{"$f":"ROUND(I33*(1-$D$3)/Лист2!$A$6,0)","v":37808}]
[null,null,null,null,"1 корзина",null,null,null,38472,{"$f":"ROUND(I34*(1-$D$3)/Лист2!$A$6,0)","v":38472}]
[null,null,"1011.00.00.00-01","CF300S","без корзин","-18…-25",319,"1018х743х904",41334,{"$f":"ROUND(I35*(1-$D$3)/Лист2!$A$6,0)","v":41334}]
[null,null,null,null,"1 корзина",null,null,null,41997,{"$f":"ROUND(I36*(1-$D$3)/Лист2!$A$6,0)","v":41997}]
[null,null,"1011.00.00.00-02","CF400S","без корзин","-18…-25",398,"1218х743х904",49208,{"$f":"ROUND(I37*(1-$D$3)/Лист2!$A$6,0)","v":49208}]
[null,null,null,null,"1 корзина",null,null,null,49873,{"$f":"ROUND(I38*(1-$D$3)/Лист2!$A$6,0)","v":49873}]
[null,null,"1011.00.00.00-03","CF500S","без корзин","-18…-25",485,"1438х743х904",50016,{"$f":"ROUND(I39*(1-$D$3)/Лист2!$A$6,0)","v":50016}]
[null,null,null,null,"1 корзина",null,null,null,50680,{"$f":"ROUND(I40*(1-$D$3)/Лист2!$A$6,0)","v":50680}]
[null,null,"1011.00.00.00-04","CF600S","без корзин","-18…-25",572,"1658х743х904",54553,{"$f":"ROUND(I41*(1-$D$3)/Лист2!$A$6,0)","v":54553}]
[null,null,null,null,"1 корзина",null,null,null,55217,{"$f":"ROUND(I42*(1-$D$3)/Лист2!$A$6,0)","v":55217}]
[4,"Морозильные лари с глухой крышкой (крышка из нержавеющей стали)"]
[null,null,"1011.00.00.00","CF200S нерж","без корзин","-18…-25",235,"808х743х904",42857,{"$f":"ROUND(I44*(1-$D$3)/Лист2!$A$6,0)","v":42857}]
[null,null,null,null,"1 корзина",null,null,null,43521,{"$f":"ROUND(I45*(1-$D$3)/Лист2!$A$6,0)","v":43521}]
[null,null,"1011.00.00.00-01","CF300S нерж","без корзин","-18…-25",319,"1018х743х904",47585,{"$f":"ROUND(I46*(1-$D$3)/Лист2!$A$6,0)","v":47585}]
[null,null,null,null,"1 корзина",null,null,null,48249,{"$f":"ROUND(I47*(1-$D$3)/Лист2!$A$6,0)","v":48249}]
[null,null,"1011.00.00.00-02","CF400S нерж","без корзин","-18…-25",398,"1218х743х904",56404,{"$f":"ROUND(I48*(1-$D$3)/Лист2!$A$6,0)","v":56404}]
[null,null,null,null,"1 корзина",null,null,null,57068,{"$f":"ROUND(I49*(1-$D$3)/Лист2!$A$6,0)","v":57068}]
[null,null,"1011.00.00.00-03","CF500S нерж","без корзин","-18…-25",485,"1438х743х904",57420,{"$f":"ROUND(I50*(1-$D$3)/Лист2!$A$6,0)","v":57420}]
[null,null,null,null,"1 корзина",null,null,null,58084,{"$f":"ROUND(I51*(1-$D$3)/Лист2!$A$6,0)","v":58084}]
[null,null,"1011.00.00.00-04","CF600S нерж","без корзин","-18…-25",572,"1658х743х904",61913,{"$f":"ROUND(I52*(1-$D$3)/Лист2!$A$6,0)","v":61913}]
[null,null,null,null,"1 корзина",null,null,null,62577,{"$f":"ROUND(I53*(1-$D$3)/Лист2!$A$6,0)","v":62577}]
[5,"Морозильные лари с гнутыми раздвижными стеклами (составная корона, климатический класс 4+)"]
[null,null,null,"CFТ200CQ","без корзин","-18…-25",235,"807х662х925",43377,{"$f":"ROUND(I55*(1-$D$3)/Лист2!$A$6,0)","v":43377}]
[null,null,null,null,"3 корзины",null,null,null,45568,{"$f":"ROUND(I56*(1-$D$3)/Лист2!$A$6,0)","v":45568}]
[null,null,null,"CFТ300CQ","без корзин","-18…-25",319,"1017х662х925",45844,{"$f":"ROUND(I57*(1-$D$3)/Лист2!$A$6,0)","v":45844}]
[null,null,null,null,"4 корзины",null,null,null,48764,{"$f":"ROUND(I58*(1-$D$3)/Лист2!$A$6,0)","v":48764}]
[null,null,null,"CFT400CQ","без корзин","-18…-25",398,"1217х662х925",49243,{"$f":"ROUND(I59*(1-$D$3)/Лист2!$A$6,0)","v":49243}]
[null,null,null,null,"5 корзин",null,null,null,52894,{"$f":"ROUND(I60*(1-$D$3)/Лист2!$A$6,0)","v":52894}]
[null,null,null,"CFТ500CQ","без корзин","-18…-25",485,"1437х662х925",50720,{"$f":"ROUND(I61*(1-$D$3)/Лист2!$A$6,0)","v":50720}]
[null,null,null,null,"6 корзин",null,null,null,55101,{"$f":"ROUND(I62*(1-$D$3)/Лист2!$A$6,0)","v":55101}]
[null,null,null,"CFТ600CQ","без корзин","-18…-25",572,"1657х662х925",58926,{"$f":"ROUND(I63*(1-$D$3)/Лист2!$A$6,0)","v":58926}]
[null,null,null,null,"7 корзин",null,null,null,64037,{"$f":"ROUND(I64*(1-$D$3)/Лист2!$A$6,0)","v":64037}]
[6,"Морозильные лари с прямыми раздвижными стеклами составная корона (климатический класс 4+)"]
[null,null,null,"CFТ200FQ","без корзин","-18…-25",235,"807х662х925",41363,{"$f":"ROUND(I66*(1-$D$3)/Лист2!$A$6,0)","v":41363}]
[null,null,null,null,"3 корзины",null,null,null,43356,{"$f":"ROUND(I67*(1-$D$3)/Лист2!$A$6,0)","v":43356}]
[null,null,null,"CFТ300FQ","без корзин","-18…-25",319,"1017х662х925",46149,{"$f":"ROUND(I68*(1-$D$3)/Лист2!$A$6,0)","v":46149}]
[null,null,null,null,"4 корзины",null,null,null,48805,{"$f":"ROUND(I69*(1-$D$3)/Лист2!$A$6,0)","v":48805}]
[null,null,null,"CFT400FQ","без корзин","-18…-25",398,"1217х662х925",49233,{"$f":"ROUND(I70*(1-$D$3)/Лист2!$A$6,0)","v":49233}]
[null,null,null,null,"5 корзин",null,null,null,52555,{"$f":"ROUND(I71*(1-$D$3)/Лист2!$A$6,0)","v":52555}]
[null,null,null,"CFТ500FQ","без корзин","-18…-25",485,"1437х662х925",50244,{"$f":"ROUND(I72*(1-$D$3)/Лист2!$A$6,0)","v":50244}]
[null,null,null,null,"6 корзин",null,null,null,54229,{"$f":"ROUND(I73*(1-$D$3)/Лист2!$A$6,0)","v":54229}]
[null,null,null,"CFТ600FQ","без корзин","-18…-25",572,"1657х662х925",59420,{"$f":"ROUND(I74*(1-$D$3)/Лист2!$A$6,0)","v":59420}]
[null,null,null,null,"7 корзин",null,null,null,64070,{"$f":"ROUND(I75*(1-$D$3)/Лист2!$A$6,0)","v":64070}]
[7,"Морозильные лари с глухой крышкой (климатический класс 4+)"]
[null,null,"1065.00.00.00","CF200ST","без корзин","-18…-25",235,"808х743х904",41589,{"$f":"ROUND(I77*(1-$D$3)/Лист2!$A$6,0)","v":41589}]
[null,null,null,null,"1 корзина",null,null,null,42253,{"$f":"ROUND(I78*(1-$D$3)/Лист2!$A$6,0)","v":42253}]
[null,null,"1065.00.00.00-01","CF300ST","без корзин","-18…-25",319,"1018х743х904",45466,{"$f":"ROUND(I79*(1-$D$3)/Лист2!$A$6,0)","v":45466}]
[null,null,null,null,"1 корзина",null,null,null,46130,{"$f":"ROUND(I80*(1-$D$3)/Лист2!$A$6,0)","v":46130}]
[null,null,"1065.00.00.00-02","CF400ST","без корзин","-18…-25",398,"1218х743х904",54128,{"$f":"ROUND(I81*(1-$D$3)/Лист2!$A$6,0)","v":54128}]
[null,null,null,null,"1 корзина",null,null,null,54793,{"$f":"ROUND(I82*(1-$D$3)/Лист2!$A$6,0)","v":54793}]
[null,null,"1065.00.00.00-03","CF500ST","без корзин","-18…-25",485,"1438х743х904",55018,{"$f":"ROUND(I83*(1-$D$3)/Лист2!$A$6,0)","v":55018}]
[null,null,null,null,"1 корзина",null,null,null,55683,{"$f":"ROUND(I84*(1-$D$3)/Лист2!$A$6,0)","v":55683}]
[null,null,"1065.00.00.00-04","CF600ST","без корзин","-18…-25",572,"1658х743х904",60009,{"$f":"ROUND(I85*(1-$D$3)/Лист2!$A$6,0)","v":60009}]
[null,null,null,null,"1 корзина",null,null,null,60673,{"$f":"ROUND(I86*(1-$D$3)/Лист2!$A$6,0)","v":60673}]
[8,"Морозильные лари с гнутыми раздвижными стеклами  (составная корона, климатический класс 7) (комплектация включает подсветку, контроллер, термометр)"]
[null,null,"1372.00.00.00","ЛВН 200ГСТп","без корзин","-18…-25",235,"807х662х925",52403,{"$f":"ROUND(I88*(1-$D$3)/Лист2!$A$6,0)","v":52403}]
[null,null,null,null,"3 корзины",null,null,null,54593,{"$f":"ROUND(I89*(1-$D$3)/Лист2!$A$6,0)","v":54593}]
[null,null,"1372.00.00.00-01","ЛВН 300ГСТп","без корзин","-18…-25",319,"1017х662х925",56078,{"$f":"ROUND(I90*(1-$D$3)/Лист2!$A$6,0)","v":56078}]
[null,null,null,null,"4 корзины",null,null,null,58998,{"$f":"ROUND(I91*(1-$D$3)/Лист2!$A$6,0)","v":58998}]
[null,null,"1372.00.00.00-02","ЛВН 400ГСТп","без корзин","-18…-25",398,"1217х662х925",60828,{"$f":"ROUND(I92*(1-$D$3)/Лист2!$A$6,0)","v":60828}]
[null,null,null,null,"5 корзин",null,null,null,64478,{"$f":"ROUND(I93*(1-$D$3)/Лист2!$A$6,0)","v":64478}]
[null,null,"1372.00.00.00-03","ЛВН 500ГСТп","без корзин","-18…-25",485,"1437х662х925",63367,{"$f":"ROUND(I94*(1-$D$3)/Лист2!$A$6,0)","v":63367}]
[null,null,null,null,"6 корзин",null,null,null,67747,{"$f":"ROUND(I95*(1-$D$3)/Лист2!$A$6,0)","v":67747}]
[9,"Морозильные лари для мягкого мороженого  (климатический класс 4+)(комплектация - запасник, полка под гастроемкости, подсветка внутреннего объема)\nкорзины не устанавливаются"]
[null,null,"1273.00.00.00-01","CF 300 CSZQ","-","-18…-25",319,"1017х662х1310",56424,{"$f":"ROUND(I97*(1-$D$3)/Лист2!$A$6,0)","v":56424}]
[null,null,"1273.00.00.00-02","CF 400 CSZQ","-","-18…-25",398,"1217х662х1310",63205,{"$f":"ROUND(I98*(1-$D$3)/Лист2!$A$6,0)","v":63205}]
[null,null,"1273.00.00.00-03","CF 500 CSZQ","-","-18…-25",485,"1437х662х1310",64683,{"$f":"ROUND(I99*(1-$D$3)/Лист2!$A$6,0)","v":64683}]
[10,"Опции для ларей"]
[null,null,null,"Надстройка стеклянная 1145.12.00.00-01 для CF300C",null,null,null,null,8208,{"$f":"ROUND(I101*(1-$D$3)/Лист2!$A$6,0)","v":8208}]
[null,null,null,"Надстройка стеклянная 1145.12.00.00-02 для CF400C",null,null,null,null,8926,{"$f":"ROUND(I102*(1-$D$3)/Лист2!$A$6,0)","v":8926}]
[null,null,null,"Надстройка стеклянная 1145.12.00.00-03 для CF500C",null,null,null,null,9996,{"$f":"ROUND(I103*(1-$D$3)/Лист2!$A$6,0)","v":9996}]
[null,null,null,"Комплект подсветки для ларя CF200C",null,"Спектр 4000К/6000К",null,null,2299,{"$f":"ROUND(I104*(1-$D$3)/Лист2!$A$6,0)","v":2299}]
[null,null,null,"Комплект подсветки для ларя CF300C",null,null,null,null,2346,{"$f":"ROUND(I105*(1-$D$3)/Лист2!$A$6,0)","v":2346}]
[null,null,null,"Комплект подсветки для ларя CF400C",null,null,null,null,2550,{"$f":"ROUND(I106*(1-$D$3)/Лист2!$A$6,0)","v":2550}]
[null,null,null,"Комплект подсветки для ларя CF500C",null,null,null,null,2932,{"$f":"ROUND(I107*(1-$D$3)/Лист2!$A$6,0)","v":2932}]
[null,null,null,"Комплект подсветки для ларя CF600C",null,null,null,null,3372,{"$f":"ROUND(I108*(1-$D$3)/Лист2!$A$6,0)","v":3372}]
[null,null,"087.42.00.00","Корзина для ларя с гнут. стек. без подсветки",null,"-","-","214х498х320",730,{"$f":"ROUND(I109*(1-$D$3)/Лист2!$A$6,0)","v":730}]
[null,null,"086.42.00.00","Корзина для ларя с прям. стек. без подсветки",null,"-","-","214х493х250",664,{"$f":"ROUND(I110*(1-$D$3)/Лист2!$A$6,0)","v":664}]
[null,null,null,"Корзина для ларя с глух. крыш. без подсветки",null,"-","-","214х493х250",664,{"$f":"ROUND(I111*(1-$D$3)/Лист2!$A$6,0)","v":664}]
[null,null,"1060.42.00.00","Корзина для ларя с гнут. стек. с подсветкой",null,"-","-","214х498х320",730,{"$f":"ROUND(I112*(1-$D$3)/Лист2!$A$6,0)","v":730}]
[null,null,"1071.42.00.00","Корзина для ларя с прям. стек. с подсветкой",null,"-","-","214х493х250",664,{"$f":"ROUND(I113*(1-$D$3)/Лист2!$A$6,0)","v":664}]
[11,"Опции заказываемые с ларем"]
[null,null,"н.№14709","Опоры регулируемые М10 для ларей ",null,null,null,null,249,{"$f":"ROUND(I115*(1-$D$3)/Лист2!$A$6,0)","v":249}]
[null,null,"н.№14601","Колесо поворотное без стопора.",null,null,null,null,371,{"$f":"ROUND(I116*(1-$D$3)/Лист2!$A$6,0)","v":371}]
[null,null,"н.№14601.4","Колесо поворотное со стопором",null,null,null,null,459,{"$f":"ROUND(I117*(1-$D$3)/Лист2!$A$6,0)","v":459}]
[null,null,"н.№24805.2","Термометр",null,null,null,null,1777,{"$f":"ROUND(I118*(1-$D$3)/Лист2!$A$6,0)","v":1777}]
[null,"Стандартный цвет короны ларя  - Серый (7035), Красный (наличие красных корон уточнять у менеджеров)"]
[null,"Опционально доступны иные цвета короны  - наличие уточнять у менеджеров, наценка +1,5% к цене ларя"]
[null,"Стандартный цвет корпуса - белый (ПлRAL9003). Наценка за нестандартный цвет корпуса +1,5% к цене ларя."]
[null,null,null,null,null,null,null,null,"НАВЕРХ"]

{"sheet":"Лари-бонеты Italfrost","index":14,"n_rows":135,"n_cols":14,"rows_kept":135,"cut":false,"hidden":false,"merged":[[45,0,57,1],[62,2,64,2],[62,3,64,3],[62,6,73,6],[62,7,64,7],[63,4,63,5],[64,4,64,5],[65,2,67,2],[65,3,67,3],[65,4,65,5],[65,7,67,7],[66,4,66,5],[67,4,67,5],[68,2,70,2],[68,3,70,3],[68,4,68,5],[62,4,62,5],[60,0,60,4],[60,5,60,9],[68,7,70,7],[69,4,69,5],[70,4,70,5],[71,2,73,2],[71,3,73,3],[125,0,125,9],[122,3,122,7],[121,3,121,7],[120,3,120,7],[119,3,119,7],[118,3,118,7],[116,3,116,7],[115,3,115,7],[114,3,114,7],[124,3,124,7],[123,3,123,7],[113,3,113,7],[117,0,117,9],[126,0,132,1],[102,3,102,7],[101,3,101,7],[97,0,102,1],[104,0,109,1],[100,3,100,7],[99,3,99,7],[98,3,98,7],[97,3,97,7],[111,0,116,1],[118,0,120,1],[121,0,124,1],[109,3,109,7],[108,3,108,7],[127,3,127,7],[126,3,126,7],[132,3,132,7],[131,3,131,7],[130,3,130,7],[129,3,129,7],[128,3,128,7],[111,3,111,7],[112,3,112,7],[74,0,75,0],[74,1,75,9],[110,0,110,9],[86,0,86,1],[87,0,88,1],[89,0,89,9],[90,0,92,1],[87,3,87,7],[86,3,86,7],[107,3,107,7],[106,3,106,7],[105,3,105,7],[104,3,104,7],[76,0,76,9],[85,0,85,9],[83,3,83,7],[82,3,82,7],[81,3,81,7],[80,3,80,7],[79,3,79,7],[78,3,78,7],[77,3,77,7],[93,0,95,1],[72,4,72,5],[46,2,48,2],[46,3,48,3],[54,4,54,5],[55,4,55,5],[56,4,56,5],[57,4,57,5],[46,6,57,6],[46,7,48,7],[49,7,51,7],[52,7,54,7],[71,4,71,5],[71,7,73,7],[55,7,57,7],[49,2,51,2],[52,2,54,2],[55,2,57,2],[49,3,51,3],[52,3,54,3],[55,3,57,3],[73,4,73,5],[77,0,84,1],[96,0,96,9],[103,0,103,9],[84,3,84,7],[88,3,88,7],[95,3,95,7],[94,3,94,7],[93,3,93,7],[92,3,92,7],[91,3,91,7],[90,3,90,7],[58,0,59,0],[58,1,59,9],[10,13,10,27],[0,7,4,9],[8,7,9,7],[8,8,9,8],[8,9,9,9],[10,0,11,0],[10,1,11,9],[11,13,11,27],[1,1,1,3],[2,1,2,3],[3,1,3,3],[5,0,7,9],[8,0,9,0],[8,1,9,1],[8,3,9,4],[8,5,9,5],[8,6,9,6],[8,2,9,2],[42,1,43,9],[44,0,44,4],[44,5,44,9],[14,3,16,3],[17,7,19,7],[20,7,22,7],[23,7,25,7],[14,6,25,6],[26,0,27,0],[26,1,27,9],[30,3,32,3],[30,6,41,6],[30,7,32,7],[33,3,35,3],[33,7,35,7],[36,3,38,3],[36,7,38,7],[39,3,41,3],[39,7,41,7],[17,2,19,2],[20,2,22,2],[23,2,25,2],[39,2,41,2],[29,2,29,9],[30,2,32,2],[37,4,37,5],[40,4,40,5],[134,7,135,7],[23,3,25,3],[20,3,22,3],[17,3,19,3],[13,0,25,1],[12,0,12,4],[12,5,12,9],[28,0,28,4],[28,5,28,9],[29,0,41,1],[38,4,38,5],[39,4,39,5],[41,4,41,5],[46,4,46,5],[47,4,47,5],[48,4,48,5],[49,4,49,5],[50,4,50,5],[51,4,51,5],[52,4,52,5],[53,4,53,5],[45,2,45,9],[42,0,43,0],[14,2,16,2],[12,13,36,27],[14,4,14,5],[16,4,16,5],[17,4,17,5],[19,4,19,5],[20,4,20,5],[22,4,22,5],[23,4,23,5],[25,4,25,5],[30,4,30,5],[32,4,32,5],[33,4,33,5],[35,4,35,5],[36,4,36,5],[15,4,15,5],[18,4,18,5],[21,4,21,5],[24,4,24,5],[31,4,31,5],[34,4,34,5],[13,2,13,9],[33,2,35,2],[36,2,38,2],[14,7,16,7]]}
[null,null,null,null,null,null,null,"ЗАВОД «ОПК»\nТел.: +7 (496) 704-52-11\ne-mail:manager@ozpk.ru\nсайт: ozpk.ru",null,null,null,null,"На главную"]
[]
[null,"Ваша скидка:",null,null,{"$f":"Содержание!D2","v":0}]
[null,"НДС:",null,null,{"$f":"IF(Лист2!A1=TRUE,\"С НДС\",\"БЕЗ НДС\")","v":"С НДС"}]
[]
["Двухрежимные ларь-бонеты ITALFROST"]
[]
[]
["№","Изображение","Артикул","Наименование",null,"Колличество делителей/корзин","Температурный режим,°C","Габариты, \n(LxWxH) мм","Базовая \nцена, руб.\n(с НДС)",{"$f":"[5]Лист2!$A$5","v":"Ваша цена, руб."}]
[]
[1,"ЛВН низкотемпературный  ITALFROST",null,null,null,null,null,null,null,null,null,null,null,"СЕЧЕНИЕ"]
[]
["- Стандартная комплектация ЛВН Italfrost:\n- Корпус внешний - оцинкованный металл (RAL 9003);\n- Охлаждаемый объем - цвет решеток/делителей RAL 9003;\n- Хладагент R-290, оттайка горячим газом, система выпаривания конденсата; \n- Освещение;\n- Электронный контроллер;",null,null,null,null,"- Комплект верхнего бампера;\n- Система решеток по периметру охлаждаемого объема (1 разделитель, устанавливаемый возле агрегатного отсека во всю высоту охл.объема);\n- Цвет пластиковых элеметов RAL 7035 (крышка, окантовка стекла, бампер, ручки);\n-Деревянная обрешетка;"]
[]
[null,null,"1057.00.00.00","Ларь-витрина низкотемпературный ЛВН 1850 (ЛБТ2 М 1850) (торцевой)","Без делителей и корзин",null," -18..-24  ̊С","1850х858х869",118442,{"$f":"ROUND(I15*(1-$E$3)/Лист2!$A$6,0)","v":118442},"3В9016.El.0.0.tn.4.PS.0"]
[null,null,null,null,"С комплектом делителей (2 шт.)",null,null,null,119967,{"$f":"ROUND(I16*(1-$E$3)/Лист2!$A$6,0)","v":119967},"3В9016.El.2.0.tn.4.PS.0"]
[null,null,null,null,"С комплектом корзинами (4 шт.)",null,null,null,126412,{"$f":"ROUND(I17*(1-$E$3)/Лист2!$A$6,0)","v":126412},"3В9016.El.0.4.tn.4.PS.0"]
[null,null,"1056.00.00.00-02","Ларь-витрина низкотемпературный ЛВН 1850 (ЛБ2 М 1850)","Без делителей и корзин",null,null,"1850х858х869",115392,{"$f":"ROUND(I18*(1-$E$3)/Лист2!$A$6,0)","v":115392},"ВБ9016.El.0.0.tn.4.PS.0"]
[null,null,null,null,"С комплектом делителей (2 шт.)",null,null,null,116917,{"$f":"ROUND(I19*(1-$E$3)/Лист2!$A$6,0)","v":116917},"ВБ9016.El.2.0.tn.4.PS.0"]
[null,null,null,null,"С комплектом корзинами (4 шт.)",null,null,null,123362,{"$f":"ROUND(I20*(1-$E$3)/Лист2!$A$6,0)","v":123362},"ВБ9016.El.0.4.tn.4.PS.0"]
[null,null,"1056.00.00.00","Ларь-витрина низкотемпературный ЛВН 2100 (ЛБ2 М 2100)","Без делителей и корзин",null,null,"2100х858х869",124288,{"$f":"ROUND(I21*(1-$E$3)/Лист2!$A$6,0)","v":124288},"ВБ9016.El.0.0.tn.4.PS.0"]
[null,null,null,null,"С комплектом делителей (3 шт.)",null,null,null,126575,{"$f":"ROUND(I22*(1-$E$3)/Лист2!$A$6,0)","v":126575},"ВБ9016.El.3.0.tn.4.PS.0"]
[null,null,null,null,"С комплектом корзинами (5 шт.)",null,null,null,134251,{"$f":"ROUND(I23*(1-$E$3)/Лист2!$A$6,0)","v":134251},"ВБ9016.El.0.5.tn.4.PS.0"]
[null,null,"1056.00.00.00-01","Ларь-витрина низкотемпературный ЛВН 2500 (ЛБ2 М 2500)","Без делителей и корзин",null,null,"2500х858х869",134708,{"$f":"ROUND(I24*(1-$E$3)/Лист2!$A$6,0)","v":134708},"ВБ9016.El.0.0.tn.4.PS.0"]
[null,null,null,null,"С комплектом делителей (4 шт.)",null,null,null,137758,{"$f":"ROUND(I25*(1-$E$3)/Лист2!$A$6,0)","v":137758},"ВБ9016.El.4.0.tn.4.PS.0"]
[null,null,null,null,"С комплектом корзинами (6 шт.)",null,null,null,146664,{"$f":"ROUND(I26*(1-$E$3)/Лист2!$A$6,0)","v":146664},"ВБ9016.El.0.6.tn.4.PS.0"]
[2,"ЛВН низкотемпературный ITALFROST Push"]
[]
[" - Стандартная комплектация ЛВН Italfrost:\n- Корпус внешний - оцинкованный металл (RAL 9003);\n- Охлаждаемый объем - цвет решеток/делителей RAL 9003;\n- Хладагент R-290, оттайка горячим газом, система выпаривания конденсата;\n- Электронный контроллер;\n-Освещение",null,null,null,null,"- Комплект верхнего бампера (для торцевого исполенние бампер с трех сторон);\n- Система решеток по периметру охлаждаемого объема (1 разделитель, устанавливаемый возле агрегатного отсека во всю высоту охл.объема);\n- Цвет пластиковых элеметов RAL 7035 (крышка, окантовка стекла, бампер, ручки);\n- Деревянная обрешетка;"]
[]
[null,null,"1201.00.00.00","Ларь-витрина низкотемпературный ЛВН 1850 (ЛБТ2 М 1850) PUSH (торцевой)","Без делителей и корзин",null," -18..-24  ̊С","1850х858х869",135683,{"$f":"ROUND(I31*(1-$E$3)/Лист2!$A$6,0)","v":135683},"3В9016.El.0.0.tn.4.PS.0"]
[null,null,null,null,"С комплектом делителей (2 шт.)",null,null,null,137208,{"$f":"ROUND(I32*(1-$E$3)/Лист2!$A$6,0)","v":137208},"3В9016.El.2.0.tn.4.PS.0"]
[null,null,null,null,"С комплектом корзинами (4 шт.)",null,null,null,143654,{"$f":"ROUND(I33*(1-$E$3)/Лист2!$A$6,0)","v":143654},"3В9016.El.0.4.tn.4.PS.0"]
[null,null,"1190.00.00.00-02","Ларь-витрина низкотемпературный ЛВН 1850 (ЛБ2 М 1850) PUSH","Без делителей и корзин",null,null,"1850х858х869",135683,{"$f":"ROUND(I34*(1-$E$3)/Лист2!$A$6,0)","v":135683},"ВБ9016.El.0.0.tn.4.PS.0"]
[null,null,null,null,"С комплектом делителей (2 шт.)",null,null,null,137208,{"$f":"ROUND(I35*(1-$E$3)/Лист2!$A$6,0)","v":137208},"ВБ9016.El.2.0.tn.4.PS.0"]
[null,null,null,null,"С комплектом корзинами (4 шт.)",null,null,null,143654,{"$f":"ROUND(I36*(1-$E$3)/Лист2!$A$6,0)","v":143654},"ВБ9016.El.0.4.tn.4.PS.0"]
[null,null,"1190.00.00.00","Ларь-витрина низкотемпературный ЛВН 2100 (ЛБ2 М 2100) PUSH","Без делителей и корзин",null,null,"2100х858х869",140894,{"$f":"ROUND(I37*(1-$E$3)/Лист2!$A$6,0)","v":140894},"ВБ9016.El.0.0.tn.4.PS.0"]
[null,null,null,null,"С комплектом делителей (3 шт.)",null,null,null,143181,{"$f":"ROUND(I38*(1-$E$3)/Лист2!$A$6,0)","v":143181},"ВБ9016.El.3.0.tn.4.PS.0"]
[null,null,null,null,"С комплектом корзинами (5 шт.)",null,null,null,150857,{"$f":"ROUND(I39*(1-$E$3)/Лист2!$A$6,0)","v":150857},"ВБ9016.El.0.5.tn.4.PS.0"]
[null,null,"1190.00.00.00-01","Ларь-витрина низкотемпературный ЛВН 2500 (ЛБ2 М 2500) PUSH","Без делителей и корзин",null,null,"2500х858х869",144685,{"$f":"ROUND(I40*(1-$E$3)/Лист2!$A$6,0)","v":144685},"ВБ9016.El.0.0.tn.4.PS.0"]
[null,null,null,null,"С комплектом делителей (4 шт.)",null,null,null,147735,{"$f":"ROUND(I41*(1-$E$3)/Лист2!$A$6,0)","v":147735},"ВБ9016.El.4.0.tn.4.PS.0"]
[null,null,null,null,"С комплектом корзинами (6 шт.)",null,null,null,156641,{"$f":"ROUND(I42*(1-$E$3)/Лист2!$A$6,0)","v":156641},"ВБ9016.El.0.6.tn.4.PS.0"]
[3,"ЛВН низкотемпературный RONDO с термостатом"]
[]
["- Стандартная комплектация ЛВН Italfrost:\n- Корпус внешний - оцинкованный металл (RAL 9003);\n- Охлаждаемый объем - цвет решеток/делителей RAL 9003;\n- Хладагент R-290, \n- БЕЗ оттайки горячим газом, БЕЗ системы выпаривания конденсата;\n- БЕЗ освещения;\n- Термостат (управление температурой в объеме);",null,null,null,null,"- БЕЗ верхнего бампера;\n- Система решеток по периметру охлаждаемого объема (1 разделитель, устанавливаемый возле агрегатного отсека во всю высоту охл.объема);\n- Температурный режим  -18..-24  ̊С\n- Цвет пластиковых элеметов RAL 7035 (крышка, окантовка стекла, бампер, ручки); \n- Деревянная обрешетка;"]
[]
[null,null,"1096.00.00.00","Ларь-витрина низкотемпературный ЛВНР 1850 (ЛБТР М 1850)","Без делителей и корзин",null," -18..-24  ̊С","1850х858х869",99398,{"$f":"ROUND(I47*(1-$E$3)/Лист2!$A$6,0)","v":99398}]
[null,null,null,null,"С комплектом делителей (2 шт.)",null,null,null,100923,{"$f":"ROUND(I48*(1-$E$3)/Лист2!$A$6,0)","v":100923},"ББ9016.Т.2.0.tn.0.PS.0"]
[null,null,null,null,"С комплектом корзинами (4 шт.)",null,null,null,107369,{"$f":"ROUND(I49*(1-$E$3)/Лист2!$A$6,0)","v":107369},"ББ9016.Т.0.4.tn.0.PS.0"]
[null,null,"1095.00.00.00-02","Ларь-витрина низкотемпературный ЛВНР 1850 (ЛБР М 1850)","Без делителей и корзин",null,null,"1850х858х869",99398,{"$f":"ROUND(I50*(1-$E$3)/Лист2!$A$6,0)","v":99398}]
[null,null,null,null,"С комплектом делителей (2 шт.)",null,null,null,100923,{"$f":"ROUND(I51*(1-$E$3)/Лист2!$A$6,0)","v":100923},"ББ9016.Т.2.0.tn.0.PS.0"]
[null,null,null,null,"С комплектом корзинами (4 шт.)",null,null,null,107369,{"$f":"ROUND(I52*(1-$E$3)/Лист2!$A$6,0)","v":107369},"ББ9016.Т.0.4.tn.0.PS.0"]
[null,null,"1095.00.00.00","Ларь-витрина низкотемпературный ЛВНР 2100 (ЛБР М 2100)","Без делителей и корзин",null,null,"2100х858х869",102336,{"$f":"ROUND(I53*(1-$E$3)/Лист2!$A$6,0)","v":102336}]
[null,null,null,null,"С комплектом делителей (3 шт.)",null,null,null,104623,{"$f":"ROUND(I54*(1-$E$3)/Лист2!$A$6,0)","v":104623},"ББ9016.Т.3.0.tn.0.PS.0"]
[null,null,null,null,"С комплектом корзинами (5 шт.)",null,null,null,112299,{"$f":"ROUND(I55*(1-$E$3)/Лист2!$A$6,0)","v":112299},"ББ9016.Т.0.5.tn.0.PS.0"]
[null,null,"1095.00.00.00-01","Ларь-витрина низкотемпературный ЛВНР 2500 (ЛБР М 2500)","Без делителей и корзин",null,null,"2500х858х869",117741,{"$f":"ROUND(I56*(1-$E$3)/Лист2!$A$6,0)","v":117741}]
[null,null,null,null,"С комплектом делителей (4 шт.)",null,null,null,120791,{"$f":"ROUND(I57*(1-$E$3)/Лист2!$A$6,0)","v":120791},"ББ9016.Т.4.0.tn.0.PS.0"]
[null,null,null,null,"С комплектом корзинами (6 шт.)",null,null,null,129697,{"$f":"ROUND(I58*(1-$E$3)/Лист2!$A$6,0)","v":129697},"ББ9016.Т.0.6.tn.0.PS.0"]
[4,"ЛВН низкотемпературный RONDO с контроллером"]
[]
["- Стандартная комплектация ЛВН Italfrost:\n- Корпус внешний - оцинкованный металл (RAL 9003);\n- Охлаждаемый объем - цвет решеток/делителей RAL 9003;\n- хладагент R-290, \n- БЕЗ оттайки горячим газом, БЕЗ системы выпаривания конденсата, БЕЗ освещения;\n- Электронный контроллер;",null,null,null,null,"- БЕЗ верхнего бампера;\n- Система решеток по периметру охлаждаемого объема (1 разделитель, устанавливаемый возле агрегатного отсека во всю высоту охл.объема);\n- Температурный режим  -18..-24  ̊С\n- Цвет пластиковых элеметов RAL 7035 (крышка, окантовка стекла, бампер, ручки); \n- Деревянная обрешетка;"]
[]
[null,null,"1096.00.00.00","Ларь-витрина низкотемпературный ЛВНР 1850 (ЛБТР М 1850)","Без делителей и корзин",null," -18..-24  ̊С","1850х858х869",101795,{"$f":"ROUND(I63*(1-$E$3)/Лист2!$A$6,0)","v":101795}]
[null,null,null,null,"С комплектом делителей (2 шт.)",null,null,null,103320,{"$f":"ROUND(I64*(1-$E$3)/Лист2!$A$6,0)","v":103320},null,"ББ9016.El.2.0.tn.0.PS.0"]
[null,null,null,null,"С комплектом корзинами (4 шт.)",null,null,null,109765,{"$f":"ROUND(I65*(1-$E$3)/Лист2!$A$6,0)","v":109765},null,"ББ9016.El.0.4.tn.0.PS.0"]
[null,null,"1095.00.00.00-02","Ларь-витрина низкотемпературный ЛВНР 1850 (ЛБР М 1850)","Без делителей и корзин",null,null,"1850х858х869",101795,{"$f":"ROUND(I66*(1-$E$3)/Лист2!$A$6,0)","v":101795}]
[null,null,null,null,"С комплектом делителей (2 шт.)",null,null,null,103320,{"$f":"ROUND(I67*(1-$E$3)/Лист2!$A$6,0)","v":103320},null,"ББ9016.El.2.0.tn.0.PS.0"]
[null,null,null,null,"С комплектом корзинами (4 шт.)",null,null,null,109765,{"$f":"ROUND(I68*(1-$E$3)/Лист2!$A$6,0)","v":109765},null,"ББ9016.El.0.4.tn.0.PS.0"]
[null,null,"1095.00.00.00","Ларь-витрина низкотемпературный ЛВНР 2100 (ЛБР М 2100)","Без делителей и корзин",null,null,"2100х858х869",104714,{"$f":"ROUND(I69*(1-$E$3)/Лист2!$A$6,0)","v":104714}]
[null,null,null,null,"С комплектом делителей (3 шт.)",null,null,null,107001,{"$f":"ROUND(I70*(1-$E$3)/Лист2!$A$6,0)","v":107001},null,"ББ9016.El.3.0.tn.0.PS.0"]
[null,null,null,null,"С комплектом корзинами (5 шт.)",null,null,null,114677,{"$f":"ROUND(I71*(1-$E$3)/Лист2!$A$6,0)","v":114677},null,"ББ9016.El.0.5.tn.0.PS.0"]
[null,null,"1095.00.00.00-01","Ларь-витрина низкотемпературный ЛВНР 2500 (ЛБР М 2500)","Без делителей и корзин",null,null,"2500х858х869",120135,{"$f":"ROUND(I72*(1-$E$3)/Лист2!$A$6,0)","v":120135}]
[null,null,null,null,"С комплектом делителей (4 шт.)",null,null,null,123185,{"$f":"ROUND(I73*(1-$E$3)/Лист2!$A$6,0)","v":123185},null,"ББ9016.El.4.0.tn.0.PS.0"]
[null,null,null,null,"С комплектом корзинами (6 шт.)",null,null,null,132091,{"$f":"ROUND(I74*(1-$E$3)/Лист2!$A$6,0)","v":132091},null,"ББ9016.El.0.6.tn.0.PS.0"]
[5,"КОМПЛЕКТУЮЩИЕ"]
[]
["Бампер (Определяется харакетристикой, либо для отдельного заказа)"]
[null,null,null,"Комплект трехстороннего нижнего бампера L=1850 для ЛВН ЛБТ",null,null,null,null,1565,{"$f":"ROUND(I78*(1-$E$3)/Лист2!$A$6,0)","v":1565}]
[null,null,null,"Комплект трехстороннего верхнего бампера L=1850 для ЛВН ЛБТ",null,null,null,null,1642,{"$f":"ROUND(I79*(1-$E$3)/Лист2!$A$6,0)","v":1642}]
[null,null,"1022.73.00.00-02","Комплект нижнего бампера L=1850 для ЛВН ЛБ",null,null,null,null,1299,{"$f":"ROUND(I80*(1-$E$3)/Лист2!$A$6,0)","v":1299}]
[null,null,"1022.72.00.00-02","Комплект верхнего бампера L=1850 для ЛВН ЛБ",null,null,null,null,1420,{"$f":"ROUND(I81*(1-$E$3)/Лист2!$A$6,0)","v":1420}]
[null,null,"1022.73.00.00","Комплект нижнего бампера L=2100 для ЛВН ЛБ",null,null,null,null,1352,{"$f":"ROUND(I82*(1-$E$3)/Лист2!$A$6,0)","v":1352}]
[null,null,"1022.72.00.00","Комплект верхнего бампера L=2100 для  ЛВН ЛБ",null,null,null,null,1420,{"$f":"ROUND(I83*(1-$E$3)/Лист2!$A$6,0)","v":1420}]
[null,null,"1022.73.00.00-01","Комплект нижнего бампера L=2500 для ЛВН ЛБ",null,null,null,null,1472,{"$f":"ROUND(I84*(1-$E$3)/Лист2!$A$6,0)","v":1472}]
[null,null,"1022.72.00.00-01","Комплект верхнего бампера L=2500 для ЛВН ЛБ ",null,null,null,null,1545,{"$f":"ROUND(I85*(1-$E$3)/Лист2!$A$6,0)","v":1545}]
["Разделители и корзины (полимерное покрытие, цвет - RAL 9003)"]
[null,null,"1022.45.00.00","Разделитель поперечный объема 1022.45.00.00 L=1850/2100/2500 для ЛБ М",null,null,null,null,763,{"$f":"ROUND(I87*(1-$E$3)/Лист2!$A$6,0)","v":763}]
[null,null,"1022.110.00.00-01","Корзина увеличенная над агрегатным отсеком 1022.110.00.00-01 для ЛВН/ЛВС (ЛБ М) (Устанавливается над агрегатным отсеком, 1 шт. в ЛБ каждого типоразмера)",null,null,null,null,1993,{"$f":"ROUND(I88*(1-$E$3)/Лист2!$A$6,0)","v":1993}]
[null,null,"1022.110.00.00","Корзина 1022.110.00.00 для ЛВН/ЛВС (ЛБ М) (в ЛБ длиной 2500 устанавливается 5 данных корзин, в 2100 - 4 корзины, в 1850 - 3 корзины)",null,null,null,null,1993,{"$f":"ROUND(I89*(1-$E$3)/Лист2!$A$6,0)","v":1993}]
["Суперструктуры и опции"]
[null,null,"1022.61.00.00-02","Суперструктура пристенная 1022.61.00.00-02 для ЛВН/ЛВС (ЛБ М) 1850",null,null,null,null,23344,{"$f":"ROUND(I91*(1-$E$3)/Лист2!$A$6,0)","v":23344}]
[null,null,"1022.61.00.00","Суперструктура пристенная 1022.61.00.00 для ЛВН/ЛВС (ЛБ М) 2100",null,null,null,null,24419,{"$f":"ROUND(I92*(1-$E$3)/Лист2!$A$6,0)","v":24419}]
[null,null,"1022.61.00.00-01","Суперструктура пристенная 1022.61.00.00-01 для ЛВН/ЛВС (ЛБ М) 2500",null,null,null,null,25941,{"$f":"ROUND(I93*(1-$E$3)/Лист2!$A$6,0)","v":25941}]
[null,null,"1022.60.00.00-02","Суперструктура островная 1022.60.00.00-02 для ЛВН/ЛВС (ЛБ М) 1850",null,null,null,null,30779,{"$f":"ROUND(I94*(1-$E$3)/Лист2!$A$6,0)","v":30779}]
[null,null,"1022.60.00.00","Суперструктура островная 1022.60.00.00 для ЛВН/ЛВС (ЛБ М) 2100",null,null,null,null,32840,{"$f":"ROUND(I95*(1-$E$3)/Лист2!$A$6,0)","v":32840}]
[null,null,"1022.60.00.00-01","Суперструктура островная 1022.60.00.00-01 для ЛВН/ЛВС (ЛБ М) 2500",null,null,null,null,35475,{"$f":"ROUND(I96*(1-$E$3)/Лист2!$A$6,0)","v":35475}]
[]
[null,null,"429.80.00.00-02","Комплект подсветки прист 429.80.00.00-02 L=1850 для ЛБ М (LED, лампа Т5)",null,null,null,null,6569,{"$f":"ROUND(I98*(1-$E$3)/Лист2!$A$6,0)","v":6569}]
[null,null,"429.80.00.00","Комплект подсветки прист 429.80.00.00 L=2100 для ЛБ М (LED, лампа Т5)",null,null,null,null,6914,{"$f":"ROUND(I99*(1-$E$3)/Лист2!$A$6,0)","v":6914}]
[null,null,"429.80.00.00-01","Комплект подсветки прист 429.80.00.00-01 L=2500 для ЛБ М (LED, лампа Т5)",null,null,null,null,7129,{"$f":"ROUND(I100*(1-$E$3)/Лист2!$A$6,0)","v":7129}]
[null,null,"429.64.00.00-02","Комплект подсветки остр суперстр 429.64.00.00-02 L=1850 для ЛБ М (LED, лампа Т5)",null,null,null,null,12473,{"$f":"ROUND(I101*(1-$E$3)/Лист2!$A$6,0)","v":12473}]
[null,null,"429.64.00.00","Комплект подсветки остр суперстр 429.64.00.00 L=2100 для ЛБ М (LED, лампа Т5)",null,null,null,null,13130,{"$f":"ROUND(I102*(1-$E$3)/Лист2!$A$6,0)","v":13130}]
[null,null,"429.64.00.00-01","Комплект подсветки остр суперстр 429.64.00.00-01 L=2500 для ЛБ М (LED, лампа Т5)",null,null,null,null,13677,{"$f":"ROUND(I103*(1-$E$3)/Лист2!$A$6,0)","v":13677}]
[]
[null,null,"429.70.00.00-02","Комплект ценникодержателей прист 429.70.00.00-02 L=1850 для ЛБ М",null,null,null,null,459,{"$f":"ROUND(I105*(1-$E$3)/Лист2!$A$6,0)","v":459}]
[null,null,"429.70.00.00","Комплект ценникодержателей прист 429.70.00.00 L=2100 для ЛБ М",null,null,null,null,539,{"$f":"ROUND(I106*(1-$E$3)/Лист2!$A$6,0)","v":539}]
[null,null,"429.70.00.00-01","Комплект ценникодержателей прист 429.70.00.00-01 L=2500 для ЛБ М",null,null,null,null,539,{"$f":"ROUND(I107*(1-$E$3)/Лист2!$A$6,0)","v":539}]
[null,null,"429.66.00.00-02","Комплект ценникодержателей остр 429.66.00.00-02 L=1850 для ЛБ М",null,null,null,null,539,{"$f":"ROUND(I108*(1-$E$3)/Лист2!$A$6,0)","v":539}]
[null,null,"429.66.00.00","Комплект ценникодержателей остр 429.66.00.00 L=2100 для ЛБ М",null,null,null,null,1081,{"$f":"ROUND(I109*(1-$E$3)/Лист2!$A$6,0)","v":1081}]
[null,null,"429.66.00.00-01","Комплект ценникодержателей остр 429.66.00.00-01 L=2500 для ЛБ М",null,null,null,null,1081,{"$f":"ROUND(I110*(1-$E$3)/Лист2!$A$6,0)","v":1081}]
[]
[null,null,"429.71.00.00-02","Комплект ограничителей прист 429.71.00.00-02 L=1850 для ЛБ М",null,null,null,null,1438,{"$f":"ROUND(I112*(1-$E$3)/Лист2!$A$6,0)","v":1438}]
[null,null,"429.71.00.00","Комплект ограничителей прист 429.71.00.00 L=2100 для ЛБ М",null,null,null,null,1438,{"$f":"ROUND(I113*(1-$E$3)/Лист2!$A$6,0)","v":1438}]
[null,null,"429.71.00.00-01","Комплект ограничителей прист 429.71.00.00-01 L=2500 для ЛБ М",null,null,null,null,1815,{"$f":"ROUND(I114*(1-$E$3)/Лист2!$A$6,0)","v":1815}]
[null,null,"429.68.00.00-02","Комплект ограничителей остр 429.68.00.00-02 L=1850 для ЛБ М",null,null,null,null,2474,{"$f":"ROUND(I115*(1-$E$3)/Лист2!$A$6,0)","v":2474}]
[null,null,"429.68.00.00","Комплект ограничителей остр 429.68.00.00 L=2100 для ЛБ М",null,null,null,null,2876,{"$f":"ROUND(I116*(1-$E$3)/Лист2!$A$6,0)","v":2876}]
[null,null,"429.68.00.00-01","Комплект ограничителей остр 429.68.00.00-01 L=2500 для ЛБ М",null,null,null,null,3621,{"$f":"ROUND(I117*(1-$E$3)/Лист2!$A$6,0)","v":3621}]
[]
[null,null,"1022.62.00.00-02","Соединительный комплект спина к спине остр 1022.62.00.00-02 L=1850 для ЛБ М",null,null,null,null,1213,{"$f":"ROUND(I119*(1-$E$3)/Лист2!$A$6,0)","v":1213}]
[null,null,"1022.62.00.00","Соединительный комплект спина к спине остр 1022.62.00.00 L=2100 для ЛБ М",null,null,null,null,1242,{"$f":"ROUND(I120*(1-$E$3)/Лист2!$A$6,0)","v":1242}]
[null,null,"1022.62.00.00-01","Соединительный комплект спина к спине остр 1022.62.00.00-01 L=2500 для ЛБ М",null,null,null,null,1408,{"$f":"ROUND(I121*(1-$E$3)/Лист2!$A$6,0)","v":1408}]
[null,null,"1022.89.00.00-02","Воздуховод с площадкой под ценникодержатели низкий 1022.89.00.00-02 для ЛВН/ЛВС  (ЛБ М) 1850",null,null,null,null,2954,{"$f":"ROUND(I122*(1-$E$3)/Лист2!$A$6,0)","v":2954}]
[null,null,"1022.89.00.00","Воздуховод с площадкой под ценникодержатели низкий 1022.89.00.00 для ЛВН/ЛВС  (ЛБ М) 2100",null,null,null,null,2973,{"$f":"ROUND(I123*(1-$E$3)/Лист2!$A$6,0)","v":2973}]
[null,null,"1022.89.00.00-01","Воздуховод с площадкой под ценникодержатели низкий 1022.89.00.00-01 для ЛВН/ЛВС (ЛБ М) 2500",null,null,null,null,3195,{"$f":"ROUND(I124*(1-$E$3)/Лист2!$A$6,0)","v":3195}]
[null,null,"1022.111.00.00","Боковая заглушка к соед. комплекту «спина к спине» остр. 1022.111.00.00 для ЛВН/ЛВС (ЛБ М)",null,null,null,null,329,{"$f":"ROUND(I125*(1-$E$3)/Лист2!$A$6,0)","v":329}]
[]
[null,null,"404.99.00.00","Компл 3-его уровн полок прист суперстр 404.99.00.00 L=1850 для ЛБТМ (G=370 мм)",null,null,null,null,3078,{"$f":"ROUND(I127*(1-$E$3)/Лист2!$A$6,0)","v":3078}]
[null,null,"429.99.00.00","Компл 3-его уровн полок прист суперстр 429.99.00.00 L=2100 для ЛБМ (G=370 мм)",null,null,null,null,3228,{"$f":"ROUND(I128*(1-$E$3)/Лист2!$A$6,0)","v":3228}]
[null,null,"429.100.00.00","Компл 3-его уровн полок прист суперстр 429.100.00.00 L=2500 для ЛБМ  (G=370 мм)",null,null,null,null,3430,{"$f":"ROUND(I129*(1-$E$3)/Лист2!$A$6,0)","v":3430}]
[null,null,"429.96.00.00","Компл 3-его уровн полок остр суперстр 429.96.00.00 L=2100 для ЛБМ (G=370 мм)",null,null,null,null,5465,{"$f":"ROUND(I130*(1-$E$3)/Лист2!$A$6,0)","v":5465}]
[null,null,"429.97.00.00","Компл 3-его уровн полок остр суперстр 429.97.00.00 L=2500 для ЛБМ (G=370 мм)",null,null,null,null,5928,{"$f":"ROUND(I131*(1-$E$3)/Лист2!$A$6,0)","v":5928}]
[null,null,"429.102.00.00","Компл торц полок остр суперстр 429.102.00.00 L=2100/2500 для ЛБТМ",null,null,null,null,8924,{"$f":"ROUND(I132*(1-$E$3)/Лист2!$A$6,0)","v":8924}]
[null,null,"429.101.00.00","Компл торц полукр полок остр суперстр 429.101.00.00 L=2100/2500 для ЛБТМ",null,null,null,null,5307,{"$f":"ROUND(I133*(1-$E$3)/Лист2!$A$6,0)","v":5307}]
[]
[null,null,null,null,null,null,null,"НАВЕРХ"]

{"sheet":"Столы Italfrost с боковым","index":15,"n_rows":44,"n_cols":15,"rows_kept":44,"cut":false,"hidden":true,"merged":[[17,0,20,1],[17,4,18,4],[17,5,18,5],[17,6,18,6],[17,11,18,11],[17,12,18,12],[17,13,18,13],[19,4,20,4],[19,5,20,5],[19,6,20,6],[19,11,20,11],[19,12,20,12],[19,13,20,13],[17,7,18,7],[17,8,18,8],[17,9,18,9],[17,10,18,10],[19,7,20,7],[19,8,20,8],[19,9,20,9],[19,10,20,10],[13,11,14,11],[13,12,14,12],[13,13,14,13],[15,4,16,4],[15,5,16,5],[15,6,16,6],[15,11,16,11],[15,12,16,12],[15,13,16,13],[15,7,16,7],[15,8,16,8],[15,9,16,9],[15,10,16,10],[13,10,14,10],[13,9,14,9],[13,8,14,8],[13,7,14,7],[13,6,14,6],[9,11,10,11],[9,12,10,12],[9,13,10,13],[11,4,12,4],[11,5,12,5],[11,6,12,6],[11,10,12,10],[11,11,12,11],[11,12,12,12],[11,13,12,13],[1,0,1,1],[2,0,2,1],[3,0,3,1],[6,0,7,0],[6,1,7,1],[6,2,7,2],[13,0,16,1],[13,4,14,4],[13,5,14,5],[5,0,5,13],[6,12,7,12],[6,13,7,13],[6,7,7,7],[6,8,7,8],[6,9,6,11],[8,0,8,13],[9,0,12,1],[9,4,10,4],[9,5,10,5],[9,6,10,6],[6,3,7,3],[6,4,6,5],[6,6,7,6],[9,10,10,10],[21,0,21,13],[22,4,23,4],[22,5,23,5],[22,6,23,6],[22,10,23,10],[22,11,23,11],[22,12,23,12],[22,13,23,13],[22,0,25,1],[26,9,27,9],[28,9,29,9],[24,4,25,4],[24,5,25,5],[24,6,25,6],[24,10,25,10],[24,11,25,11],[24,12,25,12],[24,13,25,13],[26,4,27,4],[26,5,27,5],[26,6,27,6],[26,10,27,10],[26,11,27,11],[26,12,27,12],[26,13,27,13],[32,10,33,10],[32,11,33,11],[32,12,33,12],[32,13,33,13],[30,9,31,9],[32,9,33,9],[28,4,29,4],[28,5,29,5],[28,6,29,6],[28,10,29,10],[28,11,29,11],[28,12,29,12],[28,13,29,13],[30,4,31,4],[30,5,31,5],[30,6,31,6],[30,10,31,10],[30,11,31,11],[30,12,31,12],[30,13,31,13],[34,0,34,13],[9,7,10,7],[9,8,10,8],[11,7,12,7],[11,8,12,8],[22,7,23,7],[22,8,23,8],[24,7,25,7],[24,8,25,8],[26,7,27,7],[26,8,27,8],[28,7,29,7],[28,8,29,8],[30,7,31,7],[30,8,31,8],[32,7,33,7],[32,8,33,8],[9,9,10,9],[11,9,12,9],[22,9,23,9],[24,9,25,9],[32,4,33,4],[32,5,33,5],[32,6,33,6],[35,0,35,1],[37,0,37,1],[38,0,38,1],[39,0,39,1],[40,0,40,1],[41,0,41,1],[42,0,42,1],[43,0,43,1],[35,3,35,11],[37,3,37,11],[39,3,39,11],[38,3,38,11],[40,3,40,11],[41,3,41,11],[42,3,42,8],[43,3,43,8],[36,0,36,13],[28,15,29,15],[30,15,31,15],[32,15,33,15],[9,15,10,15],[11,15,12,15],[13,15,14,15],[15,15,16,15],[17,15,18,15],[19,15,20,15],[22,15,23,15],[24,15,25,15],[26,15,27,15]]}
[null,null,null,null,null,null,null,null,null,null,null,null,null,null,"На главную"]
[]
["Ваша скидка:",null,{"$f":"Содержание!D2","v":0},null,null,null,null,null,null,null,null,null,null,"На главную"]
["НДС:",null,{"$f":"IF(Лист2!A1=TRUE,\"С НДС\",\"БЕЗ НДС\")","v":"С НДС"}]
[]
["Охлаждаемые столы с боковым расположением агрегата"]
["№","Внешний вид","Наименование","С бортом/ без борта","Количество",null,"Стандарт\nGastronorm\nGN 1/1","Общий объём, л","Полезный объём, л","Габаритные размеры, мм",null,null,"Базовая цена, руб. (с НДС)",{"$f":"Лист2!$A$5","v":"Ваша цена, руб."}]
[null,null,null,null,"Ящиков","Дверей",null,null,null,"Длина","Ширина","Высота"]
["Холодильные столы с нержавеющей столешницей (температурный режим, °C +1…+10)"]
[null,null,"Шкаф-стол холодильный СШC-0,2 GN-1400","С бортом ",0,2,"+",305,220,1393,700,840,78937.84,{"$f":"ROUND(M10*(1-$C$3)/Лист2!$A$6,0)","v":78938}]
[null,null,"Шкаф-стол холодильный СШC-0,2 GNВ-1400","Без борта"]
[null,null,"Шкаф-стол холодильный СШС-0,2-1400","С бортом ",0,2,"-",255,200,1393,600,840,78514.64,{"$f":"ROUND(M12*(1-$C$3)/Лист2!$A$6,0)","v":78515}]
[null,null,"Шкаф-стол холодильный СШС-0,2 В-1400","Без борта"]
[null,null,"Шкаф-стол холодильный СШС-0,3 GN-1850","С бортом ",0,3,"+",465,310,1838,700,840,93059.840000000011,{"$f":"ROUND(M14*(1-$C$3)/Лист2!$A$6,0)","v":93060}]
[null,null,"Шкаф-стол холодильный СШС-0,3 GNВ-1850","Без борта"]
[null,null,"Шкаф-стол холодильный СШС-0,3-1850","С бортом ",0,3,"-",395,260,1838,600,840,92634.8,{"$f":"ROUND(M16*(1-$C$3)/Лист2!$A$6,0)","v":92635}]
[null,null,"Шкаф-стол холодильный СШС-0,3 В-1850","Без борта"]
[null,null,"Шкаф-стол холодильный СШС-0,4 GN-2300","С бортом ",0,4,"+",620,410,2283,700,840,112828.8,{"$f":"ROUND(M18*(1-$C$3)/Лист2!$A$6,0)","v":112829}]
[null,null,"Шкаф-стол холодильный СШС-0,4 GNВ-2300","Без борта"]
[null,null,"Шкаф-стол холодильный СШС-0,4-2300","С бортом ",0,4,"-",520,340,2283,600,840,112405.6,{"$f":"ROUND(M20*(1-$C$3)/Лист2!$A$6,0)","v":112406}]
[null,null,"Шкаф-стол холодильный СШС-0,4 В-2300","Без борта"]
["Морозильные столы с нержавеющей столешницей (температурный режим, °C -20…-10)"]
[null,null,"Шкаф-стол морозильный СШН-0,2 GN-1400","С бортом",0,2,"+",305,220,1393,700,840,91647.64,{"$f":"ROUND(M23*(1-$C$3)/Лист2!$A$6,0)","v":91648}]
[null,null,"Шкаф-стол морозильный СШН-0,2 GNВ-1400","Без борта"]
[null,null,"Шкаф-стол морозильный СШН-0,2-1400","С бортом",0,2,"-",255,200,1393,600,840,91223.52,{"$f":"ROUND(M25*(1-$C$3)/Лист2!$A$6,0)","v":91224}]
[null,null,"Шкаф-стол морозильный СШН-0,2 В-1400","Без борта"]
[null,null,"Шкаф-стол морозильный СШН-0,3 GN-1850","С бортом",0,3,"+",465,310,1838,700,840,117066.32,{"$f":"ROUND(M27*(1-$C$3)/Лист2!$A$6,0)","v":117066}]
[null,null,"Шкаф-стол морозильный СШН-0,3 GNВ-1850","Без борта"]
[null,null,"Шкаф-стол морозильный СШН-0,3-1850","С бортом",0,3,"-",395,260,1838,600,840,116642.20000000001,{"$f":"ROUND(M29*(1-$C$3)/Лист2!$A$6,0)","v":116642}]
[null,null,"Шкаф-стол морозильный СШН-0,3 В-1850","Без борта"]
[null,null,"Шкаф-стол морозильный СШН-0,4 GN-2300","С бортом",0,4,"+",620,410,2283,700,840,138247.48000000001,{"$f":"ROUND(M31*(1-$C$3)/Лист2!$A$6,0)","v":138247}]
[null,null,"Шкаф-стол морозильный СШН-0,4 GNВ-2300","Без борта"]
[null,null,"Шкаф-стол морозильный СШН-0,4-2300","С бортом",0,4,"-",520,340,2283,600,840,137823.36000000002,{"$f":"ROUND(M33*(1-$C$3)/Лист2!$A$6,0)","v":137823}]
[null,null,"Шкаф-стол морозильный СШН-0,4 В-2300","Без борта"]
["Модификации к холодильным/морозильным столам( добавить к стандартной стоимости изделия)"]
[null,null,"Замена стандартных ножек на колеса, 2 из них с тормозом",null,null,null,null,null,null,null,null,null,8218.36,{"$f":"ROUND(M36*(1-$C$3)/Лист2!$A$6,0)","v":8218}]
["Опции к холодильным/морозильным столам(поставляются отдельно)"]
[null,null,"Решетка защитаная для агрега из нержавеющей стали (84312), артикул СО.906.57.00.00",null,null,null,null,null,null,null,null,null,1867.6000000000001,{"$f":"ROUND(M38*(1-$C$3)/Лист2!$A$6,0)","v":1868}]
[null,null,"Полкодержатель слева (96480) для столов 700, артикул СО.979.03.0000.05",null,null,null,null,null,null,null,null,null,336.72,{"$f":"ROUND(M39*(1-$C$3)/Лист2!$A$6,0)","v":337}]
[null,null,"Полкодержатель справа (96481) для столов 700, артикул СО.979.03.0000.05mir",null,null,null,null,null,null,null,null,null,336.72,{"$f":"ROUND(M40*(1-$C$3)/Лист2!$A$6,0)","v":337}]
[null,null,"Полкодержатель слева (106969) для столов 700, артикул СО.906.03.0000.05",null,null,null,null,null,null,null,null,null,311.88,{"$f":"ROUND(M41*(1-$C$3)/Лист2!$A$6,0)","v":312}]
[null,null,"Полкодержатель справа (106970) для столов 700, артикул СО.906.03.0000.05mir",null,null,null,null,null,null,null,null,null,311.88,{"$f":"ROUND(M42*(1-$C$3)/Лист2!$A$6,0)","v":312}]
[null,null,"Полка решетчатая для столов 700, крашенная (100670), артикул СО.979.56.5000.01",null,null,null,null,null,null,332,570,"4(6)",1184.04,{"$f":"ROUND(M43*(1-$C$3)/Лист2!$A$6,0)","v":1184}]
[null,null,"Полка решетчатая для столов 600, крашенная (100671), артикул СО.906.56.5000.01",null,null,null,null,null,null,332,470,"4(6)",996.36,{"$f":"ROUND(M44*(1-$C$3)/Лист2!$A$6,0)","v":996}]

{"sheet":"Столы Italfrost с нижним","index":16,"n_rows":36,"n_cols":14,"rows_kept":36,"cut":false,"hidden":true,"merged":[[4,0,4,13],[0,0,0,1],[1,0,1,1],[2,0,2,1],[5,0,6,0],[5,1,6,1],[5,2,6,2],[8,13,9,13],[10,4,11,4],[10,5,11,5],[10,6,11,6],[10,7,11,7],[10,8,11,8],[10,9,11,9],[5,12,6,12],[5,13,6,13],[7,0,7,13],[8,0,11,1],[8,4,9,4],[8,5,9,5],[8,6,9,6],[8,7,9,7],[8,8,9,8],[8,9,9,9],[5,3,6,3],[5,4,5,5],[5,6,6,6],[5,7,6,7],[5,8,6,8],[5,9,5,11],[12,0,15,1],[12,4,13,4],[12,5,13,5],[12,6,13,6],[12,7,13,7],[12,8,13,8],[8,10,9,10],[8,11,9,11],[8,12,9,12],[14,4,15,4],[14,5,15,5],[14,6,15,6],[14,7,15,7],[14,8,15,8],[10,10,11,10],[10,11,11,11],[10,12,11,12],[10,13,11,13],[14,9,15,9],[14,10,15,10],[14,11,15,11],[14,12,15,12],[14,13,15,13],[12,9,13,9],[12,10,13,10],[12,11,13,11],[12,12,13,12],[12,13,13,13],[19,13,20,13],[19,4,20,4],[19,5,20,5],[19,6,20,6],[19,7,20,7],[19,8,20,8],[19,9,20,9],[17,8,18,8],[17,9,18,9],[17,10,18,10],[23,4,24,4],[23,5,24,5],[23,6,24,6],[23,7,24,7],[23,8,24,8],[23,9,24,9],[21,4,22,4],[21,5,22,5],[21,6,22,6],[21,7,22,7],[21,8,22,8],[21,9,22,9],[8,15,9,15],[10,15,11,15],[12,15,13,15],[14,15,15,15],[17,15,18,15],[19,15,20,15],[21,15,22,15],[23,15,24,15],[21,10,22,10],[21,11,22,11],[21,12,22,12],[21,13,22,13],[17,11,18,11],[17,12,18,12],[17,13,18,13],[16,0,16,13],[17,0,20,1],[17,4,18,4],[17,5,18,5],[17,6,18,6],[17,7,18,7],[19,10,20,10],[19,11,20,11],[19,12,20,12],[35,0,35,1],[35,3,35,8],[21,0,24,1],[29,3,29,11],[32,0,32,1],[32,3,32,11],[33,0,33,1],[33,3,33,11],[34,0,34,1],[34,3,34,8],[27,0,27,13],[28,0,28,1],[28,3,28,11],[30,0,30,1],[30,3,30,11],[31,0,31,1],[25,0,25,13],[23,10,24,10],[23,11,24,11],[23,12,24,12],[23,13,24,13],[31,3,31,11],[26,0,26,1],[26,3,26,11]]}
[]
["Ваша скидка:",null,{"$f":"Содержание!D2","v":0},null,null,null,null,null,null,null,null,null,null,"На главную"]
["НДС:",null,{"$f":"IF(Лист2!A1=TRUE,\"С НДС\",\"БЕЗ НДС\")","v":"С НДС"}]
[]
["Охлаждаемые столы с нижним расположением агрегата"]
["№","Внешний вид","Наименование","С бортом/ без борта","Количество",null,"Стандарт\nGastronorm\nGN 1/1","Общий объём, л","Полезный объём, л","Габаритные размеры, мм",null,null,"Базовая цена, руб. (с НДС)",{"$f":"Лист2!$A$5","v":"Ваша цена, руб."}]
[null,null,null,null,"Ящиков","Дверей",null,null,null,"Длина","Ширина","Высота"]
["Холодильные столы с нержавеющей столешницей (температурный режим, °C +1…+10)"]
[null,null,"Шкаф-стол холодильный СШС-0,2 GN-1000 NDSBS","С бортом ",0,2,"+",245,200,1000,700,865,72368.12000000001,{"$f":"ROUND(M9*(1-$C$2)/Лист2!$A$6,0)","v":72368}]
[null,null,"Шкаф-стол холодильный СШС-0,2 GN-1000 NDSFS","Без борта"]
[null,null,"Шкаф-стол холодильный СШС-0,2-1000 NDSBS","С бортом ",0,2,"-",205,165,1000,600,865,70104,{"$f":"ROUND(M11*(1-$C$2)/Лист2!$A$6,0)","v":70104}]
[null,null,"Шкаф-стол холодильный СШС-0,2-1000 NDSFS","Без борта"]
[null,null,"Шкаф-стол холодильный СШС-0,3 GN-1500 NDSBS","С бортом ",0,3,"+",375,260,1500,700,865,86982.32,{"$f":"ROUND(M13*(1-$C$2)/Лист2!$A$6,0)","v":86982}]
[null,null,"Шкаф-стол холодильный СШС-0,3 GN-1500 NDSFS","Без борта"]
[null,null,"Шкаф-стол холодильный СШС-0,3-1500 NDSBS","С бортом ",0,3,"-",315,215,1500,600,865,84717.28,{"$f":"ROUND(M15*(1-$C$2)/Лист2!$A$6,0)","v":84717}]
[null,null,"Шкаф-стол холодильный СШС-0,3-1500 NDSFS","Без борта"]
["Морозильные столы с нержавеющей столешницей (температурный режим, °C -20…-10)"]
[null,null,"Шкаф-стол морозильный СШН-0,2 GN-1000 NDSBS","С бортом",0,2,"+",245,200,1000,700,865,80906.64,{"$f":"ROUND(M18*(1-$C$2)/Лист2!$A$6,0)","v":80907}]
[null,null,"Шкаф-стол морозильный СШН-0,2 GN-1000 NDSFS","Без борта"]
[null,null,"Шкаф-стол морозильный СШН-0,2-1000 NDSBS","С бортом",0,2,"-",205,165,1000,600,865,78641.600000000006,{"$f":"ROUND(M20*(1-$C$2)/Лист2!$A$6,0)","v":78642}]
[null,null,"Шкаф-стол морозильный СШН-0,2-1000 NDSFS","Без борта"]
[null,null,"Шкаф-стол морозильный СШН-0,3 GN-1500 NDSBS","С бортом",0,3,"+",375,260,1500,700,865,102087.8,{"$f":"ROUND(M22*(1-$C$2)/Лист2!$A$6,0)","v":102088}]
[null,null,"Шкаф-стол морозильный СШН-0,3 GN-1500 NDSFS","Без борта"]
[null,null,"Шкаф-стол морозильный СШН-0,3-1500 NDSBS","С бортом",0,3,"-",315,215,1500,600,865,99822.760000000009,{"$f":"ROUND(M24*(1-$C$2)/Лист2!$A$6,0)","v":99823}]
[null,null,"Шкаф-стол морозильный СШН-0,3-1500 NDSFS","Без борта"]
["Модификации к холодильным/морозильным столам( добавить к стандартной стоимости изделия)"]
[null,null,"Замена стандартных ножек на колеса, 2 из них с тормозом",null,null,null,null,null,null,null,null,null,8218.36,{"$f":"ROUND(M27*(1-$C$2)/Лист2!$A$6,0)","v":8218}]
["Опции к холодильным/морозильным столам(поставляются отдельно)"]
[null,null,"Решетка защитаная для агрега из нержавеющей стали для 2-х секционного стола(135524), артикул СО.1499.57.00.00 ",null,null,null,null,null,null,null,null,null,1992.72,{"$f":"ROUND(M29*(1-$C$2)/Лист2!$A$6,0)","v":1993}]
[null,null,"Решетка защитаная для агрега из нержавеющей стали для 3-х секционного стола(135527), артикул СО.1503.57.00.00 ",null,null,null,null,null,null,null,null,null,2241.12,{"$f":"ROUND(M30*(1-$C$2)/Лист2!$A$6,0)","v":2241}]
[null,null,"Полкодержатель слева (96480) для столов 700, артикул СО.979.03.0000.05",null,null,null,null,null,null,null,null,null,336.72,{"$f":"ROUND(M31*(1-$C$2)/Лист2!$A$6,0)","v":337}]
[null,null,"Полкодержатель справа (96481) для столов 700, артикул СО.979.03.0000.05mir",null,null,null,null,null,null,null,null,null,336.72,{"$f":"ROUND(M32*(1-$C$2)/Лист2!$A$6,0)","v":337}]
[null,null,"Полкодержатель слева (106969) для столов 700, артикул СО.906.03.0000.05",null,null,null,null,null,null,null,null,null,311.88,{"$f":"ROUND(M33*(1-$C$2)/Лист2!$A$6,0)","v":312}]
[null,null,"Полкодержатель справа (106970) для столов 700, артикул СО.906.03.0000.05mir",null,null,null,null,null,null,null,null,null,311.88,{"$f":"ROUND(M34*(1-$C$2)/Лист2!$A$6,0)","v":312}]
[null,null,"Полка решетчатая для столов 700, крашенная (100670), артикул СО.979.56.5000.01",null,null,null,null,null,null,332,570,"4(6)",1184.04,{"$f":"ROUND(M35*(1-$C$2)/Лист2!$A$6,0)","v":1184}]
[null,null,"Полка решетчатая для столов 600, крашенная (100671), артикул СО.906.56.5000.01",null,null,null,null,null,null,332,470,"4(6)",996.36,{"$f":"ROUND(M36*(1-$C$2)/Лист2!$A$6,0)","v":996}]

{"sheet":"Ледогенераторы","index":17,"n_rows":73,"n_cols":11,"rows_kept":73,"cut":false,"hidden":false,"merged":[[1,0,1,1],[2,0,2,1],[3,0,3,1],[4,0,5,9],[6,0,7,0],[6,1,7,1],[6,3,7,4],[6,5,7,5],[6,6,7,6],[6,9,7,9],[6,10,7,14],[8,0,8,4],[8,5,8,9],[9,1,9,9],[13,8,14,8],[6,2,7,2],[10,1,12,1],[10,3,10,4],[11,3,11,4],[12,3,12,4],[6,8,7,8],[6,7,7,7]]}
[null,null,null,null,null,null,null,null,null,null,"На главную"]
[]
["Ваша скидка:",null,null,{"$f":"Содержание!D2","v":0}]
["НДС:",null,null,{"$f":"IF(Лист2!A1=TRUE,\"С НДС\",\"БЕЗ НДС\")","v":"С НДС"}]
["Льдогенераторы"]
[]
["№","Изображение","Артикул","Наименование",null,"Производительность кг/сутки","Габариты, \n(LxWxH) мм","Габариты, \n(LxWxH) мм","Базовая \nцена, руб.\n(с НДС)",{"$f":"Лист2!$A$5","v":"Ваша цена, руб."}]
[]
["Стандартная комплектация:     \n- Корпус выполнен из нержавеющей стали\n- Управление электро-механическое, охлаждение системы - воздушное, подключение к водопроводу\n- Хладагент – энергоэффективный пропан, R-290\n- Производительность льдогенератора до 20 кг в сутки, емкость бункера 4 кг, тип льда - цилиндрический\n"]
[1,"Льдогенератор кубикового льда"]
[null,null,"ЛГК-24-1-2","Льдогенератор кубикового льда ЛГК-24-1-2",null,20,"385х485х610","425х550х700",95058,{"$f":"ROUND(I11*(1-$D$3)/Лист2!$A$6,0)","v":95058}]
[null,null,null,"Льдогенератор кубикового льда ЛГК-32-1-2",null,26,"470х845х610","510х550х700",111218,{"$f":"ROUND(I12*(1-$D$3)/Лист2!$A$6,0)","v":111218}]
[null,null,null,null,null,null,null,null,null,{"$f":"ROUND(I13*(1-$D$3)/Лист2!$A$6,0)","v":0}]
[null,null,null,null,null,null,null,null,"НАВЕРХ"]
[]
[]
[]
[]
[]
[]
[]
[]
[]
[]
[]
[]
[]
[]
[]
[]
[]
[]
[]
[]
[]
[]
[]
[]
[]
[]
[]
[]
[]
[]
[]
[]
[]
[]
[]
[]
[]
[]
[]
[]
[]
[]
[]
[]
[]
[]
[]
[]
[]
[]
[]
[]
[]
[]
[]
[]
[]
[]
[null,null,null,null,null,null,null,null,null,null,{"$f":"Ледогенераторы!J11=ROUND(J73*(1-$E$3)/Лист2!$A$6,0)","v":false}]

{"sheet":"Цвет стандарт","index":18,"n_rows":65,"n_cols":13,"rows_kept":65,"cut":false,"hidden":false,"merged":[[65,1,65,5],[0,2,1,10],[56,1,58,1],[19,1,24,2],[19,4,24,5],[53,2,55,2],[53,3,55,5],[56,2,58,2],[56,3,58,5],[59,2,61,2],[59,3,61,5],[62,2,64,2],[62,1,64,1],[2,12,2,20],[3,1,8,2],[3,4,8,5],[11,1,16,2],[59,1,61,1],[27,4,32,5],[35,1,39,2],[11,4,15,5],[51,1,51,5],[52,3,52,5],[53,1,55,1],[27,1,32,2]]}
["             ",null," Стандартные цвета для витрин и стеллажей"]
[null,null,null,null,null,null,null,null,null,null,null,null,"На главную"]
[null,"RAL 7016",null,null,"RAL 9016",null,null,"RAL 1021"]
[]
[]
[]
[]
[]
[]
[]
[null,"RAL 7035",null,null,"RAL 7021"]
[]
[]
[]
[]
[]
[]
[]
[null,"RAL 5005",null,null,"RAL 6018"]
[]
[]
[]
[]
[]
[]
[]
[null,"RAL 3004",null,null,"RAL 9005 "]
[]
[]
[]
[]
[]
[]
[]
[null,"RAL 3002",null,null,"RAL 5018 (Действительно только для Magnum Quadro)"]
[]
[]
[]
[]
[]
[]
[]
[]
[null,"Структура красок: глянец"]
[null,"За дополнительную плату могут быть "]
[null,"другие цвета красок, краски с другой структурой (матовая)."]
[null,"В структуры шагрень и муар производитель не красит оборудование в виду их"]
[null,"непрактичности (сложно с покрытия без специальных средств удалять загрязнения)."]
[]
[]
[null,null,null,null,null,null,null,"Дуб Сонома"]
[null,"Расшифровка характеристик ЛДСП"]
[null,"Тип фронталальной панели","Символ","Расшифровка"]
[null,"Фронтальная панель широкая, ЛДСП","G ","Дуб Сонома"]
[]
[]
[null,"Фронтальная панель узкая, ЛДСП","L","Дуб Сонома"]
[]
[]
[null,"Фронтальная панель широкая, ЛДСП с отбойником","Q","Дуб Сонома"]
[]
[]
[null,"Фронтальная панель узкая, ЛДСП с отбойником","U"]
[]
[null,null,null,"Дуб Сонома"]

{"sheet":"Расчет нестанд.RAL","index":19,"n_rows":92,"n_cols":11,"rows_kept":92,"cut":false,"hidden":false,"merged":[[86,1,90,1],[86,2,87,8],[88,2,88,8],[89,2,89,8],[90,2,90,8],[80,1,84,1],[80,2,81,8],[82,2,82,8],[83,2,83,8],[84,2,84,8],[75,1,77,1],[75,2,76,8],[77,2,77,8],[71,1,73,1],[71,2,72,8],[73,2,73,8],[65,1,69,1],[65,2,66,8],[67,2,67,8],[68,2,68,8],[69,2,69,8],[59,1,63,1],[59,2,60,8],[61,2,61,8],[62,2,62,8],[63,2,63,8],[49,2,49,8],[50,2,50,8],[51,2,51,8],[3,1,5,1],[3,2,4,8],[5,2,5,8],[7,1,9,1],[7,2,8,8],[9,2,9,8],[39,2,39,8],[36,1,39,1],[36,2,37,8],[43,2,43,8],[44,2,44,8],[19,1,22,1],[19,2,21,8],[91,6,92,6],[28,1,30,1],[28,2,29,8],[30,2,30,8],[53,1,57,1],[53,2,54,8],[55,2,56,8],[57,2,57,8],[41,1,45,1],[41,2,42,8],[45,2,45,8],[33,1,34,1],[33,2,33,8],[34,2,34,8],[47,1,51,1],[47,2,48,8],[11,1,13,1],[11,2,12,8],[13,2,13,8],[15,1,17,1],[15,2,16,8],[17,2,17,8],[38,2,38,8],[22,2,22,8],[24,1,26,1],[24,2,25,8],[26,2,26,8]]}
[null,null,null,null,null,null,null,null,null,null,"На главную"]
[null,null,"Таблица расчета нестандартных RAL"]
[]
[null,"Лари Itlafrost","1. Стандартный цвет корпуса - RAL9003; "]
[]
[null,null,"2. На заказ - краска нестандартного RAL с повышающим коэффициентом +1,5% к цене"]
[]
[null,"Ларь-бонеты и суперструктуры","1. Стандартный цвет корпуса - RAL9003; Делители/корзины/решетки - RAL9003"]
[]
[null,null,"2. На заказ - краска нестандартного RAL с повышающим коэффициентом +1,5% к цене Покраска в нестандартный цвет суперструктуры - наценка на глянцевую краску +3%, на матовую и структурную краску +8%;"]
[]
[null,"Octava","1. Стандартная цветовая гамма (без изменения цены) указана на вкладке \"цвет стандарт\""]
[]
[null,null,"2. На заказ - краска нестандартного RAL с повышающим коэффициентом +3% к цене"]
[]
[null,"Gamma","1. Стандартная цветовая гамма (без изменения цены) указана на вкладке \"цвет стандарт\""]
[]
[null,null,"2. На заказ - краска нестандартного RAL с повышающим коэффициентом +3% к цене"]
[]
[null,"Gamma Quadro","1. Стандартная цветовая гамма (без изменения цены) указана на вкладке \"цвет стандарт\""]
[]
[]
[null,null,"2. На заказ - краска нестандартного RAL с повышающим коэффициентом +3% к цене"]
[]
[null,"Magnum","1. Стандартная цветовая гамма (без изменения цены) указана на вкладке \"цвет стандарт\""]
[]
[null,null,"2. На заказ - краска нестандартного RAL с повышающим коэффициентом +3% к цене"]
[]
[null,"Magnum Quadro","1. Стандартная цветовая гамма (без изменения цены) указана на вкладке \"цвет стандарт\""]
[]
[null,null,"2. На заказ - краска нестандартного RAL с повышающим коэффициентом +3% к цене"]
[]
[]
[null,"Elegia Quadro","1. Стандартная цветовая гамма (без изменения цены) указана на вкладке \"цвет стандарт\""]
[null,null,"2. На заказ - краска нестандартного RAL с повышающим коэффициентом +3% к цене"]
[]
[null,"Adagio ","1. Стандартная цветовая гамма (без изменения цены) указана на вкладке \"цвет стандарт\""]
[]
[null,null,"Покраска в нестандартный цвет наружных панелей; Покраска в нестандартный цвет внутреннего объема - наценка к стоимости витрины 3 %. Замена оцинкованного металла во внутреннем объеме на нержавеющий (базовая полка, стойки, кронштейны) - наценка к стоимости витрины 5%;"]
[null,null,"2. Срок производства витрины при покраске в нестандартный цвет может увеличится. На 7 дней и более."]
[]
[null,"SOLO","1. Стандартная цветовая гамма (без изменения цены) указана на вкладке \"цвет стандарт\""]
[]
[null,null,"2. Покраска в нестандартный цвет наружных панелей - наценка к стоимости стеллажа 2 %"]
[null,null,"3. Покраска в нестандартный цвет полок, задней стенки, потолочной панели, поддона выкладки - наценка к стоимости стеллажа 6 %"]
[null,null,"4. Покраска боковин в нестандартный цвет - наценка к стоимости комплекта боковин 10%."]
[]
[null,"SOLO DG","1. Стандартная цветовая гамма (без изменения цены) указана на вкладке \"цвет стандарт\""]
[]
[null,null,"2. Покраска в нестандартный цвет наружных панелей - наценка к стоимости стеллажа 1,5 %"]
[null,null,"3. Покраска в нестандартный цвет полок, задней стенки, потолочной панели, поддона выкладки - наценка к стоимости стеллажа 4,5 %"]
[null,null,"4. Покраска боковин в нестандартный цвет - наценка к стоимости комплекта боковин 10%."]
[]
[null,"UNIT","1. Стандартная цветовая гамма (без изменения цены) указана на вкладке \"цвет стандарт\""]
[]
[null,null,"2. На заказ - стеллаж нестандартного RAL  +2% к цене."]
[]
[null,null,"3. RAL, не вошедшие в список, являются заказными. Цена по запросу."]
[]
[null,"Rimini","1. Стандартная цветовая гамма (без изменения цены) указана на вкладке \"цвет стандарт\""]
[]
[null,null,"2. Покраска в нестандартный цвет наружных панелей - наценка к стоимости стеллажа 2 %"]
[null,null,"3. Покраска в нестандартный цвет полок, задней стенки, потолочной панели, поддона выкладки - наценка к стоимости стеллажа 6 %"]
[null,null,"4. Покраска боковин в нестандартный цвет - наценка к стоимости комплекта боковин 10%."]
[]
[null,"Rimini DG","1. Стандартная цветовая гамма (без изменения цены) указана на вкладке \"цвет стандарт\""]
[]
[null,null,"2. Покраска в нестандартный цвет наружных панелей - наценка к стоимости стеллажа 1,5 %"]
[null,null,"3. Покраска в нестандартный цвет полок, задней стенки, потолочной панели, поддона выкладки - наценка к стоимости стеллажа 4,5 %"]
[null,null,"4. Покраска боковин в нестандартный цвет - наценка к стоимости комплекта боковин 10%."]
[]
[null,"Veneto ","1. Стандартная цветовая гамма (без изменения цены) указана на вкладке \"цвет стандарт\""]
[]
[null,null,"2. На заказ - краска нестандартного RAL с повышающим коэффициентом +3% к цене"]
[]
[null," Toscana","1. Стандартная цветовая гамма (без изменения цены) указана на вкладке \"цвет стандарт\""]
[]
[null,null,"2. На заказ - краска нестандартного RAL с повышающим коэффициентом +3% к цене"]
[]
[]
[null,"Lazio","1. Стандартная цветовая гамма (без изменения цены) указана на вкладке \"цвет стандарт\""]
[]
[null,null,"2. Покраска в нестандартный цвет наружных панелей - наценка к стоимости стеллажа 2 %"]
[null,null,"3. Покраска в нестандартный цвет полок, задней стенки, потолочной панели, поддона выкладки - наценка к стоимости стеллажа 6 %"]
[null,null,"4. Покраска боковин в нестандартный цвет - наценка к стоимости комплекта боковин 10%."]
[]
[null,"Milan","1. Стандартная цветовая гамма (без изменения цены) указана на вкладке \"цвет стандарт\""]
[]
[null,null,"2. Покраска в нестандартный цвет наружных панелей - наценка к стоимости стеллажа 1 %"]
[null,null,"3. Покраска в нестандартный цвет полок, задней стенки, потолочной панели, поддона выкладки - наценка к стоимости стеллажа 3 %"]
[null,null,"4. Покраска боковин в нестандартный цвет - наценка к стоимости комплекта боковин 10%."]
[null,null,null,null,null,null,"НАВЕРХ"]

{"sheet":"Брендирование","index":20,"n_rows":48,"n_cols":11,"rows_kept":48,"cut":false,"hidden":false,"merged":[[39,2,41,2],[39,4,41,4],[39,5,41,5],[39,6,41,6],[47,0,47,1],[47,2,47,8],[42,1,42,8],[43,0,44,1],[43,2,44,2],[43,4,44,4],[43,5,44,5],[43,6,44,6],[33,2,35,2],[33,4,35,4],[33,5,35,5],[33,6,35,6],[36,2,38,2],[36,4,38,4],[36,5,38,5],[36,6,38,6],[20,5,22,5],[20,6,22,6],[27,0,41,1],[27,2,29,2],[27,4,29,4],[27,5,29,5],[27,6,29,6],[23,2,25,2],[23,4,25,4],[23,5,25,5],[23,6,25,6],[26,1,26,8],[30,2,32,2],[30,4,32,4],[30,5,32,5],[30,6,32,6],[10,1,10,8],[11,0,25,1],[11,2,13,2],[11,4,13,4],[11,5,13,5],[11,6,13,6],[14,2,16,2],[14,4,16,4],[14,5,16,5],[14,6,16,6],[17,2,19,2],[17,4,19,4],[17,5,19,5],[17,6,19,6],[20,2,22,2],[20,4,22,4],[8,9,9,13],[5,0,5,8],[6,6,6,7],[8,0,9,0],[8,1,9,1],[8,2,9,3],[8,4,8,6],[8,7,9,7],[8,8,9,8]]}
[]
[null,null,null,null,null,null,null,null,null,null,"На главную"]
[]
[]
[]
["ПРАЙС-ЛИСТ. ДОПЛАТА ЗА БРЕНДИРОВАНИЕ ЛАРЕЙ ITALFROST"]
[null,null,null,null,null,null,"НДС:",null,{"$f":"IF([2]Лист2!A1=TRUE,\"С НДС\",\"БЕЗ НДС\")","v":"С НДС"}]
[null,null,null,null,null,null,null,"Размер вашей скидки",{"$f":"Содержание!D2","v":0}]
["№","Изображение","Оклейка",null,"Размеры стикера, мм",null,null,{"$f":"CONCATENATE([2]ВАЛЮТЫ!B11,\" С НДС\")","v":"Базовая \nцена, руб. С НДС"},{"$f":"[2]Лист2!A5","v":"Ваша цена, руб."},"Назад на страницу ларей"]
[null,null,null,null,"Фронт","Боковины","Спина"]
[1,"Морозильные лари с гнутыми раздвижными стеклами"]
[null,null,"CF(T)200C","1 сторона","840х710","640х800","840х800",1022,{"$f":"ROUND(H12*(1-I8)/Лист2!$A$6,0)","v":1022}]
[null,null,null,"3 стороны",null,null,null,2271,{"$f":"ROUND(H13*(1-I8)/Лист2!$A$6,0)","v":2271}]
[null,null,null,"4 стороны",null,null,null,3377,{"$f":"ROUND(H14*(1-I8)/Лист2!$A$6,0)","v":3377}]
[null,null,"CF(T)300C","1 сторона","1040х710","640х800","1040х800",1189,{"$f":"ROUND(H15*(1-I8)/Лист2!$A$6,0)","v":1189}]
[null,null,null,"3 стороны",null,null,null,2446,{"$f":"ROUND(H16*(1-I8)/Лист2!$A$6,0)","v":2446}]
[null,null,null,"4 стороны",null,null,null,3744,{"$f":"ROUND(H17*(1-I8)/Лист2!$A$6,0)","v":3744}]
[null,null,"CF(T)400C","1 сторона","1240х710","640х800","1240х800",1366,{"$f":"ROUND(H18*(1-I8)/Лист2!$A$6,0)","v":1366}]
[null,null,null,"3 стороны",null,null,null,2535,{"$f":"ROUND(H19*(1-I8)/Лист2!$A$6,0)","v":2535}]
[null,null,null,"4 стороны",null,null,null,4122,{"$f":"ROUND(H20*(1-I8)/Лист2!$A$6,0)","v":4122}]
[null,null,"CF(T)500C","1 сторона","1460х710","640х800","1460х800",1559,{"$f":"ROUND(H21*(1-I8)/Лист2!$A$6,0)","v":1559}]
[null,null,null,"3 стороны",null,null,null,2817,{"$f":"ROUND(H22*(1-I8)/Лист2!$A$6,0)","v":2817}]
[null,null,null,"4 стороны",null,null,null,4525,{"$f":"ROUND(H23*(1-I8)/Лист2!$A$6,0)","v":4525}]
[null,null,"CF(T)600C","1 сторона","1680х710","640х800","1680х800",1752,{"$f":"ROUND(H24*(1-I8)/Лист2!$A$6,0)","v":1752}]
[null,null,null,"3 стороны",null,null,null,2999,{"$f":"ROUND(H25*(1-I8)/Лист2!$A$6,0)","v":2999}]
[null,null,null,"4 стороны",null,null,null,4936,{"$f":"ROUND(H26*(1-I8)/Лист2!$A$6,0)","v":4936}]
[2,"Морозильные лари с прямыми раздвижными стеклами"]
[null,null,"CF(T)200F","1 сторона","840х810","640х810","840х810",1123,{"$f":"ROUND(H28*(1-$I$8)/[2]СОДЕРЖАНИЕ!$C$6/[2]Лист2!$A$6,0)","v":1123}]
[null,null,null,"3 стороны",null,null,null,2388,{"$f":"ROUND(H29*(1-$I$8)/[2]СОДЕРЖАНИЕ!$C$6/[2]Лист2!$A$6,0)","v":2388}]
[null,null,null,"4 стороны",null,null,null,3511,{"$f":"ROUND(H30*(1-$I$8)/[2]СОДЕРЖАНИЕ!$C$6/[2]Лист2!$A$6,0)","v":3511}]
[null,null,"CF(T)300F","1 сторона","1040х810","640х810","1040х810",1323,{"$f":"ROUND(H31*(1-$I$8)/[2]СОДЕРЖАНИЕ!$C$6/[2]Лист2!$A$6,0)","v":1323}]
[null,null,null,"3 стороны",null,null,null,2588,{"$f":"ROUND(H32*(1-$I$8)/[2]СОДЕРЖАНИЕ!$C$6/[2]Лист2!$A$6,0)","v":2588}]
[null,null,null,"4 стороны",null,null,null,3907,{"$f":"ROUND(H33*(1-$I$8)/[2]СОДЕРЖАНИЕ!$C$6/[2]Лист2!$A$6,0)","v":3907}]
[null,null,"CF(T)400F","1 сторона","1240х810","640х810","1240х810",1516,{"$f":"ROUND(H34*(1-$I$8)/[2]СОДЕРЖАНИЕ!$C$6/[2]Лист2!$A$6,0)","v":1516}]
[null,null,null,"3 стороны",null,null,null,2789,{"$f":"ROUND(H35*(1-$I$8)/[2]СОДЕРЖАНИЕ!$C$6/[2]Лист2!$A$6,0)","v":2789}]
[null,null,null,"4 стороны",null,null,null,4300,{"$f":"ROUND(H36*(1-$I$8)/[2]СОДЕРЖАНИЕ!$C$6/[2]Лист2!$A$6,0)","v":4300}]
[null,null,"CF(T)500F","1 сторона","1460х810","640х810","1460х810",1734,{"$f":"ROUND(H37*(1-$I$8)/[2]СОДЕРЖАНИЕ!$C$6/[2]Лист2!$A$6,0)","v":1734}]
[null,null,null,"3 стороны",null,null,null,3009,{"$f":"ROUND(H38*(1-$I$8)/[2]СОДЕРЖАНИЕ!$C$6/[2]Лист2!$A$6,0)","v":3009}]
[null,null,null,"4 стороны",null,null,null,4733,{"$f":"ROUND(H39*(1-$I$8)/[2]СОДЕРЖАНИЕ!$C$6/[2]Лист2!$A$6,0)","v":4733}]
[null,null,"CF(T)600F","1 сторона","1680Х810","640х810","1680х810",1952,{"$f":"ROUND(H40*(1-$I$8)/[2]СОДЕРЖАНИЕ!$C$6/[2]Лист2!$A$6,0)","v":1952}]
[null,null,null,"3 стороны",null,null,null,3227,{"$f":"ROUND(H41*(1-$I$8)/[2]СОДЕРЖАНИЕ!$C$6/[2]Лист2!$A$6,0)","v":3227}]
[null,null,null,"4 стороны",null,null,null,5179,{"$f":"ROUND(H42*(1-$I$8)/[2]СОДЕРЖАНИЕ!$C$6/[2]Лист2!$A$6,0)","v":5179}]
[3,"Низкотемпературная надстройка над ларем 400 л. Verona"]
[null,null,null,"1 сторона (верхний баннер, фронтальная часть)","-","-","-",4735,{"$f":"ROUND(H44*(1-$I$8)/[2]СОДЕРЖАНИЕ!$C$6/[2]Лист2!$A$6,0)","v":4735}]
[null,null,null,"3 стороны (верхний баннер (фронтальная часть) + 2 боковины)",null,null,null,8050,{"$f":"ROUND(H45*(1-$I$8)/[2]СОДЕРЖАНИЕ!$C$6/[2]Лист2!$A$6,0)","v":8050}]
[]
[]
["Примечание:",null,"Пленка толщиной 100 мкр + ламинация толщиной 80 мкр. Качество 720 dpi."]

{"sheet":"Лист1","index":21,"n_rows":0,"n_cols":0,"rows_kept":0,"cut":false,"hidden":true,"merged":[]}

{"sheet":"Лист2","index":22,"n_rows":7,"n_cols":1,"rows_kept":7,"cut":false,"hidden":true,"merged":[]}
[true]
["Базовая \nцена, руб."]
["Базовая \nцена, руб. б/НДС"]
[{"$f":"IF(A1=TRUE,\"руб.\",\"руб. б/НДС\")","v":"руб."}]
[{"$f":"CONCATENATE(\"Ваша цена, \",A4)","v":"Ваша цена, руб."}]
[{"$f":"IF(A1=TRUE,1,1.22)","v":1}]
[{"$f":"IF(A1=TRUE,1,1.22)","v":1}]